{"text_format":"1","workbook":"xlsx","n_sheets":11,"sheets":["はじめにお読みください","初期入力","選択肢","Ⅰ.構成メンバー名簿","Ⅱ.入力用","@","Ⅲ.事務局印刷用","Ⅲ.印刷用","Ⅳ.提出書類一覧","著作権参考","初期化"],"not_rendered":{"charts":0,"images":1,"macros":1,"external_links":1,"defined_names":3,"comments":0,"pivot_tables":0},"unopened":[],"bounds":{"document_bytes":16777216,"sheet_cells":100000,"rows_first":2000,"rows_last":500,"rows_between":2000,"halvings":0,"cell_chars":16384,"cell_head_chars":4096},"cells_cut":0,"cells_raw":0,"read":"whole","date_system":"1900"}

{"sheet":"はじめにお読みください","index":0,"n_rows":50,"n_cols":4,"rows_kept":50,"cut":false,"hidden":false,"merged":[[48,3,48,10],[49,3,49,10],[44,3,44,10],[45,3,45,10],[46,3,46,10],[47,3,47,10]]}
[{"$f":"\"【\"&初期入力!B10&\" 参加申込書の入力にあたって】\"","v":"【関東大会 参加申込書の入力にあたって】"}]
[]
["●","実施要項をよく読み、間違いのないように入力してください。"]
[]
["●","このデータは、Microsoft Excel 2010で作成されています。"]
[null,"Macや他のソフトを利用した場合、予期せぬ結果になる可能性がございますのでご注意ください。"]
[null,"特にExcel 2007以前のソフトを利用すると、ドロップダウンリストが表示されませんのでご注意ください。"]
[]
["●","以下の手順に従い、ご提出ください。"]
[]
["　★　参加申込書　提出手順"]
[]
[1,".","このファイルを、任意の場所へ、団体名で保存してください。"]
[]
[2,".","『Ⅰ．構成メンバー名簿』シートに、出演者名（指揮者を含む）を入力してください。"]
[]
[3,".","『Ⅱ．入力用』シートに、必要事項を入力してください。"]
[]
[4,".","入力がおわりましたら、『Ⅲ．印刷用』シートで入力内容を確認してください。"]
[]
[5,".","間違いがないようであれば、『Ⅲ．印刷用』シートのみを印刷してください。"]
[null,null,"※ 印刷は、A4サイズの片面印刷で行ってください。"]
[null,null,"※ 印刷の際には、念の為、「拡大縮小の設定」を「すべての列を1ページに印刷」に設定してください。"]
[]
[6,".","印刷したものの内容を再度確認してください。"]
[null,null,"※ プリンタによっては、文字化けする事がございますので、ご注意ください。"]
[]
[7,".","印刷した『参加申込書』に押印してください。"]
[]
[8,".","『Ⅳ．提出書類一覧』シートで、各種提出必要書類を確認してください。"]
[]
[9,".","印刷した書類一式と各種提出必要書類を所定の封筒に入れ、切手を貼って、関東支部事務局へ郵送してください。"]
[null,null,"尚、封筒裏面の「提出書類チェックシート」の「団体チェック」欄に、同封書類のチェックをしてください。"]
[null,null,"※ 印刷した書類は、入力されていないページも全て提出してください。"]
[null,null,"※ 音源に関する提出書類のコピーは、すべてA4片面で印刷してください。"]
[]
[10,".","入力済のこのファイルを下記事務局へ、メールに添付して送るか、CD-R等に保存して郵送してください。"]
[]
["※　入力の際、各シートのセルの移動などの操作は、リンクが壊れる恐れがございますのでご注意ください。"]
["※　提出いただいた書類は、原則として返却いたしませんので、あらかじめご了承ください。"]
["※　このファイルから上部大会の出場申込書へデータをコピー＆ペーストすることも可能ですが、申込書の内容に相違が"]
["　　ございますので、十分にご注意ください。"]
["※　ご不明な点は、お気軽にお問合せください。"]
[]
[null,null,null,"第52回マーチングバンド関東大会　事務局"]
[null,null,null,"（日本マーチングバンド協会関東支部 事務局 内）"]
[null,null,null,"〒110-0015　東京都台東区東上野6-10-1 大崎ビル4階"]
[null,null,null,"TEL：03-3843-5020　／　FAX：03-3843-5080"]
[null,null,null,"関東支部E-mail ： mbkanto@m-bkanto.org"]
[null,null,null,"関東大会専用E-mail ： mb.contest.kanto@m-bkanto.org"]

{"sheet":"初期入力","index":1,"n_rows":76,"n_cols":6,"rows_kept":76,"cut":false,"hidden":true,"merged":[]}
["【管理用　注意事項】"]
["● このページの■（黄色）のセルを変更すると、各シートに反映されます。"]
["● その他、必要に応じて各シートの文言を変更してください。"]
["● それぞれのシートに関数が設定されてますので、セルの削除・追加には十分ご注意ください。"]
["● 不要なセルは、非表示にすることをお勧めします。"]
["● 表示されていない部分にも関数が設定されている場合がありますので、ご注意ください。"]
[]
["【大会名】","第52回マーチングバンド関東大会"]
[]
["【種別】","関東大会"]
[]
["【主催】","日本マーチングバンド協会関東支部"]
[]
["【プログラムへの構成メンバーの名前の掲載】",null,null,"なし"]
[]
["【編成別人数】"]
["編成","小学生の部","中学生の部","高等学校の部","一般の部"]
[{"$f":"選択肢!$C$39","v":"小編成"},50,54,54,54,"←『以下』の人数で入力"]
[{"$f":"選択肢!$C$40","v":"中編成"},null,null,90]
[{"$f":"選択肢!$C$41","v":"大編成"}]
[]
["【登録引率者数】"]
["編成","最大人数"]
[{"$f":"選択肢!$C$39","v":"小編成"},2]
[{"$f":"選択肢!$C$40","v":"中編成"},3]
[{"$f":"選択肢!$C$41","v":"大編成"},4]
[{"$f":"選択肢!$A$39","v":"幼保の部"},4]
[]
["【補助スタッフ数】"]
["編成","最大人数"]
[{"$f":"選択肢!$C$39","v":"小編成"},7]
[{"$f":"選択肢!$C$40","v":"中編成"},5]
[{"$f":"選択肢!$C$41","v":"大編成"},5]
[{"$f":"選択肢!$A$39","v":"幼保の部"},10]
[]
["【団体参加費】"]
["団体参加費",3000]
[]
["【個人参加費】"]
["構成","個人参加費"]
[{"$f":"選択肢!A39","v":"幼保の部"},800]
[{"$f":"選択肢!A40","v":"小学生の部"},800]
[{"$f":"選択肢!A41","v":"中学生の部"},1300]
[{"$f":"選択肢!A42","v":"高等学校の部"},1500]
[{"$f":"選択肢!A43","v":"一般の部"},1500]
[]
["【チューニングルーム以外の準備エリア】"]
["あり"]
["名称","CG（カラーガード）ストレッチエリア"]
["注意書","カラーガードの有無に関わらず、全団体選択してください。"]
[]
["【駐車場】"]
["車種","有無","駐車料金","駐車証"]
["トラック","なし",0,"通行証"]
["バス","なし",0,"配車証"]
[]
["【プログラム写真提出方法】"]
["提出形態","直送の有無","下部大会種別"]
[{"$f":"選択肢!B107","v":"データ【JPEG】＋プリントアウト"},"なし"]
[{"$f":"選択肢!B108","v":"生写真"},"なし"]
[{"$f":"選択肢!B109","v":"都県大会 撮影業者から直送"},"あり","都県大会"]
[]
["【入場券申込み】"]
[null,"日付"]
["開始","2017-09-04"]
["締切","2017-10-06"]
[]
[]
["オプション設定"]
[]
["【他大会への出場アンケート】"]
["あり"]
["大会名",null,"関東スーパーマーチング"]
["日程","初日","2017-12-24"]
[null,"最終日",null,"← 1日開催であれば無記入"]
["場所",null,"エスフォルタアリーナ八王子"]

{"sheet":"選択肢","index":2,"n_rows":160,"n_cols":10,"rows_kept":160,"cut":false,"hidden":true,"merged":[]}
["【入力判定】"]
["※リストから選択して下さい"]
["【※選択】"]
["【※入力】"]
["【選択済】"]
["【入力済】"]
["【要確認】"]
["【入力不要】"]
["【選択不要】"]
["―"]
[]
["【都県名】","【協会名】"]
["茨城県","茨城県マーチングバンド協会"]
["栃木県","栃木県マーチングバンド協会"]
["群馬県","群馬県マーチングバンド協会"]
["埼玉県","埼玉県マーチングバンド協会"]
["千葉県","千葉県マーチングバンド協会"]
["東京都","東京都マーチングバンド協会"]
["神奈川県","NPO法人神奈川県マーチングバンド連盟"]
["山梨県","山梨県マーチングバンド協会"]
["新潟県","新潟県マーチングバンド協会"]
["長野県","長野県マーチングバンド協会"]
[{"$f":"$A$2","v":"※リストから選択して下さい"}]
[]
[null,null,"【印刷用シート　入力注意】"]
[null,null,"『Ⅱ．入力用』シートに不備があります"]
[]
["【連絡先】",null,"【連絡先　入力注意】"]
["書類送付先（連絡先）と同様",null,"※電話番号 もしくは 携帯電話を必ず入力してください。"]
["その他の連絡先",null,"※FAX番号 もしくは E-mailアドレスを必ず入力してください。"]
[{"$f":"$A$2","v":"※リストから選択して下さい"}]
[null,null,"【当日連絡先　入力注意】"]
[null,null,"※当日連絡がとれる携帯番号を入力してください。"]
[]
[null,null,"【構成メンバー　入力注意】"]
[null,null,"※『構成メンバー名簿』シートを先に入力してください。"]
[]
["【構成】","【編成】",null,"【CGの有無】","【楽器編成】"]
["幼保の部",{"$f":"IF(Ⅱ.入力用!I30=A39,\"\",\"小編成\")","v":"小編成"},"小編成","カラーガード有り","管楽器及び打楽器の編成"]
[{"$f":"編成別人数[[#Headers],[小学生の部]]","v":"小学生の部"},{"$f":"IF(Ⅱ.入力用!I30=A39,\"\",IF(Ⅱ.入力用!$I$30=$A$42,C40,C41))","v":"大編成"},"中編成","カラーガード無し","打楽器のみ（鼓隊編成）"]
[{"$f":"編成別人数[[#Headers],[中学生の部]]","v":"中学生の部"},{"$f":"IF(Ⅱ.入力用!I30=A39,\"\",IF(Ⅱ.入力用!$I$30=$A$42,C41,C42))","v":"※リストから選択して下さい"},"大編成",{"$f":"$A$2","v":"※リストから選択して下さい"},{"$f":"$A$2","v":"※リストから選択して下さい"}]
[{"$f":"編成別人数[[#Headers],[高等学校の部]]","v":"高等学校の部"},{"$f":"IF(Ⅱ.入力用!I30=A39,\"\",IF(Ⅱ.入力用!$I$30=$A$42,C42,\"\"))","v":""},"※リストから選択して下さい"]
[{"$f":"編成別人数[[#Headers],[一般の部]]","v":"一般の部"},"↑部門によって変化します"]
[{"$f":"$A$2","v":"※リストから選択して下さい"}]
[]
[null,null,"【構成メンバー　判定表示】"]
[null,null,"※ 構成メンバー名簿の年齢・学年と、団体の構成が、あっていません。確認してください。"]
[null,null,"※ 構成メンバー名簿の人数と、編成が、あっていません。確認してください。"]
[null,null,"※ 構成と編成が一致しません。"]
[]
[null,null,"※指揮者の人数がオーバーしています。構成メンバー名簿を修正してください。"]
[]
["【使用楽曲数】","【使用許諾の有無】","【許諾不要の場合】","【許諾必要の場合】","【使用料】"]
["1曲","使用許諾の必要が無い","市販の楽譜を利用（証明するものを添付）","確認書あり（写しを添付すること）",{"$f":"F54","v":"無料"},"無料"]
["2曲","編曲使用許諾の必要がある","自作曲","口頭で確認（右欄に入力）",{"$f":"F55","v":"有料（領収証添付）"},"有料（領収証添付）"]
["3曲","※リストから選択して下さい","著作権消滅","まだ取れていない（取得予定日を記入）",{"$f":"IF(Ⅱ.入力用!AT78=3,F56,F57)","v":"※リストから選択して下さい"},"未定"]
["4曲",null,"その他（右欄に入力）","※リストから選択して下さい",{"$f":"IF(Ⅱ.入力用!AT78=3,F57,\"\")","v":""},"※リストから選択して下さい"]
["5曲",null,"※リストから選択して下さい",null,"↑許諾状況によって変化します"]
["6曲"]
["7曲","↓２．使用許諾の必要が無い場合へ入力"]
["8曲","↓３．編曲使用許諾の必要な場合へ入力"]
["9曲","－"]
["10曲"]
["※リストから選択して下さい"]
[]
["【特殊効果の有無】"]
["特殊効果を使用する"]
["特殊効果を使用しない"]
["※リストから選択して下さい"]
[]
["【補助スタッフ数】",null,"【計時合図者】","【計時合図場所】","【プロップの有無】","【チューニングルームの使用】","【ピット楽器の有無】"]
[{"$f":"B72","v":"不要"},"不要","指揮者","計時エリア","プロップあり","使用する","ピット楽器あり","参加","使用する","○"]
[{"$f":"IF(B73<=Ⅱ.入力用!$AU$202,B73,IF(B73=Ⅱ.入力用!$AU$202+1,$B$88,\"\"))","v":1},1,"副指揮者","指揮台","プロップなし","使用しない","ピット楽器なし","不参加","使用しない","×"]
[{"$f":"IF(B74<=Ⅱ.入力用!$AU$202,B74,IF(B74=Ⅱ.入力用!$AU$202+1,$B$88,\"\"))","v":2},2,"登録引率者","※リストから選択して下さい","※リストから選択して下さい","※リストから選択して下さい","※リストから選択して下さい","※リストから選択して下さい","※リストから選択して下さい"]
[{"$f":"IF(B75<=Ⅱ.入力用!$AU$202,B75,IF(B75=Ⅱ.入力用!$AU$202+1,$B$88,\"\"))","v":3},3,"※リストから選択して下さい"]
[{"$f":"IF(B76<=Ⅱ.入力用!$AU$202,B76,IF(B76=Ⅱ.入力用!$AU$202+1,$B$88,\"\"))","v":4},4]
[{"$f":"IF(B77<=Ⅱ.入力用!$AU$202,B77,IF(B77=Ⅱ.入力用!$AU$202+1,$B$88,\"\"))","v":5},5]
[{"$f":"IF(B78<=Ⅱ.入力用!$AU$202,B78,IF(B78=Ⅱ.入力用!$AU$202+1,$B$88,\"\"))","v":6},6]
[{"$f":"IF(B79<=Ⅱ.入力用!$AU$202,B79,IF(B79=Ⅱ.入力用!$AU$202+1,$B$88,\"\"))","v":7},7]
[{"$f":"IF(B80<=Ⅱ.入力用!$AU$202,B80,IF(B80=Ⅱ.入力用!$AU$202+1,$B$88,\"\"))","v":8},8]
[{"$f":"IF(B81<=Ⅱ.入力用!$AU$202,B81,IF(B81=Ⅱ.入力用!$AU$202+1,$B$88,\"\"))","v":9},9]
[{"$f":"IF(B82<=Ⅱ.入力用!$AU$202,B82,IF(B82=Ⅱ.入力用!$AU$202+1,$B$88,\"\"))","v":10},10]
[{"$f":"IF(B83<=Ⅱ.入力用!$AU$202,B83,IF(B83=Ⅱ.入力用!$AU$202+1,$B$88,\"\"))","v":"※リストから選択して下さい"},11]
[{"$f":"IF(B84<=Ⅱ.入力用!$AU$202,B84,IF(B84=Ⅱ.入力用!$AU$202+1,$B$88,\"\"))","v":""},12]
[{"$f":"IF(B85<=Ⅱ.入力用!$AU$202,B85,IF(B85=Ⅱ.入力用!$AU$202+1,$B$88,\"\"))","v":""},13]
[{"$f":"IF(B86<=Ⅱ.入力用!$AU$202,B86,IF(B86=Ⅱ.入力用!$AU$202+1,$B$88,\"\"))","v":""},14]
[{"$f":"IF(B87<=Ⅱ.入力用!$AU$202,B87,IF(B87=Ⅱ.入力用!$AU$202+1,$B$88,\"\"))","v":""},15]
[{"$f":"IF(B87=Ⅱ.入力用!$AU$202,$B$88,\"\")","v":""},"※リストから選択して下さい"]
["↑編成によって変化します"]
[null,null,"【補助スタッフ数　入力注意】"]
[null,null,"※補助スタッフ数がオーバーしています。"]
[]
["【二次使用】"]
["承諾します"]
["承諾しません"]
["※リストから選択して下さい"]
[]
[null,null,"【車両台数　入力注意】"]
[null,null,"※車種を入力してください"]
[]
["【プログラム校正】"]
[{"$f":"A29","v":"書類送付先（連絡先）と同様"}]
[{"$f":"A30","v":"その他の連絡先"}]
[{"$f":"A31","v":"※リストから選択して下さい"}]
[]
["【掲載写真】",null,"判定1","判定2","判定3","判定4"]
[{"$f":"IFERROR(VLOOKUP(F107,$D$107:$E$110,2,FALSE),\"\")","v":"都県大会 撮影業者から直送"},"データ【JPEG】＋プリントアウト",{"$f":"IF(E107=\"\",\"\",1)","v":""},{"$f":"IF(C107=\"\",\"\",SUM($C$107:C107))","v":""},{"$f":"IF($A$144=$A$113,IFERROR(IF(VLOOKUP(Ⅱ.入力用!$I$4,$A$146:$D$155,MATCH(B107,$A$145:$D$145,0),FALSE)=$A$113,B107,\"\"),IF(初期入力!B59=$A$113,B107,\"\")),IF(初期入力!B59=$A$113,B107,\"\"))","v":""},1]
[{"$f":"IFERROR(VLOOKUP(F108,$D$107:$E$110,2,FALSE),\"\")","v":"※リストから選択して下さい"},"生写真",{"$f":"IF(E108=\"\",\"\",1)","v":""},{"$f":"IF(C108=\"\",\"\",SUM($C$107:C108))","v":""},{"$f":"IF($A$144=$A$113,IFERROR(IF(VLOOKUP(Ⅱ.入力用!$I$4,$A$146:$D$155,MATCH(B108,$A$145:$D$145,0),FALSE)=$A$113,B108,\"\"),IF(初期入力!B60=$A$113,B108,\"\")),IF(初期入力!B60=$A$113,B108,\"\"))","v":""},2]
["","都県大会 撮影業者から直送",1,{"$f":"IF(C109=\"\",\"\",SUM($C$107:C109))","v":1},{"$f":"IF($A$144=$A$113,IFERROR(IF(VLOOKUP(Ⅱ.入力用!$I$4,$A$146:$D$155,MATCH(B109,$A$145:$D$145,0),FALSE)=$A$113,B109,\"\"),IF(初期入力!B61=$A$113,B109,\"\")),IF(初期入力!B61=$A$113,B109,\"\"))","v":"都県大会 撮影業者から直送"},3]
["","※リストから選択して下さい",1,{"$f":"IF(C110=\"\",\"\",SUM($C$107:C110))","v":2},{"$f":"B110","v":"※リストから選択して下さい"},4]
[]
["【有無】"]
["あり"]
["なし"]
[]
["【印刷用　参加申込書】"]
["　当団体は、",{"$f":"VLOOKUP(INDEX('@'!$1:$2,2,MATCH('@'!A1,'@'!$1:$1,0)),選択肢!A13:B22,2,FALSE)","v":{"$error":"#N/A"}},"より推薦され、『",{"$f":"初期入力!B8","v":"第52回マーチングバンド関東大会"},"』へ参加申し込み致します。"]
[]
["【印刷用　駐車料金】"]
[{"$f":"IF(AND(Ⅱ.入力用!AT264=1,Ⅱ.入力用!I264>0),\"トラック \"&TEXT(Ⅱ.入力用!I264,\"#,###\")&\" 台 × \"&TEXT(Ⅱ.入力用!N264,\"#,###\")&\" 円 = \"&TEXT(Ⅱ.入力用!S264,\"#,###\")&\" 円\",\"\")","v":""},{"$f":"IF(OR(A120=\"\",C120=\"\"),\"\",\"，\")","v":""},{"$f":"IF(AND(Ⅱ.入力用!AT266=1,Ⅱ.入力用!I266>0),\"バス \"&TEXT(Ⅱ.入力用!I266,\"#,###\")&\" 台 × \"&TEXT(Ⅱ.入力用!N266,\"#,###\")&\" 円 = \"&TEXT(Ⅱ.入力用!S266,\"#,###\")&\" 円\",\"\")","v":""}]
[]
["【駐車証　種別】"]
["駐車証"]
["通行証"]
["配車証"]
[]
["【提出書類一覧　写真】"]
["判定番号","提出方法","注意書"]
[1,{"$f":"\"※\"&B109","v":"※都県大会 撮影業者から直送"},"団体での手続きはありません。"]
[2,{"$f":"\"※\"&LEFT(B107,FIND(\"＋\",B107)-1)&\"で提出\"","v":"※データ【JPEG】で提出"},"必ずプリントアウト（A4普通紙）をし、プリントアウト裏面に団体名を必ずご記入し郵送。データはメール添付か記録媒体（CD-R等）にて郵送。"]
[3,{"$f":"\"※\"&B108&\"で提出\"","v":"※生写真で提出"},"裏面に団体名を必ずご記入し、郵送。"]
[]
["【提出書類一覧　要・不要】"]
["不要"]
["○"]
["―"]
["×"]
[]
["【提出書類一覧　許諾関連】"]
["口頭にて許諾取得"]
["許諾未取得"]
[]
["【写真提出個別設定】"]
["あり"]
["都県名",{"$f":"B107","v":"データ【JPEG】＋プリントアウト"},{"$f":"B108","v":"生写真"},{"$f":"B109","v":"都県大会 撮影業者から直送"}]
[{"$f":"A13","v":"茨城県"},"なし","なし","あり"]
["栃木県","なし","なし","あり"]
["群馬県","なし","なし","あり"]
["埼玉県","なし","なし","あり"]
["千葉県","なし","なし","あり"]
["東京都","なし","なし","あり"]
["神奈川県","なし","なし","あり"]
["山梨県","なし","なし","あり"]
["新潟県","あり","あり","なし"]
["長野県","なし","なし","あり"]
[]
["【他大会への参加】"]
["出場する"]
["出場しない"]
["※リストから選択して下さい"]

{"sheet":"Ⅰ.構成メンバー名簿","index":3,"n_rows":279,"n_cols":41,"rows_kept":279,"cut":false,"hidden":false,"merged":[[276,4,276,5],[3,3,3,5]]}
["Ⅰ． 構成メンバー名簿",null,null,null,null,null,null,null,null,null,null,null,null,"プログラム掲載",{"$f":"IF(初期入力!D14=\"\",\"\",VLOOKUP(初期入力!D14,プログラム掲載判定[#All],MATCH(プログラム掲載判定[[#Headers],[変数]],プログラム掲載判定[#Headers],0)))","v":0},"1：掲載　0：不掲載"]
[]
[null,{"$f":"IF(O1=1,\"■ プログラムに構成メンバーの氏名を掲載してよろしいですか？\",\"\")","v":""}]
[null,null,null,"※リストから選択して下さい",null,null,null,null,null,null,null,null,null,"全員掲載する","全員掲載しない","個別に設定する","※リストから選択して下さい"]
[null,null,"※ プログラム掲載について",null,null,null,null,null,null,null,null,null,null,"選択判定",{"$f":"IF(O1=0,\"\",IF(D4=N4,1,IF(D4=O4,2,IF(D4=P4,3,0))))","v":""},null,null,null,null,"【プログラム掲載判定】"]
[null,null,null,"● プログラムに構成メンバーの氏名を掲載します。掲載の有無を選択して下さい。",null,null,null,null,null,null,null,null,null,null,null,null,null,null,null,"種別","変数"]
[null,null,null,"● プログラムに個人名を掲載することについて、その個人に必ず承諾を得て下さい｡",null,null,null,null,null,null,null,null,null,null,null,null,null,null,null,"あり",1]
[null,null,null,"　　また、未成年の場合は、保護者に承諾を得て下さい。",null,null,null,null,null,null,null,null,null,null,null,null,null,null,null,"なし",0]
[null,null,null,"● 承諾を得られない場合は掲載ができませんので、構成メンバー表の「プログラムへの掲載」欄を『掲載しない』にして下さい。"]
[]
[null,{"$f":"IF(AND($O$1=1,OR($D$4=$P$4,$D$4=$Q$4)),O11,N11)","v":"■ 構成メンバーの氏名・年齢・学年を入力してください。"},null,null,null,null,null,null,null,null,null,null,null,"■ 構成メンバーの氏名・年齢・学年を入力してください。","■ 構成メンバーの氏名・年齢・学年・プログラムへの記載の有無を入力してください。"]
[null,null,"※注意事項※"]
[null,null,null,"● 構成メンバーとは当日演技フロアに入場し、演奏演技 及び 指揮を行う者です。"]
[null,null,null,"● 構成メンバーと登録引率者が重複することはありません。"]
[null,null,null,"● 構成メンバー氏名は、必ずその個人に氏名登録の承諾を得た上で入力して下さい。（未成年の場合は、保護者の承諾を得て下さい。）"]
[]
[null,null,"【入力にあたって】"]
[null,null,"　※ 苗字と名前の間は、全角で１文字スペースを空けてください。また、氏名の前後や、２つ以上のスペースを入力しないでください。"]
[null,null,"　※ 年齢は半角英数字で入力してください。"]
[null,null,"　※ 学年の数字も半角英数字で入力してください。"]
[null,null,"　※ 他のデータよりコピー＆ペーストを行った場合には 特に半角・全角に注意してください。エラー表示になる可能性があります。"]
[null,null,"　※ 学校に通われていない方の学年は、『なし』を選択（入力）してください。"]
[null,null,"　※ 一般の部を除く、児童・生徒以外の指揮者は、必ず学年を『指揮』と選択（入力）してください。",null,null,null,null,null,null,null,null,null,null,"掲載する","掲載しない","※リストから選択して下さい"]
[null,null,null,null,null,null,{"$f":"IF(AND(O1=1,D4=P4),\"↓プログラムの掲載を個別に設定してください。\",\"\")","v":""},null,null,null,null,null,null,null,null,null,null,null,null,"学年が判別できません。リストから選択してください。",null,null,"上から順番に記入してください。",null,null,null,null,null,{"$f":"CONCATENATE(AC26,AD26,AE26,AF26,AG26,AH26,AI26,AJ26)","v":"氏名・年齢・学年が未記入です。"},null,null,null,null,null,null,null,null,"半角英数字で入力してください。"]
[null,null,null,"氏名","年齢","学年",{"$f":"IF(AND(OR($D$4=$P$4,$D$4=$Q$4),$O$1=1),\"プログラムへの掲載\",\"\")","v":""},null,null,null,null,null,null,null,"学年別人数",null,"プログラム掲載順","プログラム掲載","名前取込","年齢取込","名前判定","年齢判定","学年判別","プログラム判別","入力","上から","未記入","警告",null,null,null,null,null,null,null,null,null,null,null,null,"リストから選択してください。"]
[null,null,1,null,null,null,"※リストから選択して下さい",{"$f":"AB26","v":""},null,null,null,null,null,"指揮",{"$f":"COUNTIF($W$26:$W$275,N26)","v":0},null,{"$f":"IF(R26=1,SUM($R$26:$R26),\"\")","v":""},{"$f":"IF(X26=1,1,0)","v":0},{"$f":"TRIM(SUBSTITUTE(D26,\" \",\"　\"))","v":""},{"$f":"IF(V26=1,VALUE(ASC(E26)),\"\")","v":""},{"$f":"IF(S26=\"\",\"\",1)","v":""},{"$f":"IF(SUBSTITUTE(SUBSTITUTE(E26,\"　\",\"\"),\" \",\"\")=\"\",\"\",IF(ISNUMBER(VALUE(ASC(E26))),1,2))","v":""},{"$f":"IF(SUBSTITUTE(SUBSTITUTE($F26,\"　\",\"\"),\" \",\"\")=\"\",\"\",IFERROR(VLOOKUP($F26,$N$26:$N$46,1,FALSE),IFERROR(VLOOKUP(IF(AND(LEFT($F26,1)=\"小\",NOT(SUM(COUNTIF($F26,{\"*中*\",\"*高*\",\"*大*\"})))),\"小\",IF(AND(LEFT($F26,1)=\"中\",NOT(SUM(COUNTIF($F26,{\"*小*\",\"*高*\",\"*大*\"})))),\"中\",IF(AND(LEFT($F26,1)=\"高\",NOT(SUM(COUNTIF($F26,{\"*小*\",\"*中*\",\"*大*\"})))),\"高\",IF(AND(LEFT($F26,1)=\"大\",NOT(SUM(COUNTIF($F26,{\"*小*\",\"*中*\",\"*高*\"})))),\"大\",\"NG\"))))&MAX(TEXT(MID($F26,{1,2,3,4,5},{1;2;3;4;5;6;7;8;9;10;11;12;13;14;15}),\"標準;;0;!0\")*1),$N$26:$N$46,1,FALSE),\"NG\")))","v":""},{"$f":"IF(OR($O$1=0,Y26=0),\"\",IF(OR($O$5=3,$O$5=0,$O$5=\"\"),IF(G26=$N$23,1,IF(G26=$O$23,2,0)),$O$5))","v":""},{"$f":"IF(AND(COUNTBLANK(U26:W26)=3,OR($O$5=1,$O$5=2,$O$5=\"\",AND(OR($O$5=3,$O$5=0),OR(G26=$P$23,G26=\"\")))),0,1)","v":0},0,{"$f":"IF(AND(Y26=1,OR(U26<>1,V26<>1,W26=\"\",W26=\"NG\",X26=0)),1,0)","v":0},{"$f":"IF(Z26=1,$W$24,IF(OR(V26=2,W26=\"NG\"),CONCATENATE(AK26,AL26,AM26,AN26,AO26),IF(Y26=0,\"\",CONCATENATE(AC26,AD26,AE26,AF26,AG26,AH26,AI26,AJ26))))","v":""},{"$f":"IF(U26=\"\",$D$25,\"\")","v":"氏名"},{"$f":"IF(OR(AC26=\"\",AND(AE26=\"\",AG26=\"\",AI26=\"\")),\"\",\"・\")","v":"・"},{"$f":"IF(V26=\"\",$E$25,\"\")","v":"年齢"},{"$f":"IF(OR(AE26=\"\",AND(AG26=\"\",AI26=\"\")),\"\",\"・\")","v":"・"},{"$f":"IF(W26=\"\",$F$25,\"\")","v":"学年"},{"$f":"IF(OR(AG26=\"\",AI26=\"\"),\"\",\"・\")","v":""},{"$f":"IF(AND($O$1=1,OR($D$4=$P$4,$D$4=$Q$4),OR(G26=\"\",G26=$P$23)),\"プログラム掲載の有無\",\"\")","v":""},{"$f":"IF(COUNTBLANK(AC26:AI26)=7,\"\",\"が未記入です。\")","v":"が未記入です。"},{"$f":"IF(V26=2,$E$25,\"\")","v":""},{"$f":"IF(OR(AK26=\"\",AM26=\"\"),\"\",\"・\")","v":""},{"$f":"IF(W26=\"NG\",$F$25,\"\")","v":""},{"$f":"IF(COUNTBLANK(AK26:AM26)=3,\"\",\"が判別できません。\")","v":""},{"$f":"IF(AND(AK26<>\"\",AM26=\"\"),$AL$24,IF(AND(AK26=\"\",AM26<>\"\"),$AO$25,\"\"))","v":""}]
[null,null,2,null,null,null,"※リストから選択して下さい","",null,null,null,null,null,"年少",0,null,{"$f":"IF(R27=1,SUM($R$26:$R27),\"\")","v":""},0,{"$f":"TRIM(SUBSTITUTE(D27,\" \",\"　\"))","v":""},{"$f":"IF(V27=1,VALUE(ASC(E27)),\"\")","v":""},"",{"$f":"IF(SUBSTITUTE(SUBSTITUTE(E27,\"　\",\"\"),\" \",\"\")=\"\",\"\",IF(ISNUMBER(VALUE(ASC(E27))),1,2))","v":""},{"$f":"IF(SUBSTITUTE(SUBSTITUTE($F27,\"　\",\"\"),\" \",\"\")=\"\",\"\",IFERROR(VLOOKUP($F27,$N$26:$N$46,1,FALSE),IFERROR(VLOOKUP(IF(AND(LEFT($F27,1)=\"小\",NOT(SUM(COUNTIF($F27,{\"*中*\",\"*高*\",\"*大*\"})))),\"小\",IF(AND(LEFT($F27,1)=\"中\",NOT(SUM(COUNTIF($F27,{\"*小*\",\"*高*\",\"*大*\"})))),\"中\",IF(AND(LEFT($F27,1)=\"高\",NOT(SUM(COUNTIF($F27,{\"*小*\",\"*中*\",\"*大*\"})))),\"高\",IF(AND(LEFT($F27,1)=\"大\",NOT(SUM(COUNTIF($F27,{\"*小*\",\"*中*\",\"*高*\"})))),\"大\",\"NG\"))))&MAX(TEXT(MID($F27,{1,2,3,4,5},{1;2;3;4;5;6;7;8;9;10;11;12;13;14;15}),\"標準;;0;!0\")*1),$N$26:$N$46,1,FALSE),\"NG\")))","v":""},"",0,{"$f":"IF(AND(Y27=1,Y26=0),1,0)","v":0},0,"","氏名",{"$f":"IF(OR(AC27=\"\",AND(AE27=\"\",AG27=\"\",AI27=\"\")),\"\",\"・\")","v":"・"},"年齢",{"$f":"IF(OR(AE27=\"\",AND(AG27=\"\",AI27=\"\")),\"\",\"・\")","v":"・"},"学年",{"$f":"IF(OR(AG27=\"\",AI27=\"\"),\"\",\"・\")","v":""},"",{"$f":"IF(COUNTBLANK(AC27:AI27)=7,\"\",\"が未記入です。\")","v":"が未記入です。"},"",{"$f":"IF(OR(AK27=\"\",AM27=\"\"),\"\",\"・\")","v":""},{"$f":"IF(W27=\"NG\",$F$25,\"\")","v":""},{"$f":"IF(COUNTBLANK(AK27:AM27)=3,\"\",\"が判別できません。\")","v":""},""]
[null,null,3,null,null,null,"※リストから選択して下さい","",null,null,null,null,null,"年中",0,null,{"$f":"IF(R28=1,SUM($R$26:$R28),\"\")","v":""},0,"","","","",{"$f":"IF(SUBSTITUTE(SUBSTITUTE($F28,\"　\",\"\"),\" \",\"\")=\"\",\"\",IFERROR(VLOOKUP($F28,$N$26:$N$46,1,FALSE),IFERROR(VLOOKUP(IF(AND(LEFT($F28,1)=\"小\",NOT(SUM(COUNTIF($F28,{\"*中*\",\"*高*\",\"*大*\"})))),\"小\",IF(AND(LEFT($F28,1)=\"中\",NOT(SUM(COUNTIF($F28,{\"*小*\",\"*高*\",\"*大*\"})))),\"中\",IF(AND(LEFT($F28,1)=\"高\",NOT(SUM(COUNTIF($F28,{\"*小*\",\"*中*\",\"*大*\"})))),\"高\",IF(AND(LEFT($F28,1)=\"大\",NOT(SUM(COUNTIF($F28,{\"*小*\",\"*中*\",\"*高*\"})))),\"大\",\"NG\"))))&MAX(TEXT(MID($F28,{1,2,3,4,5},{1;2;3;4;5;6;7;8;9;10;11;12;13;14;15}),\"標準;;0;!0\")*1),$N$26:$N$46,1,FALSE),\"NG\")))","v":""},"",0,{"$f":"IF(AND(Y28=1,Y27=0),1,0)","v":0},0,"","氏名","・","年齢","・","学年","","","が未記入です。","","","","",""]
[null,null,4,null,null,null,"※リストから選択して下さい","",null,null,null,null,null,"年長",0,null,{"$f":"IF(R29=1,SUM($R$26:$R29),\"\")","v":""},0,"",{"$f":"IF(V29=1,VALUE(ASC(E29)),\"\")","v":""},"","",{"$f":"IF(SUBSTITUTE(SUBSTITUTE($F29,\"　\",\"\"),\" \",\"\")=\"\",\"\",IFERROR(VLOOKUP($F29,$N$26:$N$46,1,FALSE),IFERROR(VLOOKUP(IF(AND(LEFT($F29,1)=\"小\",NOT(SUM(COUNTIF($F29,{\"*中*\",\"*高*\",\"*大*\"})))),\"小\",IF(AND(LEFT($F29,1)=\"中\",NOT(SUM(COUNTIF($F29,{\"*小*\",\"*高*\",\"*大*\"})))),\"中\",IF(AND(LEFT($F29,1)=\"高\",NOT(SUM(COUNTIF($F29,{\"*小*\",\"*中*\",\"*大*\"})))),\"高\",IF(AND(LEFT($F29,1)=\"大\",NOT(SUM(COUNTIF($F29,{\"*小*\",\"*中*\",\"*高*\"})))),\"大\",\"NG\"))))&MAX(TEXT(MID($F29,{1,2,3,4,5},{1;2;3;4;5;6;7;8;9;10;11;12;13;14;15}),\"標準;;0;!0\")*1),$N$26:$N$46,1,FALSE),\"NG\")))","v":""},"",0,0,0,"","氏名","・","年齢","・","学年","","","が未記入です。","","","","",""]
[null,null,5,null,null,null,"※リストから選択して下さい","",null,null,null,null,null,"小1",0,null,{"$f":"IF(R30=1,SUM($R$26:$R30),\"\")","v":""},0,"","","","",{"$f":"IF(SUBSTITUTE(SUBSTITUTE($F30,\"　\",\"\"),\" \",\"\")=\"\",\"\",IFERROR(VLOOKUP($F30,$N$26:$N$46,1,FALSE),IFERROR(VLOOKUP(IF(AND(LEFT($F30,1)=\"小\",NOT(SUM(COUNTIF($F30,{\"*中*\",\"*高*\",\"*大*\"})))),\"小\",IF(AND(LEFT($F30,1)=\"中\",NOT(SUM(COUNTIF($F30,{\"*小*\",\"*高*\",\"*大*\"})))),\"中\",IF(AND(LEFT($F30,1)=\"高\",NOT(SUM(COUNTIF($F30,{\"*小*\",\"*中*\",\"*大*\"})))),\"高\",IF(AND(LEFT($F30,1)=\"大\",NOT(SUM(COUNTIF($F30,{\"*小*\",\"*中*\",\"*高*\"})))),\"大\",\"NG\"))))&MAX(TEXT(MID($F30,{1,2,3,4,5},{1;2;3;4;5;6;7;8;9;10;11;12;13;14;15}),\"標準;;0;!0\")*1),$N$26:$N$46,1,FALSE),\"NG\")))","v":""},"",0,0,0,"","氏名","・","年齢","・","学年","","","が未記入です。","","","","",""]
[null,null,6,null,null,null,"※リストから選択して下さい","",null,null,null,null,null,"小2",0,null,{"$f":"IF(R31=1,SUM($R$26:$R31),\"\")","v":""},0,"","","","",{"$f":"IF(SUBSTITUTE(SUBSTITUTE($F31,\"　\",\"\"),\" \",\"\")=\"\",\"\",IFERROR(VLOOKUP($F31,$N$26:$N$46,1,FALSE),IFERROR(VLOOKUP(IF(AND(LEFT($F31,1)=\"小\",NOT(SUM(COUNTIF($F31,{\"*中*\",\"*高*\",\"*大*\"})))),\"小\",IF(AND(LEFT($F31,1)=\"中\",NOT(SUM(COUNTIF($F31,{\"*小*\",\"*高*\",\"*大*\"})))),\"中\",IF(AND(LEFT($F31,1)=\"高\",NOT(SUM(COUNTIF($F31,{\"*小*\",\"*中*\",\"*大*\"})))),\"高\",IF(AND(LEFT($F31,1)=\"大\",NOT(SUM(COUNTIF($F31,{\"*小*\",\"*中*\",\"*高*\"})))),\"大\",\"NG\"))))&MAX(TEXT(MID($F31,{1,2,3,4,5},{1;2;3;4;5;6;7;8;9;10;11;12;13;14;15}),\"標準;;0;!0\")*1),$N$26:$N$46,1,FALSE),\"NG\")))","v":""},"",0,0,0,"","氏名","・","年齢","・","学年","","","が未記入です。","","","","",""]
[null,null,7,null,null,null,"※リストから選択して下さい","",null,null,null,null,null,"小3",0,null,{"$f":"IF(R32=1,SUM($R$26:$R32),\"\")","v":""},0,"","","","",{"$f":"IF(SUBSTITUTE(SUBSTITUTE($F32,\"　\",\"\"),\" \",\"\")=\"\",\"\",IFERROR(VLOOKUP($F32,$N$26:$N$46,1,FALSE),IFERROR(VLOOKUP(IF(AND(LEFT($F32,1)=\"小\",NOT(SUM(COUNTIF($F32,{\"*中*\",\"*高*\",\"*大*\"})))),\"小\",IF(AND(LEFT($F32,1)=\"中\",NOT(SUM(COUNTIF($F32,{\"*小*\",\"*高*\",\"*大*\"})))),\"中\",IF(AND(LEFT($F32,1)=\"高\",NOT(SUM(COUNTIF($F32,{\"*小*\",\"*中*\",\"*大*\"})))),\"高\",IF(AND(LEFT($F32,1)=\"大\",NOT(SUM(COUNTIF($F32,{\"*小*\",\"*中*\",\"*高*\"})))),\"大\",\"NG\"))))&MAX(TEXT(MID($F32,{1,2,3,4,5},{1;2;3;4;5;6;7;8;9;10;11;12;13;14;15}),\"標準;;0;!0\")*1),$N$26:$N$46,1,FALSE),\"NG\")))","v":""},"",0,0,0,"","氏名","・","年齢","・","学年","","","が未記入です。","","","","",""]
[null,null,8,null,null,null,"※リストから選択して下さい","",null,null,null,null,null,"小4",0,null,{"$f":"IF(R33=1,SUM($R$26:$R33),\"\")","v":""},0,"","","","",{"$f":"IF(SUBSTITUTE(SUBSTITUTE($F33,\"　\",\"\"),\" \",\"\")=\"\",\"\",IFERROR(VLOOKUP($F33,$N$26:$N$46,1,FALSE),IFERROR(VLOOKUP(IF(AND(LEFT($F33,1)=\"小\",NOT(SUM(COUNTIF($F33,{\"*中*\",\"*高*\",\"*大*\"})))),\"小\",IF(AND(LEFT($F33,1)=\"中\",NOT(SUM(COUNTIF($F33,{\"*小*\",\"*高*\",\"*大*\"})))),\"中\",IF(AND(LEFT($F33,1)=\"高\",NOT(SUM(COUNTIF($F33,{\"*小*\",\"*中*\",\"*大*\"})))),\"高\",IF(AND(LEFT($F33,1)=\"大\",NOT(SUM(COUNTIF($F33,{\"*小*\",\"*中*\",\"*高*\"})))),\"大\",\"NG\"))))&MAX(TEXT(MID($F33,{1,2,3,4,5},{1;2;3;4;5;6;7;8;9;10;11;12;13;14;15}),\"標準;;0;!0\")*1),$N$26:$N$46,1,FALSE),\"NG\")))","v":""},"",0,0,0,"","氏名","・","年齢","・","学年","","","が未記入です。","","","","",""]
[null,null,9,null,null,null,"※リストから選択して下さい","",null,null,null,null,null,"小5",0,null,{"$f":"IF(R34=1,SUM($R$26:$R34),\"\")","v":""},0,"","","","",{"$f":"IF(SUBSTITUTE(SUBSTITUTE($F34,\"　\",\"\"),\" \",\"\")=\"\",\"\",IFERROR(VLOOKUP($F34,$N$26:$N$46,1,FALSE),IFERROR(VLOOKUP(IF(AND(LEFT($F34,1)=\"小\",NOT(SUM(COUNTIF($F34,{\"*中*\",\"*高*\",\"*大*\"})))),\"小\",IF(AND(LEFT($F34,1)=\"中\",NOT(SUM(COUNTIF($F34,{\"*小*\",\"*高*\",\"*大*\"})))),\"中\",IF(AND(LEFT($F34,1)=\"高\",NOT(SUM(COUNTIF($F34,{\"*小*\",\"*中*\",\"*大*\"})))),\"高\",IF(AND(LEFT($F34,1)=\"大\",NOT(SUM(COUNTIF($F34,{\"*小*\",\"*中*\",\"*高*\"})))),\"大\",\"NG\"))))&MAX(TEXT(MID($F34,{1,2,3,4,5},{1;2;3;4;5;6;7;8;9;10;11;12;13;14;15}),\"標準;;0;!0\")*1),$N$26:$N$46,1,FALSE),\"NG\")))","v":""},"",0,0,0,"","氏名","・","年齢","・","学年","","","が未記入です。","","","","",""]
[null,null,10,null,null,null,"※リストから選択して下さい","",null,null,null,null,null,"小6",0,null,{"$f":"IF(R35=1,SUM($R$26:$R35),\"\")","v":""},0,"","","","",{"$f":"IF(SUBSTITUTE(SUBSTITUTE($F35,\"　\",\"\"),\" \",\"\")=\"\",\"\",IFERROR(VLOOKUP($F35,$N$26:$N$46,1,FALSE),IFERROR(VLOOKUP(IF(AND(LEFT($F35,1)=\"小\",NOT(SUM(COUNTIF($F35,{\"*中*\",\"*高*\",\"*大*\"})))),\"小\",IF(AND(LEFT($F35,1)=\"中\",NOT(SUM(COUNTIF($F35,{\"*小*\",\"*高*\",\"*大*\"})))),\"中\",IF(AND(LEFT($F35,1)=\"高\",NOT(SUM(COUNTIF($F35,{\"*小*\",\"*中*\",\"*大*\"})))),\"高\",IF(AND(LEFT($F35,1)=\"大\",NOT(SUM(COUNTIF($F35,{\"*小*\",\"*中*\",\"*高*\"})))),\"大\",\"NG\"))))&MAX(TEXT(MID($F35,{1,2,3,4,5},{1;2;3;4;5;6;7;8;9;10;11;12;13;14;15}),\"標準;;0;!0\")*1),$N$26:$N$46,1,FALSE),\"NG\")))","v":""},"",0,0,0,"","氏名","・","年齢","・","学年","","","が未記入です。","","","","",""]
[null,null,11,null,null,null,"※リストから選択して下さい","",null,null,null,null,null,"中1",0,null,{"$f":"IF(R36=1,SUM($R$26:$R36),\"\")","v":""},0,"","","","",{"$f":"IF(SUBSTITUTE(SUBSTITUTE($F36,\"　\",\"\"),\" \",\"\")=\"\",\"\",IFERROR(VLOOKUP($F36,$N$26:$N$46,1,FALSE),IFERROR(VLOOKUP(IF(AND(LEFT($F36,1)=\"小\",NOT(SUM(COUNTIF($F36,{\"*中*\",\"*高*\",\"*大*\"})))),\"小\",IF(AND(LEFT($F36,1)=\"中\",NOT(SUM(COUNTIF($F36,{\"*小*\",\"*高*\",\"*大*\"})))),\"中\",IF(AND(LEFT($F36,1)=\"高\",NOT(SUM(COUNTIF($F36,{\"*小*\",\"*中*\",\"*大*\"})))),\"高\",IF(AND(LEFT($F36,1)=\"大\",NOT(SUM(COUNTIF($F36,{\"*小*\",\"*中*\",\"*高*\"})))),\"大\",\"NG\"))))&MAX(TEXT(MID($F36,{1,2,3,4,5},{1;2;3;4;5;6;7;8;9;10;11;12;13;14;15}),\"標準;;0;!0\")*1),$N$26:$N$46,1,FALSE),\"NG\")))","v":""},"",0,0,0,"","氏名","・","年齢","・","学年","","","が未記入です。","","","","",""]
[null,null,12,null,null,null,"※リストから選択して下さい","",null,null,null,null,null,"中2",0,null,{"$f":"IF(R37=1,SUM($R$26:$R37),\"\")","v":""},0,"","","","",{"$f":"IF(SUBSTITUTE(SUBSTITUTE($F37,\"　\",\"\"),\" \",\"\")=\"\",\"\",IFERROR(VLOOKUP($F37,$N$26:$N$46,1,FALSE),IFERROR(VLOOKUP(IF(AND(LEFT($F37,1)=\"小\",NOT(SUM(COUNTIF($F37,{\"*中*\",\"*高*\",\"*大*\"})))),\"小\",IF(AND(LEFT($F37,1)=\"中\",NOT(SUM(COUNTIF($F37,{\"*小*\",\"*高*\",\"*大*\"})))),\"中\",IF(AND(LEFT($F37,1)=\"高\",NOT(SUM(COUNTIF($F37,{\"*小*\",\"*中*\",\"*大*\"})))),\"高\",IF(AND(LEFT($F37,1)=\"大\",NOT(SUM(COUNTIF($F37,{\"*小*\",\"*中*\",\"*高*\"})))),\"大\",\"NG\"))))&MAX(TEXT(MID($F37,{1,2,3,4,5},{1;2;3;4;5;6;7;8;9;10;11;12;13;14;15}),\"標準;;0;!0\")*1),$N$26:$N$46,1,FALSE),\"NG\")))","v":""},"",0,0,0,"","氏名","・","年齢","・","学年","","","が未記入です。","","","","",""]
[null,null,13,null,null,null,"※リストから選択して下さい","",null,null,null,null,null,"中3",0,null,{"$f":"IF(R38=1,SUM($R$26:$R38),\"\")","v":""},0,"","","","",{"$f":"IF(SUBSTITUTE(SUBSTITUTE($F38,\"　\",\"\"),\" \",\"\")=\"\",\"\",IFERROR(VLOOKUP($F38,$N$26:$N$46,1,FALSE),IFERROR(VLOOKUP(IF(AND(LEFT($F38,1)=\"小\",NOT(SUM(COUNTIF($F38,{\"*中*\",\"*高*\",\"*大*\"})))),\"小\",IF(AND(LEFT($F38,1)=\"中\",NOT(SUM(COUNTIF($F38,{\"*小*\",\"*高*\",\"*大*\"})))),\"中\",IF(AND(LEFT($F38,1)=\"高\",NOT(SUM(COUNTIF($F38,{\"*小*\",\"*中*\",\"*大*\"})))),\"高\",IF(AND(LEFT($F38,1)=\"大\",NOT(SUM(COUNTIF($F38,{\"*小*\",\"*中*\",\"*高*\"})))),\"大\",\"NG\"))))&MAX(TEXT(MID($F38,{1,2,3,4,5},{1;2;3;4;5;6;7;8;9;10;11;12;13;14;15}),\"標準;;0;!0\")*1),$N$26:$N$46,1,FALSE),\"NG\")))","v":""},"",0,0,0,"","氏名","・","年齢","・","学年","","","が未記入です。","","","","",""]
[null,null,14,null,null,null,"※リストから選択して下さい","",null,null,null,null,null,"高1",0,null,{"$f":"IF(R39=1,SUM($R$26:$R39),\"\")","v":""},0,"","","","",{"$f":"IF(SUBSTITUTE(SUBSTITUTE($F39,\"　\",\"\"),\" \",\"\")=\"\",\"\",IFERROR(VLOOKUP($F39,$N$26:$N$46,1,FALSE),IFERROR(VLOOKUP(IF(AND(LEFT($F39,1)=\"小\",NOT(SUM(COUNTIF($F39,{\"*中*\",\"*高*\",\"*大*\"})))),\"小\",IF(AND(LEFT($F39,1)=\"中\",NOT(SUM(COUNTIF($F39,{\"*小*\",\"*高*\",\"*大*\"})))),\"中\",IF(AND(LEFT($F39,1)=\"高\",NOT(SUM(COUNTIF($F39,{\"*小*\",\"*中*\",\"*大*\"})))),\"高\",IF(AND(LEFT($F39,1)=\"大\",NOT(SUM(COUNTIF($F39,{\"*小*\",\"*中*\",\"*高*\"})))),\"大\",\"NG\"))))&MAX(TEXT(MID($F39,{1,2,3,4,5},{1;2;3;4;5;6;7;8;9;10;11;12;13;14;15}),\"標準;;0;!0\")*1),$N$26:$N$46,1,FALSE),\"NG\")))","v":""},"",0,0,0,"","氏名","・","年齢","・","学年","","","が未記入です。","","","","",""]
[null,null,15,null,null,null,"※リストから選択して下さい","",null,null,null,null,null,"高2",0,null,{"$f":"IF(R40=1,SUM($R$26:$R40),\"\")","v":""},0,"","","","",{"$f":"IF(SUBSTITUTE(SUBSTITUTE($F40,\"　\",\"\"),\" \",\"\")=\"\",\"\",IFERROR(VLOOKUP($F40,$N$26:$N$46,1,FALSE),IFERROR(VLOOKUP(IF(AND(LEFT($F40,1)=\"小\",NOT(SUM(COUNTIF($F40,{\"*中*\",\"*高*\",\"*大*\"})))),\"小\",IF(AND(LEFT($F40,1)=\"中\",NOT(SUM(COUNTIF($F40,{\"*小*\",\"*高*\",\"*大*\"})))),\"中\",IF(AND(LEFT($F40,1)=\"高\",NOT(SUM(COUNTIF($F40,{\"*小*\",\"*中*\",\"*大*\"})))),\"高\",IF(AND(LEFT($F40,1)=\"大\",NOT(SUM(COUNTIF($F40,{\"*小*\",\"*中*\",\"*高*\"})))),\"大\",\"NG\"))))&MAX(TEXT(MID($F40,{1,2,3,4,5},{1;2;3;4;5;6;7;8;9;10;11;12;13;14;15}),\"標準;;0;!0\")*1),$N$26:$N$46,1,FALSE),\"NG\")))","v":""},"",0,0,0,"","氏名","・","年齢","・","学年","","","が未記入です。","","","","",""]
[null,null,16,null,null,null,"※リストから選択して下さい","",null,null,null,null,null,"高3",0,null,{"$f":"IF(R41=1,SUM($R$26:$R41),\"\")","v":""},0,"","","","",{"$f":"IF(SUBSTITUTE(SUBSTITUTE($F41,\"　\",\"\"),\" \",\"\")=\"\",\"\",IFERROR(VLOOKUP($F41,$N$26:$N$46,1,FALSE),IFERROR(VLOOKUP(IF(AND(LEFT($F41,1)=\"小\",NOT(SUM(COUNTIF($F41,{\"*中*\",\"*高*\",\"*大*\"})))),\"小\",IF(AND(LEFT($F41,1)=\"中\",NOT(SUM(COUNTIF($F41,{\"*小*\",\"*高*\",\"*大*\"})))),\"中\",IF(AND(LEFT($F41,1)=\"高\",NOT(SUM(COUNTIF($F41,{\"*小*\",\"*中*\",\"*大*\"})))),\"高\",IF(AND(LEFT($F41,1)=\"大\",NOT(SUM(COUNTIF($F41,{\"*小*\",\"*中*\",\"*高*\"})))),\"大\",\"NG\"))))&MAX(TEXT(MID($F41,{1,2,3,4,5},{1;2;3;4;5;6;7;8;9;10;11;12;13;14;15}),\"標準;;0;!0\")*1),$N$26:$N$46,1,FALSE),\"NG\")))","v":""},"",0,0,0,"","氏名","・","年齢","・","学年","","","が未記入です。","","","","",""]
[null,null,17,null,null,null,"※リストから選択して下さい","",null,null,null,null,null,"大1",0,null,{"$f":"IF(R42=1,SUM($R$26:$R42),\"\")","v":""},0,"","","","",{"$f":"IF(SUBSTITUTE(SUBSTITUTE($F42,\"　\",\"\"),\" \",\"\")=\"\",\"\",IFERROR(VLOOKUP($F42,$N$26:$N$46,1,FALSE),IFERROR(VLOOKUP(IF(AND(LEFT($F42,1)=\"小\",NOT(SUM(COUNTIF($F42,{\"*中*\",\"*高*\",\"*大*\"})))),\"小\",IF(AND(LEFT($F42,1)=\"中\",NOT(SUM(COUNTIF($F42,{\"*小*\",\"*高*\",\"*大*\"})))),\"中\",IF(AND(LEFT($F42,1)=\"高\",NOT(SUM(COUNTIF($F42,{\"*小*\",\"*中*\",\"*大*\"})))),\"高\",IF(AND(LEFT($F42,1)=\"大\",NOT(SUM(COUNTIF($F42,{\"*小*\",\"*中*\",\"*高*\"})))),\"大\",\"NG\"))))&MAX(TEXT(MID($F42,{1,2,3,4,5},{1;2;3;4;5;6;7;8;9;10;11;12;13;14;15}),\"標準;;0;!0\")*1),$N$26:$N$46,1,FALSE),\"NG\")))","v":""},"",0,0,0,"","氏名","・","年齢","・","学年","","","が未記入です。","","","","",""]
[null,null,18,null,null,null,"※リストから選択して下さい","",null,null,null,null,null,"大2",0,null,{"$f":"IF(R43=1,SUM($R$26:$R43),\"\")","v":""},0,"","","","",{"$f":"IF(SUBSTITUTE(SUBSTITUTE($F43,\"　\",\"\"),\" \",\"\")=\"\",\"\",IFERROR(VLOOKUP($F43,$N$26:$N$46,1,FALSE),IFERROR(VLOOKUP(IF(AND(LEFT($F43,1)=\"小\",NOT(SUM(COUNTIF($F43,{\"*中*\",\"*高*\",\"*大*\"})))),\"小\",IF(AND(LEFT($F43,1)=\"中\",NOT(SUM(COUNTIF($F43,{\"*小*\",\"*高*\",\"*大*\"})))),\"中\",IF(AND(LEFT($F43,1)=\"高\",NOT(SUM(COUNTIF($F43,{\"*小*\",\"*中*\",\"*大*\"})))),\"高\",IF(AND(LEFT($F43,1)=\"大\",NOT(SUM(COUNTIF($F43,{\"*小*\",\"*中*\",\"*高*\"})))),\"大\",\"NG\"))))&MAX(TEXT(MID($F43,{1,2,3,4,5},{1;2;3;4;5;6;7;8;9;10;11;12;13;14;15}),\"標準;;0;!0\")*1),$N$26:$N$46,1,FALSE),\"NG\")))","v":""},"",0,0,0,"","氏名","・","年齢","・","学年","","","が未記入です。","","","","",""]
[null,null,19,null,null,null,"※リストから選択して下さい","",null,null,null,null,null,"大3",0,null,{"$f":"IF(R44=1,SUM($R$26:$R44),\"\")","v":""},0,"","","","",{"$f":"IF(SUBSTITUTE(SUBSTITUTE($F44,\"　\",\"\"),\" \",\"\")=\"\",\"\",IFERROR(VLOOKUP($F44,$N$26:$N$46,1,FALSE),IFERROR(VLOOKUP(IF(AND(LEFT($F44,1)=\"小\",NOT(SUM(COUNTIF($F44,{\"*中*\",\"*高*\",\"*大*\"})))),\"小\",IF(AND(LEFT($F44,1)=\"中\",NOT(SUM(COUNTIF($F44,{\"*小*\",\"*高*\",\"*大*\"})))),\"中\",IF(AND(LEFT($F44,1)=\"高\",NOT(SUM(COUNTIF($F44,{\"*小*\",\"*中*\",\"*大*\"})))),\"高\",IF(AND(LEFT($F44,1)=\"大\",NOT(SUM(COUNTIF($F44,{\"*小*\",\"*中*\",\"*高*\"})))),\"大\",\"NG\"))))&MAX(TEXT(MID($F44,{1,2,3,4,5},{1;2;3;4;5;6;7;8;9;10;11;12;13;14;15}),\"標準;;0;!0\")*1),$N$26:$N$46,1,FALSE),\"NG\")))","v":""},"",0,0,0,"","氏名","・","年齢","・","学年","","","が未記入です。","","","","",""]
[null,null,20,null,null,null,"※リストから選択して下さい","",null,null,null,null,null,"大4",0,null,{"$f":"IF(R45=1,SUM($R$26:$R45),\"\")","v":""},0,"","","","",{"$f":"IF(SUBSTITUTE(SUBSTITUTE($F45,\"　\",\"\"),\" \",\"\")=\"\",\"\",IFERROR(VLOOKUP($F45,$N$26:$N$46,1,FALSE),IFERROR(VLOOKUP(IF(AND(LEFT($F45,1)=\"小\",NOT(SUM(COUNTIF($F45,{\"*中*\",\"*高*\",\"*大*\"})))),\"小\",IF(AND(LEFT($F45,1)=\"中\",NOT(SUM(COUNTIF($F45,{\"*小*\",\"*高*\",\"*大*\"})))),\"中\",IF(AND(LEFT($F45,1)=\"高\",NOT(SUM(COUNTIF($F45,{\"*小*\",\"*中*\",\"*大*\"})))),\"高\",IF(AND(LEFT($F45,1)=\"大\",NOT(SUM(COUNTIF($F45,{\"*小*\",\"*中*\",\"*高*\"})))),\"大\",\"NG\"))))&MAX(TEXT(MID($F45,{1,2,3,4,5},{1;2;3;4;5;6;7;8;9;10;11;12;13;14;15}),\"標準;;0;!0\")*1),$N$26:$N$46,1,FALSE),\"NG\")))","v":""},"",0,0,0,"","氏名","・","年齢","・","学年","","","が未記入です。","","","","",""]
[null,null,21,null,null,null,"※リストから選択して下さい","",null,null,null,null,null,"なし",0,null,{"$f":"IF(R46=1,SUM($R$26:$R46),\"\")","v":""},0,"","","","",{"$f":"IF(SUBSTITUTE(SUBSTITUTE($F46,\"　\",\"\"),\" \",\"\")=\"\",\"\",IFERROR(VLOOKUP($F46,$N$26:$N$46,1,FALSE),IFERROR(VLOOKUP(IF(AND(LEFT($F46,1)=\"小\",NOT(SUM(COUNTIF($F46,{\"*中*\",\"*高*\",\"*大*\"})))),\"小\",IF(AND(LEFT($F46,1)=\"中\",NOT(SUM(COUNTIF($F46,{\"*小*\",\"*高*\",\"*大*\"})))),\"中\",IF(AND(LEFT($F46,1)=\"高\",NOT(SUM(COUNTIF($F46,{\"*小*\",\"*中*\",\"*大*\"})))),\"高\",IF(AND(LEFT($F46,1)=\"大\",NOT(SUM(COUNTIF($F46,{\"*小*\",\"*中*\",\"*高*\"})))),\"大\",\"NG\"))))&MAX(TEXT(MID($F46,{1,2,3,4,5},{1;2;3;4;5;6;7;8;9;10;11;12;13;14;15}),\"標準;;0;!0\")*1),$N$26:$N$46,1,FALSE),\"NG\")))","v":""},"",0,0,0,"","氏名","・","年齢","・","学年","","","が未記入です。","","","","",""]
[null,null,22,null,null,null,"※リストから選択して下さい","",null,null,null,null,null,"判別不能",{"$f":"O275-SUM(O26:O46)","v":0},null,{"$f":"IF(R47=1,SUM($R$26:$R47),\"\")","v":""},0,"","","","",{"$f":"IF(SUBSTITUTE(SUBSTITUTE($F47,\"　\",\"\"),\" \",\"\")=\"\",\"\",IFERROR(VLOOKUP($F47,$N$26:$N$46,1,FALSE),IFERROR(VLOOKUP(IF(AND(LEFT($F47,1)=\"小\",NOT(SUM(COUNTIF($F47,{\"*中*\",\"*高*\",\"*大*\"})))),\"小\",IF(AND(LEFT($F47,1)=\"中\",NOT(SUM(COUNTIF($F47,{\"*小*\",\"*高*\",\"*大*\"})))),\"中\",IF(AND(LEFT($F47,1)=\"高\",NOT(SUM(COUNTIF($F47,{\"*小*\",\"*中*\",\"*大*\"})))),\"高\",IF(AND(LEFT($F47,1)=\"大\",NOT(SUM(COUNTIF($F47,{\"*小*\",\"*中*\",\"*高*\"})))),\"大\",\"NG\"))))&MAX(TEXT(MID($F47,{1,2,3,4,5},{1;2;3;4;5;6;7;8;9;10;11;12;13;14;15}),\"標準;;0;!0\")*1),$N$26:$N$46,1,FALSE),\"NG\")))","v":""},"",0,0,0,"","氏名","・","年齢","・","学年","","","が未記入です。","","","","",""]
[null,null,23,null,null,null,"※リストから選択して下さい","",null,null,null,null,null,null,null,null,{"$f":"IF(R48=1,SUM($R$26:$R48),\"\")","v":""},0,"","","","",{"$f":"IF(SUBSTITUTE(SUBSTITUTE($F48,\"　\",\"\"),\" \",\"\")=\"\",\"\",IFERROR(VLOOKUP($F48,$N$26:$N$46,1,FALSE),IFERROR(VLOOKUP(IF(AND(LEFT($F48,1)=\"小\",NOT(SUM(COUNTIF($F48,{\"*中*\",\"*高*\",\"*大*\"})))),\"小\",IF(AND(LEFT($F48,1)=\"中\",NOT(SUM(COUNTIF($F48,{\"*小*\",\"*高*\",\"*大*\"})))),\"中\",IF(AND(LEFT($F48,1)=\"高\",NOT(SUM(COUNTIF($F48,{\"*小*\",\"*中*\",\"*大*\"})))),\"高\",IF(AND(LEFT($F48,1)=\"大\",NOT(SUM(COUNTIF($F48,{\"*小*\",\"*中*\",\"*高*\"})))),\"大\",\"NG\"))))&MAX(TEXT(MID($F48,{1,2,3,4,5},{1;2;3;4;5;6;7;8;9;10;11;12;13;14;15}),\"標準;;0;!0\")*1),$N$26:$N$46,1,FALSE),\"NG\")))","v":""},"",0,0,0,"","氏名","・","年齢","・","学年","","","が未記入です。","","","","",""]
[null,null,24,null,null,null,"※リストから選択して下さい","",null,null,null,null,null,"なし内訳",null,null,{"$f":"IF(R49=1,SUM($R$26:$R49),\"\")","v":""},0,"","","","",{"$f":"IF(SUBSTITUTE(SUBSTITUTE($F49,\"　\",\"\"),\" \",\"\")=\"\",\"\",IFERROR(VLOOKUP($F49,$N$26:$N$46,1,FALSE),IFERROR(VLOOKUP(IF(AND(LEFT($F49,1)=\"小\",NOT(SUM(COUNTIF($F49,{\"*中*\",\"*高*\",\"*大*\"})))),\"小\",IF(AND(LEFT($F49,1)=\"中\",NOT(SUM(COUNTIF($F49,{\"*小*\",\"*高*\",\"*大*\"})))),\"中\",IF(AND(LEFT($F49,1)=\"高\",NOT(SUM(COUNTIF($F49,{\"*小*\",\"*中*\",\"*大*\"})))),\"高\",IF(AND(LEFT($F49,1)=\"大\",NOT(SUM(COUNTIF($F49,{\"*小*\",\"*中*\",\"*高*\"})))),\"大\",\"NG\"))))&MAX(TEXT(MID($F49,{1,2,3,4,5},{1;2;3;4;5;6;7;8;9;10;11;12;13;14;15}),\"標準;;0;!0\")*1),$N$26:$N$46,1,FALSE),\"NG\")))","v":""},"",0,0,0,"","氏名","・","年齢","・","学年","","","が未記入です。","","","","",""]
[null,null,25,null,null,null,"※リストから選択して下さい","",null,null,null,null,null,"6歳以下",{"$f":"COUNTIFS($W$26:$W$275,$N$46,$E$26:$E$275,\"<=6\")","v":0},null,{"$f":"IF(R50=1,SUM($R$26:$R50),\"\")","v":""},0,"","","","",{"$f":"IF(SUBSTITUTE(SUBSTITUTE($F50,\"　\",\"\"),\" \",\"\")=\"\",\"\",IFERROR(VLOOKUP($F50,$N$26:$N$46,1,FALSE),IFERROR(VLOOKUP(IF(AND(LEFT($F50,1)=\"小\",NOT(SUM(COUNTIF($F50,{\"*中*\",\"*高*\",\"*大*\"})))),\"小\",IF(AND(LEFT($F50,1)=\"中\",NOT(SUM(COUNTIF($F50,{\"*小*\",\"*高*\",\"*大*\"})))),\"中\",IF(AND(LEFT($F50,1)=\"高\",NOT(SUM(COUNTIF($F50,{\"*小*\",\"*中*\",\"*大*\"})))),\"高\",IF(AND(LEFT($F50,1)=\"大\",NOT(SUM(COUNTIF($F50,{\"*小*\",\"*中*\",\"*高*\"})))),\"大\",\"NG\"))))&MAX(TEXT(MID($F50,{1,2,3,4,5},{1;2;3;4;5;6;7;8;9;10;11;12;13;14;15}),\"標準;;0;!0\")*1),$N$26:$N$46,1,FALSE),\"NG\")))","v":""},"",0,0,0,"","氏名","・","年齢","・","学年","","","が未記入です。","","","","",""]
[null,null,26,null,null,null,"※リストから選択して下さい","",null,null,null,null,null,"7歳以上",{"$f":"COUNTIFS($W$26:$W$275,$N$46,$E$26:$E$275,\">=7\")","v":0},null,{"$f":"IF(R51=1,SUM($R$26:$R51),\"\")","v":""},0,"","","","",{"$f":"IF(SUBSTITUTE(SUBSTITUTE($F51,\"　\",\"\"),\" \",\"\")=\"\",\"\",IFERROR(VLOOKUP($F51,$N$26:$N$46,1,FALSE),IFERROR(VLOOKUP(IF(AND(LEFT($F51,1)=\"小\",NOT(SUM(COUNTIF($F51,{\"*中*\",\"*高*\",\"*大*\"})))),\"小\",IF(AND(LEFT($F51,1)=\"中\",NOT(SUM(COUNTIF($F51,{\"*小*\",\"*高*\",\"*大*\"})))),\"中\",IF(AND(LEFT($F51,1)=\"高\",NOT(SUM(COUNTIF($F51,{\"*小*\",\"*中*\",\"*大*\"})))),\"高\",IF(AND(LEFT($F51,1)=\"大\",NOT(SUM(COUNTIF($F51,{\"*小*\",\"*中*\",\"*高*\"})))),\"大\",\"NG\"))))&MAX(TEXT(MID($F51,{1,2,3,4,5},{1;2;3;4;5;6;7;8;9;10;11;12;13;14;15}),\"標準;;0;!0\")*1),$N$26:$N$46,1,FALSE),\"NG\")))","v":""},"",0,0,0,"","氏名","・","年齢","・","学年","","","が未記入です。","","","","",""]
[null,null,27,null,null,null,"※リストから選択して下さい","",null,null,null,null,null,null,null,null,{"$f":"IF(R52=1,SUM($R$26:$R52),\"\")","v":""},0,"","","","",{"$f":"IF(SUBSTITUTE(SUBSTITUTE($F52,\"　\",\"\"),\" \",\"\")=\"\",\"\",IFERROR(VLOOKUP($F52,$N$26:$N$46,1,FALSE),IFERROR(VLOOKUP(IF(AND(LEFT($F52,1)=\"小\",NOT(SUM(COUNTIF($F52,{\"*中*\",\"*高*\",\"*大*\"})))),\"小\",IF(AND(LEFT($F52,1)=\"中\",NOT(SUM(COUNTIF($F52,{\"*小*\",\"*高*\",\"*大*\"})))),\"中\",IF(AND(LEFT($F52,1)=\"高\",NOT(SUM(COUNTIF($F52,{\"*小*\",\"*中*\",\"*大*\"})))),\"高\",IF(AND(LEFT($F52,1)=\"大\",NOT(SUM(COUNTIF($F52,{\"*小*\",\"*中*\",\"*高*\"})))),\"大\",\"NG\"))))&MAX(TEXT(MID($F52,{1,2,3,4,5},{1;2;3;4;5;6;7;8;9;10;11;12;13;14;15}),\"標準;;0;!0\")*1),$N$26:$N$46,1,FALSE),\"NG\")))","v":""},"",0,0,0,"","氏名","・","年齢","・","学年","","","が未記入です。","","","","",""]
[null,null,28,null,null,null,"※リストから選択して下さい","",null,null,null,null,null,null,"学年別人数",null,{"$f":"IF(R53=1,SUM($R$26:$R53),\"\")","v":""},0,"","","","",{"$f":"IF(SUBSTITUTE(SUBSTITUTE($F53,\"　\",\"\"),\" \",\"\")=\"\",\"\",IFERROR(VLOOKUP($F53,$N$26:$N$46,1,FALSE),IFERROR(VLOOKUP(IF(AND(LEFT($F53,1)=\"小\",NOT(SUM(COUNTIF($F53,{\"*中*\",\"*高*\",\"*大*\"})))),\"小\",IF(AND(LEFT($F53,1)=\"中\",NOT(SUM(COUNTIF($F53,{\"*小*\",\"*高*\",\"*大*\"})))),\"中\",IF(AND(LEFT($F53,1)=\"高\",NOT(SUM(COUNTIF($F53,{\"*小*\",\"*中*\",\"*大*\"})))),\"高\",IF(AND(LEFT($F53,1)=\"大\",NOT(SUM(COUNTIF($F53,{\"*小*\",\"*中*\",\"*高*\"})))),\"大\",\"NG\"))))&MAX(TEXT(MID($F53,{1,2,3,4,5},{1;2;3;4;5;6;7;8;9;10;11;12;13;14;15}),\"標準;;0;!0\")*1),$N$26:$N$46,1,FALSE),\"NG\")))","v":""},"",0,0,0,"","氏名","・","年齢","・","学年","","","が未記入です。","","","","",""]
[null,null,29,null,null,null,"※リストから選択して下さい","",null,null,null,null,null,"指揮",{"$f":"O26","v":0},null,{"$f":"IF(R54=1,SUM($R$26:$R54),\"\")","v":""},0,"","","","",{"$f":"IF(SUBSTITUTE(SUBSTITUTE($F54,\"　\",\"\"),\" \",\"\")=\"\",\"\",IFERROR(VLOOKUP($F54,$N$26:$N$46,1,FALSE),IFERROR(VLOOKUP(IF(AND(LEFT($F54,1)=\"小\",NOT(SUM(COUNTIF($F54,{\"*中*\",\"*高*\",\"*大*\"})))),\"小\",IF(AND(LEFT($F54,1)=\"中\",NOT(SUM(COUNTIF($F54,{\"*小*\",\"*高*\",\"*大*\"})))),\"中\",IF(AND(LEFT($F54,1)=\"高\",NOT(SUM(COUNTIF($F54,{\"*小*\",\"*中*\",\"*大*\"})))),\"高\",IF(AND(LEFT($F54,1)=\"大\",NOT(SUM(COUNTIF($F54,{\"*小*\",\"*中*\",\"*高*\"})))),\"大\",\"NG\"))))&MAX(TEXT(MID($F54,{1,2,3,4,5},{1;2;3;4;5;6;7;8;9;10;11;12;13;14;15}),\"標準;;0;!0\")*1),$N$26:$N$46,1,FALSE),\"NG\")))","v":""},"",0,0,0,"","氏名","・","年齢","・","学年","","","が未記入です。","","","","",""]
[null,null,30,null,null,null,"※リストから選択して下さい","",null,null,null,null,null,"未就学",{"$f":"SUM(O27:O29)+O50","v":0},null,{"$f":"IF(R55=1,SUM($R$26:$R55),\"\")","v":""},0,"","","","",{"$f":"IF(SUBSTITUTE(SUBSTITUTE($F55,\"　\",\"\"),\" \",\"\")=\"\",\"\",IFERROR(VLOOKUP($F55,$N$26:$N$46,1,FALSE),IFERROR(VLOOKUP(IF(AND(LEFT($F55,1)=\"小\",NOT(SUM(COUNTIF($F55,{\"*中*\",\"*高*\",\"*大*\"})))),\"小\",IF(AND(LEFT($F55,1)=\"中\",NOT(SUM(COUNTIF($F55,{\"*小*\",\"*高*\",\"*大*\"})))),\"中\",IF(AND(LEFT($F55,1)=\"高\",NOT(SUM(COUNTIF($F55,{\"*小*\",\"*中*\",\"*大*\"})))),\"高\",IF(AND(LEFT($F55,1)=\"大\",NOT(SUM(COUNTIF($F55,{\"*小*\",\"*中*\",\"*高*\"})))),\"大\",\"NG\"))))&MAX(TEXT(MID($F55,{1,2,3,4,5},{1;2;3;4;5;6;7;8;9;10;11;12;13;14;15}),\"標準;;0;!0\")*1),$N$26:$N$46,1,FALSE),\"NG\")))","v":""},"",0,0,0,"","氏名","・","年齢","・","学年","","","が未記入です。","","","","",""]
[null,null,31,null,null,null,"※リストから選択して下さい","",null,null,null,null,null,"小学生",{"$f":"SUM(O30:O35)","v":0},null,{"$f":"IF(R56=1,SUM($R$26:$R56),\"\")","v":""},0,"","","","",{"$f":"IF(SUBSTITUTE(SUBSTITUTE($F56,\"　\",\"\"),\" \",\"\")=\"\",\"\",IFERROR(VLOOKUP($F56,$N$26:$N$46,1,FALSE),IFERROR(VLOOKUP(IF(AND(LEFT($F56,1)=\"小\",NOT(SUM(COUNTIF($F56,{\"*中*\",\"*高*\",\"*大*\"})))),\"小\",IF(AND(LEFT($F56,1)=\"中\",NOT(SUM(COUNTIF($F56,{\"*小*\",\"*高*\",\"*大*\"})))),\"中\",IF(AND(LEFT($F56,1)=\"高\",NOT(SUM(COUNTIF($F56,{\"*小*\",\"*中*\",\"*大*\"})))),\"高\",IF(AND(LEFT($F56,1)=\"大\",NOT(SUM(COUNTIF($F56,{\"*小*\",\"*中*\",\"*高*\"})))),\"大\",\"NG\"))))&MAX(TEXT(MID($F56,{1,2,3,4,5},{1;2;3;4;5;6;7;8;9;10;11;12;13;14;15}),\"標準;;0;!0\")*1),$N$26:$N$46,1,FALSE),\"NG\")))","v":""},"",0,0,0,"","氏名","・","年齢","・","学年","","","が未記入です。","","","","",""]
[null,null,32,null,null,null,"※リストから選択して下さい","",null,null,null,null,null,"中学生",{"$f":"SUM(O36:O38)","v":0},null,{"$f":"IF(R57=1,SUM($R$26:$R57),\"\")","v":""},0,"","","","",{"$f":"IF(SUBSTITUTE(SUBSTITUTE($F57,\"　\",\"\"),\" \",\"\")=\"\",\"\",IFERROR(VLOOKUP($F57,$N$26:$N$46,1,FALSE),IFERROR(VLOOKUP(IF(AND(LEFT($F57,1)=\"小\",NOT(SUM(COUNTIF($F57,{\"*中*\",\"*高*\",\"*大*\"})))),\"小\",IF(AND(LEFT($F57,1)=\"中\",NOT(SUM(COUNTIF($F57,{\"*小*\",\"*高*\",\"*大*\"})))),\"中\",IF(AND(LEFT($F57,1)=\"高\",NOT(SUM(COUNTIF($F57,{\"*小*\",\"*中*\",\"*大*\"})))),\"高\",IF(AND(LEFT($F57,1)=\"大\",NOT(SUM(COUNTIF($F57,{\"*小*\",\"*中*\",\"*高*\"})))),\"大\",\"NG\"))))&MAX(TEXT(MID($F57,{1,2,3,4,5},{1;2;3;4;5;6;7;8;9;10;11;12;13;14;15}),\"標準;;0;!0\")*1),$N$26:$N$46,1,FALSE),\"NG\")))","v":""},"",0,0,0,"","氏名","・","年齢","・","学年","","","が未記入です。","","","","",""]
[null,null,33,null,null,null,"※リストから選択して下さい","",null,null,null,null,null,"高校生",{"$f":"SUM(O39:O41)","v":0},null,{"$f":"IF(R58=1,SUM($R$26:$R58),\"\")","v":""},{"$f":"IF(X58=1,1,0)","v":0},"","","","",{"$f":"IF(SUBSTITUTE(SUBSTITUTE($F58,\"　\",\"\"),\" \",\"\")=\"\",\"\",IFERROR(VLOOKUP($F58,$N$26:$N$46,1,FALSE),IFERROR(VLOOKUP(IF(AND(LEFT($F58,1)=\"小\",NOT(SUM(COUNTIF($F58,{\"*中*\",\"*高*\",\"*大*\"})))),\"小\",IF(AND(LEFT($F58,1)=\"中\",NOT(SUM(COUNTIF($F58,{\"*小*\",\"*高*\",\"*大*\"})))),\"中\",IF(AND(LEFT($F58,1)=\"高\",NOT(SUM(COUNTIF($F58,{\"*小*\",\"*中*\",\"*大*\"})))),\"高\",IF(AND(LEFT($F58,1)=\"大\",NOT(SUM(COUNTIF($F58,{\"*小*\",\"*中*\",\"*高*\"})))),\"大\",\"NG\"))))&MAX(TEXT(MID($F58,{1,2,3,4,5},{1;2;3;4;5;6;7;8;9;10;11;12;13;14;15}),\"標準;;0;!0\")*1),$N$26:$N$46,1,FALSE),\"NG\")))","v":""},"",0,0,0,"","氏名","・","年齢","・","学年","","","が未記入です。","","","","",""]
[null,null,34,null,null,null,"※リストから選択して下さい","",null,null,null,null,null,"大学生",{"$f":"SUM(O42:O45)","v":0},null,{"$f":"IF(R59=1,SUM($R$26:$R59),\"\")","v":""},0,"","","","",{"$f":"IF(SUBSTITUTE(SUBSTITUTE($F59,\"　\",\"\"),\" \",\"\")=\"\",\"\",IFERROR(VLOOKUP($F59,$N$26:$N$46,1,FALSE),IFERROR(VLOOKUP(IF(AND(LEFT($F59,1)=\"小\",NOT(SUM(COUNTIF($F59,{\"*中*\",\"*高*\",\"*大*\"})))),\"小\",IF(AND(LEFT($F59,1)=\"中\",NOT(SUM(COUNTIF($F59,{\"*小*\",\"*高*\",\"*大*\"})))),\"中\",IF(AND(LEFT($F59,1)=\"高\",NOT(SUM(COUNTIF($F59,{\"*小*\",\"*中*\",\"*大*\"})))),\"高\",IF(AND(LEFT($F59,1)=\"大\",NOT(SUM(COUNTIF($F59,{\"*小*\",\"*中*\",\"*高*\"})))),\"大\",\"NG\"))))&MAX(TEXT(MID($F59,{1,2,3,4,5},{1;2;3;4;5;6;7;8;9;10;11;12;13;14;15}),\"標準;;0;!0\")*1),$N$26:$N$46,1,FALSE),\"NG\")))","v":""},"",0,0,0,"","氏名","・","年齢","・","学年","","","が未記入です。","","","","",""]
[null,null,35,null,null,null,"※リストから選択して下さい","",null,null,null,null,null,"社会人",{"$f":"O51","v":0},null,{"$f":"IF(R60=1,SUM($R$26:$R60),\"\")","v":""},0,"","","","",{"$f":"IF(SUBSTITUTE(SUBSTITUTE($F60,\"　\",\"\"),\" \",\"\")=\"\",\"\",IFERROR(VLOOKUP($F60,$N$26:$N$46,1,FALSE),IFERROR(VLOOKUP(IF(AND(LEFT($F60,1)=\"小\",NOT(SUM(COUNTIF($F60,{\"*中*\",\"*高*\",\"*大*\"})))),\"小\",IF(AND(LEFT($F60,1)=\"中\",NOT(SUM(COUNTIF($F60,{\"*小*\",\"*高*\",\"*大*\"})))),\"中\",IF(AND(LEFT($F60,1)=\"高\",NOT(SUM(COUNTIF($F60,{\"*小*\",\"*中*\",\"*大*\"})))),\"高\",IF(AND(LEFT($F60,1)=\"大\",NOT(SUM(COUNTIF($F60,{\"*小*\",\"*中*\",\"*高*\"})))),\"大\",\"NG\"))))&MAX(TEXT(MID($F60,{1,2,3,4,5},{1;2;3;4;5;6;7;8;9;10;11;12;13;14;15}),\"標準;;0;!0\")*1),$N$26:$N$46,1,FALSE),\"NG\")))","v":""},"",0,0,0,"","氏名","・","年齢","・","学年","","","が未記入です。","","","","",""]
[null,null,36,null,null,null,"※リストから選択して下さい","",null,null,null,null,null,"その他",{"$f":"O275-SUM(O54:O60)","v":0},null,{"$f":"IF(R61=1,SUM($R$26:$R61),\"\")","v":""},0,"","","","",{"$f":"IF(SUBSTITUTE(SUBSTITUTE($F61,\"　\",\"\"),\" \",\"\")=\"\",\"\",IFERROR(VLOOKUP($F61,$N$26:$N$46,1,FALSE),IFERROR(VLOOKUP(IF(AND(LEFT($F61,1)=\"小\",NOT(SUM(COUNTIF($F61,{\"*中*\",\"*高*\",\"*大*\"})))),\"小\",IF(AND(LEFT($F61,1)=\"中\",NOT(SUM(COUNTIF($F61,{\"*小*\",\"*高*\",\"*大*\"})))),\"中\",IF(AND(LEFT($F61,1)=\"高\",NOT(SUM(COUNTIF($F61,{\"*小*\",\"*中*\",\"*大*\"})))),\"高\",IF(AND(LEFT($F61,1)=\"大\",NOT(SUM(COUNTIF($F61,{\"*小*\",\"*中*\",\"*高*\"})))),\"大\",\"NG\"))))&MAX(TEXT(MID($F61,{1,2,3,4,5},{1;2;3;4;5;6;7;8;9;10;11;12;13;14;15}),\"標準;;0;!0\")*1),$N$26:$N$46,1,FALSE),\"NG\")))","v":""},"",0,0,0,"","氏名","・","年齢","・","学年","","","が未記入です。","","","","",""]
[null,null,37,null,null,null,"※リストから選択して下さい","",null,null,null,null,null,null,null,null,{"$f":"IF(R62=1,SUM($R$26:$R62),\"\")","v":""},0,"","","","",{"$f":"IF(SUBSTITUTE(SUBSTITUTE($F62,\"　\",\"\"),\" \",\"\")=\"\",\"\",IFERROR(VLOOKUP($F62,$N$26:$N$46,1,FALSE),IFERROR(VLOOKUP(IF(AND(LEFT($F62,1)=\"小\",NOT(SUM(COUNTIF($F62,{\"*中*\",\"*高*\",\"*大*\"})))),\"小\",IF(AND(LEFT($F62,1)=\"中\",NOT(SUM(COUNTIF($F62,{\"*小*\",\"*高*\",\"*大*\"})))),\"中\",IF(AND(LEFT($F62,1)=\"高\",NOT(SUM(COUNTIF($F62,{\"*小*\",\"*中*\",\"*大*\"})))),\"高\",IF(AND(LEFT($F62,1)=\"大\",NOT(SUM(COUNTIF($F62,{\"*小*\",\"*中*\",\"*高*\"})))),\"大\",\"NG\"))))&MAX(TEXT(MID($F62,{1,2,3,4,5},{1;2;3;4;5;6;7;8;9;10;11;12;13;14;15}),\"標準;;0;!0\")*1),$N$26:$N$46,1,FALSE),\"NG\")))","v":""},"",0,0,0,"","氏名","・","年齢","・","学年","","","が未記入です。","","","","",""]
[null,null,38,null,null,null,"※リストから選択して下さい","",null,null,null,null,null,null,null,null,{"$f":"IF(R63=1,SUM($R$26:$R63),\"\")","v":""},0,"","","","",{"$f":"IF(SUBSTITUTE(SUBSTITUTE($F63,\"　\",\"\"),\" \",\"\")=\"\",\"\",IFERROR(VLOOKUP($F63,$N$26:$N$46,1,FALSE),IFERROR(VLOOKUP(IF(AND(LEFT($F63,1)=\"小\",NOT(SUM(COUNTIF($F63,{\"*中*\",\"*高*\",\"*大*\"})))),\"小\",IF(AND(LEFT($F63,1)=\"中\",NOT(SUM(COUNTIF($F63,{\"*小*\",\"*高*\",\"*大*\"})))),\"中\",IF(AND(LEFT($F63,1)=\"高\",NOT(SUM(COUNTIF($F63,{\"*小*\",\"*中*\",\"*大*\"})))),\"高\",IF(AND(LEFT($F63,1)=\"大\",NOT(SUM(COUNTIF($F63,{\"*小*\",\"*中*\",\"*高*\"})))),\"大\",\"NG\"))))&MAX(TEXT(MID($F63,{1,2,3,4,5},{1;2;3;4;5;6;7;8;9;10;11;12;13;14;15}),\"標準;;0;!0\")*1),$N$26:$N$46,1,FALSE),\"NG\")))","v":""},"",0,0,0,"","氏名","・","年齢","・","学年","","","が未記入です。","","","","",""]
[null,null,39,null,null,null,"※リストから選択して下さい","",null,null,null,null,null,null,"判定",null,{"$f":"IF(R64=1,SUM($R$26:$R64),\"\")","v":""},0,"","","","",{"$f":"IF(SUBSTITUTE(SUBSTITUTE($F64,\"　\",\"\"),\" \",\"\")=\"\",\"\",IFERROR(VLOOKUP($F64,$N$26:$N$46,1,FALSE),IFERROR(VLOOKUP(IF(AND(LEFT($F64,1)=\"小\",NOT(SUM(COUNTIF($F64,{\"*中*\",\"*高*\",\"*大*\"})))),\"小\",IF(AND(LEFT($F64,1)=\"中\",NOT(SUM(COUNTIF($F64,{\"*小*\",\"*高*\",\"*大*\"})))),\"中\",IF(AND(LEFT($F64,1)=\"高\",NOT(SUM(COUNTIF($F64,{\"*小*\",\"*中*\",\"*大*\"})))),\"高\",IF(AND(LEFT($F64,1)=\"大\",NOT(SUM(COUNTIF($F64,{\"*小*\",\"*中*\",\"*高*\"})))),\"大\",\"NG\"))))&MAX(TEXT(MID($F64,{1,2,3,4,5},{1;2;3;4;5;6;7;8;9;10;11;12;13;14;15}),\"標準;;0;!0\")*1),$N$26:$N$46,1,FALSE),\"NG\")))","v":""},"",0,0,0,"","氏名","・","年齢","・","学年","","","が未記入です。","","","","",""]
[null,null,40,null,null,null,"※リストから選択して下さい","",null,null,null,null,null,{"$f":"選択肢!A39","v":"幼保の部"},{"$f":"IF(SUM(O56:O60)<=O72,0,1)","v":0},null,{"$f":"IF(R65=1,SUM($R$26:$R65),\"\")","v":""},0,"","","","",{"$f":"IF(SUBSTITUTE(SUBSTITUTE($F65,\"　\",\"\"),\" \",\"\")=\"\",\"\",IFERROR(VLOOKUP($F65,$N$26:$N$46,1,FALSE),IFERROR(VLOOKUP(IF(AND(LEFT($F65,1)=\"小\",NOT(SUM(COUNTIF($F65,{\"*中*\",\"*高*\",\"*大*\"})))),\"小\",IF(AND(LEFT($F65,1)=\"中\",NOT(SUM(COUNTIF($F65,{\"*小*\",\"*高*\",\"*大*\"})))),\"中\",IF(AND(LEFT($F65,1)=\"高\",NOT(SUM(COUNTIF($F65,{\"*小*\",\"*中*\",\"*大*\"})))),\"高\",IF(AND(LEFT($F65,1)=\"大\",NOT(SUM(COUNTIF($F65,{\"*小*\",\"*中*\",\"*高*\"})))),\"大\",\"NG\"))))&MAX(TEXT(MID($F65,{1,2,3,4,5},{1;2;3;4;5;6;7;8;9;10;11;12;13;14;15}),\"標準;;0;!0\")*1),$N$26:$N$46,1,FALSE),\"NG\")))","v":""},"",0,0,0,"","氏名","・","年齢","・","学年","","","が未記入です。","","","","",""]
[null,null,41,null,null,null,"※リストから選択して下さい","",null,null,null,null,null,{"$f":"選択肢!A40","v":"小学生の部"},{"$f":"IF(SUM(O55,O57:O60)=0,0,1)","v":0},null,{"$f":"IF(R66=1,SUM($R$26:$R66),\"\")","v":""},0,"","","","",{"$f":"IF(SUBSTITUTE(SUBSTITUTE($F66,\"　\",\"\"),\" \",\"\")=\"\",\"\",IFERROR(VLOOKUP($F66,$N$26:$N$46,1,FALSE),IFERROR(VLOOKUP(IF(AND(LEFT($F66,1)=\"小\",NOT(SUM(COUNTIF($F66,{\"*中*\",\"*高*\",\"*大*\"})))),\"小\",IF(AND(LEFT($F66,1)=\"中\",NOT(SUM(COUNTIF($F66,{\"*小*\",\"*高*\",\"*大*\"})))),\"中\",IF(AND(LEFT($F66,1)=\"高\",NOT(SUM(COUNTIF($F66,{\"*小*\",\"*中*\",\"*大*\"})))),\"高\",IF(AND(LEFT($F66,1)=\"大\",NOT(SUM(COUNTIF($F66,{\"*小*\",\"*中*\",\"*高*\"})))),\"大\",\"NG\"))))&MAX(TEXT(MID($F66,{1,2,3,4,5},{1;2;3;4;5;6;7;8;9;10;11;12;13;14;15}),\"標準;;0;!0\")*1),$N$26:$N$46,1,FALSE),\"NG\")))","v":""},"",0,0,0,"","氏名","・","年齢","・","学年","","","が未記入です。","","","","",""]
[null,null,42,null,null,null,"※リストから選択して下さい","",null,null,null,null,null,{"$f":"選択肢!A41","v":"中学生の部"},{"$f":"IF(SUM(O55,O58:O60)=0,0,1)","v":0},null,{"$f":"IF(R67=1,SUM($R$26:$R67),\"\")","v":""},0,"","","","",{"$f":"IF(SUBSTITUTE(SUBSTITUTE($F67,\"　\",\"\"),\" \",\"\")=\"\",\"\",IFERROR(VLOOKUP($F67,$N$26:$N$46,1,FALSE),IFERROR(VLOOKUP(IF(AND(LEFT($F67,1)=\"小\",NOT(SUM(COUNTIF($F67,{\"*中*\",\"*高*\",\"*大*\"})))),\"小\",IF(AND(LEFT($F67,1)=\"中\",NOT(SUM(COUNTIF($F67,{\"*小*\",\"*高*\",\"*大*\"})))),\"中\",IF(AND(LEFT($F67,1)=\"高\",NOT(SUM(COUNTIF($F67,{\"*小*\",\"*中*\",\"*大*\"})))),\"高\",IF(AND(LEFT($F67,1)=\"大\",NOT(SUM(COUNTIF($F67,{\"*小*\",\"*中*\",\"*高*\"})))),\"大\",\"NG\"))))&MAX(TEXT(MID($F67,{1,2,3,4,5},{1;2;3;4;5;6;7;8;9;10;11;12;13;14;15}),\"標準;;0;!0\")*1),$N$26:$N$46,1,FALSE),\"NG\")))","v":""},"",0,0,0,"","氏名","・","年齢","・","学年","","","が未記入です。","","","","",""]
[null,null,43,null,null,null,"※リストから選択して下さい","",null,null,null,null,null,{"$f":"選択肢!A42","v":"高等学校の部"},{"$f":"IF(SUM(O55:O56,O59:O60)=0,0,1)","v":0},null,{"$f":"IF(R68=1,SUM($R$26:$R68),\"\")","v":""},0,"","","","",{"$f":"IF(SUBSTITUTE(SUBSTITUTE($F68,\"　\",\"\"),\" \",\"\")=\"\",\"\",IFERROR(VLOOKUP($F68,$N$26:$N$46,1,FALSE),IFERROR(VLOOKUP(IF(AND(LEFT($F68,1)=\"小\",NOT(SUM(COUNTIF($F68,{\"*中*\",\"*高*\",\"*大*\"})))),\"小\",IF(AND(LEFT($F68,1)=\"中\",NOT(SUM(COUNTIF($F68,{\"*小*\",\"*高*\",\"*大*\"})))),\"中\",IF(AND(LEFT($F68,1)=\"高\",NOT(SUM(COUNTIF($F68,{\"*小*\",\"*中*\",\"*大*\"})))),\"高\",IF(AND(LEFT($F68,1)=\"大\",NOT(SUM(COUNTIF($F68,{\"*小*\",\"*中*\",\"*高*\"})))),\"大\",\"NG\"))))&MAX(TEXT(MID($F68,{1,2,3,4,5},{1;2;3;4;5;6;7;8;9;10;11;12;13;14;15}),\"標準;;0;!0\")*1),$N$26:$N$46,1,FALSE),\"NG\")))","v":""},"",0,0,0,"","氏名","・","年齢","・","学年","","","が未記入です。","","","","",""]
[null,null,44,null,null,null,"※リストから選択して下さい","",null,null,null,null,null,{"$f":"選択肢!A43","v":"一般の部"},{"$f":"IF(O55=0,0,1)","v":0},null,{"$f":"IF(R69=1,SUM($R$26:$R69),\"\")","v":""},0,"","","","",{"$f":"IF(SUBSTITUTE(SUBSTITUTE($F69,\"　\",\"\"),\" \",\"\")=\"\",\"\",IFERROR(VLOOKUP($F69,$N$26:$N$46,1,FALSE),IFERROR(VLOOKUP(IF(AND(LEFT($F69,1)=\"小\",NOT(SUM(COUNTIF($F69,{\"*中*\",\"*高*\",\"*大*\"})))),\"小\",IF(AND(LEFT($F69,1)=\"中\",NOT(SUM(COUNTIF($F69,{\"*小*\",\"*高*\",\"*大*\"})))),\"中\",IF(AND(LEFT($F69,1)=\"高\",NOT(SUM(COUNTIF($F69,{\"*小*\",\"*中*\",\"*大*\"})))),\"高\",IF(AND(LEFT($F69,1)=\"大\",NOT(SUM(COUNTIF($F69,{\"*小*\",\"*中*\",\"*高*\"})))),\"大\",\"NG\"))))&MAX(TEXT(MID($F69,{1,2,3,4,5},{1;2;3;4;5;6;7;8;9;10;11;12;13;14;15}),\"標準;;0;!0\")*1),$N$26:$N$46,1,FALSE),\"NG\")))","v":""},"",0,0,0,"","氏名","・","年齢","・","学年","","","が未記入です。","","","","",""]
[null,null,45,null,null,null,"※リストから選択して下さい","",null,null,null,null,null,null,null,null,{"$f":"IF(R70=1,SUM($R$26:$R70),\"\")","v":""},0,"","","","",{"$f":"IF(SUBSTITUTE(SUBSTITUTE($F70,\"　\",\"\"),\" \",\"\")=\"\",\"\",IFERROR(VLOOKUP($F70,$N$26:$N$46,1,FALSE),IFERROR(VLOOKUP(IF(AND(LEFT($F70,1)=\"小\",NOT(SUM(COUNTIF($F70,{\"*中*\",\"*高*\",\"*大*\"})))),\"小\",IF(AND(LEFT($F70,1)=\"中\",NOT(SUM(COUNTIF($F70,{\"*小*\",\"*高*\",\"*大*\"})))),\"中\",IF(AND(LEFT($F70,1)=\"高\",NOT(SUM(COUNTIF($F70,{\"*小*\",\"*中*\",\"*大*\"})))),\"高\",IF(AND(LEFT($F70,1)=\"大\",NOT(SUM(COUNTIF($F70,{\"*小*\",\"*中*\",\"*高*\"})))),\"大\",\"NG\"))))&MAX(TEXT(MID($F70,{1,2,3,4,5},{1;2;3;4;5;6;7;8;9;10;11;12;13;14;15}),\"標準;;0;!0\")*1),$N$26:$N$46,1,FALSE),\"NG\")))","v":""},"",0,0,0,"","氏名","・","年齢","・","学年","","","が未記入です。","","","","",""]
[null,null,46,null,null,null,"※リストから選択して下さい","",null,null,null,null,null,"幼保の部",null,null,{"$f":"IF(R71=1,SUM($R$26:$R71),\"\")","v":""},0,"","","","",{"$f":"IF(SUBSTITUTE(SUBSTITUTE($F71,\"　\",\"\"),\" \",\"\")=\"\",\"\",IFERROR(VLOOKUP($F71,$N$26:$N$46,1,FALSE),IFERROR(VLOOKUP(IF(AND(LEFT($F71,1)=\"小\",NOT(SUM(COUNTIF($F71,{\"*中*\",\"*高*\",\"*大*\"})))),\"小\",IF(AND(LEFT($F71,1)=\"中\",NOT(SUM(COUNTIF($F71,{\"*小*\",\"*高*\",\"*大*\"})))),\"中\",IF(AND(LEFT($F71,1)=\"高\",NOT(SUM(COUNTIF($F71,{\"*小*\",\"*中*\",\"*大*\"})))),\"高\",IF(AND(LEFT($F71,1)=\"大\",NOT(SUM(COUNTIF($F71,{\"*小*\",\"*中*\",\"*高*\"})))),\"大\",\"NG\"))))&MAX(TEXT(MID($F71,{1,2,3,4,5},{1;2;3;4;5;6;7;8;9;10;11;12;13;14;15}),\"標準;;0;!0\")*1),$N$26:$N$46,1,FALSE),\"NG\")))","v":""},"",0,0,0,"","氏名","・","年齢","・","学年","","","が未記入です。","","","","",""]
[null,null,47,null,null,null,"※リストから選択して下さい","",null,null,null,null,null,"補助追加",20,null,{"$f":"IF(R72=1,SUM($R$26:$R72),\"\")","v":""},0,"","","","",{"$f":"IF(SUBSTITUTE(SUBSTITUTE($F72,\"　\",\"\"),\" \",\"\")=\"\",\"\",IFERROR(VLOOKUP($F72,$N$26:$N$46,1,FALSE),IFERROR(VLOOKUP(IF(AND(LEFT($F72,1)=\"小\",NOT(SUM(COUNTIF($F72,{\"*中*\",\"*高*\",\"*大*\"})))),\"小\",IF(AND(LEFT($F72,1)=\"中\",NOT(SUM(COUNTIF($F72,{\"*小*\",\"*高*\",\"*大*\"})))),\"中\",IF(AND(LEFT($F72,1)=\"高\",NOT(SUM(COUNTIF($F72,{\"*小*\",\"*中*\",\"*大*\"})))),\"高\",IF(AND(LEFT($F72,1)=\"大\",NOT(SUM(COUNTIF($F72,{\"*小*\",\"*中*\",\"*高*\"})))),\"大\",\"NG\"))))&MAX(TEXT(MID($F72,{1,2,3,4,5},{1;2;3;4;5;6;7;8;9;10;11;12;13;14;15}),\"標準;;0;!0\")*1),$N$26:$N$46,1,FALSE),\"NG\")))","v":""},"",0,0,0,"","氏名","・","年齢","・","学年","","","が未記入です。","","","","",""]
[null,null,48,null,null,null,"※リストから選択して下さい","",null,null,null,null,null,null,null,null,{"$f":"IF(R73=1,SUM($R$26:$R73),\"\")","v":""},0,"","","","",{"$f":"IF(SUBSTITUTE(SUBSTITUTE($F73,\"　\",\"\"),\" \",\"\")=\"\",\"\",IFERROR(VLOOKUP($F73,$N$26:$N$46,1,FALSE),IFERROR(VLOOKUP(IF(AND(LEFT($F73,1)=\"小\",NOT(SUM(COUNTIF($F73,{\"*中*\",\"*高*\",\"*大*\"})))),\"小\",IF(AND(LEFT($F73,1)=\"中\",NOT(SUM(COUNTIF($F73,{\"*小*\",\"*高*\",\"*大*\"})))),\"中\",IF(AND(LEFT($F73,1)=\"高\",NOT(SUM(COUNTIF($F73,{\"*小*\",\"*中*\",\"*大*\"})))),\"高\",IF(AND(LEFT($F73,1)=\"大\",NOT(SUM(COUNTIF($F73,{\"*小*\",\"*中*\",\"*高*\"})))),\"大\",\"NG\"))))&MAX(TEXT(MID($F73,{1,2,3,4,5},{1;2;3;4;5;6;7;8;9;10;11;12;13;14;15}),\"標準;;0;!0\")*1),$N$26:$N$46,1,FALSE),\"NG\")))","v":""},"",0,0,0,"","氏名","・","年齢","・","学年","","","が未記入です。","","","","",""]
[null,null,49,null,null,null,"※リストから選択して下さい","",null,null,null,null,null,null,null,null,{"$f":"IF(R74=1,SUM($R$26:$R74),\"\")","v":""},0,"","","","",{"$f":"IF(SUBSTITUTE(SUBSTITUTE($F74,\"　\",\"\"),\" \",\"\")=\"\",\"\",IFERROR(VLOOKUP($F74,$N$26:$N$46,1,FALSE),IFERROR(VLOOKUP(IF(AND(LEFT($F74,1)=\"小\",NOT(SUM(COUNTIF($F74,{\"*中*\",\"*高*\",\"*大*\"})))),\"小\",IF(AND(LEFT($F74,1)=\"中\",NOT(SUM(COUNTIF($F74,{\"*小*\",\"*高*\",\"*大*\"})))),\"中\",IF(AND(LEFT($F74,1)=\"高\",NOT(SUM(COUNTIF($F74,{\"*小*\",\"*中*\",\"*大*\"})))),\"高\",IF(AND(LEFT($F74,1)=\"大\",NOT(SUM(COUNTIF($F74,{\"*小*\",\"*中*\",\"*高*\"})))),\"大\",\"NG\"))))&MAX(TEXT(MID($F74,{1,2,3,4,5},{1;2;3;4;5;6;7;8;9;10;11;12;13;14;15}),\"標準;;0;!0\")*1),$N$26:$N$46,1,FALSE),\"NG\")))","v":""},"",0,0,0,"","氏名","・","年齢","・","学年","","","が未記入です。","","","","",""]
[null,null,50,null,null,null,"※リストから選択して下さい","",null,null,null,null,null,null,null,null,{"$f":"IF(R75=1,SUM($R$26:$R75),\"\")","v":""},0,"","","","",{"$f":"IF(SUBSTITUTE(SUBSTITUTE($F75,\"　\",\"\"),\" \",\"\")=\"\",\"\",IFERROR(VLOOKUP($F75,$N$26:$N$46,1,FALSE),IFERROR(VLOOKUP(IF(AND(LEFT($F75,1)=\"小\",NOT(SUM(COUNTIF($F75,{\"*中*\",\"*高*\",\"*大*\"})))),\"小\",IF(AND(LEFT($F75,1)=\"中\",NOT(SUM(COUNTIF($F75,{\"*小*\",\"*高*\",\"*大*\"})))),\"中\",IF(AND(LEFT($F75,1)=\"高\",NOT(SUM(COUNTIF($F75,{\"*小*\",\"*中*\",\"*大*\"})))),\"高\",IF(AND(LEFT($F75,1)=\"大\",NOT(SUM(COUNTIF($F75,{\"*小*\",\"*中*\",\"*高*\"})))),\"大\",\"NG\"))))&MAX(TEXT(MID($F75,{1,2,3,4,5},{1;2;3;4;5;6;7;8;9;10;11;12;13;14;15}),\"標準;;0;!0\")*1),$N$26:$N$46,1,FALSE),\"NG\")))","v":""},"",0,0,0,"","氏名","・","年齢","・","学年","","","が未記入です。","","","","",""]
[null,null,51,null,null,null,"※リストから選択して下さい","",null,null,null,null,null,null,null,null,{"$f":"IF(R76=1,SUM($R$26:$R76),\"\")","v":""},0,"","","","",{"$f":"IF(SUBSTITUTE(SUBSTITUTE($F76,\"　\",\"\"),\" \",\"\")=\"\",\"\",IFERROR(VLOOKUP($F76,$N$26:$N$46,1,FALSE),IFERROR(VLOOKUP(IF(AND(LEFT($F76,1)=\"小\",NOT(SUM(COUNTIF($F76,{\"*中*\",\"*高*\",\"*大*\"})))),\"小\",IF(AND(LEFT($F76,1)=\"中\",NOT(SUM(COUNTIF($F76,{\"*小*\",\"*高*\",\"*大*\"})))),\"中\",IF(AND(LEFT($F76,1)=\"高\",NOT(SUM(COUNTIF($F76,{\"*小*\",\"*中*\",\"*大*\"})))),\"高\",IF(AND(LEFT($F76,1)=\"大\",NOT(SUM(COUNTIF($F76,{\"*小*\",\"*中*\",\"*高*\"})))),\"大\",\"NG\"))))&MAX(TEXT(MID($F76,{1,2,3,4,5},{1;2;3;4;5;6;7;8;9;10;11;12;13;14;15}),\"標準;;0;!0\")*1),$N$26:$N$46,1,FALSE),\"NG\")))","v":""},"",0,0,0,"","氏名","・","年齢","・","学年","","","が未記入です。","","","","",""]
[null,null,52,null,null,null,"※リストから選択して下さい","",null,null,null,null,null,null,null,null,{"$f":"IF(R77=1,SUM($R$26:$R77),\"\")","v":""},0,"","","","",{"$f":"IF(SUBSTITUTE(SUBSTITUTE($F77,\"　\",\"\"),\" \",\"\")=\"\",\"\",IFERROR(VLOOKUP($F77,$N$26:$N$46,1,FALSE),IFERROR(VLOOKUP(IF(AND(LEFT($F77,1)=\"小\",NOT(SUM(COUNTIF($F77,{\"*中*\",\"*高*\",\"*大*\"})))),\"小\",IF(AND(LEFT($F77,1)=\"中\",NOT(SUM(COUNTIF($F77,{\"*小*\",\"*高*\",\"*大*\"})))),\"中\",IF(AND(LEFT($F77,1)=\"高\",NOT(SUM(COUNTIF($F77,{\"*小*\",\"*中*\",\"*大*\"})))),\"高\",IF(AND(LEFT($F77,1)=\"大\",NOT(SUM(COUNTIF($F77,{\"*小*\",\"*中*\",\"*高*\"})))),\"大\",\"NG\"))))&MAX(TEXT(MID($F77,{1,2,3,4,5},{1;2;3;4;5;6;7;8;9;10;11;12;13;14;15}),\"標準;;0;!0\")*1),$N$26:$N$46,1,FALSE),\"NG\")))","v":""},"",0,0,0,"","氏名","・","年齢","・","学年","","","が未記入です。","","","","",""]
[null,null,53,null,null,null,"※リストから選択して下さい","",null,null,null,null,null,null,null,null,{"$f":"IF(R78=1,SUM($R$26:$R78),\"\")","v":""},0,"","","","",{"$f":"IF(SUBSTITUTE(SUBSTITUTE($F78,\"　\",\"\"),\" \",\"\")=\"\",\"\",IFERROR(VLOOKUP($F78,$N$26:$N$46,1,FALSE),IFERROR(VLOOKUP(IF(AND(LEFT($F78,1)=\"小\",NOT(SUM(COUNTIF($F78,{\"*中*\",\"*高*\",\"*大*\"})))),\"小\",IF(AND(LEFT($F78,1)=\"中\",NOT(SUM(COUNTIF($F78,{\"*小*\",\"*高*\",\"*大*\"})))),\"中\",IF(AND(LEFT($F78,1)=\"高\",NOT(SUM(COUNTIF($F78,{\"*小*\",\"*中*\",\"*大*\"})))),\"高\",IF(AND(LEFT($F78,1)=\"大\",NOT(SUM(COUNTIF($F78,{\"*小*\",\"*中*\",\"*高*\"})))),\"大\",\"NG\"))))&MAX(TEXT(MID($F78,{1,2,3,4,5},{1;2;3;4;5;6;7;8;9;10;11;12;13;14;15}),\"標準;;0;!0\")*1),$N$26:$N$46,1,FALSE),\"NG\")))","v":""},"",0,0,0,"","氏名","・","年齢","・","学年","","","が未記入です。","","","","",""]
[null,null,54,null,null,null,"※リストから選択して下さい","",null,null,null,null,null,null,null,null,{"$f":"IF(R79=1,SUM($R$26:$R79),\"\")","v":""},0,"","","","",{"$f":"IF(SUBSTITUTE(SUBSTITUTE($F79,\"　\",\"\"),\" \",\"\")=\"\",\"\",IFERROR(VLOOKUP($F79,$N$26:$N$46,1,FALSE),IFERROR(VLOOKUP(IF(AND(LEFT($F79,1)=\"小\",NOT(SUM(COUNTIF($F79,{\"*中*\",\"*高*\",\"*大*\"})))),\"小\",IF(AND(LEFT($F79,1)=\"中\",NOT(SUM(COUNTIF($F79,{\"*小*\",\"*高*\",\"*大*\"})))),\"中\",IF(AND(LEFT($F79,1)=\"高\",NOT(SUM(COUNTIF($F79,{\"*小*\",\"*中*\",\"*大*\"})))),\"高\",IF(AND(LEFT($F79,1)=\"大\",NOT(SUM(COUNTIF($F79,{\"*小*\",\"*中*\",\"*高*\"})))),\"大\",\"NG\"))))&MAX(TEXT(MID($F79,{1,2,3,4,5},{1;2;3;4;5;6;7;8;9;10;11;12;13;14;15}),\"標準;;0;!0\")*1),$N$26:$N$46,1,FALSE),\"NG\")))","v":""},"",0,0,0,"","氏名","・","年齢","・","学年","","","が未記入です。","","","","",""]
[null,null,55,null,null,null,"※リストから選択して下さい","",null,null,null,null,null,null,null,null,{"$f":"IF(R80=1,SUM($R$26:$R80),\"\")","v":""},0,"","","","",{"$f":"IF(SUBSTITUTE(SUBSTITUTE($F80,\"　\",\"\"),\" \",\"\")=\"\",\"\",IFERROR(VLOOKUP($F80,$N$26:$N$46,1,FALSE),IFERROR(VLOOKUP(IF(AND(LEFT($F80,1)=\"小\",NOT(SUM(COUNTIF($F80,{\"*中*\",\"*高*\",\"*大*\"})))),\"小\",IF(AND(LEFT($F80,1)=\"中\",NOT(SUM(COUNTIF($F80,{\"*小*\",\"*高*\",\"*大*\"})))),\"中\",IF(AND(LEFT($F80,1)=\"高\",NOT(SUM(COUNTIF($F80,{\"*小*\",\"*中*\",\"*大*\"})))),\"高\",IF(AND(LEFT($F80,1)=\"大\",NOT(SUM(COUNTIF($F80,{\"*小*\",\"*中*\",\"*高*\"})))),\"大\",\"NG\"))))&MAX(TEXT(MID($F80,{1,2,3,4,5},{1;2;3;4;5;6;7;8;9;10;11;12;13;14;15}),\"標準;;0;!0\")*1),$N$26:$N$46,1,FALSE),\"NG\")))","v":""},"",0,0,0,"","氏名","・","年齢","・","学年","","","が未記入です。","","","","",""]
[null,null,56,null,null,null,"※リストから選択して下さい","",null,null,null,null,null,null,null,null,{"$f":"IF(R81=1,SUM($R$26:$R81),\"\")","v":""},0,"","","","",{"$f":"IF(SUBSTITUTE(SUBSTITUTE($F81,\"　\",\"\"),\" \",\"\")=\"\",\"\",IFERROR(VLOOKUP($F81,$N$26:$N$46,1,FALSE),IFERROR(VLOOKUP(IF(AND(LEFT($F81,1)=\"小\",NOT(SUM(COUNTIF($F81,{\"*中*\",\"*高*\",\"*大*\"})))),\"小\",IF(AND(LEFT($F81,1)=\"中\",NOT(SUM(COUNTIF($F81,{\"*小*\",\"*高*\",\"*大*\"})))),\"中\",IF(AND(LEFT($F81,1)=\"高\",NOT(SUM(COUNTIF($F81,{\"*小*\",\"*中*\",\"*大*\"})))),\"高\",IF(AND(LEFT($F81,1)=\"大\",NOT(SUM(COUNTIF($F81,{\"*小*\",\"*中*\",\"*高*\"})))),\"大\",\"NG\"))))&MAX(TEXT(MID($F81,{1,2,3,4,5},{1;2;3;4;5;6;7;8;9;10;11;12;13;14;15}),\"標準;;0;!0\")*1),$N$26:$N$46,1,FALSE),\"NG\")))","v":""},"",0,0,0,"","氏名","・","年齢","・","学年","","","が未記入です。","","","","",""]
[null,null,57,null,null,null,"※リストから選択して下さい","",null,null,null,null,null,null,null,null,{"$f":"IF(R82=1,SUM($R$26:$R82),\"\")","v":""},0,"","","","",{"$f":"IF(SUBSTITUTE(SUBSTITUTE($F82,\"　\",\"\"),\" \",\"\")=\"\",\"\",IFERROR(VLOOKUP($F82,$N$26:$N$46,1,FALSE),IFERROR(VLOOKUP(IF(AND(LEFT($F82,1)=\"小\",NOT(SUM(COUNTIF($F82,{\"*中*\",\"*高*\",\"*大*\"})))),\"小\",IF(AND(LEFT($F82,1)=\"中\",NOT(SUM(COUNTIF($F82,{\"*小*\",\"*高*\",\"*大*\"})))),\"中\",IF(AND(LEFT($F82,1)=\"高\",NOT(SUM(COUNTIF($F82,{\"*小*\",\"*中*\",\"*大*\"})))),\"高\",IF(AND(LEFT($F82,1)=\"大\",NOT(SUM(COUNTIF($F82,{\"*小*\",\"*中*\",\"*高*\"})))),\"大\",\"NG\"))))&MAX(TEXT(MID($F82,{1,2,3,4,5},{1;2;3;4;5;6;7;8;9;10;11;12;13;14;15}),\"標準;;0;!0\")*1),$N$26:$N$46,1,FALSE),\"NG\")))","v":""},"",0,0,0,"","氏名","・","年齢","・","学年","","","が未記入です。","","","","",""]
[null,null,58,null,null,null,"※リストから選択して下さい","",null,null,null,null,null,null,null,null,{"$f":"IF(R83=1,SUM($R$26:$R83),\"\")","v":""},0,"","","","",{"$f":"IF(SUBSTITUTE(SUBSTITUTE($F83,\"　\",\"\"),\" \",\"\")=\"\",\"\",IFERROR(VLOOKUP($F83,$N$26:$N$46,1,FALSE),IFERROR(VLOOKUP(IF(AND(LEFT($F83,1)=\"小\",NOT(SUM(COUNTIF($F83,{\"*中*\",\"*高*\",\"*大*\"})))),\"小\",IF(AND(LEFT($F83,1)=\"中\",NOT(SUM(COUNTIF($F83,{\"*小*\",\"*高*\",\"*大*\"})))),\"中\",IF(AND(LEFT($F83,1)=\"高\",NOT(SUM(COUNTIF($F83,{\"*小*\",\"*中*\",\"*大*\"})))),\"高\",IF(AND(LEFT($F83,1)=\"大\",NOT(SUM(COUNTIF($F83,{\"*小*\",\"*中*\",\"*高*\"})))),\"大\",\"NG\"))))&MAX(TEXT(MID($F83,{1,2,3,4,5},{1;2;3;4;5;6;7;8;9;10;11;12;13;14;15}),\"標準;;0;!0\")*1),$N$26:$N$46,1,FALSE),\"NG\")))","v":""},"",0,0,0,"","氏名","・","年齢","・","学年","","","が未記入です。","","","","",""]
[null,null,59,null,null,null,"※リストから選択して下さい","",null,null,null,null,null,null,null,null,{"$f":"IF(R84=1,SUM($R$26:$R84),\"\")","v":""},0,"","","","",{"$f":"IF(SUBSTITUTE(SUBSTITUTE($F84,\"　\",\"\"),\" \",\"\")=\"\",\"\",IFERROR(VLOOKUP($F84,$N$26:$N$46,1,FALSE),IFERROR(VLOOKUP(IF(AND(LEFT($F84,1)=\"小\",NOT(SUM(COUNTIF($F84,{\"*中*\",\"*高*\",\"*大*\"})))),\"小\",IF(AND(LEFT($F84,1)=\"中\",NOT(SUM(COUNTIF($F84,{\"*小*\",\"*高*\",\"*大*\"})))),\"中\",IF(AND(LEFT($F84,1)=\"高\",NOT(SUM(COUNTIF($F84,{\"*小*\",\"*中*\",\"*大*\"})))),\"高\",IF(AND(LEFT($F84,1)=\"大\",NOT(SUM(COUNTIF($F84,{\"*小*\",\"*中*\",\"*高*\"})))),\"大\",\"NG\"))))&MAX(TEXT(MID($F84,{1,2,3,4,5},{1;2;3;4;5;6;7;8;9;10;11;12;13;14;15}),\"標準;;0;!0\")*1),$N$26:$N$46,1,FALSE),\"NG\")))","v":""},"",0,0,0,"","氏名","・","年齢","・","学年","","","が未記入です。","","","","",""]
[null,null,60,null,null,null,"※リストから選択して下さい","",null,null,null,null,null,null,null,null,{"$f":"IF(R85=1,SUM($R$26:$R85),\"\")","v":""},0,"","","","",{"$f":"IF(SUBSTITUTE(SUBSTITUTE($F85,\"　\",\"\"),\" \",\"\")=\"\",\"\",IFERROR(VLOOKUP($F85,$N$26:$N$46,1,FALSE),IFERROR(VLOOKUP(IF(AND(LEFT($F85,1)=\"小\",NOT(SUM(COUNTIF($F85,{\"*中*\",\"*高*\",\"*大*\"})))),\"小\",IF(AND(LEFT($F85,1)=\"中\",NOT(SUM(COUNTIF($F85,{\"*小*\",\"*高*\",\"*大*\"})))),\"中\",IF(AND(LEFT($F85,1)=\"高\",NOT(SUM(COUNTIF($F85,{\"*小*\",\"*中*\",\"*大*\"})))),\"高\",IF(AND(LEFT($F85,1)=\"大\",NOT(SUM(COUNTIF($F85,{\"*小*\",\"*中*\",\"*高*\"})))),\"大\",\"NG\"))))&MAX(TEXT(MID($F85,{1,2,3,4,5},{1;2;3;4;5;6;7;8;9;10;11;12;13;14;15}),\"標準;;0;!0\")*1),$N$26:$N$46,1,FALSE),\"NG\")))","v":""},"",0,0,0,"","氏名","・","年齢","・","学年","","","が未記入です。","","","","",""]
[null,null,61,null,null,null,"※リストから選択して下さい","",null,null,null,null,null,null,null,null,{"$f":"IF(R86=1,SUM($R$26:$R86),\"\")","v":""},0,"","","","",{"$f":"IF(SUBSTITUTE(SUBSTITUTE($F86,\"　\",\"\"),\" \",\"\")=\"\",\"\",IFERROR(VLOOKUP($F86,$N$26:$N$46,1,FALSE),IFERROR(VLOOKUP(IF(AND(LEFT($F86,1)=\"小\",NOT(SUM(COUNTIF($F86,{\"*中*\",\"*高*\",\"*大*\"})))),\"小\",IF(AND(LEFT($F86,1)=\"中\",NOT(SUM(COUNTIF($F86,{\"*小*\",\"*高*\",\"*大*\"})))),\"中\",IF(AND(LEFT($F86,1)=\"高\",NOT(SUM(COUNTIF($F86,{\"*小*\",\"*中*\",\"*大*\"})))),\"高\",IF(AND(LEFT($F86,1)=\"大\",NOT(SUM(COUNTIF($F86,{\"*小*\",\"*中*\",\"*高*\"})))),\"大\",\"NG\"))))&MAX(TEXT(MID($F86,{1,2,3,4,5},{1;2;3;4;5;6;7;8;9;10;11;12;13;14;15}),\"標準;;0;!0\")*1),$N$26:$N$46,1,FALSE),\"NG\")))","v":""},"",0,0,0,"","氏名","・","年齢","・","学年","","","が未記入です。","","","","",""]
[null,null,62,null,null,null,"※リストから選択して下さい","",null,null,null,null,null,null,null,null,{"$f":"IF(R87=1,SUM($R$26:$R87),\"\")","v":""},0,"","","","",{"$f":"IF(SUBSTITUTE(SUBSTITUTE($F87,\"　\",\"\"),\" \",\"\")=\"\",\"\",IFERROR(VLOOKUP($F87,$N$26:$N$46,1,FALSE),IFERROR(VLOOKUP(IF(AND(LEFT($F87,1)=\"小\",NOT(SUM(COUNTIF($F87,{\"*中*\",\"*高*\",\"*大*\"})))),\"小\",IF(AND(LEFT($F87,1)=\"中\",NOT(SUM(COUNTIF($F87,{\"*小*\",\"*高*\",\"*大*\"})))),\"中\",IF(AND(LEFT($F87,1)=\"高\",NOT(SUM(COUNTIF($F87,{\"*小*\",\"*中*\",\"*大*\"})))),\"高\",IF(AND(LEFT($F87,1)=\"大\",NOT(SUM(COUNTIF($F87,{\"*小*\",\"*中*\",\"*高*\"})))),\"大\",\"NG\"))))&MAX(TEXT(MID($F87,{1,2,3,4,5},{1;2;3;4;5;6;7;8;9;10;11;12;13;14;15}),\"標準;;0;!0\")*1),$N$26:$N$46,1,FALSE),\"NG\")))","v":""},"",0,0,0,"","氏名","・","年齢","・","学年","","","が未記入です。","","","","",""]
[null,null,63,null,null,null,"※リストから選択して下さい","",null,null,null,null,null,null,null,null,{"$f":"IF(R88=1,SUM($R$26:$R88),\"\")","v":""},0,"","","","",{"$f":"IF(SUBSTITUTE(SUBSTITUTE($F88,\"　\",\"\"),\" \",\"\")=\"\",\"\",IFERROR(VLOOKUP($F88,$N$26:$N$46,1,FALSE),IFERROR(VLOOKUP(IF(AND(LEFT($F88,1)=\"小\",NOT(SUM(COUNTIF($F88,{\"*中*\",\"*高*\",\"*大*\"})))),\"小\",IF(AND(LEFT($F88,1)=\"中\",NOT(SUM(COUNTIF($F88,{\"*小*\",\"*高*\",\"*大*\"})))),\"中\",IF(AND(LEFT($F88,1)=\"高\",NOT(SUM(COUNTIF($F88,{\"*小*\",\"*中*\",\"*大*\"})))),\"高\",IF(AND(LEFT($F88,1)=\"大\",NOT(SUM(COUNTIF($F88,{\"*小*\",\"*中*\",\"*高*\"})))),\"大\",\"NG\"))))&MAX(TEXT(MID($F88,{1,2,3,4,5},{1;2;3;4;5;6;7;8;9;10;11;12;13;14;15}),\"標準;;0;!0\")*1),$N$26:$N$46,1,FALSE),\"NG\")))","v":""},"",0,0,0,"","氏名","・","年齢","・","学年","","","が未記入です。","","","","",""]
[null,null,64,null,null,null,"※リストから選択して下さい","",null,null,null,null,null,null,null,null,{"$f":"IF(R89=1,SUM($R$26:$R89),\"\")","v":""},0,"","","","",{"$f":"IF(SUBSTITUTE(SUBSTITUTE($F89,\"　\",\"\"),\" \",\"\")=\"\",\"\",IFERROR(VLOOKUP($F89,$N$26:$N$46,1,FALSE),IFERROR(VLOOKUP(IF(AND(LEFT($F89,1)=\"小\",NOT(SUM(COUNTIF($F89,{\"*中*\",\"*高*\",\"*大*\"})))),\"小\",IF(AND(LEFT($F89,1)=\"中\",NOT(SUM(COUNTIF($F89,{\"*小*\",\"*高*\",\"*大*\"})))),\"中\",IF(AND(LEFT($F89,1)=\"高\",NOT(SUM(COUNTIF($F89,{\"*小*\",\"*中*\",\"*大*\"})))),\"高\",IF(AND(LEFT($F89,1)=\"大\",NOT(SUM(COUNTIF($F89,{\"*小*\",\"*中*\",\"*高*\"})))),\"大\",\"NG\"))))&MAX(TEXT(MID($F89,{1,2,3,4,5},{1;2;3;4;5;6;7;8;9;10;11;12;13;14;15}),\"標準;;0;!0\")*1),$N$26:$N$46,1,FALSE),\"NG\")))","v":""},"",0,0,0,"","氏名","・","年齢","・","学年","","","が未記入です。","","","","",""]
[null,null,65,null,null,null,"※リストから選択して下さい",{"$f":"AB90","v":""},null,null,null,null,null,null,null,null,{"$f":"IF(R90=1,SUM($R$26:$R90),\"\")","v":""},0,{"$f":"TRIM(SUBSTITUTE(D90,\" \",\"　\"))","v":""},"",{"$f":"IF(S90=\"\",\"\",1)","v":""},"",{"$f":"IF(SUBSTITUTE(SUBSTITUTE($F90,\"　\",\"\"),\" \",\"\")=\"\",\"\",IFERROR(VLOOKUP($F90,$N$26:$N$46,1,FALSE),IFERROR(VLOOKUP(IF(AND(LEFT($F90,1)=\"小\",NOT(SUM(COUNTIF($F90,{\"*中*\",\"*高*\",\"*大*\"})))),\"小\",IF(AND(LEFT($F90,1)=\"中\",NOT(SUM(COUNTIF($F90,{\"*小*\",\"*高*\",\"*大*\"})))),\"中\",IF(AND(LEFT($F90,1)=\"高\",NOT(SUM(COUNTIF($F90,{\"*小*\",\"*中*\",\"*大*\"})))),\"高\",IF(AND(LEFT($F90,1)=\"大\",NOT(SUM(COUNTIF($F90,{\"*小*\",\"*中*\",\"*高*\"})))),\"大\",\"NG\"))))&MAX(TEXT(MID($F90,{1,2,3,4,5},{1;2;3;4;5;6;7;8;9;10;11;12;13;14;15}),\"標準;;0;!0\")*1),$N$26:$N$46,1,FALSE),\"NG\")))","v":""},{"$f":"IF(OR($O$1=0,Y90=0),\"\",IF(OR($O$5=3,$O$5=0,$O$5=\"\"),IF(G90=$N$23,1,IF(G90=$O$23,2,0)),$O$5))","v":""},{"$f":"IF(AND(COUNTBLANK(U90:W90)=3,OR($O$5=1,$O$5=2,$O$5=\"\",AND(OR($O$5=3,$O$5=0),OR(G90=$P$23,G90=\"\")))),0,1)","v":0},0,{"$f":"IF(AND(Y90=1,OR(U90<>1,V90<>1,W90=\"\",W90=\"NG\",X90=0)),1,0)","v":0},{"$f":"IF(Z90=1,$W$24,IF(OR(V90=2,W90=\"NG\"),CONCATENATE(AK90,AL90,AM90,AN90,AO90),IF(Y90=0,\"\",CONCATENATE(AC90,AD90,AE90,AF90,AG90,AH90,AI90,AJ90))))","v":""},{"$f":"IF(U90=\"\",$D$25,\"\")","v":"氏名"},"・",{"$f":"IF(V90=\"\",$E$25,\"\")","v":"年齢"},"・",{"$f":"IF(W90=\"\",$F$25,\"\")","v":"学年"},"",{"$f":"IF(AND($O$1=1,OR($D$4=$P$4,$D$4=$Q$4),OR(G90=\"\",G90=$P$23)),\"プログラム掲載の有無\",\"\")","v":""},"が未記入です。",{"$f":"IF(V90=2,$E$25,\"\")","v":""},"","","",{"$f":"IF(AND(AK90<>\"\",AM90=\"\"),$AL$24,IF(AND(AK90=\"\",AM90<>\"\"),$AO$25,\"\"))","v":""}]
[null,null,66,null,null,null,"※リストから選択して下さい","",null,null,null,null,null,null,null,null,{"$f":"IF(R91=1,SUM($R$26:$R91),\"\")","v":""},{"$f":"IF(X91=1,1,0)","v":0},"",{"$f":"IF(V91=1,VALUE(ASC(E91)),\"\")","v":""},"",{"$f":"IF(SUBSTITUTE(SUBSTITUTE(E91,\"　\",\"\"),\" \",\"\")=\"\",\"\",IF(ISNUMBER(VALUE(ASC(E91))),1,2))","v":""},{"$f":"IF(SUBSTITUTE(SUBSTITUTE($F91,\"　\",\"\"),\" \",\"\")=\"\",\"\",IFERROR(VLOOKUP($F91,$N$26:$N$46,1,FALSE),IFERROR(VLOOKUP(IF(AND(LEFT($F91,1)=\"小\",NOT(SUM(COUNTIF($F91,{\"*中*\",\"*高*\",\"*大*\"})))),\"小\",IF(AND(LEFT($F91,1)=\"中\",NOT(SUM(COUNTIF($F91,{\"*小*\",\"*高*\",\"*大*\"})))),\"中\",IF(AND(LEFT($F91,1)=\"高\",NOT(SUM(COUNTIF($F91,{\"*小*\",\"*中*\",\"*大*\"})))),\"高\",IF(AND(LEFT($F91,1)=\"大\",NOT(SUM(COUNTIF($F91,{\"*小*\",\"*中*\",\"*高*\"})))),\"大\",\"NG\"))))&MAX(TEXT(MID($F91,{1,2,3,4,5},{1;2;3;4;5;6;7;8;9;10;11;12;13;14;15}),\"標準;;0;!0\")*1),$N$26:$N$46,1,FALSE),\"NG\")))","v":""},"",0,0,0,"","氏名",{"$f":"IF(OR(AC91=\"\",AND(AE91=\"\",AG91=\"\",AI91=\"\")),\"\",\"・\")","v":"・"},"年齢",{"$f":"IF(OR(AE91=\"\",AND(AG91=\"\",AI91=\"\")),\"\",\"・\")","v":"・"},"学年",{"$f":"IF(OR(AG91=\"\",AI91=\"\"),\"\",\"・\")","v":""},"",{"$f":"IF(COUNTBLANK(AC91:AI91)=7,\"\",\"が未記入です。\")","v":"が未記入です。"},"",{"$f":"IF(OR(AK91=\"\",AM91=\"\"),\"\",\"・\")","v":""},{"$f":"IF(W91=\"NG\",$F$25,\"\")","v":""},{"$f":"IF(COUNTBLANK(AK91:AM91)=3,\"\",\"が判別できません。\")","v":""},""]
[null,null,67,null,null,null,"※リストから選択して下さい","",null,null,null,null,null,null,null,null,{"$f":"IF(R92=1,SUM($R$26:$R92),\"\")","v":""},0,"","","","",{"$f":"IF(SUBSTITUTE(SUBSTITUTE($F92,\"　\",\"\"),\" \",\"\")=\"\",\"\",IFERROR(VLOOKUP($F92,$N$26:$N$46,1,FALSE),IFERROR(VLOOKUP(IF(AND(LEFT($F92,1)=\"小\",NOT(SUM(COUNTIF($F92,{\"*中*\",\"*高*\",\"*大*\"})))),\"小\",IF(AND(LEFT($F92,1)=\"中\",NOT(SUM(COUNTIF($F92,{\"*小*\",\"*高*\",\"*大*\"})))),\"中\",IF(AND(LEFT($F92,1)=\"高\",NOT(SUM(COUNTIF($F92,{\"*小*\",\"*中*\",\"*大*\"})))),\"高\",IF(AND(LEFT($F92,1)=\"大\",NOT(SUM(COUNTIF($F92,{\"*小*\",\"*中*\",\"*高*\"})))),\"大\",\"NG\"))))&MAX(TEXT(MID($F92,{1,2,3,4,5},{1;2;3;4;5;6;7;8;9;10;11;12;13;14;15}),\"標準;;0;!0\")*1),$N$26:$N$46,1,FALSE),\"NG\")))","v":""},"",0,{"$f":"IF(AND(Y92=1,Y91=0),1,0)","v":0},0,"","氏名","・","年齢","・","学年","","","が未記入です。","","","","",""]
[null,null,68,null,null,null,"※リストから選択して下さい","",null,null,null,null,null,null,null,null,{"$f":"IF(R93=1,SUM($R$26:$R93),\"\")","v":""},0,"","","","",{"$f":"IF(SUBSTITUTE(SUBSTITUTE($F93,\"　\",\"\"),\" \",\"\")=\"\",\"\",IFERROR(VLOOKUP($F93,$N$26:$N$46,1,FALSE),IFERROR(VLOOKUP(IF(AND(LEFT($F93,1)=\"小\",NOT(SUM(COUNTIF($F93,{\"*中*\",\"*高*\",\"*大*\"})))),\"小\",IF(AND(LEFT($F93,1)=\"中\",NOT(SUM(COUNTIF($F93,{\"*小*\",\"*高*\",\"*大*\"})))),\"中\",IF(AND(LEFT($F93,1)=\"高\",NOT(SUM(COUNTIF($F93,{\"*小*\",\"*中*\",\"*大*\"})))),\"高\",IF(AND(LEFT($F93,1)=\"大\",NOT(SUM(COUNTIF($F93,{\"*小*\",\"*中*\",\"*高*\"})))),\"大\",\"NG\"))))&MAX(TEXT(MID($F93,{1,2,3,4,5},{1;2;3;4;5;6;7;8;9;10;11;12;13;14;15}),\"標準;;0;!0\")*1),$N$26:$N$46,1,FALSE),\"NG\")))","v":""},"",0,0,0,"","氏名","・","年齢","・","学年","","","が未記入です。","","","","",""]
[null,null,69,null,null,null,"※リストから選択して下さい","",null,null,null,null,null,null,null,null,{"$f":"IF(R94=1,SUM($R$26:$R94),\"\")","v":""},0,"","","","",{"$f":"IF(SUBSTITUTE(SUBSTITUTE($F94,\"　\",\"\"),\" \",\"\")=\"\",\"\",IFERROR(VLOOKUP($F94,$N$26:$N$46,1,FALSE),IFERROR(VLOOKUP(IF(AND(LEFT($F94,1)=\"小\",NOT(SUM(COUNTIF($F94,{\"*中*\",\"*高*\",\"*大*\"})))),\"小\",IF(AND(LEFT($F94,1)=\"中\",NOT(SUM(COUNTIF($F94,{\"*小*\",\"*高*\",\"*大*\"})))),\"中\",IF(AND(LEFT($F94,1)=\"高\",NOT(SUM(COUNTIF($F94,{\"*小*\",\"*中*\",\"*大*\"})))),\"高\",IF(AND(LEFT($F94,1)=\"大\",NOT(SUM(COUNTIF($F94,{\"*小*\",\"*中*\",\"*高*\"})))),\"大\",\"NG\"))))&MAX(TEXT(MID($F94,{1,2,3,4,5},{1;2;3;4;5;6;7;8;9;10;11;12;13;14;15}),\"標準;;0;!0\")*1),$N$26:$N$46,1,FALSE),\"NG\")))","v":""},"",0,0,0,"","氏名","・","年齢","・","学年","","","が未記入です。","","","","",""]
[null,null,70,null,null,null,"※リストから選択して下さい","",null,null,null,null,null,null,null,null,{"$f":"IF(R95=1,SUM($R$26:$R95),\"\")","v":""},0,"","","","",{"$f":"IF(SUBSTITUTE(SUBSTITUTE($F95,\"　\",\"\"),\" \",\"\")=\"\",\"\",IFERROR(VLOOKUP($F95,$N$26:$N$46,1,FALSE),IFERROR(VLOOKUP(IF(AND(LEFT($F95,1)=\"小\",NOT(SUM(COUNTIF($F95,{\"*中*\",\"*高*\",\"*大*\"})))),\"小\",IF(AND(LEFT($F95,1)=\"中\",NOT(SUM(COUNTIF($F95,{\"*小*\",\"*高*\",\"*大*\"})))),\"中\",IF(AND(LEFT($F95,1)=\"高\",NOT(SUM(COUNTIF($F95,{\"*小*\",\"*中*\",\"*大*\"})))),\"高\",IF(AND(LEFT($F95,1)=\"大\",NOT(SUM(COUNTIF($F95,{\"*小*\",\"*中*\",\"*高*\"})))),\"大\",\"NG\"))))&MAX(TEXT(MID($F95,{1,2,3,4,5},{1;2;3;4;5;6;7;8;9;10;11;12;13;14;15}),\"標準;;0;!0\")*1),$N$26:$N$46,1,FALSE),\"NG\")))","v":""},"",0,0,0,"","氏名","・","年齢","・","学年","","","が未記入です。","","","","",""]
[null,null,71,null,null,null,"※リストから選択して下さい","",null,null,null,null,null,null,null,null,{"$f":"IF(R96=1,SUM($R$26:$R96),\"\")","v":""},0,"","","","",{"$f":"IF(SUBSTITUTE(SUBSTITUTE($F96,\"　\",\"\"),\" \",\"\")=\"\",\"\",IFERROR(VLOOKUP($F96,$N$26:$N$46,1,FALSE),IFERROR(VLOOKUP(IF(AND(LEFT($F96,1)=\"小\",NOT(SUM(COUNTIF($F96,{\"*中*\",\"*高*\",\"*大*\"})))),\"小\",IF(AND(LEFT($F96,1)=\"中\",NOT(SUM(COUNTIF($F96,{\"*小*\",\"*高*\",\"*大*\"})))),\"中\",IF(AND(LEFT($F96,1)=\"高\",NOT(SUM(COUNTIF($F96,{\"*小*\",\"*中*\",\"*大*\"})))),\"高\",IF(AND(LEFT($F96,1)=\"大\",NOT(SUM(COUNTIF($F96,{\"*小*\",\"*中*\",\"*高*\"})))),\"大\",\"NG\"))))&MAX(TEXT(MID($F96,{1,2,3,4,5},{1;2;3;4;5;6;7;8;9;10;11;12;13;14;15}),\"標準;;0;!0\")*1),$N$26:$N$46,1,FALSE),\"NG\")))","v":""},"",0,0,0,"","氏名","・","年齢","・","学年","","","が未記入です。","","","","",""]
[null,null,72,null,null,null,"※リストから選択して下さい","",null,null,null,null,null,null,null,null,{"$f":"IF(R97=1,SUM($R$26:$R97),\"\")","v":""},0,"","","","",{"$f":"IF(SUBSTITUTE(SUBSTITUTE($F97,\"　\",\"\"),\" \",\"\")=\"\",\"\",IFERROR(VLOOKUP($F97,$N$26:$N$46,1,FALSE),IFERROR(VLOOKUP(IF(AND(LEFT($F97,1)=\"小\",NOT(SUM(COUNTIF($F97,{\"*中*\",\"*高*\",\"*大*\"})))),\"小\",IF(AND(LEFT($F97,1)=\"中\",NOT(SUM(COUNTIF($F97,{\"*小*\",\"*高*\",\"*大*\"})))),\"中\",IF(AND(LEFT($F97,1)=\"高\",NOT(SUM(COUNTIF($F97,{\"*小*\",\"*中*\",\"*大*\"})))),\"高\",IF(AND(LEFT($F97,1)=\"大\",NOT(SUM(COUNTIF($F97,{\"*小*\",\"*中*\",\"*高*\"})))),\"大\",\"NG\"))))&MAX(TEXT(MID($F97,{1,2,3,4,5},{1;2;3;4;5;6;7;8;9;10;11;12;13;14;15}),\"標準;;0;!0\")*1),$N$26:$N$46,1,FALSE),\"NG\")))","v":""},"",0,0,0,"","氏名","・","年齢","・","学年","","","が未記入です。","","","","",""]
[null,null,73,null,null,null,"※リストから選択して下さい","",null,null,null,null,null,null,null,null,{"$f":"IF(R98=1,SUM($R$26:$R98),\"\")","v":""},0,"","","","",{"$f":"IF(SUBSTITUTE(SUBSTITUTE($F98,\"　\",\"\"),\" \",\"\")=\"\",\"\",IFERROR(VLOOKUP($F98,$N$26:$N$46,1,FALSE),IFERROR(VLOOKUP(IF(AND(LEFT($F98,1)=\"小\",NOT(SUM(COUNTIF($F98,{\"*中*\",\"*高*\",\"*大*\"})))),\"小\",IF(AND(LEFT($F98,1)=\"中\",NOT(SUM(COUNTIF($F98,{\"*小*\",\"*高*\",\"*大*\"})))),\"中\",IF(AND(LEFT($F98,1)=\"高\",NOT(SUM(COUNTIF($F98,{\"*小*\",\"*中*\",\"*大*\"})))),\"高\",IF(AND(LEFT($F98,1)=\"大\",NOT(SUM(COUNTIF($F98,{\"*小*\",\"*中*\",\"*高*\"})))),\"大\",\"NG\"))))&MAX(TEXT(MID($F98,{1,2,3,4,5},{1;2;3;4;5;6;7;8;9;10;11;12;13;14;15}),\"標準;;0;!0\")*1),$N$26:$N$46,1,FALSE),\"NG\")))","v":""},"",0,0,0,"","氏名","・","年齢","・","学年","","","が未記入です。","","","","",""]
[null,null,74,null,null,null,"※リストから選択して下さい","",null,null,null,null,null,null,null,null,{"$f":"IF(R99=1,SUM($R$26:$R99),\"\")","v":""},0,"","","","",{"$f":"IF(SUBSTITUTE(SUBSTITUTE($F99,\"　\",\"\"),\" \",\"\")=\"\",\"\",IFERROR(VLOOKUP($F99,$N$26:$N$46,1,FALSE),IFERROR(VLOOKUP(IF(AND(LEFT($F99,1)=\"小\",NOT(SUM(COUNTIF($F99,{\"*中*\",\"*高*\",\"*大*\"})))),\"小\",IF(AND(LEFT($F99,1)=\"中\",NOT(SUM(COUNTIF($F99,{\"*小*\",\"*高*\",\"*大*\"})))),\"中\",IF(AND(LEFT($F99,1)=\"高\",NOT(SUM(COUNTIF($F99,{\"*小*\",\"*中*\",\"*大*\"})))),\"高\",IF(AND(LEFT($F99,1)=\"大\",NOT(SUM(COUNTIF($F99,{\"*小*\",\"*中*\",\"*高*\"})))),\"大\",\"NG\"))))&MAX(TEXT(MID($F99,{1,2,3,4,5},{1;2;3;4;5;6;7;8;9;10;11;12;13;14;15}),\"標準;;0;!0\")*1),$N$26:$N$46,1,FALSE),\"NG\")))","v":""},"",0,0,0,"","氏名","・","年齢","・","学年","","","が未記入です。","","","","",""]
[null,null,75,null,null,null,"※リストから選択して下さい","",null,null,null,null,null,null,null,null,{"$f":"IF(R100=1,SUM($R$26:$R100),\"\")","v":""},0,"","","","",{"$f":"IF(SUBSTITUTE(SUBSTITUTE($F100,\"　\",\"\"),\" \",\"\")=\"\",\"\",IFERROR(VLOOKUP($F100,$N$26:$N$46,1,FALSE),IFERROR(VLOOKUP(IF(AND(LEFT($F100,1)=\"小\",NOT(SUM(COUNTIF($F100,{\"*中*\",\"*高*\",\"*大*\"})))),\"小\",IF(AND(LEFT($F100,1)=\"中\",NOT(SUM(COUNTIF($F100,{\"*小*\",\"*高*\",\"*大*\"})))),\"中\",IF(AND(LEFT($F100,1)=\"高\",NOT(SUM(COUNTIF($F100,{\"*小*\",\"*中*\",\"*大*\"})))),\"高\",IF(AND(LEFT($F100,1)=\"大\",NOT(SUM(COUNTIF($F100,{\"*小*\",\"*中*\",\"*高*\"})))),\"大\",\"NG\"))))&MAX(TEXT(MID($F100,{1,2,3,4,5},{1;2;3;4;5;6;7;8;9;10;11;12;13;14;15}),\"標準;;0;!0\")*1),$N$26:$N$46,1,FALSE),\"NG\")))","v":""},"",0,0,0,"","氏名","・","年齢","・","学年","","","が未記入です。","","","","",""]
[null,null,76,null,null,null,"※リストから選択して下さい","",null,null,null,null,null,null,null,null,{"$f":"IF(R101=1,SUM($R$26:$R101),\"\")","v":""},0,"","","","",{"$f":"IF(SUBSTITUTE(SUBSTITUTE($F101,\"　\",\"\"),\" \",\"\")=\"\",\"\",IFERROR(VLOOKUP($F101,$N$26:$N$46,1,FALSE),IFERROR(VLOOKUP(IF(AND(LEFT($F101,1)=\"小\",NOT(SUM(COUNTIF($F101,{\"*中*\",\"*高*\",\"*大*\"})))),\"小\",IF(AND(LEFT($F101,1)=\"中\",NOT(SUM(COUNTIF($F101,{\"*小*\",\"*高*\",\"*大*\"})))),\"中\",IF(AND(LEFT($F101,1)=\"高\",NOT(SUM(COUNTIF($F101,{\"*小*\",\"*中*\",\"*大*\"})))),\"高\",IF(AND(LEFT($F101,1)=\"大\",NOT(SUM(COUNTIF($F101,{\"*小*\",\"*中*\",\"*高*\"})))),\"大\",\"NG\"))))&MAX(TEXT(MID($F101,{1,2,3,4,5},{1;2;3;4;5;6;7;8;9;10;11;12;13;14;15}),\"標準;;0;!0\")*1),$N$26:$N$46,1,FALSE),\"NG\")))","v":""},"",0,0,0,"","氏名","・","年齢","・","学年","","","が未記入です。","","","","",""]
[null,null,77,null,null,null,"※リストから選択して下さい","",null,null,null,null,null,null,null,null,{"$f":"IF(R102=1,SUM($R$26:$R102),\"\")","v":""},0,"","","","",{"$f":"IF(SUBSTITUTE(SUBSTITUTE($F102,\"　\",\"\"),\" \",\"\")=\"\",\"\",IFERROR(VLOOKUP($F102,$N$26:$N$46,1,FALSE),IFERROR(VLOOKUP(IF(AND(LEFT($F102,1)=\"小\",NOT(SUM(COUNTIF($F102,{\"*中*\",\"*高*\",\"*大*\"})))),\"小\",IF(AND(LEFT($F102,1)=\"中\",NOT(SUM(COUNTIF($F102,{\"*小*\",\"*高*\",\"*大*\"})))),\"中\",IF(AND(LEFT($F102,1)=\"高\",NOT(SUM(COUNTIF($F102,{\"*小*\",\"*中*\",\"*大*\"})))),\"高\",IF(AND(LEFT($F102,1)=\"大\",NOT(SUM(COUNTIF($F102,{\"*小*\",\"*中*\",\"*高*\"})))),\"大\",\"NG\"))))&MAX(TEXT(MID($F102,{1,2,3,4,5},{1;2;3;4;5;6;7;8;9;10;11;12;13;14;15}),\"標準;;0;!0\")*1),$N$26:$N$46,1,FALSE),\"NG\")))","v":""},"",0,0,0,"","氏名","・","年齢","・","学年","","","が未記入です。","","","","",""]
[null,null,78,null,null,null,"※リストから選択して下さい","",null,null,null,null,null,null,null,null,{"$f":"IF(R103=1,SUM($R$26:$R103),\"\")","v":""},0,"","","","",{"$f":"IF(SUBSTITUTE(SUBSTITUTE($F103,\"　\",\"\"),\" \",\"\")=\"\",\"\",IFERROR(VLOOKUP($F103,$N$26:$N$46,1,FALSE),IFERROR(VLOOKUP(IF(AND(LEFT($F103,1)=\"小\",NOT(SUM(COUNTIF($F103,{\"*中*\",\"*高*\",\"*大*\"})))),\"小\",IF(AND(LEFT($F103,1)=\"中\",NOT(SUM(COUNTIF($F103,{\"*小*\",\"*高*\",\"*大*\"})))),\"中\",IF(AND(LEFT($F103,1)=\"高\",NOT(SUM(COUNTIF($F103,{\"*小*\",\"*中*\",\"*大*\"})))),\"高\",IF(AND(LEFT($F103,1)=\"大\",NOT(SUM(COUNTIF($F103,{\"*小*\",\"*中*\",\"*高*\"})))),\"大\",\"NG\"))))&MAX(TEXT(MID($F103,{1,2,3,4,5},{1;2;3;4;5;6;7;8;9;10;11;12;13;14;15}),\"標準;;0;!0\")*1),$N$26:$N$46,1,FALSE),\"NG\")))","v":""},"",0,0,0,"","氏名","・","年齢","・","学年","","","が未記入です。","","","","",""]
[null,null,79,null,null,null,"※リストから選択して下さい","",null,null,null,null,null,null,null,null,{"$f":"IF(R104=1,SUM($R$26:$R104),\"\")","v":""},0,"","","","",{"$f":"IF(SUBSTITUTE(SUBSTITUTE($F104,\"　\",\"\"),\" \",\"\")=\"\",\"\",IFERROR(VLOOKUP($F104,$N$26:$N$46,1,FALSE),IFERROR(VLOOKUP(IF(AND(LEFT($F104,1)=\"小\",NOT(SUM(COUNTIF($F104,{\"*中*\",\"*高*\",\"*大*\"})))),\"小\",IF(AND(LEFT($F104,1)=\"中\",NOT(SUM(COUNTIF($F104,{\"*小*\",\"*高*\",\"*大*\"})))),\"中\",IF(AND(LEFT($F104,1)=\"高\",NOT(SUM(COUNTIF($F104,{\"*小*\",\"*中*\",\"*大*\"})))),\"高\",IF(AND(LEFT($F104,1)=\"大\",NOT(SUM(COUNTIF($F104,{\"*小*\",\"*中*\",\"*高*\"})))),\"大\",\"NG\"))))&MAX(TEXT(MID($F104,{1,2,3,4,5},{1;2;3;4;5;6;7;8;9;10;11;12;13;14;15}),\"標準;;0;!0\")*1),$N$26:$N$46,1,FALSE),\"NG\")))","v":""},"",0,0,0,"","氏名","・","年齢","・","学年","","","が未記入です。","","","","",""]
[null,null,80,null,null,null,"※リストから選択して下さい","",null,null,null,null,null,null,null,null,{"$f":"IF(R105=1,SUM($R$26:$R105),\"\")","v":""},0,"","","","",{"$f":"IF(SUBSTITUTE(SUBSTITUTE($F105,\"　\",\"\"),\" \",\"\")=\"\",\"\",IFERROR(VLOOKUP($F105,$N$26:$N$46,1,FALSE),IFERROR(VLOOKUP(IF(AND(LEFT($F105,1)=\"小\",NOT(SUM(COUNTIF($F105,{\"*中*\",\"*高*\",\"*大*\"})))),\"小\",IF(AND(LEFT($F105,1)=\"中\",NOT(SUM(COUNTIF($F105,{\"*小*\",\"*高*\",\"*大*\"})))),\"中\",IF(AND(LEFT($F105,1)=\"高\",NOT(SUM(COUNTIF($F105,{\"*小*\",\"*中*\",\"*大*\"})))),\"高\",IF(AND(LEFT($F105,1)=\"大\",NOT(SUM(COUNTIF($F105,{\"*小*\",\"*中*\",\"*高*\"})))),\"大\",\"NG\"))))&MAX(TEXT(MID($F105,{1,2,3,4,5},{1;2;3;4;5;6;7;8;9;10;11;12;13;14;15}),\"標準;;0;!0\")*1),$N$26:$N$46,1,FALSE),\"NG\")))","v":""},"",0,0,0,"","氏名","・","年齢","・","学年","","","が未記入です。","","","","",""]
[null,null,81,null,null,null,"※リストから選択して下さい","",null,null,null,null,null,null,null,null,{"$f":"IF(R106=1,SUM($R$26:$R106),\"\")","v":""},0,"","","","",{"$f":"IF(SUBSTITUTE(SUBSTITUTE($F106,\"　\",\"\"),\" \",\"\")=\"\",\"\",IFERROR(VLOOKUP($F106,$N$26:$N$46,1,FALSE),IFERROR(VLOOKUP(IF(AND(LEFT($F106,1)=\"小\",NOT(SUM(COUNTIF($F106,{\"*中*\",\"*高*\",\"*大*\"})))),\"小\",IF(AND(LEFT($F106,1)=\"中\",NOT(SUM(COUNTIF($F106,{\"*小*\",\"*高*\",\"*大*\"})))),\"中\",IF(AND(LEFT($F106,1)=\"高\",NOT(SUM(COUNTIF($F106,{\"*小*\",\"*中*\",\"*大*\"})))),\"高\",IF(AND(LEFT($F106,1)=\"大\",NOT(SUM(COUNTIF($F106,{\"*小*\",\"*中*\",\"*高*\"})))),\"大\",\"NG\"))))&MAX(TEXT(MID($F106,{1,2,3,4,5},{1;2;3;4;5;6;7;8;9;10;11;12;13;14;15}),\"標準;;0;!0\")*1),$N$26:$N$46,1,FALSE),\"NG\")))","v":""},"",0,0,0,"","氏名","・","年齢","・","学年","","","が未記入です。","","","","",""]
[null,null,82,null,null,null,"※リストから選択して下さい","",null,null,null,null,null,null,null,null,{"$f":"IF(R107=1,SUM($R$26:$R107),\"\")","v":""},0,"","","","",{"$f":"IF(SUBSTITUTE(SUBSTITUTE($F107,\"　\",\"\"),\" \",\"\")=\"\",\"\",IFERROR(VLOOKUP($F107,$N$26:$N$46,1,FALSE),IFERROR(VLOOKUP(IF(AND(LEFT($F107,1)=\"小\",NOT(SUM(COUNTIF($F107,{\"*中*\",\"*高*\",\"*大*\"})))),\"小\",IF(AND(LEFT($F107,1)=\"中\",NOT(SUM(COUNTIF($F107,{\"*小*\",\"*高*\",\"*大*\"})))),\"中\",IF(AND(LEFT($F107,1)=\"高\",NOT(SUM(COUNTIF($F107,{\"*小*\",\"*中*\",\"*大*\"})))),\"高\",IF(AND(LEFT($F107,1)=\"大\",NOT(SUM(COUNTIF($F107,{\"*小*\",\"*中*\",\"*高*\"})))),\"大\",\"NG\"))))&MAX(TEXT(MID($F107,{1,2,3,4,5},{1;2;3;4;5;6;7;8;9;10;11;12;13;14;15}),\"標準;;0;!0\")*1),$N$26:$N$46,1,FALSE),\"NG\")))","v":""},"",0,0,0,"","氏名","・","年齢","・","学年","","","が未記入です。","","","","",""]
[null,null,83,null,null,null,"※リストから選択して下さい","",null,null,null,null,null,null,null,null,{"$f":"IF(R108=1,SUM($R$26:$R108),\"\")","v":""},0,"","","","",{"$f":"IF(SUBSTITUTE(SUBSTITUTE($F108,\"　\",\"\"),\" \",\"\")=\"\",\"\",IFERROR(VLOOKUP($F108,$N$26:$N$46,1,FALSE),IFERROR(VLOOKUP(IF(AND(LEFT($F108,1)=\"小\",NOT(SUM(COUNTIF($F108,{\"*中*\",\"*高*\",\"*大*\"})))),\"小\",IF(AND(LEFT($F108,1)=\"中\",NOT(SUM(COUNTIF($F108,{\"*小*\",\"*高*\",\"*大*\"})))),\"中\",IF(AND(LEFT($F108,1)=\"高\",NOT(SUM(COUNTIF($F108,{\"*小*\",\"*中*\",\"*大*\"})))),\"高\",IF(AND(LEFT($F108,1)=\"大\",NOT(SUM(COUNTIF($F108,{\"*小*\",\"*中*\",\"*高*\"})))),\"大\",\"NG\"))))&MAX(TEXT(MID($F108,{1,2,3,4,5},{1;2;3;4;5;6;7;8;9;10;11;12;13;14;15}),\"標準;;0;!0\")*1),$N$26:$N$46,1,FALSE),\"NG\")))","v":""},"",0,0,0,"","氏名","・","年齢","・","学年","","","が未記入です。","","","","",""]
[null,null,84,null,null,null,"※リストから選択して下さい","",null,null,null,null,null,null,null,null,{"$f":"IF(R109=1,SUM($R$26:$R109),\"\")","v":""},0,"","","","",{"$f":"IF(SUBSTITUTE(SUBSTITUTE($F109,\"　\",\"\"),\" \",\"\")=\"\",\"\",IFERROR(VLOOKUP($F109,$N$26:$N$46,1,FALSE),IFERROR(VLOOKUP(IF(AND(LEFT($F109,1)=\"小\",NOT(SUM(COUNTIF($F109,{\"*中*\",\"*高*\",\"*大*\"})))),\"小\",IF(AND(LEFT($F109,1)=\"中\",NOT(SUM(COUNTIF($F109,{\"*小*\",\"*高*\",\"*大*\"})))),\"中\",IF(AND(LEFT($F109,1)=\"高\",NOT(SUM(COUNTIF($F109,{\"*小*\",\"*中*\",\"*大*\"})))),\"高\",IF(AND(LEFT($F109,1)=\"大\",NOT(SUM(COUNTIF($F109,{\"*小*\",\"*中*\",\"*高*\"})))),\"大\",\"NG\"))))&MAX(TEXT(MID($F109,{1,2,3,4,5},{1;2;3;4;5;6;7;8;9;10;11;12;13;14;15}),\"標準;;0;!0\")*1),$N$26:$N$46,1,FALSE),\"NG\")))","v":""},"",0,0,0,"","氏名","・","年齢","・","学年","","","が未記入です。","","","","",""]
[null,null,85,null,null,null,"※リストから選択して下さい","",null,null,null,null,null,null,null,null,{"$f":"IF(R110=1,SUM($R$26:$R110),\"\")","v":""},0,"","","","",{"$f":"IF(SUBSTITUTE(SUBSTITUTE($F110,\"　\",\"\"),\" \",\"\")=\"\",\"\",IFERROR(VLOOKUP($F110,$N$26:$N$46,1,FALSE),IFERROR(VLOOKUP(IF(AND(LEFT($F110,1)=\"小\",NOT(SUM(COUNTIF($F110,{\"*中*\",\"*高*\",\"*大*\"})))),\"小\",IF(AND(LEFT($F110,1)=\"中\",NOT(SUM(COUNTIF($F110,{\"*小*\",\"*高*\",\"*大*\"})))),\"中\",IF(AND(LEFT($F110,1)=\"高\",NOT(SUM(COUNTIF($F110,{\"*小*\",\"*中*\",\"*大*\"})))),\"高\",IF(AND(LEFT($F110,1)=\"大\",NOT(SUM(COUNTIF($F110,{\"*小*\",\"*中*\",\"*高*\"})))),\"大\",\"NG\"))))&MAX(TEXT(MID($F110,{1,2,3,4,5},{1;2;3;4;5;6;7;8;9;10;11;12;13;14;15}),\"標準;;0;!0\")*1),$N$26:$N$46,1,FALSE),\"NG\")))","v":""},"",0,0,0,"","氏名","・","年齢","・","学年","","","が未記入です。","","","","",""]
[null,null,86,null,null,null,"※リストから選択して下さい","",null,null,null,null,null,null,null,null,{"$f":"IF(R111=1,SUM($R$26:$R111),\"\")","v":""},0,"","","","",{"$f":"IF(SUBSTITUTE(SUBSTITUTE($F111,\"　\",\"\"),\" \",\"\")=\"\",\"\",IFERROR(VLOOKUP($F111,$N$26:$N$46,1,FALSE),IFERROR(VLOOKUP(IF(AND(LEFT($F111,1)=\"小\",NOT(SUM(COUNTIF($F111,{\"*中*\",\"*高*\",\"*大*\"})))),\"小\",IF(AND(LEFT($F111,1)=\"中\",NOT(SUM(COUNTIF($F111,{\"*小*\",\"*高*\",\"*大*\"})))),\"中\",IF(AND(LEFT($F111,1)=\"高\",NOT(SUM(COUNTIF($F111,{\"*小*\",\"*中*\",\"*大*\"})))),\"高\",IF(AND(LEFT($F111,1)=\"大\",NOT(SUM(COUNTIF($F111,{\"*小*\",\"*中*\",\"*高*\"})))),\"大\",\"NG\"))))&MAX(TEXT(MID($F111,{1,2,3,4,5},{1;2;3;4;5;6;7;8;9;10;11;12;13;14;15}),\"標準;;0;!0\")*1),$N$26:$N$46,1,FALSE),\"NG\")))","v":""},"",0,0,0,"","氏名","・","年齢","・","学年","","","が未記入です。","","","","",""]
[null,null,87,null,null,null,"※リストから選択して下さい","",null,null,null,null,null,null,null,null,{"$f":"IF(R112=1,SUM($R$26:$R112),\"\")","v":""},0,"","","","",{"$f":"IF(SUBSTITUTE(SUBSTITUTE($F112,\"　\",\"\"),\" \",\"\")=\"\",\"\",IFERROR(VLOOKUP($F112,$N$26:$N$46,1,FALSE),IFERROR(VLOOKUP(IF(AND(LEFT($F112,1)=\"小\",NOT(SUM(COUNTIF($F112,{\"*中*\",\"*高*\",\"*大*\"})))),\"小\",IF(AND(LEFT($F112,1)=\"中\",NOT(SUM(COUNTIF($F112,{\"*小*\",\"*高*\",\"*大*\"})))),\"中\",IF(AND(LEFT($F112,1)=\"高\",NOT(SUM(COUNTIF($F112,{\"*小*\",\"*中*\",\"*大*\"})))),\"高\",IF(AND(LEFT($F112,1)=\"大\",NOT(SUM(COUNTIF($F112,{\"*小*\",\"*中*\",\"*高*\"})))),\"大\",\"NG\"))))&MAX(TEXT(MID($F112,{1,2,3,4,5},{1;2;3;4;5;6;7;8;9;10;11;12;13;14;15}),\"標準;;0;!0\")*1),$N$26:$N$46,1,FALSE),\"NG\")))","v":""},"",0,0,0,"","氏名","・","年齢","・","学年","","","が未記入です。","","","","",""]
[null,null,88,null,null,null,"※リストから選択して下さい","",null,null,null,null,null,null,null,null,{"$f":"IF(R113=1,SUM($R$26:$R113),\"\")","v":""},0,"","","","",{"$f":"IF(SUBSTITUTE(SUBSTITUTE($F113,\"　\",\"\"),\" \",\"\")=\"\",\"\",IFERROR(VLOOKUP($F113,$N$26:$N$46,1,FALSE),IFERROR(VLOOKUP(IF(AND(LEFT($F113,1)=\"小\",NOT(SUM(COUNTIF($F113,{\"*中*\",\"*高*\",\"*大*\"})))),\"小\",IF(AND(LEFT($F113,1)=\"中\",NOT(SUM(COUNTIF($F113,{\"*小*\",\"*高*\",\"*大*\"})))),\"中\",IF(AND(LEFT($F113,1)=\"高\",NOT(SUM(COUNTIF($F113,{\"*小*\",\"*中*\",\"*大*\"})))),\"高\",IF(AND(LEFT($F113,1)=\"大\",NOT(SUM(COUNTIF($F113,{\"*小*\",\"*中*\",\"*高*\"})))),\"大\",\"NG\"))))&MAX(TEXT(MID($F113,{1,2,3,4,5},{1;2;3;4;5;6;7;8;9;10;11;12;13;14;15}),\"標準;;0;!0\")*1),$N$26:$N$46,1,FALSE),\"NG\")))","v":""},"",0,0,0,"","氏名","・","年齢","・","学年","","","が未記入です。","","","","",""]
[null,null,89,null,null,null,"※リストから選択して下さい","",null,null,null,null,null,null,null,null,{"$f":"IF(R114=1,SUM($R$26:$R114),\"\")","v":""},0,"","","","",{"$f":"IF(SUBSTITUTE(SUBSTITUTE($F114,\"　\",\"\"),\" \",\"\")=\"\",\"\",IFERROR(VLOOKUP($F114,$N$26:$N$46,1,FALSE),IFERROR(VLOOKUP(IF(AND(LEFT($F114,1)=\"小\",NOT(SUM(COUNTIF($F114,{\"*中*\",\"*高*\",\"*大*\"})))),\"小\",IF(AND(LEFT($F114,1)=\"中\",NOT(SUM(COUNTIF($F114,{\"*小*\",\"*高*\",\"*大*\"})))),\"中\",IF(AND(LEFT($F114,1)=\"高\",NOT(SUM(COUNTIF($F114,{\"*小*\",\"*中*\",\"*大*\"})))),\"高\",IF(AND(LEFT($F114,1)=\"大\",NOT(SUM(COUNTIF($F114,{\"*小*\",\"*中*\",\"*高*\"})))),\"大\",\"NG\"))))&MAX(TEXT(MID($F114,{1,2,3,4,5},{1;2;3;4;5;6;7;8;9;10;11;12;13;14;15}),\"標準;;0;!0\")*1),$N$26:$N$46,1,FALSE),\"NG\")))","v":""},"",0,0,0,"","氏名","・","年齢","・","学年","","","が未記入です。","","","","",""]
[null,null,90,null,null,null,"※リストから選択して下さい","",null,null,null,null,null,null,null,null,{"$f":"IF(R115=1,SUM($R$26:$R115),\"\")","v":""},0,"","","","",{"$f":"IF(SUBSTITUTE(SUBSTITUTE($F115,\"　\",\"\"),\" \",\"\")=\"\",\"\",IFERROR(VLOOKUP($F115,$N$26:$N$46,1,FALSE),IFERROR(VLOOKUP(IF(AND(LEFT($F115,1)=\"小\",NOT(SUM(COUNTIF($F115,{\"*中*\",\"*高*\",\"*大*\"})))),\"小\",IF(AND(LEFT($F115,1)=\"中\",NOT(SUM(COUNTIF($F115,{\"*小*\",\"*高*\",\"*大*\"})))),\"中\",IF(AND(LEFT($F115,1)=\"高\",NOT(SUM(COUNTIF($F115,{\"*小*\",\"*中*\",\"*大*\"})))),\"高\",IF(AND(LEFT($F115,1)=\"大\",NOT(SUM(COUNTIF($F115,{\"*小*\",\"*中*\",\"*高*\"})))),\"大\",\"NG\"))))&MAX(TEXT(MID($F115,{1,2,3,4,5},{1;2;3;4;5;6;7;8;9;10;11;12;13;14;15}),\"標準;;0;!0\")*1),$N$26:$N$46,1,FALSE),\"NG\")))","v":""},"",0,0,0,"","氏名","・","年齢","・","学年","","","が未記入です。","","","","",""]
[null,null,91,null,null,null,"※リストから選択して下さい","",null,null,null,null,null,null,null,null,{"$f":"IF(R116=1,SUM($R$26:$R116),\"\")","v":""},0,"","","","",{"$f":"IF(SUBSTITUTE(SUBSTITUTE($F116,\"　\",\"\"),\" \",\"\")=\"\",\"\",IFERROR(VLOOKUP($F116,$N$26:$N$46,1,FALSE),IFERROR(VLOOKUP(IF(AND(LEFT($F116,1)=\"小\",NOT(SUM(COUNTIF($F116,{\"*中*\",\"*高*\",\"*大*\"})))),\"小\",IF(AND(LEFT($F116,1)=\"中\",NOT(SUM(COUNTIF($F116,{\"*小*\",\"*高*\",\"*大*\"})))),\"中\",IF(AND(LEFT($F116,1)=\"高\",NOT(SUM(COUNTIF($F116,{\"*小*\",\"*中*\",\"*大*\"})))),\"高\",IF(AND(LEFT($F116,1)=\"大\",NOT(SUM(COUNTIF($F116,{\"*小*\",\"*中*\",\"*高*\"})))),\"大\",\"NG\"))))&MAX(TEXT(MID($F116,{1,2,3,4,5},{1;2;3;4;5;6;7;8;9;10;11;12;13;14;15}),\"標準;;0;!0\")*1),$N$26:$N$46,1,FALSE),\"NG\")))","v":""},"",0,0,0,"","氏名","・","年齢","・","学年","","","が未記入です。","","","","",""]
[null,null,92,null,null,null,"※リストから選択して下さい","",null,null,null,null,null,null,null,null,{"$f":"IF(R117=1,SUM($R$26:$R117),\"\")","v":""},0,"","","","",{"$f":"IF(SUBSTITUTE(SUBSTITUTE($F117,\"　\",\"\"),\" \",\"\")=\"\",\"\",IFERROR(VLOOKUP($F117,$N$26:$N$46,1,FALSE),IFERROR(VLOOKUP(IF(AND(LEFT($F117,1)=\"小\",NOT(SUM(COUNTIF($F117,{\"*中*\",\"*高*\",\"*大*\"})))),\"小\",IF(AND(LEFT($F117,1)=\"中\",NOT(SUM(COUNTIF($F117,{\"*小*\",\"*高*\",\"*大*\"})))),\"中\",IF(AND(LEFT($F117,1)=\"高\",NOT(SUM(COUNTIF($F117,{\"*小*\",\"*中*\",\"*大*\"})))),\"高\",IF(AND(LEFT($F117,1)=\"大\",NOT(SUM(COUNTIF($F117,{\"*小*\",\"*中*\",\"*高*\"})))),\"大\",\"NG\"))))&MAX(TEXT(MID($F117,{1,2,3,4,5},{1;2;3;4;5;6;7;8;9;10;11;12;13;14;15}),\"標準;;0;!0\")*1),$N$26:$N$46,1,FALSE),\"NG\")))","v":""},"",0,0,0,"","氏名","・","年齢","・","学年","","","が未記入です。","","","","",""]
[null,null,93,null,null,null,"※リストから選択して下さい","",null,null,null,null,null,null,null,null,{"$f":"IF(R118=1,SUM($R$26:$R118),\"\")","v":""},0,"","","","",{"$f":"IF(SUBSTITUTE(SUBSTITUTE($F118,\"　\",\"\"),\" \",\"\")=\"\",\"\",IFERROR(VLOOKUP($F118,$N$26:$N$46,1,FALSE),IFERROR(VLOOKUP(IF(AND(LEFT($F118,1)=\"小\",NOT(SUM(COUNTIF($F118,{\"*中*\",\"*高*\",\"*大*\"})))),\"小\",IF(AND(LEFT($F118,1)=\"中\",NOT(SUM(COUNTIF($F118,{\"*小*\",\"*高*\",\"*大*\"})))),\"中\",IF(AND(LEFT($F118,1)=\"高\",NOT(SUM(COUNTIF($F118,{\"*小*\",\"*中*\",\"*大*\"})))),\"高\",IF(AND(LEFT($F118,1)=\"大\",NOT(SUM(COUNTIF($F118,{\"*小*\",\"*中*\",\"*高*\"})))),\"大\",\"NG\"))))&MAX(TEXT(MID($F118,{1,2,3,4,5},{1;2;3;4;5;6;7;8;9;10;11;12;13;14;15}),\"標準;;0;!0\")*1),$N$26:$N$46,1,FALSE),\"NG\")))","v":""},"",0,0,0,"","氏名","・","年齢","・","学年","","","が未記入です。","","","","",""]
[null,null,94,null,null,null,"※リストから選択して下さい","",null,null,null,null,null,null,null,null,{"$f":"IF(R119=1,SUM($R$26:$R119),\"\")","v":""},0,"","","","",{"$f":"IF(SUBSTITUTE(SUBSTITUTE($F119,\"　\",\"\"),\" \",\"\")=\"\",\"\",IFERROR(VLOOKUP($F119,$N$26:$N$46,1,FALSE),IFERROR(VLOOKUP(IF(AND(LEFT($F119,1)=\"小\",NOT(SUM(COUNTIF($F119,{\"*中*\",\"*高*\",\"*大*\"})))),\"小\",IF(AND(LEFT($F119,1)=\"中\",NOT(SUM(COUNTIF($F119,{\"*小*\",\"*高*\",\"*大*\"})))),\"中\",IF(AND(LEFT($F119,1)=\"高\",NOT(SUM(COUNTIF($F119,{\"*小*\",\"*中*\",\"*大*\"})))),\"高\",IF(AND(LEFT($F119,1)=\"大\",NOT(SUM(COUNTIF($F119,{\"*小*\",\"*中*\",\"*高*\"})))),\"大\",\"NG\"))))&MAX(TEXT(MID($F119,{1,2,3,4,5},{1;2;3;4;5;6;7;8;9;10;11;12;13;14;15}),\"標準;;0;!0\")*1),$N$26:$N$46,1,FALSE),\"NG\")))","v":""},"",0,0,0,"","氏名","・","年齢","・","学年","","","が未記入です。","","","","",""]
[null,null,95,null,null,null,"※リストから選択して下さい","",null,null,null,null,null,null,null,null,{"$f":"IF(R120=1,SUM($R$26:$R120),\"\")","v":""},0,"","","","",{"$f":"IF(SUBSTITUTE(SUBSTITUTE($F120,\"　\",\"\"),\" \",\"\")=\"\",\"\",IFERROR(VLOOKUP($F120,$N$26:$N$46,1,FALSE),IFERROR(VLOOKUP(IF(AND(LEFT($F120,1)=\"小\",NOT(SUM(COUNTIF($F120,{\"*中*\",\"*高*\",\"*大*\"})))),\"小\",IF(AND(LEFT($F120,1)=\"中\",NOT(SUM(COUNTIF($F120,{\"*小*\",\"*高*\",\"*大*\"})))),\"中\",IF(AND(LEFT($F120,1)=\"高\",NOT(SUM(COUNTIF($F120,{\"*小*\",\"*中*\",\"*大*\"})))),\"高\",IF(AND(LEFT($F120,1)=\"大\",NOT(SUM(COUNTIF($F120,{\"*小*\",\"*中*\",\"*高*\"})))),\"大\",\"NG\"))))&MAX(TEXT(MID($F120,{1,2,3,4,5},{1;2;3;4;5;6;7;8;9;10;11;12;13;14;15}),\"標準;;0;!0\")*1),$N$26:$N$46,1,FALSE),\"NG\")))","v":""},"",0,0,0,"","氏名","・","年齢","・","学年","","","が未記入です。","","","","",""]
[null,null,96,null,null,null,"※リストから選択して下さい","",null,null,null,null,null,null,null,null,{"$f":"IF(R121=1,SUM($R$26:$R121),\"\")","v":""},0,"","","","",{"$f":"IF(SUBSTITUTE(SUBSTITUTE($F121,\"　\",\"\"),\" \",\"\")=\"\",\"\",IFERROR(VLOOKUP($F121,$N$26:$N$46,1,FALSE),IFERROR(VLOOKUP(IF(AND(LEFT($F121,1)=\"小\",NOT(SUM(COUNTIF($F121,{\"*中*\",\"*高*\",\"*大*\"})))),\"小\",IF(AND(LEFT($F121,1)=\"中\",NOT(SUM(COUNTIF($F121,{\"*小*\",\"*高*\",\"*大*\"})))),\"中\",IF(AND(LEFT($F121,1)=\"高\",NOT(SUM(COUNTIF($F121,{\"*小*\",\"*中*\",\"*大*\"})))),\"高\",IF(AND(LEFT($F121,1)=\"大\",NOT(SUM(COUNTIF($F121,{\"*小*\",\"*中*\",\"*高*\"})))),\"大\",\"NG\"))))&MAX(TEXT(MID($F121,{1,2,3,4,5},{1;2;3;4;5;6;7;8;9;10;11;12;13;14;15}),\"標準;;0;!0\")*1),$N$26:$N$46,1,FALSE),\"NG\")))","v":""},"",0,0,0,"","氏名","・","年齢","・","学年","","","が未記入です。","","","","",""]
[null,null,97,null,null,null,"※リストから選択して下さい","",null,null,null,null,null,null,null,null,{"$f":"IF(R122=1,SUM($R$26:$R122),\"\")","v":""},0,"","","","",{"$f":"IF(SUBSTITUTE(SUBSTITUTE($F122,\"　\",\"\"),\" \",\"\")=\"\",\"\",IFERROR(VLOOKUP($F122,$N$26:$N$46,1,FALSE),IFERROR(VLOOKUP(IF(AND(LEFT($F122,1)=\"小\",NOT(SUM(COUNTIF($F122,{\"*中*\",\"*高*\",\"*大*\"})))),\"小\",IF(AND(LEFT($F122,1)=\"中\",NOT(SUM(COUNTIF($F122,{\"*小*\",\"*高*\",\"*大*\"})))),\"中\",IF(AND(LEFT($F122,1)=\"高\",NOT(SUM(COUNTIF($F122,{\"*小*\",\"*中*\",\"*大*\"})))),\"高\",IF(AND(LEFT($F122,1)=\"大\",NOT(SUM(COUNTIF($F122,{\"*小*\",\"*中*\",\"*高*\"})))),\"大\",\"NG\"))))&MAX(TEXT(MID($F122,{1,2,3,4,5},{1;2;3;4;5;6;7;8;9;10;11;12;13;14;15}),\"標準;;0;!0\")*1),$N$26:$N$46,1,FALSE),\"NG\")))","v":""},"",0,0,0,"","氏名","・","年齢","・","学年","","","が未記入です。","","","","",""]
[null,null,98,null,null,null,"※リストから選択して下さい","",null,null,null,null,null,null,null,null,{"$f":"IF(R123=1,SUM($R$26:$R123),\"\")","v":""},0,"","","","",{"$f":"IF(SUBSTITUTE(SUBSTITUTE($F123,\"　\",\"\"),\" \",\"\")=\"\",\"\",IFERROR(VLOOKUP($F123,$N$26:$N$46,1,FALSE),IFERROR(VLOOKUP(IF(AND(LEFT($F123,1)=\"小\",NOT(SUM(COUNTIF($F123,{\"*中*\",\"*高*\",\"*大*\"})))),\"小\",IF(AND(LEFT($F123,1)=\"中\",NOT(SUM(COUNTIF($F123,{\"*小*\",\"*高*\",\"*大*\"})))),\"中\",IF(AND(LEFT($F123,1)=\"高\",NOT(SUM(COUNTIF($F123,{\"*小*\",\"*中*\",\"*大*\"})))),\"高\",IF(AND(LEFT($F123,1)=\"大\",NOT(SUM(COUNTIF($F123,{\"*小*\",\"*中*\",\"*高*\"})))),\"大\",\"NG\"))))&MAX(TEXT(MID($F123,{1,2,3,4,5},{1;2;3;4;5;6;7;8;9;10;11;12;13;14;15}),\"標準;;0;!0\")*1),$N$26:$N$46,1,FALSE),\"NG\")))","v":""},"",0,0,0,"","氏名","・","年齢","・","学年","","","が未記入です。","","","","",""]
[null,null,99,null,null,null,"※リストから選択して下さい","",null,null,null,null,null,null,null,null,{"$f":"IF(R124=1,SUM($R$26:$R124),\"\")","v":""},0,"","","","",{"$f":"IF(SUBSTITUTE(SUBSTITUTE($F124,\"　\",\"\"),\" \",\"\")=\"\",\"\",IFERROR(VLOOKUP($F124,$N$26:$N$46,1,FALSE),IFERROR(VLOOKUP(IF(AND(LEFT($F124,1)=\"小\",NOT(SUM(COUNTIF($F124,{\"*中*\",\"*高*\",\"*大*\"})))),\"小\",IF(AND(LEFT($F124,1)=\"中\",NOT(SUM(COUNTIF($F124,{\"*小*\",\"*高*\",\"*大*\"})))),\"中\",IF(AND(LEFT($F124,1)=\"高\",NOT(SUM(COUNTIF($F124,{\"*小*\",\"*中*\",\"*大*\"})))),\"高\",IF(AND(LEFT($F124,1)=\"大\",NOT(SUM(COUNTIF($F124,{\"*小*\",\"*中*\",\"*高*\"})))),\"大\",\"NG\"))))&MAX(TEXT(MID($F124,{1,2,3,4,5},{1;2;3;4;5;6;7;8;9;10;11;12;13;14;15}),\"標準;;0;!0\")*1),$N$26:$N$46,1,FALSE),\"NG\")))","v":""},"",0,0,0,"","氏名","・","年齢","・","学年","","","が未記入です。","","","","",""]
[null,null,100,null,null,null,"※リストから選択して下さい","",null,null,null,null,null,null,null,null,{"$f":"IF(R125=1,SUM($R$26:$R125),\"\")","v":""},0,"","","","",{"$f":"IF(SUBSTITUTE(SUBSTITUTE($F125,\"　\",\"\"),\" \",\"\")=\"\",\"\",IFERROR(VLOOKUP($F125,$N$26:$N$46,1,FALSE),IFERROR(VLOOKUP(IF(AND(LEFT($F125,1)=\"小\",NOT(SUM(COUNTIF($F125,{\"*中*\",\"*高*\",\"*大*\"})))),\"小\",IF(AND(LEFT($F125,1)=\"中\",NOT(SUM(COUNTIF($F125,{\"*小*\",\"*高*\",\"*大*\"})))),\"中\",IF(AND(LEFT($F125,1)=\"高\",NOT(SUM(COUNTIF($F125,{\"*小*\",\"*中*\",\"*大*\"})))),\"高\",IF(AND(LEFT($F125,1)=\"大\",NOT(SUM(COUNTIF($F125,{\"*小*\",\"*中*\",\"*高*\"})))),\"大\",\"NG\"))))&MAX(TEXT(MID($F125,{1,2,3,4,5},{1;2;3;4;5;6;7;8;9;10;11;12;13;14;15}),\"標準;;0;!0\")*1),$N$26:$N$46,1,FALSE),\"NG\")))","v":""},"",0,0,0,"","氏名","・","年齢","・","学年","","","が未記入です。","","","","",""]
[null,null,101,null,null,null,"※リストから選択して下さい","",null,null,null,null,null,null,null,null,{"$f":"IF(R126=1,SUM($R$26:$R126),\"\")","v":""},0,"","","","",{"$f":"IF(SUBSTITUTE(SUBSTITUTE($F126,\"　\",\"\"),\" \",\"\")=\"\",\"\",IFERROR(VLOOKUP($F126,$N$26:$N$46,1,FALSE),IFERROR(VLOOKUP(IF(AND(LEFT($F126,1)=\"小\",NOT(SUM(COUNTIF($F126,{\"*中*\",\"*高*\",\"*大*\"})))),\"小\",IF(AND(LEFT($F126,1)=\"中\",NOT(SUM(COUNTIF($F126,{\"*小*\",\"*高*\",\"*大*\"})))),\"中\",IF(AND(LEFT($F126,1)=\"高\",NOT(SUM(COUNTIF($F126,{\"*小*\",\"*中*\",\"*大*\"})))),\"高\",IF(AND(LEFT($F126,1)=\"大\",NOT(SUM(COUNTIF($F126,{\"*小*\",\"*中*\",\"*高*\"})))),\"大\",\"NG\"))))&MAX(TEXT(MID($F126,{1,2,3,4,5},{1;2;3;4;5;6;7;8;9;10;11;12;13;14;15}),\"標準;;0;!0\")*1),$N$26:$N$46,1,FALSE),\"NG\")))","v":""},"",0,0,0,"","氏名","・","年齢","・","学年","","","が未記入です。","","","","",""]
[null,null,102,null,null,null,"※リストから選択して下さい","",null,null,null,null,null,null,null,null,{"$f":"IF(R127=1,SUM($R$26:$R127),\"\")","v":""},0,"","","","",{"$f":"IF(SUBSTITUTE(SUBSTITUTE($F127,\"　\",\"\"),\" \",\"\")=\"\",\"\",IFERROR(VLOOKUP($F127,$N$26:$N$46,1,FALSE),IFERROR(VLOOKUP(IF(AND(LEFT($F127,1)=\"小\",NOT(SUM(COUNTIF($F127,{\"*中*\",\"*高*\",\"*大*\"})))),\"小\",IF(AND(LEFT($F127,1)=\"中\",NOT(SUM(COUNTIF($F127,{\"*小*\",\"*高*\",\"*大*\"})))),\"中\",IF(AND(LEFT($F127,1)=\"高\",NOT(SUM(COUNTIF($F127,{\"*小*\",\"*中*\",\"*大*\"})))),\"高\",IF(AND(LEFT($F127,1)=\"大\",NOT(SUM(COUNTIF($F127,{\"*小*\",\"*中*\",\"*高*\"})))),\"大\",\"NG\"))))&MAX(TEXT(MID($F127,{1,2,3,4,5},{1;2;3;4;5;6;7;8;9;10;11;12;13;14;15}),\"標準;;0;!0\")*1),$N$26:$N$46,1,FALSE),\"NG\")))","v":""},"",0,0,0,"","氏名","・","年齢","・","学年","","","が未記入です。","","","","",""]
[null,null,103,null,null,null,"※リストから選択して下さい","",null,null,null,null,null,null,null,null,{"$f":"IF(R128=1,SUM($R$26:$R128),\"\")","v":""},0,"","","","",{"$f":"IF(SUBSTITUTE(SUBSTITUTE($F128,\"　\",\"\"),\" \",\"\")=\"\",\"\",IFERROR(VLOOKUP($F128,$N$26:$N$46,1,FALSE),IFERROR(VLOOKUP(IF(AND(LEFT($F128,1)=\"小\",NOT(SUM(COUNTIF($F128,{\"*中*\",\"*高*\",\"*大*\"})))),\"小\",IF(AND(LEFT($F128,1)=\"中\",NOT(SUM(COUNTIF($F128,{\"*小*\",\"*高*\",\"*大*\"})))),\"中\",IF(AND(LEFT($F128,1)=\"高\",NOT(SUM(COUNTIF($F128,{\"*小*\",\"*中*\",\"*大*\"})))),\"高\",IF(AND(LEFT($F128,1)=\"大\",NOT(SUM(COUNTIF($F128,{\"*小*\",\"*中*\",\"*高*\"})))),\"大\",\"NG\"))))&MAX(TEXT(MID($F128,{1,2,3,4,5},{1;2;3;4;5;6;7;8;9;10;11;12;13;14;15}),\"標準;;0;!0\")*1),$N$26:$N$46,1,FALSE),\"NG\")))","v":""},"",0,0,0,"","氏名","・","年齢","・","学年","","","が未記入です。","","","","",""]
[null,null,104,null,null,null,"※リストから選択して下さい","",null,null,null,null,null,null,null,null,{"$f":"IF(R129=1,SUM($R$26:$R129),\"\")","v":""},0,"","","","",{"$f":"IF(SUBSTITUTE(SUBSTITUTE($F129,\"　\",\"\"),\" \",\"\")=\"\",\"\",IFERROR(VLOOKUP($F129,$N$26:$N$46,1,FALSE),IFERROR(VLOOKUP(IF(AND(LEFT($F129,1)=\"小\",NOT(SUM(COUNTIF($F129,{\"*中*\",\"*高*\",\"*大*\"})))),\"小\",IF(AND(LEFT($F129,1)=\"中\",NOT(SUM(COUNTIF($F129,{\"*小*\",\"*高*\",\"*大*\"})))),\"中\",IF(AND(LEFT($F129,1)=\"高\",NOT(SUM(COUNTIF($F129,{\"*小*\",\"*中*\",\"*大*\"})))),\"高\",IF(AND(LEFT($F129,1)=\"大\",NOT(SUM(COUNTIF($F129,{\"*小*\",\"*中*\",\"*高*\"})))),\"大\",\"NG\"))))&MAX(TEXT(MID($F129,{1,2,3,4,5},{1;2;3;4;5;6;7;8;9;10;11;12;13;14;15}),\"標準;;0;!0\")*1),$N$26:$N$46,1,FALSE),\"NG\")))","v":""},"",0,0,0,"","氏名","・","年齢","・","学年","","","が未記入です。","","","","",""]
[null,null,105,null,null,null,"※リストから選択して下さい","",null,null,null,null,null,null,null,null,{"$f":"IF(R130=1,SUM($R$26:$R130),\"\")","v":""},0,"","","","",{"$f":"IF(SUBSTITUTE(SUBSTITUTE($F130,\"　\",\"\"),\" \",\"\")=\"\",\"\",IFERROR(VLOOKUP($F130,$N$26:$N$46,1,FALSE),IFERROR(VLOOKUP(IF(AND(LEFT($F130,1)=\"小\",NOT(SUM(COUNTIF($F130,{\"*中*\",\"*高*\",\"*大*\"})))),\"小\",IF(AND(LEFT($F130,1)=\"中\",NOT(SUM(COUNTIF($F130,{\"*小*\",\"*高*\",\"*大*\"})))),\"中\",IF(AND(LEFT($F130,1)=\"高\",NOT(SUM(COUNTIF($F130,{\"*小*\",\"*中*\",\"*大*\"})))),\"高\",IF(AND(LEFT($F130,1)=\"大\",NOT(SUM(COUNTIF($F130,{\"*小*\",\"*中*\",\"*高*\"})))),\"大\",\"NG\"))))&MAX(TEXT(MID($F130,{1,2,3,4,5},{1;2;3;4;5;6;7;8;9;10;11;12;13;14;15}),\"標準;;0;!0\")*1),$N$26:$N$46,1,FALSE),\"NG\")))","v":""},"",0,0,0,"","氏名","・","年齢","・","学年","","","が未記入です。","","","","",""]
[null,null,106,null,null,null,"※リストから選択して下さい","",null,null,null,null,null,null,null,null,{"$f":"IF(R131=1,SUM($R$26:$R131),\"\")","v":""},0,"","","","",{"$f":"IF(SUBSTITUTE(SUBSTITUTE($F131,\"　\",\"\"),\" \",\"\")=\"\",\"\",IFERROR(VLOOKUP($F131,$N$26:$N$46,1,FALSE),IFERROR(VLOOKUP(IF(AND(LEFT($F131,1)=\"小\",NOT(SUM(COUNTIF($F131,{\"*中*\",\"*高*\",\"*大*\"})))),\"小\",IF(AND(LEFT($F131,1)=\"中\",NOT(SUM(COUNTIF($F131,{\"*小*\",\"*高*\",\"*大*\"})))),\"中\",IF(AND(LEFT($F131,1)=\"高\",NOT(SUM(COUNTIF($F131,{\"*小*\",\"*中*\",\"*大*\"})))),\"高\",IF(AND(LEFT($F131,1)=\"大\",NOT(SUM(COUNTIF($F131,{\"*小*\",\"*中*\",\"*高*\"})))),\"大\",\"NG\"))))&MAX(TEXT(MID($F131,{1,2,3,4,5},{1;2;3;4;5;6;7;8;9;10;11;12;13;14;15}),\"標準;;0;!0\")*1),$N$26:$N$46,1,FALSE),\"NG\")))","v":""},"",0,0,0,"","氏名","・","年齢","・","学年","","","が未記入です。","","","","",""]
[null,null,107,null,null,null,"※リストから選択して下さい","",null,null,null,null,null,null,null,null,{"$f":"IF(R132=1,SUM($R$26:$R132),\"\")","v":""},0,"","","","",{"$f":"IF(SUBSTITUTE(SUBSTITUTE($F132,\"　\",\"\"),\" \",\"\")=\"\",\"\",IFERROR(VLOOKUP($F132,$N$26:$N$46,1,FALSE),IFERROR(VLOOKUP(IF(AND(LEFT($F132,1)=\"小\",NOT(SUM(COUNTIF($F132,{\"*中*\",\"*高*\",\"*大*\"})))),\"小\",IF(AND(LEFT($F132,1)=\"中\",NOT(SUM(COUNTIF($F132,{\"*小*\",\"*高*\",\"*大*\"})))),\"中\",IF(AND(LEFT($F132,1)=\"高\",NOT(SUM(COUNTIF($F132,{\"*小*\",\"*中*\",\"*大*\"})))),\"高\",IF(AND(LEFT($F132,1)=\"大\",NOT(SUM(COUNTIF($F132,{\"*小*\",\"*中*\",\"*高*\"})))),\"大\",\"NG\"))))&MAX(TEXT(MID($F132,{1,2,3,4,5},{1;2;3;4;5;6;7;8;9;10;11;12;13;14;15}),\"標準;;0;!0\")*1),$N$26:$N$46,1,FALSE),\"NG\")))","v":""},"",0,0,0,"","氏名","・","年齢","・","学年","","","が未記入です。","","","","",""]
[null,null,108,null,null,null,"※リストから選択して下さい","",null,null,null,null,null,null,null,null,{"$f":"IF(R133=1,SUM($R$26:$R133),\"\")","v":""},0,"","","","",{"$f":"IF(SUBSTITUTE(SUBSTITUTE($F133,\"　\",\"\"),\" \",\"\")=\"\",\"\",IFERROR(VLOOKUP($F133,$N$26:$N$46,1,FALSE),IFERROR(VLOOKUP(IF(AND(LEFT($F133,1)=\"小\",NOT(SUM(COUNTIF($F133,{\"*中*\",\"*高*\",\"*大*\"})))),\"小\",IF(AND(LEFT($F133,1)=\"中\",NOT(SUM(COUNTIF($F133,{\"*小*\",\"*高*\",\"*大*\"})))),\"中\",IF(AND(LEFT($F133,1)=\"高\",NOT(SUM(COUNTIF($F133,{\"*小*\",\"*中*\",\"*大*\"})))),\"高\",IF(AND(LEFT($F133,1)=\"大\",NOT(SUM(COUNTIF($F133,{\"*小*\",\"*中*\",\"*高*\"})))),\"大\",\"NG\"))))&MAX(TEXT(MID($F133,{1,2,3,4,5},{1;2;3;4;5;6;7;8;9;10;11;12;13;14;15}),\"標準;;0;!0\")*1),$N$26:$N$46,1,FALSE),\"NG\")))","v":""},"",0,0,0,"","氏名","・","年齢","・","学年","","","が未記入です。","","","","",""]
[null,null,109,null,null,null,"※リストから選択して下さい","",null,null,null,null,null,null,null,null,{"$f":"IF(R134=1,SUM($R$26:$R134),\"\")","v":""},0,"","","","",{"$f":"IF(SUBSTITUTE(SUBSTITUTE($F134,\"　\",\"\"),\" \",\"\")=\"\",\"\",IFERROR(VLOOKUP($F134,$N$26:$N$46,1,FALSE),IFERROR(VLOOKUP(IF(AND(LEFT($F134,1)=\"小\",NOT(SUM(COUNTIF($F134,{\"*中*\",\"*高*\",\"*大*\"})))),\"小\",IF(AND(LEFT($F134,1)=\"中\",NOT(SUM(COUNTIF($F134,{\"*小*\",\"*高*\",\"*大*\"})))),\"中\",IF(AND(LEFT($F134,1)=\"高\",NOT(SUM(COUNTIF($F134,{\"*小*\",\"*中*\",\"*大*\"})))),\"高\",IF(AND(LEFT($F134,1)=\"大\",NOT(SUM(COUNTIF($F134,{\"*小*\",\"*中*\",\"*高*\"})))),\"大\",\"NG\"))))&MAX(TEXT(MID($F134,{1,2,3,4,5},{1;2;3;4;5;6;7;8;9;10;11;12;13;14;15}),\"標準;;0;!0\")*1),$N$26:$N$46,1,FALSE),\"NG\")))","v":""},"",0,0,0,"","氏名","・","年齢","・","学年","","","が未記入です。","","","","",""]
[null,null,110,null,null,null,"※リストから選択して下さい","",null,null,null,null,null,null,null,null,{"$f":"IF(R135=1,SUM($R$26:$R135),\"\")","v":""},0,"","","","",{"$f":"IF(SUBSTITUTE(SUBSTITUTE($F135,\"　\",\"\"),\" \",\"\")=\"\",\"\",IFERROR(VLOOKUP($F135,$N$26:$N$46,1,FALSE),IFERROR(VLOOKUP(IF(AND(LEFT($F135,1)=\"小\",NOT(SUM(COUNTIF($F135,{\"*中*\",\"*高*\",\"*大*\"})))),\"小\",IF(AND(LEFT($F135,1)=\"中\",NOT(SUM(COUNTIF($F135,{\"*小*\",\"*高*\",\"*大*\"})))),\"中\",IF(AND(LEFT($F135,1)=\"高\",NOT(SUM(COUNTIF($F135,{\"*小*\",\"*中*\",\"*大*\"})))),\"高\",IF(AND(LEFT($F135,1)=\"大\",NOT(SUM(COUNTIF($F135,{\"*小*\",\"*中*\",\"*高*\"})))),\"大\",\"NG\"))))&MAX(TEXT(MID($F135,{1,2,3,4,5},{1;2;3;4;5;6;7;8;9;10;11;12;13;14;15}),\"標準;;0;!0\")*1),$N$26:$N$46,1,FALSE),\"NG\")))","v":""},"",0,0,0,"","氏名","・","年齢","・","学年","","","が未記入です。","","","","",""]
[null,null,111,null,null,null,"※リストから選択して下さい","",null,null,null,null,null,null,null,null,{"$f":"IF(R136=1,SUM($R$26:$R136),\"\")","v":""},0,"","","","",{"$f":"IF(SUBSTITUTE(SUBSTITUTE($F136,\"　\",\"\"),\" \",\"\")=\"\",\"\",IFERROR(VLOOKUP($F136,$N$26:$N$46,1,FALSE),IFERROR(VLOOKUP(IF(AND(LEFT($F136,1)=\"小\",NOT(SUM(COUNTIF($F136,{\"*中*\",\"*高*\",\"*大*\"})))),\"小\",IF(AND(LEFT($F136,1)=\"中\",NOT(SUM(COUNTIF($F136,{\"*小*\",\"*高*\",\"*大*\"})))),\"中\",IF(AND(LEFT($F136,1)=\"高\",NOT(SUM(COUNTIF($F136,{\"*小*\",\"*中*\",\"*大*\"})))),\"高\",IF(AND(LEFT($F136,1)=\"大\",NOT(SUM(COUNTIF($F136,{\"*小*\",\"*中*\",\"*高*\"})))),\"大\",\"NG\"))))&MAX(TEXT(MID($F136,{1,2,3,4,5},{1;2;3;4;5;6;7;8;9;10;11;12;13;14;15}),\"標準;;0;!0\")*1),$N$26:$N$46,1,FALSE),\"NG\")))","v":""},"",0,0,0,"","氏名","・","年齢","・","学年","","","が未記入です。","","","","",""]
[null,null,112,null,null,null,"※リストから選択して下さい","",null,null,null,null,null,null,null,null,{"$f":"IF(R137=1,SUM($R$26:$R137),\"\")","v":""},0,"","","","",{"$f":"IF(SUBSTITUTE(SUBSTITUTE($F137,\"　\",\"\"),\" \",\"\")=\"\",\"\",IFERROR(VLOOKUP($F137,$N$26:$N$46,1,FALSE),IFERROR(VLOOKUP(IF(AND(LEFT($F137,1)=\"小\",NOT(SUM(COUNTIF($F137,{\"*中*\",\"*高*\",\"*大*\"})))),\"小\",IF(AND(LEFT($F137,1)=\"中\",NOT(SUM(COUNTIF($F137,{\"*小*\",\"*高*\",\"*大*\"})))),\"中\",IF(AND(LEFT($F137,1)=\"高\",NOT(SUM(COUNTIF($F137,{\"*小*\",\"*中*\",\"*大*\"})))),\"高\",IF(AND(LEFT($F137,1)=\"大\",NOT(SUM(COUNTIF($F137,{\"*小*\",\"*中*\",\"*高*\"})))),\"大\",\"NG\"))))&MAX(TEXT(MID($F137,{1,2,3,4,5},{1;2;3;4;5;6;7;8;9;10;11;12;13;14;15}),\"標準;;0;!0\")*1),$N$26:$N$46,1,FALSE),\"NG\")))","v":""},"",0,0,0,"","氏名","・","年齢","・","学年","","","が未記入です。","","","","",""]
[null,null,113,null,null,null,"※リストから選択して下さい","",null,null,null,null,null,null,null,null,{"$f":"IF(R138=1,SUM($R$26:$R138),\"\")","v":""},0,"","","","",{"$f":"IF(SUBSTITUTE(SUBSTITUTE($F138,\"　\",\"\"),\" \",\"\")=\"\",\"\",IFERROR(VLOOKUP($F138,$N$26:$N$46,1,FALSE),IFERROR(VLOOKUP(IF(AND(LEFT($F138,1)=\"小\",NOT(SUM(COUNTIF($F138,{\"*中*\",\"*高*\",\"*大*\"})))),\"小\",IF(AND(LEFT($F138,1)=\"中\",NOT(SUM(COUNTIF($F138,{\"*小*\",\"*高*\",\"*大*\"})))),\"中\",IF(AND(LEFT($F138,1)=\"高\",NOT(SUM(COUNTIF($F138,{\"*小*\",\"*中*\",\"*大*\"})))),\"高\",IF(AND(LEFT($F138,1)=\"大\",NOT(SUM(COUNTIF($F138,{\"*小*\",\"*中*\",\"*高*\"})))),\"大\",\"NG\"))))&MAX(TEXT(MID($F138,{1,2,3,4,5},{1;2;3;4;5;6;7;8;9;10;11;12;13;14;15}),\"標準;;0;!0\")*1),$N$26:$N$46,1,FALSE),\"NG\")))","v":""},"",0,0,0,"","氏名","・","年齢","・","学年","","","が未記入です。","","","","",""]
[null,null,114,null,null,null,"※リストから選択して下さい","",null,null,null,null,null,null,null,null,{"$f":"IF(R139=1,SUM($R$26:$R139),\"\")","v":""},0,"","","","",{"$f":"IF(SUBSTITUTE(SUBSTITUTE($F139,\"　\",\"\"),\" \",\"\")=\"\",\"\",IFERROR(VLOOKUP($F139,$N$26:$N$46,1,FALSE),IFERROR(VLOOKUP(IF(AND(LEFT($F139,1)=\"小\",NOT(SUM(COUNTIF($F139,{\"*中*\",\"*高*\",\"*大*\"})))),\"小\",IF(AND(LEFT($F139,1)=\"中\",NOT(SUM(COUNTIF($F139,{\"*小*\",\"*高*\",\"*大*\"})))),\"中\",IF(AND(LEFT($F139,1)=\"高\",NOT(SUM(COUNTIF($F139,{\"*小*\",\"*中*\",\"*大*\"})))),\"高\",IF(AND(LEFT($F139,1)=\"大\",NOT(SUM(COUNTIF($F139,{\"*小*\",\"*中*\",\"*高*\"})))),\"大\",\"NG\"))))&MAX(TEXT(MID($F139,{1,2,3,4,5},{1;2;3;4;5;6;7;8;9;10;11;12;13;14;15}),\"標準;;0;!0\")*1),$N$26:$N$46,1,FALSE),\"NG\")))","v":""},"",0,0,0,"","氏名","・","年齢","・","学年","","","が未記入です。","","","","",""]
[null,null,115,null,null,null,"※リストから選択して下さい","",null,null,null,null,null,null,null,null,{"$f":"IF(R140=1,SUM($R$26:$R140),\"\")","v":""},0,"","","","",{"$f":"IF(SUBSTITUTE(SUBSTITUTE($F140,\"　\",\"\"),\" \",\"\")=\"\",\"\",IFERROR(VLOOKUP($F140,$N$26:$N$46,1,FALSE),IFERROR(VLOOKUP(IF(AND(LEFT($F140,1)=\"小\",NOT(SUM(COUNTIF($F140,{\"*中*\",\"*高*\",\"*大*\"})))),\"小\",IF(AND(LEFT($F140,1)=\"中\",NOT(SUM(COUNTIF($F140,{\"*小*\",\"*高*\",\"*大*\"})))),\"中\",IF(AND(LEFT($F140,1)=\"高\",NOT(SUM(COUNTIF($F140,{\"*小*\",\"*中*\",\"*大*\"})))),\"高\",IF(AND(LEFT($F140,1)=\"大\",NOT(SUM(COUNTIF($F140,{\"*小*\",\"*中*\",\"*高*\"})))),\"大\",\"NG\"))))&MAX(TEXT(MID($F140,{1,2,3,4,5},{1;2;3;4;5;6;7;8;9;10;11;12;13;14;15}),\"標準;;0;!0\")*1),$N$26:$N$46,1,FALSE),\"NG\")))","v":""},"",0,0,0,"","氏名","・","年齢","・","学年","","","が未記入です。","","","","",""]
[null,null,116,null,null,null,"※リストから選択して下さい","",null,null,null,null,null,null,null,null,{"$f":"IF(R141=1,SUM($R$26:$R141),\"\")","v":""},0,"","","","",{"$f":"IF(SUBSTITUTE(SUBSTITUTE($F141,\"　\",\"\"),\" \",\"\")=\"\",\"\",IFERROR(VLOOKUP($F141,$N$26:$N$46,1,FALSE),IFERROR(VLOOKUP(IF(AND(LEFT($F141,1)=\"小\",NOT(SUM(COUNTIF($F141,{\"*中*\",\"*高*\",\"*大*\"})))),\"小\",IF(AND(LEFT($F141,1)=\"中\",NOT(SUM(COUNTIF($F141,{\"*小*\",\"*高*\",\"*大*\"})))),\"中\",IF(AND(LEFT($F141,1)=\"高\",NOT(SUM(COUNTIF($F141,{\"*小*\",\"*中*\",\"*大*\"})))),\"高\",IF(AND(LEFT($F141,1)=\"大\",NOT(SUM(COUNTIF($F141,{\"*小*\",\"*中*\",\"*高*\"})))),\"大\",\"NG\"))))&MAX(TEXT(MID($F141,{1,2,3,4,5},{1;2;3;4;5;6;7;8;9;10;11;12;13;14;15}),\"標準;;0;!0\")*1),$N$26:$N$46,1,FALSE),\"NG\")))","v":""},"",0,0,0,"","氏名","・","年齢","・","学年","","","が未記入です。","","","","",""]
[null,null,117,null,null,null,"※リストから選択して下さい","",null,null,null,null,null,null,null,null,{"$f":"IF(R142=1,SUM($R$26:$R142),\"\")","v":""},0,"","","","",{"$f":"IF(SUBSTITUTE(SUBSTITUTE($F142,\"　\",\"\"),\" \",\"\")=\"\",\"\",IFERROR(VLOOKUP($F142,$N$26:$N$46,1,FALSE),IFERROR(VLOOKUP(IF(AND(LEFT($F142,1)=\"小\",NOT(SUM(COUNTIF($F142,{\"*中*\",\"*高*\",\"*大*\"})))),\"小\",IF(AND(LEFT($F142,1)=\"中\",NOT(SUM(COUNTIF($F142,{\"*小*\",\"*高*\",\"*大*\"})))),\"中\",IF(AND(LEFT($F142,1)=\"高\",NOT(SUM(COUNTIF($F142,{\"*小*\",\"*中*\",\"*大*\"})))),\"高\",IF(AND(LEFT($F142,1)=\"大\",NOT(SUM(COUNTIF($F142,{\"*小*\",\"*中*\",\"*高*\"})))),\"大\",\"NG\"))))&MAX(TEXT(MID($F142,{1,2,3,4,5},{1;2;3;4;5;6;7;8;9;10;11;12;13;14;15}),\"標準;;0;!0\")*1),$N$26:$N$46,1,FALSE),\"NG\")))","v":""},"",0,0,0,"","氏名","・","年齢","・","学年","","","が未記入です。","","","","",""]
[null,null,118,null,null,null,"※リストから選択して下さい","",null,null,null,null,null,null,null,null,{"$f":"IF(R143=1,SUM($R$26:$R143),\"\")","v":""},0,"","","","",{"$f":"IF(SUBSTITUTE(SUBSTITUTE($F143,\"　\",\"\"),\" \",\"\")=\"\",\"\",IFERROR(VLOOKUP($F143,$N$26:$N$46,1,FALSE),IFERROR(VLOOKUP(IF(AND(LEFT($F143,1)=\"小\",NOT(SUM(COUNTIF($F143,{\"*中*\",\"*高*\",\"*大*\"})))),\"小\",IF(AND(LEFT($F143,1)=\"中\",NOT(SUM(COUNTIF($F143,{\"*小*\",\"*高*\",\"*大*\"})))),\"中\",IF(AND(LEFT($F143,1)=\"高\",NOT(SUM(COUNTIF($F143,{\"*小*\",\"*中*\",\"*大*\"})))),\"高\",IF(AND(LEFT($F143,1)=\"大\",NOT(SUM(COUNTIF($F143,{\"*小*\",\"*中*\",\"*高*\"})))),\"大\",\"NG\"))))&MAX(TEXT(MID($F143,{1,2,3,4,5},{1;2;3;4;5;6;7;8;9;10;11;12;13;14;15}),\"標準;;0;!0\")*1),$N$26:$N$46,1,FALSE),\"NG\")))","v":""},"",0,0,0,"","氏名","・","年齢","・","学年","","","が未記入です。","","","","",""]
[null,null,119,null,null,null,"※リストから選択して下さい","",null,null,null,null,null,null,null,null,{"$f":"IF(R144=1,SUM($R$26:$R144),\"\")","v":""},0,"","","","",{"$f":"IF(SUBSTITUTE(SUBSTITUTE($F144,\"　\",\"\"),\" \",\"\")=\"\",\"\",IFERROR(VLOOKUP($F144,$N$26:$N$46,1,FALSE),IFERROR(VLOOKUP(IF(AND(LEFT($F144,1)=\"小\",NOT(SUM(COUNTIF($F144,{\"*中*\",\"*高*\",\"*大*\"})))),\"小\",IF(AND(LEFT($F144,1)=\"中\",NOT(SUM(COUNTIF($F144,{\"*小*\",\"*高*\",\"*大*\"})))),\"中\",IF(AND(LEFT($F144,1)=\"高\",NOT(SUM(COUNTIF($F144,{\"*小*\",\"*中*\",\"*大*\"})))),\"高\",IF(AND(LEFT($F144,1)=\"大\",NOT(SUM(COUNTIF($F144,{\"*小*\",\"*中*\",\"*高*\"})))),\"大\",\"NG\"))))&MAX(TEXT(MID($F144,{1,2,3,4,5},{1;2;3;4;5;6;7;8;9;10;11;12;13;14;15}),\"標準;;0;!0\")*1),$N$26:$N$46,1,FALSE),\"NG\")))","v":""},"",0,0,0,"","氏名","・","年齢","・","学年","","","が未記入です。","","","","",""]
[null,null,120,null,null,null,"※リストから選択して下さい","",null,null,null,null,null,null,null,null,{"$f":"IF(R145=1,SUM($R$26:$R145),\"\")","v":""},0,"","","","",{"$f":"IF(SUBSTITUTE(SUBSTITUTE($F145,\"　\",\"\"),\" \",\"\")=\"\",\"\",IFERROR(VLOOKUP($F145,$N$26:$N$46,1,FALSE),IFERROR(VLOOKUP(IF(AND(LEFT($F145,1)=\"小\",NOT(SUM(COUNTIF($F145,{\"*中*\",\"*高*\",\"*大*\"})))),\"小\",IF(AND(LEFT($F145,1)=\"中\",NOT(SUM(COUNTIF($F145,{\"*小*\",\"*高*\",\"*大*\"})))),\"中\",IF(AND(LEFT($F145,1)=\"高\",NOT(SUM(COUNTIF($F145,{\"*小*\",\"*中*\",\"*大*\"})))),\"高\",IF(AND(LEFT($F145,1)=\"大\",NOT(SUM(COUNTIF($F145,{\"*小*\",\"*中*\",\"*高*\"})))),\"大\",\"NG\"))))&MAX(TEXT(MID($F145,{1,2,3,4,5},{1;2;3;4;5;6;7;8;9;10;11;12;13;14;15}),\"標準;;0;!0\")*1),$N$26:$N$46,1,FALSE),\"NG\")))","v":""},"",0,0,0,"","氏名","・","年齢","・","学年","","","が未記入です。","","","","",""]
[null,null,121,null,null,null,"※リストから選択して下さい","",null,null,null,null,null,null,null,null,{"$f":"IF(R146=1,SUM($R$26:$R146),\"\")","v":""},0,"","","","",{"$f":"IF(SUBSTITUTE(SUBSTITUTE($F146,\"　\",\"\"),\" \",\"\")=\"\",\"\",IFERROR(VLOOKUP($F146,$N$26:$N$46,1,FALSE),IFERROR(VLOOKUP(IF(AND(LEFT($F146,1)=\"小\",NOT(SUM(COUNTIF($F146,{\"*中*\",\"*高*\",\"*大*\"})))),\"小\",IF(AND(LEFT($F146,1)=\"中\",NOT(SUM(COUNTIF($F146,{\"*小*\",\"*高*\",\"*大*\"})))),\"中\",IF(AND(LEFT($F146,1)=\"高\",NOT(SUM(COUNTIF($F146,{\"*小*\",\"*中*\",\"*大*\"})))),\"高\",IF(AND(LEFT($F146,1)=\"大\",NOT(SUM(COUNTIF($F146,{\"*小*\",\"*中*\",\"*高*\"})))),\"大\",\"NG\"))))&MAX(TEXT(MID($F146,{1,2,3,4,5},{1;2;3;4;5;6;7;8;9;10;11;12;13;14;15}),\"標準;;0;!0\")*1),$N$26:$N$46,1,FALSE),\"NG\")))","v":""},"",0,0,0,"","氏名","・","年齢","・","学年","","","が未記入です。","","","","",""]
[null,null,122,null,null,null,"※リストから選択して下さい","",null,null,null,null,null,null,null,null,{"$f":"IF(R147=1,SUM($R$26:$R147),\"\")","v":""},0,"","","","",{"$f":"IF(SUBSTITUTE(SUBSTITUTE($F147,\"　\",\"\"),\" \",\"\")=\"\",\"\",IFERROR(VLOOKUP($F147,$N$26:$N$46,1,FALSE),IFERROR(VLOOKUP(IF(AND(LEFT($F147,1)=\"小\",NOT(SUM(COUNTIF($F147,{\"*中*\",\"*高*\",\"*大*\"})))),\"小\",IF(AND(LEFT($F147,1)=\"中\",NOT(SUM(COUNTIF($F147,{\"*小*\",\"*高*\",\"*大*\"})))),\"中\",IF(AND(LEFT($F147,1)=\"高\",NOT(SUM(COUNTIF($F147,{\"*小*\",\"*中*\",\"*大*\"})))),\"高\",IF(AND(LEFT($F147,1)=\"大\",NOT(SUM(COUNTIF($F147,{\"*小*\",\"*中*\",\"*高*\"})))),\"大\",\"NG\"))))&MAX(TEXT(MID($F147,{1,2,3,4,5},{1;2;3;4;5;6;7;8;9;10;11;12;13;14;15}),\"標準;;0;!0\")*1),$N$26:$N$46,1,FALSE),\"NG\")))","v":""},"",0,0,0,"","氏名","・","年齢","・","学年","","","が未記入です。","","","","",""]
[null,null,123,null,null,null,"※リストから選択して下さい","",null,null,null,null,null,null,null,null,{"$f":"IF(R148=1,SUM($R$26:$R148),\"\")","v":""},0,"","","","",{"$f":"IF(SUBSTITUTE(SUBSTITUTE($F148,\"　\",\"\"),\" \",\"\")=\"\",\"\",IFERROR(VLOOKUP($F148,$N$26:$N$46,1,FALSE),IFERROR(VLOOKUP(IF(AND(LEFT($F148,1)=\"小\",NOT(SUM(COUNTIF($F148,{\"*中*\",\"*高*\",\"*大*\"})))),\"小\",IF(AND(LEFT($F148,1)=\"中\",NOT(SUM(COUNTIF($F148,{\"*小*\",\"*高*\",\"*大*\"})))),\"中\",IF(AND(LEFT($F148,1)=\"高\",NOT(SUM(COUNTIF($F148,{\"*小*\",\"*中*\",\"*大*\"})))),\"高\",IF(AND(LEFT($F148,1)=\"大\",NOT(SUM(COUNTIF($F148,{\"*小*\",\"*中*\",\"*高*\"})))),\"大\",\"NG\"))))&MAX(TEXT(MID($F148,{1,2,3,4,5},{1;2;3;4;5;6;7;8;9;10;11;12;13;14;15}),\"標準;;0;!0\")*1),$N$26:$N$46,1,FALSE),\"NG\")))","v":""},"",0,0,0,"","氏名","・","年齢","・","学年","","","が未記入です。","","","","",""]
[null,null,124,null,null,null,"※リストから選択して下さい","",null,null,null,null,null,null,null,null,{"$f":"IF(R149=1,SUM($R$26:$R149),\"\")","v":""},0,"","","","",{"$f":"IF(SUBSTITUTE(SUBSTITUTE($F149,\"　\",\"\"),\" \",\"\")=\"\",\"\",IFERROR(VLOOKUP($F149,$N$26:$N$46,1,FALSE),IFERROR(VLOOKUP(IF(AND(LEFT($F149,1)=\"小\",NOT(SUM(COUNTIF($F149,{\"*中*\",\"*高*\",\"*大*\"})))),\"小\",IF(AND(LEFT($F149,1)=\"中\",NOT(SUM(COUNTIF($F149,{\"*小*\",\"*高*\",\"*大*\"})))),\"中\",IF(AND(LEFT($F149,1)=\"高\",NOT(SUM(COUNTIF($F149,{\"*小*\",\"*中*\",\"*大*\"})))),\"高\",IF(AND(LEFT($F149,1)=\"大\",NOT(SUM(COUNTIF($F149,{\"*小*\",\"*中*\",\"*高*\"})))),\"大\",\"NG\"))))&MAX(TEXT(MID($F149,{1,2,3,4,5},{1;2;3;4;5;6;7;8;9;10;11;12;13;14;15}),\"標準;;0;!0\")*1),$N$26:$N$46,1,FALSE),\"NG\")))","v":""},"",0,0,0,"","氏名","・","年齢","・","学年","","","が未記入です。","","","","",""]
[null,null,125,null,null,null,"※リストから選択して下さい","",null,null,null,null,null,null,null,null,{"$f":"IF(R150=1,SUM($R$26:$R150),\"\")","v":""},0,"","","","",{"$f":"IF(SUBSTITUTE(SUBSTITUTE($F150,\"　\",\"\"),\" \",\"\")=\"\",\"\",IFERROR(VLOOKUP($F150,$N$26:$N$46,1,FALSE),IFERROR(VLOOKUP(IF(AND(LEFT($F150,1)=\"小\",NOT(SUM(COUNTIF($F150,{\"*中*\",\"*高*\",\"*大*\"})))),\"小\",IF(AND(LEFT($F150,1)=\"中\",NOT(SUM(COUNTIF($F150,{\"*小*\",\"*高*\",\"*大*\"})))),\"中\",IF(AND(LEFT($F150,1)=\"高\",NOT(SUM(COUNTIF($F150,{\"*小*\",\"*中*\",\"*大*\"})))),\"高\",IF(AND(LEFT($F150,1)=\"大\",NOT(SUM(COUNTIF($F150,{\"*小*\",\"*中*\",\"*高*\"})))),\"大\",\"NG\"))))&MAX(TEXT(MID($F150,{1,2,3,4,5},{1;2;3;4;5;6;7;8;9;10;11;12;13;14;15}),\"標準;;0;!0\")*1),$N$26:$N$46,1,FALSE),\"NG\")))","v":""},"",0,0,0,"","氏名","・","年齢","・","学年","","","が未記入です。","","","","",""]
[null,null,126,null,null,null,"※リストから選択して下さい","",null,null,null,null,null,null,null,null,{"$f":"IF(R151=1,SUM($R$26:$R151),\"\")","v":""},0,"","","","",{"$f":"IF(SUBSTITUTE(SUBSTITUTE($F151,\"　\",\"\"),\" \",\"\")=\"\",\"\",IFERROR(VLOOKUP($F151,$N$26:$N$46,1,FALSE),IFERROR(VLOOKUP(IF(AND(LEFT($F151,1)=\"小\",NOT(SUM(COUNTIF($F151,{\"*中*\",\"*高*\",\"*大*\"})))),\"小\",IF(AND(LEFT($F151,1)=\"中\",NOT(SUM(COUNTIF($F151,{\"*小*\",\"*高*\",\"*大*\"})))),\"中\",IF(AND(LEFT($F151,1)=\"高\",NOT(SUM(COUNTIF($F151,{\"*小*\",\"*中*\",\"*大*\"})))),\"高\",IF(AND(LEFT($F151,1)=\"大\",NOT(SUM(COUNTIF($F151,{\"*小*\",\"*中*\",\"*高*\"})))),\"大\",\"NG\"))))&MAX(TEXT(MID($F151,{1,2,3,4,5},{1;2;3;4;5;6;7;8;9;10;11;12;13;14;15}),\"標準;;0;!0\")*1),$N$26:$N$46,1,FALSE),\"NG\")))","v":""},"",0,0,0,"","氏名","・","年齢","・","学年","","","が未記入です。","","","","",""]
[null,null,127,null,null,null,"※リストから選択して下さい","",null,null,null,null,null,null,null,null,{"$f":"IF(R152=1,SUM($R$26:$R152),\"\")","v":""},0,"","","","",{"$f":"IF(SUBSTITUTE(SUBSTITUTE($F152,\"　\",\"\"),\" \",\"\")=\"\",\"\",IFERROR(VLOOKUP($F152,$N$26:$N$46,1,FALSE),IFERROR(VLOOKUP(IF(AND(LEFT($F152,1)=\"小\",NOT(SUM(COUNTIF($F152,{\"*中*\",\"*高*\",\"*大*\"})))),\"小\",IF(AND(LEFT($F152,1)=\"中\",NOT(SUM(COUNTIF($F152,{\"*小*\",\"*高*\",\"*大*\"})))),\"中\",IF(AND(LEFT($F152,1)=\"高\",NOT(SUM(COUNTIF($F152,{\"*小*\",\"*中*\",\"*大*\"})))),\"高\",IF(AND(LEFT($F152,1)=\"大\",NOT(SUM(COUNTIF($F152,{\"*小*\",\"*中*\",\"*高*\"})))),\"大\",\"NG\"))))&MAX(TEXT(MID($F152,{1,2,3,4,5},{1;2;3;4;5;6;7;8;9;10;11;12;13;14;15}),\"標準;;0;!0\")*1),$N$26:$N$46,1,FALSE),\"NG\")))","v":""},"",0,0,0,"","氏名","・","年齢","・","学年","","","が未記入です。","","","","",""]
[null,null,128,null,null,null,"※リストから選択して下さい","",null,null,null,null,null,null,null,null,{"$f":"IF(R153=1,SUM($R$26:$R153),\"\")","v":""},0,"","","","",{"$f":"IF(SUBSTITUTE(SUBSTITUTE($F153,\"　\",\"\"),\" \",\"\")=\"\",\"\",IFERROR(VLOOKUP($F153,$N$26:$N$46,1,FALSE),IFERROR(VLOOKUP(IF(AND(LEFT($F153,1)=\"小\",NOT(SUM(COUNTIF($F153,{\"*中*\",\"*高*\",\"*大*\"})))),\"小\",IF(AND(LEFT($F153,1)=\"中\",NOT(SUM(COUNTIF($F153,{\"*小*\",\"*高*\",\"*大*\"})))),\"中\",IF(AND(LEFT($F153,1)=\"高\",NOT(SUM(COUNTIF($F153,{\"*小*\",\"*中*\",\"*大*\"})))),\"高\",IF(AND(LEFT($F153,1)=\"大\",NOT(SUM(COUNTIF($F153,{\"*小*\",\"*中*\",\"*高*\"})))),\"大\",\"NG\"))))&MAX(TEXT(MID($F153,{1,2,3,4,5},{1;2;3;4;5;6;7;8;9;10;11;12;13;14;15}),\"標準;;0;!0\")*1),$N$26:$N$46,1,FALSE),\"NG\")))","v":""},"",0,0,0,"","氏名","・","年齢","・","学年","","","が未記入です。","","","","",""]
[null,null,129,null,null,null,"※リストから選択して下さい",{"$f":"AB154","v":""},null,null,null,null,null,null,null,null,{"$f":"IF(R154=1,SUM($R$26:$R154),\"\")","v":""},0,{"$f":"TRIM(SUBSTITUTE(D154,\" \",\"　\"))","v":""},"",{"$f":"IF(S154=\"\",\"\",1)","v":""},"",{"$f":"IF(SUBSTITUTE(SUBSTITUTE($F154,\"　\",\"\"),\" \",\"\")=\"\",\"\",IFERROR(VLOOKUP($F154,$N$26:$N$46,1,FALSE),IFERROR(VLOOKUP(IF(AND(LEFT($F154,1)=\"小\",NOT(SUM(COUNTIF($F154,{\"*中*\",\"*高*\",\"*大*\"})))),\"小\",IF(AND(LEFT($F154,1)=\"中\",NOT(SUM(COUNTIF($F154,{\"*小*\",\"*高*\",\"*大*\"})))),\"中\",IF(AND(LEFT($F154,1)=\"高\",NOT(SUM(COUNTIF($F154,{\"*小*\",\"*中*\",\"*大*\"})))),\"高\",IF(AND(LEFT($F154,1)=\"大\",NOT(SUM(COUNTIF($F154,{\"*小*\",\"*中*\",\"*高*\"})))),\"大\",\"NG\"))))&MAX(TEXT(MID($F154,{1,2,3,4,5},{1;2;3;4;5;6;7;8;9;10;11;12;13;14;15}),\"標準;;0;!0\")*1),$N$26:$N$46,1,FALSE),\"NG\")))","v":""},{"$f":"IF(OR($O$1=0,Y154=0),\"\",IF(OR($O$5=3,$O$5=0,$O$5=\"\"),IF(G154=$N$23,1,IF(G154=$O$23,2,0)),$O$5))","v":""},{"$f":"IF(AND(COUNTBLANK(U154:W154)=3,OR($O$5=1,$O$5=2,$O$5=\"\",AND(OR($O$5=3,$O$5=0),OR(G154=$P$23,G154=\"\")))),0,1)","v":0},0,{"$f":"IF(AND(Y154=1,OR(U154<>1,V154<>1,W154=\"\",W154=\"NG\",X154=0)),1,0)","v":0},{"$f":"IF(Z154=1,$W$24,IF(OR(V154=2,W154=\"NG\"),CONCATENATE(AK154,AL154,AM154,AN154,AO154),IF(Y154=0,\"\",CONCATENATE(AC154,AD154,AE154,AF154,AG154,AH154,AI154,AJ154))))","v":""},{"$f":"IF(U154=\"\",$D$25,\"\")","v":"氏名"},"・",{"$f":"IF(V154=\"\",$E$25,\"\")","v":"年齢"},"・",{"$f":"IF(W154=\"\",$F$25,\"\")","v":"学年"},"",{"$f":"IF(AND($O$1=1,OR($D$4=$P$4,$D$4=$Q$4),OR(G154=\"\",G154=$P$23)),\"プログラム掲載の有無\",\"\")","v":""},"が未記入です。",{"$f":"IF(V154=2,$E$25,\"\")","v":""},"","","",{"$f":"IF(AND(AK154<>\"\",AM154=\"\"),$AL$24,IF(AND(AK154=\"\",AM154<>\"\"),$AO$25,\"\"))","v":""}]
[null,null,130,null,null,null,"※リストから選択して下さい","",null,null,null,null,null,null,null,null,{"$f":"IF(R155=1,SUM($R$26:$R155),\"\")","v":""},{"$f":"IF(X155=1,1,0)","v":0},"",{"$f":"IF(V155=1,VALUE(ASC(E155)),\"\")","v":""},"",{"$f":"IF(SUBSTITUTE(SUBSTITUTE(E155,\"　\",\"\"),\" \",\"\")=\"\",\"\",IF(ISNUMBER(VALUE(ASC(E155))),1,2))","v":""},{"$f":"IF(SUBSTITUTE(SUBSTITUTE($F155,\"　\",\"\"),\" \",\"\")=\"\",\"\",IFERROR(VLOOKUP($F155,$N$26:$N$46,1,FALSE),IFERROR(VLOOKUP(IF(AND(LEFT($F155,1)=\"小\",NOT(SUM(COUNTIF($F155,{\"*中*\",\"*高*\",\"*大*\"})))),\"小\",IF(AND(LEFT($F155,1)=\"中\",NOT(SUM(COUNTIF($F155,{\"*小*\",\"*高*\",\"*大*\"})))),\"中\",IF(AND(LEFT($F155,1)=\"高\",NOT(SUM(COUNTIF($F155,{\"*小*\",\"*中*\",\"*大*\"})))),\"高\",IF(AND(LEFT($F155,1)=\"大\",NOT(SUM(COUNTIF($F155,{\"*小*\",\"*中*\",\"*高*\"})))),\"大\",\"NG\"))))&MAX(TEXT(MID($F155,{1,2,3,4,5},{1;2;3;4;5;6;7;8;9;10;11;12;13;14;15}),\"標準;;0;!0\")*1),$N$26:$N$46,1,FALSE),\"NG\")))","v":""},"",0,0,0,"","氏名",{"$f":"IF(OR(AC155=\"\",AND(AE155=\"\",AG155=\"\",AI155=\"\")),\"\",\"・\")","v":"・"},"年齢",{"$f":"IF(OR(AE155=\"\",AND(AG155=\"\",AI155=\"\")),\"\",\"・\")","v":"・"},"学年",{"$f":"IF(OR(AG155=\"\",AI155=\"\"),\"\",\"・\")","v":""},"",{"$f":"IF(COUNTBLANK(AC155:AI155)=7,\"\",\"が未記入です。\")","v":"が未記入です。"},"",{"$f":"IF(OR(AK155=\"\",AM155=\"\"),\"\",\"・\")","v":""},{"$f":"IF(W155=\"NG\",$F$25,\"\")","v":""},{"$f":"IF(COUNTBLANK(AK155:AM155)=3,\"\",\"が判別できません。\")","v":""},""]
[null,null,131,null,null,null,"※リストから選択して下さい","",null,null,null,null,null,null,null,null,{"$f":"IF(R156=1,SUM($R$26:$R156),\"\")","v":""},0,"","","","",{"$f":"IF(SUBSTITUTE(SUBSTITUTE($F156,\"　\",\"\"),\" \",\"\")=\"\",\"\",IFERROR(VLOOKUP($F156,$N$26:$N$46,1,FALSE),IFERROR(VLOOKUP(IF(AND(LEFT($F156,1)=\"小\",NOT(SUM(COUNTIF($F156,{\"*中*\",\"*高*\",\"*大*\"})))),\"小\",IF(AND(LEFT($F156,1)=\"中\",NOT(SUM(COUNTIF($F156,{\"*小*\",\"*高*\",\"*大*\"})))),\"中\",IF(AND(LEFT($F156,1)=\"高\",NOT(SUM(COUNTIF($F156,{\"*小*\",\"*中*\",\"*大*\"})))),\"高\",IF(AND(LEFT($F156,1)=\"大\",NOT(SUM(COUNTIF($F156,{\"*小*\",\"*中*\",\"*高*\"})))),\"大\",\"NG\"))))&MAX(TEXT(MID($F156,{1,2,3,4,5},{1;2;3;4;5;6;7;8;9;10;11;12;13;14;15}),\"標準;;0;!0\")*1),$N$26:$N$46,1,FALSE),\"NG\")))","v":""},"",0,{"$f":"IF(AND(Y156=1,Y155=0),1,0)","v":0},0,"","氏名","・","年齢","・","学年","","","が未記入です。","","","","",""]
[null,null,132,null,null,null,"※リストから選択して下さい","",null,null,null,null,null,null,null,null,{"$f":"IF(R157=1,SUM($R$26:$R157),\"\")","v":""},0,"","","","",{"$f":"IF(SUBSTITUTE(SUBSTITUTE($F157,\"　\",\"\"),\" \",\"\")=\"\",\"\",IFERROR(VLOOKUP($F157,$N$26:$N$46,1,FALSE),IFERROR(VLOOKUP(IF(AND(LEFT($F157,1)=\"小\",NOT(SUM(COUNTIF($F157,{\"*中*\",\"*高*\",\"*大*\"})))),\"小\",IF(AND(LEFT($F157,1)=\"中\",NOT(SUM(COUNTIF($F157,{\"*小*\",\"*高*\",\"*大*\"})))),\"中\",IF(AND(LEFT($F157,1)=\"高\",NOT(SUM(COUNTIF($F157,{\"*小*\",\"*中*\",\"*大*\"})))),\"高\",IF(AND(LEFT($F157,1)=\"大\",NOT(SUM(COUNTIF($F157,{\"*小*\",\"*中*\",\"*高*\"})))),\"大\",\"NG\"))))&MAX(TEXT(MID($F157,{1,2,3,4,5},{1;2;3;4;5;6;7;8;9;10;11;12;13;14;15}),\"標準;;0;!0\")*1),$N$26:$N$46,1,FALSE),\"NG\")))","v":""},"",0,0,0,"","氏名","・","年齢","・","学年","","","が未記入です。","","","","",""]
[null,null,133,null,null,null,"※リストから選択して下さい","",null,null,null,null,null,null,null,null,{"$f":"IF(R158=1,SUM($R$26:$R158),\"\")","v":""},0,"","","","",{"$f":"IF(SUBSTITUTE(SUBSTITUTE($F158,\"　\",\"\"),\" \",\"\")=\"\",\"\",IFERROR(VLOOKUP($F158,$N$26:$N$46,1,FALSE),IFERROR(VLOOKUP(IF(AND(LEFT($F158,1)=\"小\",NOT(SUM(COUNTIF($F158,{\"*中*\",\"*高*\",\"*大*\"})))),\"小\",IF(AND(LEFT($F158,1)=\"中\",NOT(SUM(COUNTIF($F158,{\"*小*\",\"*高*\",\"*大*\"})))),\"中\",IF(AND(LEFT($F158,1)=\"高\",NOT(SUM(COUNTIF($F158,{\"*小*\",\"*中*\",\"*大*\"})))),\"高\",IF(AND(LEFT($F158,1)=\"大\",NOT(SUM(COUNTIF($F158,{\"*小*\",\"*中*\",\"*高*\"})))),\"大\",\"NG\"))))&MAX(TEXT(MID($F158,{1,2,3,4,5},{1;2;3;4;5;6;7;8;9;10;11;12;13;14;15}),\"標準;;0;!0\")*1),$N$26:$N$46,1,FALSE),\"NG\")))","v":""},"",0,0,0,"","氏名","・","年齢","・","学年","","","が未記入です。","","","","",""]
[null,null,134,null,null,null,"※リストから選択して下さい","",null,null,null,null,null,null,null,null,{"$f":"IF(R159=1,SUM($R$26:$R159),\"\")","v":""},0,"","","","",{"$f":"IF(SUBSTITUTE(SUBSTITUTE($F159,\"　\",\"\"),\" \",\"\")=\"\",\"\",IFERROR(VLOOKUP($F159,$N$26:$N$46,1,FALSE),IFERROR(VLOOKUP(IF(AND(LEFT($F159,1)=\"小\",NOT(SUM(COUNTIF($F159,{\"*中*\",\"*高*\",\"*大*\"})))),\"小\",IF(AND(LEFT($F159,1)=\"中\",NOT(SUM(COUNTIF($F159,{\"*小*\",\"*高*\",\"*大*\"})))),\"中\",IF(AND(LEFT($F159,1)=\"高\",NOT(SUM(COUNTIF($F159,{\"*小*\",\"*中*\",\"*大*\"})))),\"高\",IF(AND(LEFT($F159,1)=\"大\",NOT(SUM(COUNTIF($F159,{\"*小*\",\"*中*\",\"*高*\"})))),\"大\",\"NG\"))))&MAX(TEXT(MID($F159,{1,2,3,4,5},{1;2;3;4;5;6;7;8;9;10;11;12;13;14;15}),\"標準;;0;!0\")*1),$N$26:$N$46,1,FALSE),\"NG\")))","v":""},"",0,0,0,"","氏名","・","年齢","・","学年","","","が未記入です。","","","","",""]
[null,null,135,null,null,null,"※リストから選択して下さい","",null,null,null,null,null,null,null,null,{"$f":"IF(R160=1,SUM($R$26:$R160),\"\")","v":""},0,"","","","",{"$f":"IF(SUBSTITUTE(SUBSTITUTE($F160,\"　\",\"\"),\" \",\"\")=\"\",\"\",IFERROR(VLOOKUP($F160,$N$26:$N$46,1,FALSE),IFERROR(VLOOKUP(IF(AND(LEFT($F160,1)=\"小\",NOT(SUM(COUNTIF($F160,{\"*中*\",\"*高*\",\"*大*\"})))),\"小\",IF(AND(LEFT($F160,1)=\"中\",NOT(SUM(COUNTIF($F160,{\"*小*\",\"*高*\",\"*大*\"})))),\"中\",IF(AND(LEFT($F160,1)=\"高\",NOT(SUM(COUNTIF($F160,{\"*小*\",\"*中*\",\"*大*\"})))),\"高\",IF(AND(LEFT($F160,1)=\"大\",NOT(SUM(COUNTIF($F160,{\"*小*\",\"*中*\",\"*高*\"})))),\"大\",\"NG\"))))&MAX(TEXT(MID($F160,{1,2,3,4,5},{1;2;3;4;5;6;7;8;9;10;11;12;13;14;15}),\"標準;;0;!0\")*1),$N$26:$N$46,1,FALSE),\"NG\")))","v":""},"",0,0,0,"","氏名","・","年齢","・","学年","","","が未記入です。","","","","",""]
[null,null,136,null,null,null,"※リストから選択して下さい","",null,null,null,null,null,null,null,null,{"$f":"IF(R161=1,SUM($R$26:$R161),\"\")","v":""},0,"","","","",{"$f":"IF(SUBSTITUTE(SUBSTITUTE($F161,\"　\",\"\"),\" \",\"\")=\"\",\"\",IFERROR(VLOOKUP($F161,$N$26:$N$46,1,FALSE),IFERROR(VLOOKUP(IF(AND(LEFT($F161,1)=\"小\",NOT(SUM(COUNTIF($F161,{\"*中*\",\"*高*\",\"*大*\"})))),\"小\",IF(AND(LEFT($F161,1)=\"中\",NOT(SUM(COUNTIF($F161,{\"*小*\",\"*高*\",\"*大*\"})))),\"中\",IF(AND(LEFT($F161,1)=\"高\",NOT(SUM(COUNTIF($F161,{\"*小*\",\"*中*\",\"*大*\"})))),\"高\",IF(AND(LEFT($F161,1)=\"大\",NOT(SUM(COUNTIF($F161,{\"*小*\",\"*中*\",\"*高*\"})))),\"大\",\"NG\"))))&MAX(TEXT(MID($F161,{1,2,3,4,5},{1;2;3;4;5;6;7;8;9;10;11;12;13;14;15}),\"標準;;0;!0\")*1),$N$26:$N$46,1,FALSE),\"NG\")))","v":""},"",0,0,0,"","氏名","・","年齢","・","学年","","","が未記入です。","","","","",""]
[null,null,137,null,null,null,"※リストから選択して下さい","",null,null,null,null,null,null,null,null,{"$f":"IF(R162=1,SUM($R$26:$R162),\"\")","v":""},0,"","","","",{"$f":"IF(SUBSTITUTE(SUBSTITUTE($F162,\"　\",\"\"),\" \",\"\")=\"\",\"\",IFERROR(VLOOKUP($F162,$N$26:$N$46,1,FALSE),IFERROR(VLOOKUP(IF(AND(LEFT($F162,1)=\"小\",NOT(SUM(COUNTIF($F162,{\"*中*\",\"*高*\",\"*大*\"})))),\"小\",IF(AND(LEFT($F162,1)=\"中\",NOT(SUM(COUNTIF($F162,{\"*小*\",\"*高*\",\"*大*\"})))),\"中\",IF(AND(LEFT($F162,1)=\"高\",NOT(SUM(COUNTIF($F162,{\"*小*\",\"*中*\",\"*大*\"})))),\"高\",IF(AND(LEFT($F162,1)=\"大\",NOT(SUM(COUNTIF($F162,{\"*小*\",\"*中*\",\"*高*\"})))),\"大\",\"NG\"))))&MAX(TEXT(MID($F162,{1,2,3,4,5},{1;2;3;4;5;6;7;8;9;10;11;12;13;14;15}),\"標準;;0;!0\")*1),$N$26:$N$46,1,FALSE),\"NG\")))","v":""},"",0,0,0,"","氏名","・","年齢","・","学年","","","が未記入です。","","","","",""]
[null,null,138,null,null,null,"※リストから選択して下さい","",null,null,null,null,null,null,null,null,{"$f":"IF(R163=1,SUM($R$26:$R163),\"\")","v":""},0,"","","","",{"$f":"IF(SUBSTITUTE(SUBSTITUTE($F163,\"　\",\"\"),\" \",\"\")=\"\",\"\",IFERROR(VLOOKUP($F163,$N$26:$N$46,1,FALSE),IFERROR(VLOOKUP(IF(AND(LEFT($F163,1)=\"小\",NOT(SUM(COUNTIF($F163,{\"*中*\",\"*高*\",\"*大*\"})))),\"小\",IF(AND(LEFT($F163,1)=\"中\",NOT(SUM(COUNTIF($F163,{\"*小*\",\"*高*\",\"*大*\"})))),\"中\",IF(AND(LEFT($F163,1)=\"高\",NOT(SUM(COUNTIF($F163,{\"*小*\",\"*中*\",\"*大*\"})))),\"高\",IF(AND(LEFT($F163,1)=\"大\",NOT(SUM(COUNTIF($F163,{\"*小*\",\"*中*\",\"*高*\"})))),\"大\",\"NG\"))))&MAX(TEXT(MID($F163,{1,2,3,4,5},{1;2;3;4;5;6;7;8;9;10;11;12;13;14;15}),\"標準;;0;!0\")*1),$N$26:$N$46,1,FALSE),\"NG\")))","v":""},"",0,0,0,"","氏名","・","年齢","・","学年","","","が未記入です。","","","","",""]
[null,null,139,null,null,null,"※リストから選択して下さい","",null,null,null,null,null,null,null,null,{"$f":"IF(R164=1,SUM($R$26:$R164),\"\")","v":""},0,"","","","",{"$f":"IF(SUBSTITUTE(SUBSTITUTE($F164,\"　\",\"\"),\" \",\"\")=\"\",\"\",IFERROR(VLOOKUP($F164,$N$26:$N$46,1,FALSE),IFERROR(VLOOKUP(IF(AND(LEFT($F164,1)=\"小\",NOT(SUM(COUNTIF($F164,{\"*中*\",\"*高*\",\"*大*\"})))),\"小\",IF(AND(LEFT($F164,1)=\"中\",NOT(SUM(COUNTIF($F164,{\"*小*\",\"*高*\",\"*大*\"})))),\"中\",IF(AND(LEFT($F164,1)=\"高\",NOT(SUM(COUNTIF($F164,{\"*小*\",\"*中*\",\"*大*\"})))),\"高\",IF(AND(LEFT($F164,1)=\"大\",NOT(SUM(COUNTIF($F164,{\"*小*\",\"*中*\",\"*高*\"})))),\"大\",\"NG\"))))&MAX(TEXT(MID($F164,{1,2,3,4,5},{1;2;3;4;5;6;7;8;9;10;11;12;13;14;15}),\"標準;;0;!0\")*1),$N$26:$N$46,1,FALSE),\"NG\")))","v":""},"",0,0,0,"","氏名","・","年齢","・","学年","","","が未記入です。","","","","",""]
[null,null,140,null,null,null,"※リストから選択して下さい","",null,null,null,null,null,null,null,null,{"$f":"IF(R165=1,SUM($R$26:$R165),\"\")","v":""},0,"","","","",{"$f":"IF(SUBSTITUTE(SUBSTITUTE($F165,\"　\",\"\"),\" \",\"\")=\"\",\"\",IFERROR(VLOOKUP($F165,$N$26:$N$46,1,FALSE),IFERROR(VLOOKUP(IF(AND(LEFT($F165,1)=\"小\",NOT(SUM(COUNTIF($F165,{\"*中*\",\"*高*\",\"*大*\"})))),\"小\",IF(AND(LEFT($F165,1)=\"中\",NOT(SUM(COUNTIF($F165,{\"*小*\",\"*高*\",\"*大*\"})))),\"中\",IF(AND(LEFT($F165,1)=\"高\",NOT(SUM(COUNTIF($F165,{\"*小*\",\"*中*\",\"*大*\"})))),\"高\",IF(AND(LEFT($F165,1)=\"大\",NOT(SUM(COUNTIF($F165,{\"*小*\",\"*中*\",\"*高*\"})))),\"大\",\"NG\"))))&MAX(TEXT(MID($F165,{1,2,3,4,5},{1;2;3;4;5;6;7;8;9;10;11;12;13;14;15}),\"標準;;0;!0\")*1),$N$26:$N$46,1,FALSE),\"NG\")))","v":""},"",0,0,0,"","氏名","・","年齢","・","学年","","","が未記入です。","","","","",""]
[null,null,141,null,null,null,"※リストから選択して下さい","",null,null,null,null,null,null,null,null,{"$f":"IF(R166=1,SUM($R$26:$R166),\"\")","v":""},0,"","","","",{"$f":"IF(SUBSTITUTE(SUBSTITUTE($F166,\"　\",\"\"),\" \",\"\")=\"\",\"\",IFERROR(VLOOKUP($F166,$N$26:$N$46,1,FALSE),IFERROR(VLOOKUP(IF(AND(LEFT($F166,1)=\"小\",NOT(SUM(COUNTIF($F166,{\"*中*\",\"*高*\",\"*大*\"})))),\"小\",IF(AND(LEFT($F166,1)=\"中\",NOT(SUM(COUNTIF($F166,{\"*小*\",\"*高*\",\"*大*\"})))),\"中\",IF(AND(LEFT($F166,1)=\"高\",NOT(SUM(COUNTIF($F166,{\"*小*\",\"*中*\",\"*大*\"})))),\"高\",IF(AND(LEFT($F166,1)=\"大\",NOT(SUM(COUNTIF($F166,{\"*小*\",\"*中*\",\"*高*\"})))),\"大\",\"NG\"))))&MAX(TEXT(MID($F166,{1,2,3,4,5},{1;2;3;4;5;6;7;8;9;10;11;12;13;14;15}),\"標準;;0;!0\")*1),$N$26:$N$46,1,FALSE),\"NG\")))","v":""},"",0,0,0,"","氏名","・","年齢","・","学年","","","が未記入です。","","","","",""]
[null,null,142,null,null,null,"※リストから選択して下さい","",null,null,null,null,null,null,null,null,{"$f":"IF(R167=1,SUM($R$26:$R167),\"\")","v":""},0,"","","","",{"$f":"IF(SUBSTITUTE(SUBSTITUTE($F167,\"　\",\"\"),\" \",\"\")=\"\",\"\",IFERROR(VLOOKUP($F167,$N$26:$N$46,1,FALSE),IFERROR(VLOOKUP(IF(AND(LEFT($F167,1)=\"小\",NOT(SUM(COUNTIF($F167,{\"*中*\",\"*高*\",\"*大*\"})))),\"小\",IF(AND(LEFT($F167,1)=\"中\",NOT(SUM(COUNTIF($F167,{\"*小*\",\"*高*\",\"*大*\"})))),\"中\",IF(AND(LEFT($F167,1)=\"高\",NOT(SUM(COUNTIF($F167,{\"*小*\",\"*中*\",\"*大*\"})))),\"高\",IF(AND(LEFT($F167,1)=\"大\",NOT(SUM(COUNTIF($F167,{\"*小*\",\"*中*\",\"*高*\"})))),\"大\",\"NG\"))))&MAX(TEXT(MID($F167,{1,2,3,4,5},{1;2;3;4;5;6;7;8;9;10;11;12;13;14;15}),\"標準;;0;!0\")*1),$N$26:$N$46,1,FALSE),\"NG\")))","v":""},"",0,0,0,"","氏名","・","年齢","・","学年","","","が未記入です。","","","","",""]
[null,null,143,null,null,null,"※リストから選択して下さい","",null,null,null,null,null,null,null,null,{"$f":"IF(R168=1,SUM($R$26:$R168),\"\")","v":""},0,"","","","",{"$f":"IF(SUBSTITUTE(SUBSTITUTE($F168,\"　\",\"\"),\" \",\"\")=\"\",\"\",IFERROR(VLOOKUP($F168,$N$26:$N$46,1,FALSE),IFERROR(VLOOKUP(IF(AND(LEFT($F168,1)=\"小\",NOT(SUM(COUNTIF($F168,{\"*中*\",\"*高*\",\"*大*\"})))),\"小\",IF(AND(LEFT($F168,1)=\"中\",NOT(SUM(COUNTIF($F168,{\"*小*\",\"*高*\",\"*大*\"})))),\"中\",IF(AND(LEFT($F168,1)=\"高\",NOT(SUM(COUNTIF($F168,{\"*小*\",\"*中*\",\"*大*\"})))),\"高\",IF(AND(LEFT($F168,1)=\"大\",NOT(SUM(COUNTIF($F168,{\"*小*\",\"*中*\",\"*高*\"})))),\"大\",\"NG\"))))&MAX(TEXT(MID($F168,{1,2,3,4,5},{1;2;3;4;5;6;7;8;9;10;11;12;13;14;15}),\"標準;;0;!0\")*1),$N$26:$N$46,1,FALSE),\"NG\")))","v":""},"",0,0,0,"","氏名","・","年齢","・","学年","","","が未記入です。","","","","",""]
[null,null,144,null,null,null,"※リストから選択して下さい","",null,null,null,null,null,null,null,null,{"$f":"IF(R169=1,SUM($R$26:$R169),\"\")","v":""},0,"","","","",{"$f":"IF(SUBSTITUTE(SUBSTITUTE($F169,\"　\",\"\"),\" \",\"\")=\"\",\"\",IFERROR(VLOOKUP($F169,$N$26:$N$46,1,FALSE),IFERROR(VLOOKUP(IF(AND(LEFT($F169,1)=\"小\",NOT(SUM(COUNTIF($F169,{\"*中*\",\"*高*\",\"*大*\"})))),\"小\",IF(AND(LEFT($F169,1)=\"中\",NOT(SUM(COUNTIF($F169,{\"*小*\",\"*高*\",\"*大*\"})))),\"中\",IF(AND(LEFT($F169,1)=\"高\",NOT(SUM(COUNTIF($F169,{\"*小*\",\"*中*\",\"*大*\"})))),\"高\",IF(AND(LEFT($F169,1)=\"大\",NOT(SUM(COUNTIF($F169,{\"*小*\",\"*中*\",\"*高*\"})))),\"大\",\"NG\"))))&MAX(TEXT(MID($F169,{1,2,3,4,5},{1;2;3;4;5;6;7;8;9;10;11;12;13;14;15}),\"標準;;0;!0\")*1),$N$26:$N$46,1,FALSE),\"NG\")))","v":""},"",0,0,0,"","氏名","・","年齢","・","学年","","","が未記入です。","","","","",""]
[null,null,145,null,null,null,"※リストから選択して下さい","",null,null,null,null,null,null,null,null,{"$f":"IF(R170=1,SUM($R$26:$R170),\"\")","v":""},0,"","","","",{"$f":"IF(SUBSTITUTE(SUBSTITUTE($F170,\"　\",\"\"),\" \",\"\")=\"\",\"\",IFERROR(VLOOKUP($F170,$N$26:$N$46,1,FALSE),IFERROR(VLOOKUP(IF(AND(LEFT($F170,1)=\"小\",NOT(SUM(COUNTIF($F170,{\"*中*\",\"*高*\",\"*大*\"})))),\"小\",IF(AND(LEFT($F170,1)=\"中\",NOT(SUM(COUNTIF($F170,{\"*小*\",\"*高*\",\"*大*\"})))),\"中\",IF(AND(LEFT($F170,1)=\"高\",NOT(SUM(COUNTIF($F170,{\"*小*\",\"*中*\",\"*大*\"})))),\"高\",IF(AND(LEFT($F170,1)=\"大\",NOT(SUM(COUNTIF($F170,{\"*小*\",\"*中*\",\"*高*\"})))),\"大\",\"NG\"))))&MAX(TEXT(MID($F170,{1,2,3,4,5},{1;2;3;4;5;6;7;8;9;10;11;12;13;14;15}),\"標準;;0;!0\")*1),$N$26:$N$46,1,FALSE),\"NG\")))","v":""},"",0,0,0,"","氏名","・","年齢","・","学年","","","が未記入です。","","","","",""]
[null,null,146,null,null,null,"※リストから選択して下さい","",null,null,null,null,null,null,null,null,{"$f":"IF(R171=1,SUM($R$26:$R171),\"\")","v":""},0,"","","","",{"$f":"IF(SUBSTITUTE(SUBSTITUTE($F171,\"　\",\"\"),\" \",\"\")=\"\",\"\",IFERROR(VLOOKUP($F171,$N$26:$N$46,1,FALSE),IFERROR(VLOOKUP(IF(AND(LEFT($F171,1)=\"小\",NOT(SUM(COUNTIF($F171,{\"*中*\",\"*高*\",\"*大*\"})))),\"小\",IF(AND(LEFT($F171,1)=\"中\",NOT(SUM(COUNTIF($F171,{\"*小*\",\"*高*\",\"*大*\"})))),\"中\",IF(AND(LEFT($F171,1)=\"高\",NOT(SUM(COUNTIF($F171,{\"*小*\",\"*中*\",\"*大*\"})))),\"高\",IF(AND(LEFT($F171,1)=\"大\",NOT(SUM(COUNTIF($F171,{\"*小*\",\"*中*\",\"*高*\"})))),\"大\",\"NG\"))))&MAX(TEXT(MID($F171,{1,2,3,4,5},{1;2;3;4;5;6;7;8;9;10;11;12;13;14;15}),\"標準;;0;!0\")*1),$N$26:$N$46,1,FALSE),\"NG\")))","v":""},"",0,0,0,"","氏名","・","年齢","・","学年","","","が未記入です。","","","","",""]
[null,null,147,null,null,null,"※リストから選択して下さい","",null,null,null,null,null,null,null,null,{"$f":"IF(R172=1,SUM($R$26:$R172),\"\")","v":""},0,"","","","",{"$f":"IF(SUBSTITUTE(SUBSTITUTE($F172,\"　\",\"\"),\" \",\"\")=\"\",\"\",IFERROR(VLOOKUP($F172,$N$26:$N$46,1,FALSE),IFERROR(VLOOKUP(IF(AND(LEFT($F172,1)=\"小\",NOT(SUM(COUNTIF($F172,{\"*中*\",\"*高*\",\"*大*\"})))),\"小\",IF(AND(LEFT($F172,1)=\"中\",NOT(SUM(COUNTIF($F172,{\"*小*\",\"*高*\",\"*大*\"})))),\"中\",IF(AND(LEFT($F172,1)=\"高\",NOT(SUM(COUNTIF($F172,{\"*小*\",\"*中*\",\"*大*\"})))),\"高\",IF(AND(LEFT($F172,1)=\"大\",NOT(SUM(COUNTIF($F172,{\"*小*\",\"*中*\",\"*高*\"})))),\"大\",\"NG\"))))&MAX(TEXT(MID($F172,{1,2,3,4,5},{1;2;3;4;5;6;7;8;9;10;11;12;13;14;15}),\"標準;;0;!0\")*1),$N$26:$N$46,1,FALSE),\"NG\")))","v":""},"",0,0,0,"","氏名","・","年齢","・","学年","","","が未記入です。","","","","",""]
[null,null,148,null,null,null,"※リストから選択して下さい","",null,null,null,null,null,null,null,null,{"$f":"IF(R173=1,SUM($R$26:$R173),\"\")","v":""},0,"","","","",{"$f":"IF(SUBSTITUTE(SUBSTITUTE($F173,\"　\",\"\"),\" \",\"\")=\"\",\"\",IFERROR(VLOOKUP($F173,$N$26:$N$46,1,FALSE),IFERROR(VLOOKUP(IF(AND(LEFT($F173,1)=\"小\",NOT(SUM(COUNTIF($F173,{\"*中*\",\"*高*\",\"*大*\"})))),\"小\",IF(AND(LEFT($F173,1)=\"中\",NOT(SUM(COUNTIF($F173,{\"*小*\",\"*高*\",\"*大*\"})))),\"中\",IF(AND(LEFT($F173,1)=\"高\",NOT(SUM(COUNTIF($F173,{\"*小*\",\"*中*\",\"*大*\"})))),\"高\",IF(AND(LEFT($F173,1)=\"大\",NOT(SUM(COUNTIF($F173,{\"*小*\",\"*中*\",\"*高*\"})))),\"大\",\"NG\"))))&MAX(TEXT(MID($F173,{1,2,3,4,5},{1;2;3;4;5;6;7;8;9;10;11;12;13;14;15}),\"標準;;0;!0\")*1),$N$26:$N$46,1,FALSE),\"NG\")))","v":""},"",0,0,0,"","氏名","・","年齢","・","学年","","","が未記入です。","","","","",""]
[null,null,149,null,null,null,"※リストから選択して下さい","",null,null,null,null,null,null,null,null,{"$f":"IF(R174=1,SUM($R$26:$R174),\"\")","v":""},0,"","","","",{"$f":"IF(SUBSTITUTE(SUBSTITUTE($F174,\"　\",\"\"),\" \",\"\")=\"\",\"\",IFERROR(VLOOKUP($F174,$N$26:$N$46,1,FALSE),IFERROR(VLOOKUP(IF(AND(LEFT($F174,1)=\"小\",NOT(SUM(COUNTIF($F174,{\"*中*\",\"*高*\",\"*大*\"})))),\"小\",IF(AND(LEFT($F174,1)=\"中\",NOT(SUM(COUNTIF($F174,{\"*小*\",\"*高*\",\"*大*\"})))),\"中\",IF(AND(LEFT($F174,1)=\"高\",NOT(SUM(COUNTIF($F174,{\"*小*\",\"*中*\",\"*大*\"})))),\"高\",IF(AND(LEFT($F174,1)=\"大\",NOT(SUM(COUNTIF($F174,{\"*小*\",\"*中*\",\"*高*\"})))),\"大\",\"NG\"))))&MAX(TEXT(MID($F174,{1,2,3,4,5},{1;2;3;4;5;6;7;8;9;10;11;12;13;14;15}),\"標準;;0;!0\")*1),$N$26:$N$46,1,FALSE),\"NG\")))","v":""},"",0,0,0,"","氏名","・","年齢","・","学年","","","が未記入です。","","","","",""]
[null,null,150,null,null,null,"※リストから選択して下さい","",null,null,null,null,null,null,null,null,{"$f":"IF(R175=1,SUM($R$26:$R175),\"\")","v":""},0,"","","","",{"$f":"IF(SUBSTITUTE(SUBSTITUTE($F175,\"　\",\"\"),\" \",\"\")=\"\",\"\",IFERROR(VLOOKUP($F175,$N$26:$N$46,1,FALSE),IFERROR(VLOOKUP(IF(AND(LEFT($F175,1)=\"小\",NOT(SUM(COUNTIF($F175,{\"*中*\",\"*高*\",\"*大*\"})))),\"小\",IF(AND(LEFT($F175,1)=\"中\",NOT(SUM(COUNTIF($F175,{\"*小*\",\"*高*\",\"*大*\"})))),\"中\",IF(AND(LEFT($F175,1)=\"高\",NOT(SUM(COUNTIF($F175,{\"*小*\",\"*中*\",\"*大*\"})))),\"高\",IF(AND(LEFT($F175,1)=\"大\",NOT(SUM(COUNTIF($F175,{\"*小*\",\"*中*\",\"*高*\"})))),\"大\",\"NG\"))))&MAX(TEXT(MID($F175,{1,2,3,4,5},{1;2;3;4;5;6;7;8;9;10;11;12;13;14;15}),\"標準;;0;!0\")*1),$N$26:$N$46,1,FALSE),\"NG\")))","v":""},"",0,0,0,"","氏名","・","年齢","・","学年","","","が未記入です。","","","","",""]
[null,null,151,null,null,null,"※リストから選択して下さい","",null,null,null,null,null,null,null,null,{"$f":"IF(R176=1,SUM($R$26:$R176),\"\")","v":""},0,"","","","",{"$f":"IF(SUBSTITUTE(SUBSTITUTE($F176,\"　\",\"\"),\" \",\"\")=\"\",\"\",IFERROR(VLOOKUP($F176,$N$26:$N$46,1,FALSE),IFERROR(VLOOKUP(IF(AND(LEFT($F176,1)=\"小\",NOT(SUM(COUNTIF($F176,{\"*中*\",\"*高*\",\"*大*\"})))),\"小\",IF(AND(LEFT($F176,1)=\"中\",NOT(SUM(COUNTIF($F176,{\"*小*\",\"*高*\",\"*大*\"})))),\"中\",IF(AND(LEFT($F176,1)=\"高\",NOT(SUM(COUNTIF($F176,{\"*小*\",\"*中*\",\"*大*\"})))),\"高\",IF(AND(LEFT($F176,1)=\"大\",NOT(SUM(COUNTIF($F176,{\"*小*\",\"*中*\",\"*高*\"})))),\"大\",\"NG\"))))&MAX(TEXT(MID($F176,{1,2,3,4,5},{1;2;3;4;5;6;7;8;9;10;11;12;13;14;15}),\"標準;;0;!0\")*1),$N$26:$N$46,1,FALSE),\"NG\")))","v":""},"",0,0,0,"","氏名","・","年齢","・","学年","","","が未記入です。","","","","",""]
[null,null,152,null,null,null,"※リストから選択して下さい","",null,null,null,null,null,null,null,null,{"$f":"IF(R177=1,SUM($R$26:$R177),\"\")","v":""},0,"","","","",{"$f":"IF(SUBSTITUTE(SUBSTITUTE($F177,\"　\",\"\"),\" \",\"\")=\"\",\"\",IFERROR(VLOOKUP($F177,$N$26:$N$46,1,FALSE),IFERROR(VLOOKUP(IF(AND(LEFT($F177,1)=\"小\",NOT(SUM(COUNTIF($F177,{\"*中*\",\"*高*\",\"*大*\"})))),\"小\",IF(AND(LEFT($F177,1)=\"中\",NOT(SUM(COUNTIF($F177,{\"*小*\",\"*高*\",\"*大*\"})))),\"中\",IF(AND(LEFT($F177,1)=\"高\",NOT(SUM(COUNTIF($F177,{\"*小*\",\"*中*\",\"*大*\"})))),\"高\",IF(AND(LEFT($F177,1)=\"大\",NOT(SUM(COUNTIF($F177,{\"*小*\",\"*中*\",\"*高*\"})))),\"大\",\"NG\"))))&MAX(TEXT(MID($F177,{1,2,3,4,5},{1;2;3;4;5;6;7;8;9;10;11;12;13;14;15}),\"標準;;0;!0\")*1),$N$26:$N$46,1,FALSE),\"NG\")))","v":""},"",0,0,0,"","氏名","・","年齢","・","学年","","","が未記入です。","","","","",""]
[null,null,153,null,null,null,"※リストから選択して下さい","",null,null,null,null,null,null,null,null,{"$f":"IF(R178=1,SUM($R$26:$R178),\"\")","v":""},0,"","","","",{"$f":"IF(SUBSTITUTE(SUBSTITUTE($F178,\"　\",\"\"),\" \",\"\")=\"\",\"\",IFERROR(VLOOKUP($F178,$N$26:$N$46,1,FALSE),IFERROR(VLOOKUP(IF(AND(LEFT($F178,1)=\"小\",NOT(SUM(COUNTIF($F178,{\"*中*\",\"*高*\",\"*大*\"})))),\"小\",IF(AND(LEFT($F178,1)=\"中\",NOT(SUM(COUNTIF($F178,{\"*小*\",\"*高*\",\"*大*\"})))),\"中\",IF(AND(LEFT($F178,1)=\"高\",NOT(SUM(COUNTIF($F178,{\"*小*\",\"*中*\",\"*大*\"})))),\"高\",IF(AND(LEFT($F178,1)=\"大\",NOT(SUM(COUNTIF($F178,{\"*小*\",\"*中*\",\"*高*\"})))),\"大\",\"NG\"))))&MAX(TEXT(MID($F178,{1,2,3,4,5},{1;2;3;4;5;6;7;8;9;10;11;12;13;14;15}),\"標準;;0;!0\")*1),$N$26:$N$46,1,FALSE),\"NG\")))","v":""},"",0,0,0,"","氏名","・","年齢","・","学年","","","が未記入です。","","","","",""]
[null,null,154,null,null,null,"※リストから選択して下さい","",null,null,null,null,null,null,null,null,{"$f":"IF(R179=1,SUM($R$26:$R179),\"\")","v":""},0,"","","","",{"$f":"IF(SUBSTITUTE(SUBSTITUTE($F179,\"　\",\"\"),\" \",\"\")=\"\",\"\",IFERROR(VLOOKUP($F179,$N$26:$N$46,1,FALSE),IFERROR(VLOOKUP(IF(AND(LEFT($F179,1)=\"小\",NOT(SUM(COUNTIF($F179,{\"*中*\",\"*高*\",\"*大*\"})))),\"小\",IF(AND(LEFT($F179,1)=\"中\",NOT(SUM(COUNTIF($F179,{\"*小*\",\"*高*\",\"*大*\"})))),\"中\",IF(AND(LEFT($F179,1)=\"高\",NOT(SUM(COUNTIF($F179,{\"*小*\",\"*中*\",\"*大*\"})))),\"高\",IF(AND(LEFT($F179,1)=\"大\",NOT(SUM(COUNTIF($F179,{\"*小*\",\"*中*\",\"*高*\"})))),\"大\",\"NG\"))))&MAX(TEXT(MID($F179,{1,2,3,4,5},{1;2;3;4;5;6;7;8;9;10;11;12;13;14;15}),\"標準;;0;!0\")*1),$N$26:$N$46,1,FALSE),\"NG\")))","v":""},"",0,0,0,"","氏名","・","年齢","・","学年","","","が未記入です。","","","","",""]
[null,null,155,null,null,null,"※リストから選択して下さい","",null,null,null,null,null,null,null,null,{"$f":"IF(R180=1,SUM($R$26:$R180),\"\")","v":""},0,"","","","",{"$f":"IF(SUBSTITUTE(SUBSTITUTE($F180,\"　\",\"\"),\" \",\"\")=\"\",\"\",IFERROR(VLOOKUP($F180,$N$26:$N$46,1,FALSE),IFERROR(VLOOKUP(IF(AND(LEFT($F180,1)=\"小\",NOT(SUM(COUNTIF($F180,{\"*中*\",\"*高*\",\"*大*\"})))),\"小\",IF(AND(LEFT($F180,1)=\"中\",NOT(SUM(COUNTIF($F180,{\"*小*\",\"*高*\",\"*大*\"})))),\"中\",IF(AND(LEFT($F180,1)=\"高\",NOT(SUM(COUNTIF($F180,{\"*小*\",\"*中*\",\"*大*\"})))),\"高\",IF(AND(LEFT($F180,1)=\"大\",NOT(SUM(COUNTIF($F180,{\"*小*\",\"*中*\",\"*高*\"})))),\"大\",\"NG\"))))&MAX(TEXT(MID($F180,{1,2,3,4,5},{1;2;3;4;5;6;7;8;9;10;11;12;13;14;15}),\"標準;;0;!0\")*1),$N$26:$N$46,1,FALSE),\"NG\")))","v":""},"",0,0,0,"","氏名","・","年齢","・","学年","","","が未記入です。","","","","",""]
[null,null,156,null,null,null,"※リストから選択して下さい","",null,null,null,null,null,null,null,null,{"$f":"IF(R181=1,SUM($R$26:$R181),\"\")","v":""},0,"","","","",{"$f":"IF(SUBSTITUTE(SUBSTITUTE($F181,\"　\",\"\"),\" \",\"\")=\"\",\"\",IFERROR(VLOOKUP($F181,$N$26:$N$46,1,FALSE),IFERROR(VLOOKUP(IF(AND(LEFT($F181,1)=\"小\",NOT(SUM(COUNTIF($F181,{\"*中*\",\"*高*\",\"*大*\"})))),\"小\",IF(AND(LEFT($F181,1)=\"中\",NOT(SUM(COUNTIF($F181,{\"*小*\",\"*高*\",\"*大*\"})))),\"中\",IF(AND(LEFT($F181,1)=\"高\",NOT(SUM(COUNTIF($F181,{\"*小*\",\"*中*\",\"*大*\"})))),\"高\",IF(AND(LEFT($F181,1)=\"大\",NOT(SUM(COUNTIF($F181,{\"*小*\",\"*中*\",\"*高*\"})))),\"大\",\"NG\"))))&MAX(TEXT(MID($F181,{1,2,3,4,5},{1;2;3;4;5;6;7;8;9;10;11;12;13;14;15}),\"標準;;0;!0\")*1),$N$26:$N$46,1,FALSE),\"NG\")))","v":""},"",0,0,0,"","氏名","・","年齢","・","学年","","","が未記入です。","","","","",""]
[null,null,157,null,null,null,"※リストから選択して下さい","",null,null,null,null,null,null,null,null,{"$f":"IF(R182=1,SUM($R$26:$R182),\"\")","v":""},0,"","","","",{"$f":"IF(SUBSTITUTE(SUBSTITUTE($F182,\"　\",\"\"),\" \",\"\")=\"\",\"\",IFERROR(VLOOKUP($F182,$N$26:$N$46,1,FALSE),IFERROR(VLOOKUP(IF(AND(LEFT($F182,1)=\"小\",NOT(SUM(COUNTIF($F182,{\"*中*\",\"*高*\",\"*大*\"})))),\"小\",IF(AND(LEFT($F182,1)=\"中\",NOT(SUM(COUNTIF($F182,{\"*小*\",\"*高*\",\"*大*\"})))),\"中\",IF(AND(LEFT($F182,1)=\"高\",NOT(SUM(COUNTIF($F182,{\"*小*\",\"*中*\",\"*大*\"})))),\"高\",IF(AND(LEFT($F182,1)=\"大\",NOT(SUM(COUNTIF($F182,{\"*小*\",\"*中*\",\"*高*\"})))),\"大\",\"NG\"))))&MAX(TEXT(MID($F182,{1,2,3,4,5},{1;2;3;4;5;6;7;8;9;10;11;12;13;14;15}),\"標準;;0;!0\")*1),$N$26:$N$46,1,FALSE),\"NG\")))","v":""},"",0,0,0,"","氏名","・","年齢","・","学年","","","が未記入です。","","","","",""]
[null,null,158,null,null,null,"※リストから選択して下さい","",null,null,null,null,null,null,null,null,{"$f":"IF(R183=1,SUM($R$26:$R183),\"\")","v":""},0,"","","","",{"$f":"IF(SUBSTITUTE(SUBSTITUTE($F183,\"　\",\"\"),\" \",\"\")=\"\",\"\",IFERROR(VLOOKUP($F183,$N$26:$N$46,1,FALSE),IFERROR(VLOOKUP(IF(AND(LEFT($F183,1)=\"小\",NOT(SUM(COUNTIF($F183,{\"*中*\",\"*高*\",\"*大*\"})))),\"小\",IF(AND(LEFT($F183,1)=\"中\",NOT(SUM(COUNTIF($F183,{\"*小*\",\"*高*\",\"*大*\"})))),\"中\",IF(AND(LEFT($F183,1)=\"高\",NOT(SUM(COUNTIF($F183,{\"*小*\",\"*中*\",\"*大*\"})))),\"高\",IF(AND(LEFT($F183,1)=\"大\",NOT(SUM(COUNTIF($F183,{\"*小*\",\"*中*\",\"*高*\"})))),\"大\",\"NG\"))))&MAX(TEXT(MID($F183,{1,2,3,4,5},{1;2;3;4;5;6;7;8;9;10;11;12;13;14;15}),\"標準;;0;!0\")*1),$N$26:$N$46,1,FALSE),\"NG\")))","v":""},"",0,0,0,"","氏名","・","年齢","・","学年","","","が未記入です。","","","","",""]
[null,null,159,null,null,null,"※リストから選択して下さい","",null,null,null,null,null,null,null,null,{"$f":"IF(R184=1,SUM($R$26:$R184),\"\")","v":""},0,"","","","",{"$f":"IF(SUBSTITUTE(SUBSTITUTE($F184,\"　\",\"\"),\" \",\"\")=\"\",\"\",IFERROR(VLOOKUP($F184,$N$26:$N$46,1,FALSE),IFERROR(VLOOKUP(IF(AND(LEFT($F184,1)=\"小\",NOT(SUM(COUNTIF($F184,{\"*中*\",\"*高*\",\"*大*\"})))),\"小\",IF(AND(LEFT($F184,1)=\"中\",NOT(SUM(COUNTIF($F184,{\"*小*\",\"*高*\",\"*大*\"})))),\"中\",IF(AND(LEFT($F184,1)=\"高\",NOT(SUM(COUNTIF($F184,{\"*小*\",\"*中*\",\"*大*\"})))),\"高\",IF(AND(LEFT($F184,1)=\"大\",NOT(SUM(COUNTIF($F184,{\"*小*\",\"*中*\",\"*高*\"})))),\"大\",\"NG\"))))&MAX(TEXT(MID($F184,{1,2,3,4,5},{1;2;3;4;5;6;7;8;9;10;11;12;13;14;15}),\"標準;;0;!0\")*1),$N$26:$N$46,1,FALSE),\"NG\")))","v":""},"",0,0,0,"","氏名","・","年齢","・","学年","","","が未記入です。","","","","",""]
[null,null,160,null,null,null,"※リストから選択して下さい","",null,null,null,null,null,null,null,null,{"$f":"IF(R185=1,SUM($R$26:$R185),\"\")","v":""},0,"","","","",{"$f":"IF(SUBSTITUTE(SUBSTITUTE($F185,\"　\",\"\"),\" \",\"\")=\"\",\"\",IFERROR(VLOOKUP($F185,$N$26:$N$46,1,FALSE),IFERROR(VLOOKUP(IF(AND(LEFT($F185,1)=\"小\",NOT(SUM(COUNTIF($F185,{\"*中*\",\"*高*\",\"*大*\"})))),\"小\",IF(AND(LEFT($F185,1)=\"中\",NOT(SUM(COUNTIF($F185,{\"*小*\",\"*高*\",\"*大*\"})))),\"中\",IF(AND(LEFT($F185,1)=\"高\",NOT(SUM(COUNTIF($F185,{\"*小*\",\"*中*\",\"*大*\"})))),\"高\",IF(AND(LEFT($F185,1)=\"大\",NOT(SUM(COUNTIF($F185,{\"*小*\",\"*中*\",\"*高*\"})))),\"大\",\"NG\"))))&MAX(TEXT(MID($F185,{1,2,3,4,5},{1;2;3;4;5;6;7;8;9;10;11;12;13;14;15}),\"標準;;0;!0\")*1),$N$26:$N$46,1,FALSE),\"NG\")))","v":""},"",0,0,0,"","氏名","・","年齢","・","学年","","","が未記入です。","","","","",""]
[null,null,161,null,null,null,"※リストから選択して下さい","",null,null,null,null,null,null,null,null,{"$f":"IF(R186=1,SUM($R$26:$R186),\"\")","v":""},0,"","","","",{"$f":"IF(SUBSTITUTE(SUBSTITUTE($F186,\"　\",\"\"),\" \",\"\")=\"\",\"\",IFERROR(VLOOKUP($F186,$N$26:$N$46,1,FALSE),IFERROR(VLOOKUP(IF(AND(LEFT($F186,1)=\"小\",NOT(SUM(COUNTIF($F186,{\"*中*\",\"*高*\",\"*大*\"})))),\"小\",IF(AND(LEFT($F186,1)=\"中\",NOT(SUM(COUNTIF($F186,{\"*小*\",\"*高*\",\"*大*\"})))),\"中\",IF(AND(LEFT($F186,1)=\"高\",NOT(SUM(COUNTIF($F186,{\"*小*\",\"*中*\",\"*大*\"})))),\"高\",IF(AND(LEFT($F186,1)=\"大\",NOT(SUM(COUNTIF($F186,{\"*小*\",\"*中*\",\"*高*\"})))),\"大\",\"NG\"))))&MAX(TEXT(MID($F186,{1,2,3,4,5},{1;2;3;4;5;6;7;8;9;10;11;12;13;14;15}),\"標準;;0;!0\")*1),$N$26:$N$46,1,FALSE),\"NG\")))","v":""},"",0,0,0,"","氏名","・","年齢","・","学年","","","が未記入です。","","","","",""]
[null,null,162,null,null,null,"※リストから選択して下さい","",null,null,null,null,null,null,null,null,{"$f":"IF(R187=1,SUM($R$26:$R187),\"\")","v":""},0,"","","","",{"$f":"IF(SUBSTITUTE(SUBSTITUTE($F187,\"　\",\"\"),\" \",\"\")=\"\",\"\",IFERROR(VLOOKUP($F187,$N$26:$N$46,1,FALSE),IFERROR(VLOOKUP(IF(AND(LEFT($F187,1)=\"小\",NOT(SUM(COUNTIF($F187,{\"*中*\",\"*高*\",\"*大*\"})))),\"小\",IF(AND(LEFT($F187,1)=\"中\",NOT(SUM(COUNTIF($F187,{\"*小*\",\"*高*\",\"*大*\"})))),\"中\",IF(AND(LEFT($F187,1)=\"高\",NOT(SUM(COUNTIF($F187,{\"*小*\",\"*中*\",\"*大*\"})))),\"高\",IF(AND(LEFT($F187,1)=\"大\",NOT(SUM(COUNTIF($F187,{\"*小*\",\"*中*\",\"*高*\"})))),\"大\",\"NG\"))))&MAX(TEXT(MID($F187,{1,2,3,4,5},{1;2;3;4;5;6;7;8;9;10;11;12;13;14;15}),\"標準;;0;!0\")*1),$N$26:$N$46,1,FALSE),\"NG\")))","v":""},"",0,0,0,"","氏名","・","年齢","・","学年","","","が未記入です。","","","","",""]
[null,null,163,null,null,null,"※リストから選択して下さい","",null,null,null,null,null,null,null,null,{"$f":"IF(R188=1,SUM($R$26:$R188),\"\")","v":""},0,"","","","",{"$f":"IF(SUBSTITUTE(SUBSTITUTE($F188,\"　\",\"\"),\" \",\"\")=\"\",\"\",IFERROR(VLOOKUP($F188,$N$26:$N$46,1,FALSE),IFERROR(VLOOKUP(IF(AND(LEFT($F188,1)=\"小\",NOT(SUM(COUNTIF($F188,{\"*中*\",\"*高*\",\"*大*\"})))),\"小\",IF(AND(LEFT($F188,1)=\"中\",NOT(SUM(COUNTIF($F188,{\"*小*\",\"*高*\",\"*大*\"})))),\"中\",IF(AND(LEFT($F188,1)=\"高\",NOT(SUM(COUNTIF($F188,{\"*小*\",\"*中*\",\"*大*\"})))),\"高\",IF(AND(LEFT($F188,1)=\"大\",NOT(SUM(COUNTIF($F188,{\"*小*\",\"*中*\",\"*高*\"})))),\"大\",\"NG\"))))&MAX(TEXT(MID($F188,{1,2,3,4,5},{1;2;3;4;5;6;7;8;9;10;11;12;13;14;15}),\"標準;;0;!0\")*1),$N$26:$N$46,1,FALSE),\"NG\")))","v":""},"",0,0,0,"","氏名","・","年齢","・","学年","","","が未記入です。","","","","",""]
[null,null,164,null,null,null,"※リストから選択して下さい","",null,null,null,null,null,null,null,null,{"$f":"IF(R189=1,SUM($R$26:$R189),\"\")","v":""},0,"","","","",{"$f":"IF(SUBSTITUTE(SUBSTITUTE($F189,\"　\",\"\"),\" \",\"\")=\"\",\"\",IFERROR(VLOOKUP($F189,$N$26:$N$46,1,FALSE),IFERROR(VLOOKUP(IF(AND(LEFT($F189,1)=\"小\",NOT(SUM(COUNTIF($F189,{\"*中*\",\"*高*\",\"*大*\"})))),\"小\",IF(AND(LEFT($F189,1)=\"中\",NOT(SUM(COUNTIF($F189,{\"*小*\",\"*高*\",\"*大*\"})))),\"中\",IF(AND(LEFT($F189,1)=\"高\",NOT(SUM(COUNTIF($F189,{\"*小*\",\"*中*\",\"*大*\"})))),\"高\",IF(AND(LEFT($F189,1)=\"大\",NOT(SUM(COUNTIF($F189,{\"*小*\",\"*中*\",\"*高*\"})))),\"大\",\"NG\"))))&MAX(TEXT(MID($F189,{1,2,3,4,5},{1;2;3;4;5;6;7;8;9;10;11;12;13;14;15}),\"標準;;0;!0\")*1),$N$26:$N$46,1,FALSE),\"NG\")))","v":""},"",0,0,0,"","氏名","・","年齢","・","学年","","","が未記入です。","","","","",""]
[null,null,165,null,null,null,"※リストから選択して下さい","",null,null,null,null,null,null,null,null,{"$f":"IF(R190=1,SUM($R$26:$R190),\"\")","v":""},0,"","","","",{"$f":"IF(SUBSTITUTE(SUBSTITUTE($F190,\"　\",\"\"),\" \",\"\")=\"\",\"\",IFERROR(VLOOKUP($F190,$N$26:$N$46,1,FALSE),IFERROR(VLOOKUP(IF(AND(LEFT($F190,1)=\"小\",NOT(SUM(COUNTIF($F190,{\"*中*\",\"*高*\",\"*大*\"})))),\"小\",IF(AND(LEFT($F190,1)=\"中\",NOT(SUM(COUNTIF($F190,{\"*小*\",\"*高*\",\"*大*\"})))),\"中\",IF(AND(LEFT($F190,1)=\"高\",NOT(SUM(COUNTIF($F190,{\"*小*\",\"*中*\",\"*大*\"})))),\"高\",IF(AND(LEFT($F190,1)=\"大\",NOT(SUM(COUNTIF($F190,{\"*小*\",\"*中*\",\"*高*\"})))),\"大\",\"NG\"))))&MAX(TEXT(MID($F190,{1,2,3,4,5},{1;2;3;4;5;6;7;8;9;10;11;12;13;14;15}),\"標準;;0;!0\")*1),$N$26:$N$46,1,FALSE),\"NG\")))","v":""},"",0,0,0,"","氏名","・","年齢","・","学年","","","が未記入です。","","","","",""]
[null,null,166,null,null,null,"※リストから選択して下さい","",null,null,null,null,null,null,null,null,{"$f":"IF(R191=1,SUM($R$26:$R191),\"\")","v":""},0,"","","","",{"$f":"IF(SUBSTITUTE(SUBSTITUTE($F191,\"　\",\"\"),\" \",\"\")=\"\",\"\",IFERROR(VLOOKUP($F191,$N$26:$N$46,1,FALSE),IFERROR(VLOOKUP(IF(AND(LEFT($F191,1)=\"小\",NOT(SUM(COUNTIF($F191,{\"*中*\",\"*高*\",\"*大*\"})))),\"小\",IF(AND(LEFT($F191,1)=\"中\",NOT(SUM(COUNTIF($F191,{\"*小*\",\"*高*\",\"*大*\"})))),\"中\",IF(AND(LEFT($F191,1)=\"高\",NOT(SUM(COUNTIF($F191,{\"*小*\",\"*中*\",\"*大*\"})))),\"高\",IF(AND(LEFT($F191,1)=\"大\",NOT(SUM(COUNTIF($F191,{\"*小*\",\"*中*\",\"*高*\"})))),\"大\",\"NG\"))))&MAX(TEXT(MID($F191,{1,2,3,4,5},{1;2;3;4;5;6;7;8;9;10;11;12;13;14;15}),\"標準;;0;!0\")*1),$N$26:$N$46,1,FALSE),\"NG\")))","v":""},"",0,0,0,"","氏名","・","年齢","・","学年","","","が未記入です。","","","","",""]
[null,null,167,null,null,null,"※リストから選択して下さい","",null,null,null,null,null,null,null,null,{"$f":"IF(R192=1,SUM($R$26:$R192),\"\")","v":""},0,"","","","",{"$f":"IF(SUBSTITUTE(SUBSTITUTE($F192,\"　\",\"\"),\" \",\"\")=\"\",\"\",IFERROR(VLOOKUP($F192,$N$26:$N$46,1,FALSE),IFERROR(VLOOKUP(IF(AND(LEFT($F192,1)=\"小\",NOT(SUM(COUNTIF($F192,{\"*中*\",\"*高*\",\"*大*\"})))),\"小\",IF(AND(LEFT($F192,1)=\"中\",NOT(SUM(COUNTIF($F192,{\"*小*\",\"*高*\",\"*大*\"})))),\"中\",IF(AND(LEFT($F192,1)=\"高\",NOT(SUM(COUNTIF($F192,{\"*小*\",\"*中*\",\"*大*\"})))),\"高\",IF(AND(LEFT($F192,1)=\"大\",NOT(SUM(COUNTIF($F192,{\"*小*\",\"*中*\",\"*高*\"})))),\"大\",\"NG\"))))&MAX(TEXT(MID($F192,{1,2,3,4,5},{1;2;3;4;5;6;7;8;9;10;11;12;13;14;15}),\"標準;;0;!0\")*1),$N$26:$N$46,1,FALSE),\"NG\")))","v":""},"",0,0,0,"","氏名","・","年齢","・","学年","","","が未記入です。","","","","",""]
[null,null,168,null,null,null,"※リストから選択して下さい","",null,null,null,null,null,null,null,null,{"$f":"IF(R193=1,SUM($R$26:$R193),\"\")","v":""},0,"","","","",{"$f":"IF(SUBSTITUTE(SUBSTITUTE($F193,\"　\",\"\"),\" \",\"\")=\"\",\"\",IFERROR(VLOOKUP($F193,$N$26:$N$46,1,FALSE),IFERROR(VLOOKUP(IF(AND(LEFT($F193,1)=\"小\",NOT(SUM(COUNTIF($F193,{\"*中*\",\"*高*\",\"*大*\"})))),\"小\",IF(AND(LEFT($F193,1)=\"中\",NOT(SUM(COUNTIF($F193,{\"*小*\",\"*高*\",\"*大*\"})))),\"中\",IF(AND(LEFT($F193,1)=\"高\",NOT(SUM(COUNTIF($F193,{\"*小*\",\"*中*\",\"*大*\"})))),\"高\",IF(AND(LEFT($F193,1)=\"大\",NOT(SUM(COUNTIF($F193,{\"*小*\",\"*中*\",\"*高*\"})))),\"大\",\"NG\"))))&MAX(TEXT(MID($F193,{1,2,3,4,5},{1;2;3;4;5;6;7;8;9;10;11;12;13;14;15}),\"標準;;0;!0\")*1),$N$26:$N$46,1,FALSE),\"NG\")))","v":""},"",0,0,0,"","氏名","・","年齢","・","学年","","","が未記入です。","","","","",""]
[null,null,169,null,null,null,"※リストから選択して下さい","",null,null,null,null,null,null,null,null,{"$f":"IF(R194=1,SUM($R$26:$R194),\"\")","v":""},0,"","","","",{"$f":"IF(SUBSTITUTE(SUBSTITUTE($F194,\"　\",\"\"),\" \",\"\")=\"\",\"\",IFERROR(VLOOKUP($F194,$N$26:$N$46,1,FALSE),IFERROR(VLOOKUP(IF(AND(LEFT($F194,1)=\"小\",NOT(SUM(COUNTIF($F194,{\"*中*\",\"*高*\",\"*大*\"})))),\"小\",IF(AND(LEFT($F194,1)=\"中\",NOT(SUM(COUNTIF($F194,{\"*小*\",\"*高*\",\"*大*\"})))),\"中\",IF(AND(LEFT($F194,1)=\"高\",NOT(SUM(COUNTIF($F194,{\"*小*\",\"*中*\",\"*大*\"})))),\"高\",IF(AND(LEFT($F194,1)=\"大\",NOT(SUM(COUNTIF($F194,{\"*小*\",\"*中*\",\"*高*\"})))),\"大\",\"NG\"))))&MAX(TEXT(MID($F194,{1,2,3,4,5},{1;2;3;4;5;6;7;8;9;10;11;12;13;14;15}),\"標準;;0;!0\")*1),$N$26:$N$46,1,FALSE),\"NG\")))","v":""},"",0,0,0,"","氏名","・","年齢","・","学年","","","が未記入です。","","","","",""]
[null,null,170,null,null,null,"※リストから選択して下さい","",null,null,null,null,null,null,null,null,{"$f":"IF(R195=1,SUM($R$26:$R195),\"\")","v":""},0,"","","","",{"$f":"IF(SUBSTITUTE(SUBSTITUTE($F195,\"　\",\"\"),\" \",\"\")=\"\",\"\",IFERROR(VLOOKUP($F195,$N$26:$N$46,1,FALSE),IFERROR(VLOOKUP(IF(AND(LEFT($F195,1)=\"小\",NOT(SUM(COUNTIF($F195,{\"*中*\",\"*高*\",\"*大*\"})))),\"小\",IF(AND(LEFT($F195,1)=\"中\",NOT(SUM(COUNTIF($F195,{\"*小*\",\"*高*\",\"*大*\"})))),\"中\",IF(AND(LEFT($F195,1)=\"高\",NOT(SUM(COUNTIF($F195,{\"*小*\",\"*中*\",\"*大*\"})))),\"高\",IF(AND(LEFT($F195,1)=\"大\",NOT(SUM(COUNTIF($F195,{\"*小*\",\"*中*\",\"*高*\"})))),\"大\",\"NG\"))))&MAX(TEXT(MID($F195,{1,2,3,4,5},{1;2;3;4;5;6;7;8;9;10;11;12;13;14;15}),\"標準;;0;!0\")*1),$N$26:$N$46,1,FALSE),\"NG\")))","v":""},"",0,0,0,"","氏名","・","年齢","・","学年","","","が未記入です。","","","","",""]
[null,null,171,null,null,null,"※リストから選択して下さい","",null,null,null,null,null,null,null,null,{"$f":"IF(R196=1,SUM($R$26:$R196),\"\")","v":""},0,"","","","",{"$f":"IF(SUBSTITUTE(SUBSTITUTE($F196,\"　\",\"\"),\" \",\"\")=\"\",\"\",IFERROR(VLOOKUP($F196,$N$26:$N$46,1,FALSE),IFERROR(VLOOKUP(IF(AND(LEFT($F196,1)=\"小\",NOT(SUM(COUNTIF($F196,{\"*中*\",\"*高*\",\"*大*\"})))),\"小\",IF(AND(LEFT($F196,1)=\"中\",NOT(SUM(COUNTIF($F196,{\"*小*\",\"*高*\",\"*大*\"})))),\"中\",IF(AND(LEFT($F196,1)=\"高\",NOT(SUM(COUNTIF($F196,{\"*小*\",\"*中*\",\"*大*\"})))),\"高\",IF(AND(LEFT($F196,1)=\"大\",NOT(SUM(COUNTIF($F196,{\"*小*\",\"*中*\",\"*高*\"})))),\"大\",\"NG\"))))&MAX(TEXT(MID($F196,{1,2,3,4,5},{1;2;3;4;5;6;7;8;9;10;11;12;13;14;15}),\"標準;;0;!0\")*1),$N$26:$N$46,1,FALSE),\"NG\")))","v":""},"",0,0,0,"","氏名","・","年齢","・","学年","","","が未記入です。","","","","",""]
[null,null,172,null,null,null,"※リストから選択して下さい","",null,null,null,null,null,null,null,null,{"$f":"IF(R197=1,SUM($R$26:$R197),\"\")","v":""},0,"","","","",{"$f":"IF(SUBSTITUTE(SUBSTITUTE($F197,\"　\",\"\"),\" \",\"\")=\"\",\"\",IFERROR(VLOOKUP($F197,$N$26:$N$46,1,FALSE),IFERROR(VLOOKUP(IF(AND(LEFT($F197,1)=\"小\",NOT(SUM(COUNTIF($F197,{\"*中*\",\"*高*\",\"*大*\"})))),\"小\",IF(AND(LEFT($F197,1)=\"中\",NOT(SUM(COUNTIF($F197,{\"*小*\",\"*高*\",\"*大*\"})))),\"中\",IF(AND(LEFT($F197,1)=\"高\",NOT(SUM(COUNTIF($F197,{\"*小*\",\"*中*\",\"*大*\"})))),\"高\",IF(AND(LEFT($F197,1)=\"大\",NOT(SUM(COUNTIF($F197,{\"*小*\",\"*中*\",\"*高*\"})))),\"大\",\"NG\"))))&MAX(TEXT(MID($F197,{1,2,3,4,5},{1;2;3;4;5;6;7;8;9;10;11;12;13;14;15}),\"標準;;0;!0\")*1),$N$26:$N$46,1,FALSE),\"NG\")))","v":""},"",0,0,0,"","氏名","・","年齢","・","学年","","","が未記入です。","","","","",""]
[null,null,173,null,null,null,"※リストから選択して下さい","",null,null,null,null,null,null,null,null,{"$f":"IF(R198=1,SUM($R$26:$R198),\"\")","v":""},0,"","","","",{"$f":"IF(SUBSTITUTE(SUBSTITUTE($F198,\"　\",\"\"),\" \",\"\")=\"\",\"\",IFERROR(VLOOKUP($F198,$N$26:$N$46,1,FALSE),IFERROR(VLOOKUP(IF(AND(LEFT($F198,1)=\"小\",NOT(SUM(COUNTIF($F198,{\"*中*\",\"*高*\",\"*大*\"})))),\"小\",IF(AND(LEFT($F198,1)=\"中\",NOT(SUM(COUNTIF($F198,{\"*小*\",\"*高*\",\"*大*\"})))),\"中\",IF(AND(LEFT($F198,1)=\"高\",NOT(SUM(COUNTIF($F198,{\"*小*\",\"*中*\",\"*大*\"})))),\"高\",IF(AND(LEFT($F198,1)=\"大\",NOT(SUM(COUNTIF($F198,{\"*小*\",\"*中*\",\"*高*\"})))),\"大\",\"NG\"))))&MAX(TEXT(MID($F198,{1,2,3,4,5},{1;2;3;4;5;6;7;8;9;10;11;12;13;14;15}),\"標準;;0;!0\")*1),$N$26:$N$46,1,FALSE),\"NG\")))","v":""},"",0,0,0,"","氏名","・","年齢","・","学年","","","が未記入です。","","","","",""]
[null,null,174,null,null,null,"※リストから選択して下さい","",null,null,null,null,null,null,null,null,{"$f":"IF(R199=1,SUM($R$26:$R199),\"\")","v":""},0,"","","","",{"$f":"IF(SUBSTITUTE(SUBSTITUTE($F199,\"　\",\"\"),\" \",\"\")=\"\",\"\",IFERROR(VLOOKUP($F199,$N$26:$N$46,1,FALSE),IFERROR(VLOOKUP(IF(AND(LEFT($F199,1)=\"小\",NOT(SUM(COUNTIF($F199,{\"*中*\",\"*高*\",\"*大*\"})))),\"小\",IF(AND(LEFT($F199,1)=\"中\",NOT(SUM(COUNTIF($F199,{\"*小*\",\"*高*\",\"*大*\"})))),\"中\",IF(AND(LEFT($F199,1)=\"高\",NOT(SUM(COUNTIF($F199,{\"*小*\",\"*中*\",\"*大*\"})))),\"高\",IF(AND(LEFT($F199,1)=\"大\",NOT(SUM(COUNTIF($F199,{\"*小*\",\"*中*\",\"*高*\"})))),\"大\",\"NG\"))))&MAX(TEXT(MID($F199,{1,2,3,4,5},{1;2;3;4;5;6;7;8;9;10;11;12;13;14;15}),\"標準;;0;!0\")*1),$N$26:$N$46,1,FALSE),\"NG\")))","v":""},"",0,0,0,"","氏名","・","年齢","・","学年","","","が未記入です。","","","","",""]
[null,null,175,null,null,null,"※リストから選択して下さい","",null,null,null,null,null,null,null,null,{"$f":"IF(R200=1,SUM($R$26:$R200),\"\")","v":""},0,"","","","",{"$f":"IF(SUBSTITUTE(SUBSTITUTE($F200,\"　\",\"\"),\" \",\"\")=\"\",\"\",IFERROR(VLOOKUP($F200,$N$26:$N$46,1,FALSE),IFERROR(VLOOKUP(IF(AND(LEFT($F200,1)=\"小\",NOT(SUM(COUNTIF($F200,{\"*中*\",\"*高*\",\"*大*\"})))),\"小\",IF(AND(LEFT($F200,1)=\"中\",NOT(SUM(COUNTIF($F200,{\"*小*\",\"*高*\",\"*大*\"})))),\"中\",IF(AND(LEFT($F200,1)=\"高\",NOT(SUM(COUNTIF($F200,{\"*小*\",\"*中*\",\"*大*\"})))),\"高\",IF(AND(LEFT($F200,1)=\"大\",NOT(SUM(COUNTIF($F200,{\"*小*\",\"*中*\",\"*高*\"})))),\"大\",\"NG\"))))&MAX(TEXT(MID($F200,{1,2,3,4,5},{1;2;3;4;5;6;7;8;9;10;11;12;13;14;15}),\"標準;;0;!0\")*1),$N$26:$N$46,1,FALSE),\"NG\")))","v":""},"",0,0,0,"","氏名","・","年齢","・","学年","","","が未記入です。","","","","",""]
[null,null,176,null,null,null,"※リストから選択して下さい","",null,null,null,null,null,null,null,null,{"$f":"IF(R201=1,SUM($R$26:$R201),\"\")","v":""},0,"","","","",{"$f":"IF(SUBSTITUTE(SUBSTITUTE($F201,\"　\",\"\"),\" \",\"\")=\"\",\"\",IFERROR(VLOOKUP($F201,$N$26:$N$46,1,FALSE),IFERROR(VLOOKUP(IF(AND(LEFT($F201,1)=\"小\",NOT(SUM(COUNTIF($F201,{\"*中*\",\"*高*\",\"*大*\"})))),\"小\",IF(AND(LEFT($F201,1)=\"中\",NOT(SUM(COUNTIF($F201,{\"*小*\",\"*高*\",\"*大*\"})))),\"中\",IF(AND(LEFT($F201,1)=\"高\",NOT(SUM(COUNTIF($F201,{\"*小*\",\"*中*\",\"*大*\"})))),\"高\",IF(AND(LEFT($F201,1)=\"大\",NOT(SUM(COUNTIF($F201,{\"*小*\",\"*中*\",\"*高*\"})))),\"大\",\"NG\"))))&MAX(TEXT(MID($F201,{1,2,3,4,5},{1;2;3;4;5;6;7;8;9;10;11;12;13;14;15}),\"標準;;0;!0\")*1),$N$26:$N$46,1,FALSE),\"NG\")))","v":""},"",0,0,0,"","氏名","・","年齢","・","学年","","","が未記入です。","","","","",""]
[null,null,177,null,null,null,"※リストから選択して下さい","",null,null,null,null,null,null,null,null,{"$f":"IF(R202=1,SUM($R$26:$R202),\"\")","v":""},0,"","","","",{"$f":"IF(SUBSTITUTE(SUBSTITUTE($F202,\"　\",\"\"),\" \",\"\")=\"\",\"\",IFERROR(VLOOKUP($F202,$N$26:$N$46,1,FALSE),IFERROR(VLOOKUP(IF(AND(LEFT($F202,1)=\"小\",NOT(SUM(COUNTIF($F202,{\"*中*\",\"*高*\",\"*大*\"})))),\"小\",IF(AND(LEFT($F202,1)=\"中\",NOT(SUM(COUNTIF($F202,{\"*小*\",\"*高*\",\"*大*\"})))),\"中\",IF(AND(LEFT($F202,1)=\"高\",NOT(SUM(COUNTIF($F202,{\"*小*\",\"*中*\",\"*大*\"})))),\"高\",IF(AND(LEFT($F202,1)=\"大\",NOT(SUM(COUNTIF($F202,{\"*小*\",\"*中*\",\"*高*\"})))),\"大\",\"NG\"))))&MAX(TEXT(MID($F202,{1,2,3,4,5},{1;2;3;4;5;6;7;8;9;10;11;12;13;14;15}),\"標準;;0;!0\")*1),$N$26:$N$46,1,FALSE),\"NG\")))","v":""},"",0,0,0,"","氏名","・","年齢","・","学年","","","が未記入です。","","","","",""]
[null,null,178,null,null,null,"※リストから選択して下さい","",null,null,null,null,null,null,null,null,{"$f":"IF(R203=1,SUM($R$26:$R203),\"\")","v":""},0,"","","","",{"$f":"IF(SUBSTITUTE(SUBSTITUTE($F203,\"　\",\"\"),\" \",\"\")=\"\",\"\",IFERROR(VLOOKUP($F203,$N$26:$N$46,1,FALSE),IFERROR(VLOOKUP(IF(AND(LEFT($F203,1)=\"小\",NOT(SUM(COUNTIF($F203,{\"*中*\",\"*高*\",\"*大*\"})))),\"小\",IF(AND(LEFT($F203,1)=\"中\",NOT(SUM(COUNTIF($F203,{\"*小*\",\"*高*\",\"*大*\"})))),\"中\",IF(AND(LEFT($F203,1)=\"高\",NOT(SUM(COUNTIF($F203,{\"*小*\",\"*中*\",\"*大*\"})))),\"高\",IF(AND(LEFT($F203,1)=\"大\",NOT(SUM(COUNTIF($F203,{\"*小*\",\"*中*\",\"*高*\"})))),\"大\",\"NG\"))))&MAX(TEXT(MID($F203,{1,2,3,4,5},{1;2;3;4;5;6;7;8;9;10;11;12;13;14;15}),\"標準;;0;!0\")*1),$N$26:$N$46,1,FALSE),\"NG\")))","v":""},"",0,0,0,"","氏名","・","年齢","・","学年","","","が未記入です。","","","","",""]
[null,null,179,null,null,null,"※リストから選択して下さい","",null,null,null,null,null,null,null,null,{"$f":"IF(R204=1,SUM($R$26:$R204),\"\")","v":""},0,"","","","",{"$f":"IF(SUBSTITUTE(SUBSTITUTE($F204,\"　\",\"\"),\" \",\"\")=\"\",\"\",IFERROR(VLOOKUP($F204,$N$26:$N$46,1,FALSE),IFERROR(VLOOKUP(IF(AND(LEFT($F204,1)=\"小\",NOT(SUM(COUNTIF($F204,{\"*中*\",\"*高*\",\"*大*\"})))),\"小\",IF(AND(LEFT($F204,1)=\"中\",NOT(SUM(COUNTIF($F204,{\"*小*\",\"*高*\",\"*大*\"})))),\"中\",IF(AND(LEFT($F204,1)=\"高\",NOT(SUM(COUNTIF($F204,{\"*小*\",\"*中*\",\"*大*\"})))),\"高\",IF(AND(LEFT($F204,1)=\"大\",NOT(SUM(COUNTIF($F204,{\"*小*\",\"*中*\",\"*高*\"})))),\"大\",\"NG\"))))&MAX(TEXT(MID($F204,{1,2,3,4,5},{1;2;3;4;5;6;7;8;9;10;11;12;13;14;15}),\"標準;;0;!0\")*1),$N$26:$N$46,1,FALSE),\"NG\")))","v":""},"",0,0,0,"","氏名","・","年齢","・","学年","","","が未記入です。","","","","",""]
[null,null,180,null,null,null,"※リストから選択して下さい","",null,null,null,null,null,null,null,null,{"$f":"IF(R205=1,SUM($R$26:$R205),\"\")","v":""},0,"","","","",{"$f":"IF(SUBSTITUTE(SUBSTITUTE($F205,\"　\",\"\"),\" \",\"\")=\"\",\"\",IFERROR(VLOOKUP($F205,$N$26:$N$46,1,FALSE),IFERROR(VLOOKUP(IF(AND(LEFT($F205,1)=\"小\",NOT(SUM(COUNTIF($F205,{\"*中*\",\"*高*\",\"*大*\"})))),\"小\",IF(AND(LEFT($F205,1)=\"中\",NOT(SUM(COUNTIF($F205,{\"*小*\",\"*高*\",\"*大*\"})))),\"中\",IF(AND(LEFT($F205,1)=\"高\",NOT(SUM(COUNTIF($F205,{\"*小*\",\"*中*\",\"*大*\"})))),\"高\",IF(AND(LEFT($F205,1)=\"大\",NOT(SUM(COUNTIF($F205,{\"*小*\",\"*中*\",\"*高*\"})))),\"大\",\"NG\"))))&MAX(TEXT(MID($F205,{1,2,3,4,5},{1;2;3;4;5;6;7;8;9;10;11;12;13;14;15}),\"標準;;0;!0\")*1),$N$26:$N$46,1,FALSE),\"NG\")))","v":""},"",0,0,0,"","氏名","・","年齢","・","学年","","","が未記入です。","","","","",""]
[null,null,181,null,null,null,"※リストから選択して下さい","",null,null,null,null,null,null,null,null,{"$f":"IF(R206=1,SUM($R$26:$R206),\"\")","v":""},0,"","","","",{"$f":"IF(SUBSTITUTE(SUBSTITUTE($F206,\"　\",\"\"),\" \",\"\")=\"\",\"\",IFERROR(VLOOKUP($F206,$N$26:$N$46,1,FALSE),IFERROR(VLOOKUP(IF(AND(LEFT($F206,1)=\"小\",NOT(SUM(COUNTIF($F206,{\"*中*\",\"*高*\",\"*大*\"})))),\"小\",IF(AND(LEFT($F206,1)=\"中\",NOT(SUM(COUNTIF($F206,{\"*小*\",\"*高*\",\"*大*\"})))),\"中\",IF(AND(LEFT($F206,1)=\"高\",NOT(SUM(COUNTIF($F206,{\"*小*\",\"*中*\",\"*大*\"})))),\"高\",IF(AND(LEFT($F206,1)=\"大\",NOT(SUM(COUNTIF($F206,{\"*小*\",\"*中*\",\"*高*\"})))),\"大\",\"NG\"))))&MAX(TEXT(MID($F206,{1,2,3,4,5},{1;2;3;4;5;6;7;8;9;10;11;12;13;14;15}),\"標準;;0;!0\")*1),$N$26:$N$46,1,FALSE),\"NG\")))","v":""},"",0,0,0,"","氏名","・","年齢","・","学年","","","が未記入です。","","","","",""]
[null,null,182,null,null,null,"※リストから選択して下さい","",null,null,null,null,null,null,null,null,{"$f":"IF(R207=1,SUM($R$26:$R207),\"\")","v":""},0,"","","","",{"$f":"IF(SUBSTITUTE(SUBSTITUTE($F207,\"　\",\"\"),\" \",\"\")=\"\",\"\",IFERROR(VLOOKUP($F207,$N$26:$N$46,1,FALSE),IFERROR(VLOOKUP(IF(AND(LEFT($F207,1)=\"小\",NOT(SUM(COUNTIF($F207,{\"*中*\",\"*高*\",\"*大*\"})))),\"小\",IF(AND(LEFT($F207,1)=\"中\",NOT(SUM(COUNTIF($F207,{\"*小*\",\"*高*\",\"*大*\"})))),\"中\",IF(AND(LEFT($F207,1)=\"高\",NOT(SUM(COUNTIF($F207,{\"*小*\",\"*中*\",\"*大*\"})))),\"高\",IF(AND(LEFT($F207,1)=\"大\",NOT(SUM(COUNTIF($F207,{\"*小*\",\"*中*\",\"*高*\"})))),\"大\",\"NG\"))))&MAX(TEXT(MID($F207,{1,2,3,4,5},{1;2;3;4;5;6;7;8;9;10;11;12;13;14;15}),\"標準;;0;!0\")*1),$N$26:$N$46,1,FALSE),\"NG\")))","v":""},"",0,0,0,"","氏名","・","年齢","・","学年","","","が未記入です。","","","","",""]
[null,null,183,null,null,null,"※リストから選択して下さい","",null,null,null,null,null,null,null,null,{"$f":"IF(R208=1,SUM($R$26:$R208),\"\")","v":""},0,"","","","",{"$f":"IF(SUBSTITUTE(SUBSTITUTE($F208,\"　\",\"\"),\" \",\"\")=\"\",\"\",IFERROR(VLOOKUP($F208,$N$26:$N$46,1,FALSE),IFERROR(VLOOKUP(IF(AND(LEFT($F208,1)=\"小\",NOT(SUM(COUNTIF($F208,{\"*中*\",\"*高*\",\"*大*\"})))),\"小\",IF(AND(LEFT($F208,1)=\"中\",NOT(SUM(COUNTIF($F208,{\"*小*\",\"*高*\",\"*大*\"})))),\"中\",IF(AND(LEFT($F208,1)=\"高\",NOT(SUM(COUNTIF($F208,{\"*小*\",\"*中*\",\"*大*\"})))),\"高\",IF(AND(LEFT($F208,1)=\"大\",NOT(SUM(COUNTIF($F208,{\"*小*\",\"*中*\",\"*高*\"})))),\"大\",\"NG\"))))&MAX(TEXT(MID($F208,{1,2,3,4,5},{1;2;3;4;5;6;7;8;9;10;11;12;13;14;15}),\"標準;;0;!0\")*1),$N$26:$N$46,1,FALSE),\"NG\")))","v":""},"",0,0,0,"","氏名","・","年齢","・","学年","","","が未記入です。","","","","",""]
[null,null,184,null,null,null,"※リストから選択して下さい","",null,null,null,null,null,null,null,null,{"$f":"IF(R209=1,SUM($R$26:$R209),\"\")","v":""},0,"","","","",{"$f":"IF(SUBSTITUTE(SUBSTITUTE($F209,\"　\",\"\"),\" \",\"\")=\"\",\"\",IFERROR(VLOOKUP($F209,$N$26:$N$46,1,FALSE),IFERROR(VLOOKUP(IF(AND(LEFT($F209,1)=\"小\",NOT(SUM(COUNTIF($F209,{\"*中*\",\"*高*\",\"*大*\"})))),\"小\",IF(AND(LEFT($F209,1)=\"中\",NOT(SUM(COUNTIF($F209,{\"*小*\",\"*高*\",\"*大*\"})))),\"中\",IF(AND(LEFT($F209,1)=\"高\",NOT(SUM(COUNTIF($F209,{\"*小*\",\"*中*\",\"*大*\"})))),\"高\",IF(AND(LEFT($F209,1)=\"大\",NOT(SUM(COUNTIF($F209,{\"*小*\",\"*中*\",\"*高*\"})))),\"大\",\"NG\"))))&MAX(TEXT(MID($F209,{1,2,3,4,5},{1;2;3;4;5;6;7;8;9;10;11;12;13;14;15}),\"標準;;0;!0\")*1),$N$26:$N$46,1,FALSE),\"NG\")))","v":""},"",0,0,0,"","氏名","・","年齢","・","学年","","","が未記入です。","","","","",""]
[null,null,185,null,null,null,"※リストから選択して下さい","",null,null,null,null,null,null,null,null,{"$f":"IF(R210=1,SUM($R$26:$R210),\"\")","v":""},0,"","","","",{"$f":"IF(SUBSTITUTE(SUBSTITUTE($F210,\"　\",\"\"),\" \",\"\")=\"\",\"\",IFERROR(VLOOKUP($F210,$N$26:$N$46,1,FALSE),IFERROR(VLOOKUP(IF(AND(LEFT($F210,1)=\"小\",NOT(SUM(COUNTIF($F210,{\"*中*\",\"*高*\",\"*大*\"})))),\"小\",IF(AND(LEFT($F210,1)=\"中\",NOT(SUM(COUNTIF($F210,{\"*小*\",\"*高*\",\"*大*\"})))),\"中\",IF(AND(LEFT($F210,1)=\"高\",NOT(SUM(COUNTIF($F210,{\"*小*\",\"*中*\",\"*大*\"})))),\"高\",IF(AND(LEFT($F210,1)=\"大\",NOT(SUM(COUNTIF($F210,{\"*小*\",\"*中*\",\"*高*\"})))),\"大\",\"NG\"))))&MAX(TEXT(MID($F210,{1,2,3,4,5},{1;2;3;4;5;6;7;8;9;10;11;12;13;14;15}),\"標準;;0;!0\")*1),$N$26:$N$46,1,FALSE),\"NG\")))","v":""},"",0,0,0,"","氏名","・","年齢","・","学年","","","が未記入です。","","","","",""]
[null,null,186,null,null,null,"※リストから選択して下さい","",null,null,null,null,null,null,null,null,{"$f":"IF(R211=1,SUM($R$26:$R211),\"\")","v":""},0,"","","","",{"$f":"IF(SUBSTITUTE(SUBSTITUTE($F211,\"　\",\"\"),\" \",\"\")=\"\",\"\",IFERROR(VLOOKUP($F211,$N$26:$N$46,1,FALSE),IFERROR(VLOOKUP(IF(AND(LEFT($F211,1)=\"小\",NOT(SUM(COUNTIF($F211,{\"*中*\",\"*高*\",\"*大*\"})))),\"小\",IF(AND(LEFT($F211,1)=\"中\",NOT(SUM(COUNTIF($F211,{\"*小*\",\"*高*\",\"*大*\"})))),\"中\",IF(AND(LEFT($F211,1)=\"高\",NOT(SUM(COUNTIF($F211,{\"*小*\",\"*中*\",\"*大*\"})))),\"高\",IF(AND(LEFT($F211,1)=\"大\",NOT(SUM(COUNTIF($F211,{\"*小*\",\"*中*\",\"*高*\"})))),\"大\",\"NG\"))))&MAX(TEXT(MID($F211,{1,2,3,4,5},{1;2;3;4;5;6;7;8;9;10;11;12;13;14;15}),\"標準;;0;!0\")*1),$N$26:$N$46,1,FALSE),\"NG\")))","v":""},"",0,0,0,"","氏名","・","年齢","・","学年","","","が未記入です。","","","","",""]
[null,null,187,null,null,null,"※リストから選択して下さい","",null,null,null,null,null,null,null,null,{"$f":"IF(R212=1,SUM($R$26:$R212),\"\")","v":""},0,"","","","",{"$f":"IF(SUBSTITUTE(SUBSTITUTE($F212,\"　\",\"\"),\" \",\"\")=\"\",\"\",IFERROR(VLOOKUP($F212,$N$26:$N$46,1,FALSE),IFERROR(VLOOKUP(IF(AND(LEFT($F212,1)=\"小\",NOT(SUM(COUNTIF($F212,{\"*中*\",\"*高*\",\"*大*\"})))),\"小\",IF(AND(LEFT($F212,1)=\"中\",NOT(SUM(COUNTIF($F212,{\"*小*\",\"*高*\",\"*大*\"})))),\"中\",IF(AND(LEFT($F212,1)=\"高\",NOT(SUM(COUNTIF($F212,{\"*小*\",\"*中*\",\"*大*\"})))),\"高\",IF(AND(LEFT($F212,1)=\"大\",NOT(SUM(COUNTIF($F212,{\"*小*\",\"*中*\",\"*高*\"})))),\"大\",\"NG\"))))&MAX(TEXT(MID($F212,{1,2,3,4,5},{1;2;3;4;5;6;7;8;9;10;11;12;13;14;15}),\"標準;;0;!0\")*1),$N$26:$N$46,1,FALSE),\"NG\")))","v":""},"",0,0,0,"","氏名","・","年齢","・","学年","","","が未記入です。","","","","",""]
[null,null,188,null,null,null,"※リストから選択して下さい","",null,null,null,null,null,null,null,null,{"$f":"IF(R213=1,SUM($R$26:$R213),\"\")","v":""},0,"","","","",{"$f":"IF(SUBSTITUTE(SUBSTITUTE($F213,\"　\",\"\"),\" \",\"\")=\"\",\"\",IFERROR(VLOOKUP($F213,$N$26:$N$46,1,FALSE),IFERROR(VLOOKUP(IF(AND(LEFT($F213,1)=\"小\",NOT(SUM(COUNTIF($F213,{\"*中*\",\"*高*\",\"*大*\"})))),\"小\",IF(AND(LEFT($F213,1)=\"中\",NOT(SUM(COUNTIF($F213,{\"*小*\",\"*高*\",\"*大*\"})))),\"中\",IF(AND(LEFT($F213,1)=\"高\",NOT(SUM(COUNTIF($F213,{\"*小*\",\"*中*\",\"*大*\"})))),\"高\",IF(AND(LEFT($F213,1)=\"大\",NOT(SUM(COUNTIF($F213,{\"*小*\",\"*中*\",\"*高*\"})))),\"大\",\"NG\"))))&MAX(TEXT(MID($F213,{1,2,3,4,5},{1;2;3;4;5;6;7;8;9;10;11;12;13;14;15}),\"標準;;0;!0\")*1),$N$26:$N$46,1,FALSE),\"NG\")))","v":""},"",0,0,0,"","氏名","・","年齢","・","学年","","","が未記入です。","","","","",""]
[null,null,189,null,null,null,"※リストから選択して下さい","",null,null,null,null,null,null,null,null,{"$f":"IF(R214=1,SUM($R$26:$R214),\"\")","v":""},0,"","","","",{"$f":"IF(SUBSTITUTE(SUBSTITUTE($F214,\"　\",\"\"),\" \",\"\")=\"\",\"\",IFERROR(VLOOKUP($F214,$N$26:$N$46,1,FALSE),IFERROR(VLOOKUP(IF(AND(LEFT($F214,1)=\"小\",NOT(SUM(COUNTIF($F214,{\"*中*\",\"*高*\",\"*大*\"})))),\"小\",IF(AND(LEFT($F214,1)=\"中\",NOT(SUM(COUNTIF($F214,{\"*小*\",\"*高*\",\"*大*\"})))),\"中\",IF(AND(LEFT($F214,1)=\"高\",NOT(SUM(COUNTIF($F214,{\"*小*\",\"*中*\",\"*大*\"})))),\"高\",IF(AND(LEFT($F214,1)=\"大\",NOT(SUM(COUNTIF($F214,{\"*小*\",\"*中*\",\"*高*\"})))),\"大\",\"NG\"))))&MAX(TEXT(MID($F214,{1,2,3,4,5},{1;2;3;4;5;6;7;8;9;10;11;12;13;14;15}),\"標準;;0;!0\")*1),$N$26:$N$46,1,FALSE),\"NG\")))","v":""},"",0,0,0,"","氏名","・","年齢","・","学年","","","が未記入です。","","","","",""]
[null,null,190,null,null,null,"※リストから選択して下さい","",null,null,null,null,null,null,null,null,{"$f":"IF(R215=1,SUM($R$26:$R215),\"\")","v":""},0,"","","","",{"$f":"IF(SUBSTITUTE(SUBSTITUTE($F215,\"　\",\"\"),\" \",\"\")=\"\",\"\",IFERROR(VLOOKUP($F215,$N$26:$N$46,1,FALSE),IFERROR(VLOOKUP(IF(AND(LEFT($F215,1)=\"小\",NOT(SUM(COUNTIF($F215,{\"*中*\",\"*高*\",\"*大*\"})))),\"小\",IF(AND(LEFT($F215,1)=\"中\",NOT(SUM(COUNTIF($F215,{\"*小*\",\"*高*\",\"*大*\"})))),\"中\",IF(AND(LEFT($F215,1)=\"高\",NOT(SUM(COUNTIF($F215,{\"*小*\",\"*中*\",\"*大*\"})))),\"高\",IF(AND(LEFT($F215,1)=\"大\",NOT(SUM(COUNTIF($F215,{\"*小*\",\"*中*\",\"*高*\"})))),\"大\",\"NG\"))))&MAX(TEXT(MID($F215,{1,2,3,4,5},{1;2;3;4;5;6;7;8;9;10;11;12;13;14;15}),\"標準;;0;!0\")*1),$N$26:$N$46,1,FALSE),\"NG\")))","v":""},"",0,0,0,"","氏名","・","年齢","・","学年","","","が未記入です。","","","","",""]
[null,null,191,null,null,null,"※リストから選択して下さい","",null,null,null,null,null,null,null,null,{"$f":"IF(R216=1,SUM($R$26:$R216),\"\")","v":""},0,"","","","",{"$f":"IF(SUBSTITUTE(SUBSTITUTE($F216,\"　\",\"\"),\" \",\"\")=\"\",\"\",IFERROR(VLOOKUP($F216,$N$26:$N$46,1,FALSE),IFERROR(VLOOKUP(IF(AND(LEFT($F216,1)=\"小\",NOT(SUM(COUNTIF($F216,{\"*中*\",\"*高*\",\"*大*\"})))),\"小\",IF(AND(LEFT($F216,1)=\"中\",NOT(SUM(COUNTIF($F216,{\"*小*\",\"*高*\",\"*大*\"})))),\"中\",IF(AND(LEFT($F216,1)=\"高\",NOT(SUM(COUNTIF($F216,{\"*小*\",\"*中*\",\"*大*\"})))),\"高\",IF(AND(LEFT($F216,1)=\"大\",NOT(SUM(COUNTIF($F216,{\"*小*\",\"*中*\",\"*高*\"})))),\"大\",\"NG\"))))&MAX(TEXT(MID($F216,{1,2,3,4,5},{1;2;3;4;5;6;7;8;9;10;11;12;13;14;15}),\"標準;;0;!0\")*1),$N$26:$N$46,1,FALSE),\"NG\")))","v":""},"",0,0,0,"","氏名","・","年齢","・","学年","","","が未記入です。","","","","",""]
[null,null,192,null,null,null,"※リストから選択して下さい","",null,null,null,null,null,null,null,null,{"$f":"IF(R217=1,SUM($R$26:$R217),\"\")","v":""},0,"","","","",{"$f":"IF(SUBSTITUTE(SUBSTITUTE($F217,\"　\",\"\"),\" \",\"\")=\"\",\"\",IFERROR(VLOOKUP($F217,$N$26:$N$46,1,FALSE),IFERROR(VLOOKUP(IF(AND(LEFT($F217,1)=\"小\",NOT(SUM(COUNTIF($F217,{\"*中*\",\"*高*\",\"*大*\"})))),\"小\",IF(AND(LEFT($F217,1)=\"中\",NOT(SUM(COUNTIF($F217,{\"*小*\",\"*高*\",\"*大*\"})))),\"中\",IF(AND(LEFT($F217,1)=\"高\",NOT(SUM(COUNTIF($F217,{\"*小*\",\"*中*\",\"*大*\"})))),\"高\",IF(AND(LEFT($F217,1)=\"大\",NOT(SUM(COUNTIF($F217,{\"*小*\",\"*中*\",\"*高*\"})))),\"大\",\"NG\"))))&MAX(TEXT(MID($F217,{1,2,3,4,5},{1;2;3;4;5;6;7;8;9;10;11;12;13;14;15}),\"標準;;0;!0\")*1),$N$26:$N$46,1,FALSE),\"NG\")))","v":""},"",0,0,0,"","氏名","・","年齢","・","学年","","","が未記入です。","","","","",""]
[null,null,193,null,null,null,"※リストから選択して下さい",{"$f":"AB218","v":""},null,null,null,null,null,null,null,null,{"$f":"IF(R218=1,SUM($R$26:$R218),\"\")","v":""},0,{"$f":"TRIM(SUBSTITUTE(D218,\" \",\"　\"))","v":""},"",{"$f":"IF(S218=\"\",\"\",1)","v":""},"",{"$f":"IF(SUBSTITUTE(SUBSTITUTE($F218,\"　\",\"\"),\" \",\"\")=\"\",\"\",IFERROR(VLOOKUP($F218,$N$26:$N$46,1,FALSE),IFERROR(VLOOKUP(IF(AND(LEFT($F218,1)=\"小\",NOT(SUM(COUNTIF($F218,{\"*中*\",\"*高*\",\"*大*\"})))),\"小\",IF(AND(LEFT($F218,1)=\"中\",NOT(SUM(COUNTIF($F218,{\"*小*\",\"*高*\",\"*大*\"})))),\"中\",IF(AND(LEFT($F218,1)=\"高\",NOT(SUM(COUNTIF($F218,{\"*小*\",\"*中*\",\"*大*\"})))),\"高\",IF(AND(LEFT($F218,1)=\"大\",NOT(SUM(COUNTIF($F218,{\"*小*\",\"*中*\",\"*高*\"})))),\"大\",\"NG\"))))&MAX(TEXT(MID($F218,{1,2,3,4,5},{1;2;3;4;5;6;7;8;9;10;11;12;13;14;15}),\"標準;;0;!0\")*1),$N$26:$N$46,1,FALSE),\"NG\")))","v":""},{"$f":"IF(OR($O$1=0,Y218=0),\"\",IF(OR($O$5=3,$O$5=0,$O$5=\"\"),IF(G218=$N$23,1,IF(G218=$O$23,2,0)),$O$5))","v":""},{"$f":"IF(AND(COUNTBLANK(U218:W218)=3,OR($O$5=1,$O$5=2,$O$5=\"\",AND(OR($O$5=3,$O$5=0),OR(G218=$P$23,G218=\"\")))),0,1)","v":0},0,{"$f":"IF(AND(Y218=1,OR(U218<>1,V218<>1,W218=\"\",W218=\"NG\",X218=0)),1,0)","v":0},{"$f":"IF(Z218=1,$W$24,IF(OR(V218=2,W218=\"NG\"),CONCATENATE(AK218,AL218,AM218,AN218,AO218),IF(Y218=0,\"\",CONCATENATE(AC218,AD218,AE218,AF218,AG218,AH218,AI218,AJ218))))","v":""},{"$f":"IF(U218=\"\",$D$25,\"\")","v":"氏名"},"・",{"$f":"IF(V218=\"\",$E$25,\"\")","v":"年齢"},"・",{"$f":"IF(W218=\"\",$F$25,\"\")","v":"学年"},"",{"$f":"IF(AND($O$1=1,OR($D$4=$P$4,$D$4=$Q$4),OR(G218=\"\",G218=$P$23)),\"プログラム掲載の有無\",\"\")","v":""},"が未記入です。",{"$f":"IF(V218=2,$E$25,\"\")","v":""},"","","",{"$f":"IF(AND(AK218<>\"\",AM218=\"\"),$AL$24,IF(AND(AK218=\"\",AM218<>\"\"),$AO$25,\"\"))","v":""}]
[null,null,194,null,null,null,"※リストから選択して下さい","",null,null,null,null,null,null,null,null,{"$f":"IF(R219=1,SUM($R$26:$R219),\"\")","v":""},{"$f":"IF(X219=1,1,0)","v":0},"",{"$f":"IF(V219=1,VALUE(ASC(E219)),\"\")","v":""},"",{"$f":"IF(SUBSTITUTE(SUBSTITUTE(E219,\"　\",\"\"),\" \",\"\")=\"\",\"\",IF(ISNUMBER(VALUE(ASC(E219))),1,2))","v":""},{"$f":"IF(SUBSTITUTE(SUBSTITUTE($F219,\"　\",\"\"),\" \",\"\")=\"\",\"\",IFERROR(VLOOKUP($F219,$N$26:$N$46,1,FALSE),IFERROR(VLOOKUP(IF(AND(LEFT($F219,1)=\"小\",NOT(SUM(COUNTIF($F219,{\"*中*\",\"*高*\",\"*大*\"})))),\"小\",IF(AND(LEFT($F219,1)=\"中\",NOT(SUM(COUNTIF($F219,{\"*小*\",\"*高*\",\"*大*\"})))),\"中\",IF(AND(LEFT($F219,1)=\"高\",NOT(SUM(COUNTIF($F219,{\"*小*\",\"*中*\",\"*大*\"})))),\"高\",IF(AND(LEFT($F219,1)=\"大\",NOT(SUM(COUNTIF($F219,{\"*小*\",\"*中*\",\"*高*\"})))),\"大\",\"NG\"))))&MAX(TEXT(MID($F219,{1,2,3,4,5},{1;2;3;4;5;6;7;8;9;10;11;12;13;14;15}),\"標準;;0;!0\")*1),$N$26:$N$46,1,FALSE),\"NG\")))","v":""},"",0,0,0,"","氏名",{"$f":"IF(OR(AC219=\"\",AND(AE219=\"\",AG219=\"\",AI219=\"\")),\"\",\"・\")","v":"・"},"年齢",{"$f":"IF(OR(AE219=\"\",AND(AG219=\"\",AI219=\"\")),\"\",\"・\")","v":"・"},"学年",{"$f":"IF(OR(AG219=\"\",AI219=\"\"),\"\",\"・\")","v":""},"",{"$f":"IF(COUNTBLANK(AC219:AI219)=7,\"\",\"が未記入です。\")","v":"が未記入です。"},"",{"$f":"IF(OR(AK219=\"\",AM219=\"\"),\"\",\"・\")","v":""},{"$f":"IF(W219=\"NG\",$F$25,\"\")","v":""},{"$f":"IF(COUNTBLANK(AK219:AM219)=3,\"\",\"が判別できません。\")","v":""},""]
[null,null,195,null,null,null,"※リストから選択して下さい","",null,null,null,null,null,null,null,null,{"$f":"IF(R220=1,SUM($R$26:$R220),\"\")","v":""},0,"","","","",{"$f":"IF(SUBSTITUTE(SUBSTITUTE($F220,\"　\",\"\"),\" \",\"\")=\"\",\"\",IFERROR(VLOOKUP($F220,$N$26:$N$46,1,FALSE),IFERROR(VLOOKUP(IF(AND(LEFT($F220,1)=\"小\",NOT(SUM(COUNTIF($F220,{\"*中*\",\"*高*\",\"*大*\"})))),\"小\",IF(AND(LEFT($F220,1)=\"中\",NOT(SUM(COUNTIF($F220,{\"*小*\",\"*高*\",\"*大*\"})))),\"中\",IF(AND(LEFT($F220,1)=\"高\",NOT(SUM(COUNTIF($F220,{\"*小*\",\"*中*\",\"*大*\"})))),\"高\",IF(AND(LEFT($F220,1)=\"大\",NOT(SUM(COUNTIF($F220,{\"*小*\",\"*中*\",\"*高*\"})))),\"大\",\"NG\"))))&MAX(TEXT(MID($F220,{1,2,3,4,5},{1;2;3;4;5;6;7;8;9;10;11;12;13;14;15}),\"標準;;0;!0\")*1),$N$26:$N$46,1,FALSE),\"NG\")))","v":""},"",0,{"$f":"IF(AND(Y220=1,Y219=0),1,0)","v":0},0,"","氏名","・","年齢","・","学年","","","が未記入です。","","","","",""]
[null,null,196,null,null,null,"※リストから選択して下さい","",null,null,null,null,null,null,null,null,{"$f":"IF(R221=1,SUM($R$26:$R221),\"\")","v":""},0,"","","","",{"$f":"IF(SUBSTITUTE(SUBSTITUTE($F221,\"　\",\"\"),\" \",\"\")=\"\",\"\",IFERROR(VLOOKUP($F221,$N$26:$N$46,1,FALSE),IFERROR(VLOOKUP(IF(AND(LEFT($F221,1)=\"小\",NOT(SUM(COUNTIF($F221,{\"*中*\",\"*高*\",\"*大*\"})))),\"小\",IF(AND(LEFT($F221,1)=\"中\",NOT(SUM(COUNTIF($F221,{\"*小*\",\"*高*\",\"*大*\"})))),\"中\",IF(AND(LEFT($F221,1)=\"高\",NOT(SUM(COUNTIF($F221,{\"*小*\",\"*中*\",\"*大*\"})))),\"高\",IF(AND(LEFT($F221,1)=\"大\",NOT(SUM(COUNTIF($F221,{\"*小*\",\"*中*\",\"*高*\"})))),\"大\",\"NG\"))))&MAX(TEXT(MID($F221,{1,2,3,4,5},{1;2;3;4;5;6;7;8;9;10;11;12;13;14;15}),\"標準;;0;!0\")*1),$N$26:$N$46,1,FALSE),\"NG\")))","v":""},"",0,0,0,"","氏名","・","年齢","・","学年","","","が未記入です。","","","","",""]
[null,null,197,null,null,null,"※リストから選択して下さい","",null,null,null,null,null,null,null,null,{"$f":"IF(R222=1,SUM($R$26:$R222),\"\")","v":""},0,"","","","",{"$f":"IF(SUBSTITUTE(SUBSTITUTE($F222,\"　\",\"\"),\" \",\"\")=\"\",\"\",IFERROR(VLOOKUP($F222,$N$26:$N$46,1,FALSE),IFERROR(VLOOKUP(IF(AND(LEFT($F222,1)=\"小\",NOT(SUM(COUNTIF($F222,{\"*中*\",\"*高*\",\"*大*\"})))),\"小\",IF(AND(LEFT($F222,1)=\"中\",NOT(SUM(COUNTIF($F222,{\"*小*\",\"*高*\",\"*大*\"})))),\"中\",IF(AND(LEFT($F222,1)=\"高\",NOT(SUM(COUNTIF($F222,{\"*小*\",\"*中*\",\"*大*\"})))),\"高\",IF(AND(LEFT($F222,1)=\"大\",NOT(SUM(COUNTIF($F222,{\"*小*\",\"*中*\",\"*高*\"})))),\"大\",\"NG\"))))&MAX(TEXT(MID($F222,{1,2,3,4,5},{1;2;3;4;5;6;7;8;9;10;11;12;13;14;15}),\"標準;;0;!0\")*1),$N$26:$N$46,1,FALSE),\"NG\")))","v":""},"",0,0,0,"","氏名","・","年齢","・","学年","","","が未記入です。","","","","",""]
[null,null,198,null,null,null,"※リストから選択して下さい","",null,null,null,null,null,null,null,null,{"$f":"IF(R223=1,SUM($R$26:$R223),\"\")","v":""},0,"","","","",{"$f":"IF(SUBSTITUTE(SUBSTITUTE($F223,\"　\",\"\"),\" \",\"\")=\"\",\"\",IFERROR(VLOOKUP($F223,$N$26:$N$46,1,FALSE),IFERROR(VLOOKUP(IF(AND(LEFT($F223,1)=\"小\",NOT(SUM(COUNTIF($F223,{\"*中*\",\"*高*\",\"*大*\"})))),\"小\",IF(AND(LEFT($F223,1)=\"中\",NOT(SUM(COUNTIF($F223,{\"*小*\",\"*高*\",\"*大*\"})))),\"中\",IF(AND(LEFT($F223,1)=\"高\",NOT(SUM(COUNTIF($F223,{\"*小*\",\"*中*\",\"*大*\"})))),\"高\",IF(AND(LEFT($F223,1)=\"大\",NOT(SUM(COUNTIF($F223,{\"*小*\",\"*中*\",\"*高*\"})))),\"大\",\"NG\"))))&MAX(TEXT(MID($F223,{1,2,3,4,5},{1;2;3;4;5;6;7;8;9;10;11;12;13;14;15}),\"標準;;0;!0\")*1),$N$26:$N$46,1,FALSE),\"NG\")))","v":""},"",0,0,0,"","氏名","・","年齢","・","学年","","","が未記入です。","","","","",""]
[null,null,199,null,null,null,"※リストから選択して下さい","",null,null,null,null,null,null,null,null,{"$f":"IF(R224=1,SUM($R$26:$R224),\"\")","v":""},0,"","","","",{"$f":"IF(SUBSTITUTE(SUBSTITUTE($F224,\"　\",\"\"),\" \",\"\")=\"\",\"\",IFERROR(VLOOKUP($F224,$N$26:$N$46,1,FALSE),IFERROR(VLOOKUP(IF(AND(LEFT($F224,1)=\"小\",NOT(SUM(COUNTIF($F224,{\"*中*\",\"*高*\",\"*大*\"})))),\"小\",IF(AND(LEFT($F224,1)=\"中\",NOT(SUM(COUNTIF($F224,{\"*小*\",\"*高*\",\"*大*\"})))),\"中\",IF(AND(LEFT($F224,1)=\"高\",NOT(SUM(COUNTIF($F224,{\"*小*\",\"*中*\",\"*大*\"})))),\"高\",IF(AND(LEFT($F224,1)=\"大\",NOT(SUM(COUNTIF($F224,{\"*小*\",\"*中*\",\"*高*\"})))),\"大\",\"NG\"))))&MAX(TEXT(MID($F224,{1,2,3,4,5},{1;2;3;4;5;6;7;8;9;10;11;12;13;14;15}),\"標準;;0;!0\")*1),$N$26:$N$46,1,FALSE),\"NG\")))","v":""},"",0,0,0,"","氏名","・","年齢","・","学年","","","が未記入です。","","","","",""]
[null,null,200,null,null,null,"※リストから選択して下さい","",null,null,null,null,null,null,null,null,{"$f":"IF(R225=1,SUM($R$26:$R225),\"\")","v":""},0,"","","","",{"$f":"IF(SUBSTITUTE(SUBSTITUTE($F225,\"　\",\"\"),\" \",\"\")=\"\",\"\",IFERROR(VLOOKUP($F225,$N$26:$N$46,1,FALSE),IFERROR(VLOOKUP(IF(AND(LEFT($F225,1)=\"小\",NOT(SUM(COUNTIF($F225,{\"*中*\",\"*高*\",\"*大*\"})))),\"小\",IF(AND(LEFT($F225,1)=\"中\",NOT(SUM(COUNTIF($F225,{\"*小*\",\"*高*\",\"*大*\"})))),\"中\",IF(AND(LEFT($F225,1)=\"高\",NOT(SUM(COUNTIF($F225,{\"*小*\",\"*中*\",\"*大*\"})))),\"高\",IF(AND(LEFT($F225,1)=\"大\",NOT(SUM(COUNTIF($F225,{\"*小*\",\"*中*\",\"*高*\"})))),\"大\",\"NG\"))))&MAX(TEXT(MID($F225,{1,2,3,4,5},{1;2;3;4;5;6;7;8;9;10;11;12;13;14;15}),\"標準;;0;!0\")*1),$N$26:$N$46,1,FALSE),\"NG\")))","v":""},"",0,0,0,"","氏名","・","年齢","・","学年","","","が未記入です。","","","","",""]
[null,null,201,null,null,null,"※リストから選択して下さい","",null,null,null,null,null,null,null,null,{"$f":"IF(R226=1,SUM($R$26:$R226),\"\")","v":""},0,"","","","",{"$f":"IF(SUBSTITUTE(SUBSTITUTE($F226,\"　\",\"\"),\" \",\"\")=\"\",\"\",IFERROR(VLOOKUP($F226,$N$26:$N$46,1,FALSE),IFERROR(VLOOKUP(IF(AND(LEFT($F226,1)=\"小\",NOT(SUM(COUNTIF($F226,{\"*中*\",\"*高*\",\"*大*\"})))),\"小\",IF(AND(LEFT($F226,1)=\"中\",NOT(SUM(COUNTIF($F226,{\"*小*\",\"*高*\",\"*大*\"})))),\"中\",IF(AND(LEFT($F226,1)=\"高\",NOT(SUM(COUNTIF($F226,{\"*小*\",\"*中*\",\"*大*\"})))),\"高\",IF(AND(LEFT($F226,1)=\"大\",NOT(SUM(COUNTIF($F226,{\"*小*\",\"*中*\",\"*高*\"})))),\"大\",\"NG\"))))&MAX(TEXT(MID($F226,{1,2,3,4,5},{1;2;3;4;5;6;7;8;9;10;11;12;13;14;15}),\"標準;;0;!0\")*1),$N$26:$N$46,1,FALSE),\"NG\")))","v":""},"",0,0,0,"","氏名","・","年齢","・","学年","","","が未記入です。","","","","",""]
[null,null,202,null,null,null,"※リストから選択して下さい","",null,null,null,null,null,null,null,null,{"$f":"IF(R227=1,SUM($R$26:$R227),\"\")","v":""},0,"","","","",{"$f":"IF(SUBSTITUTE(SUBSTITUTE($F227,\"　\",\"\"),\" \",\"\")=\"\",\"\",IFERROR(VLOOKUP($F227,$N$26:$N$46,1,FALSE),IFERROR(VLOOKUP(IF(AND(LEFT($F227,1)=\"小\",NOT(SUM(COUNTIF($F227,{\"*中*\",\"*高*\",\"*大*\"})))),\"小\",IF(AND(LEFT($F227,1)=\"中\",NOT(SUM(COUNTIF($F227,{\"*小*\",\"*高*\",\"*大*\"})))),\"中\",IF(AND(LEFT($F227,1)=\"高\",NOT(SUM(COUNTIF($F227,{\"*小*\",\"*中*\",\"*大*\"})))),\"高\",IF(AND(LEFT($F227,1)=\"大\",NOT(SUM(COUNTIF($F227,{\"*小*\",\"*中*\",\"*高*\"})))),\"大\",\"NG\"))))&MAX(TEXT(MID($F227,{1,2,3,4,5},{1;2;3;4;5;6;7;8;9;10;11;12;13;14;15}),\"標準;;0;!0\")*1),$N$26:$N$46,1,FALSE),\"NG\")))","v":""},"",0,0,0,"","氏名","・","年齢","・","学年","","","が未記入です。","","","","",""]
[null,null,203,null,null,null,"※リストから選択して下さい","",null,null,null,null,null,null,null,null,{"$f":"IF(R228=1,SUM($R$26:$R228),\"\")","v":""},0,"","","","",{"$f":"IF(SUBSTITUTE(SUBSTITUTE($F228,\"　\",\"\"),\" \",\"\")=\"\",\"\",IFERROR(VLOOKUP($F228,$N$26:$N$46,1,FALSE),IFERROR(VLOOKUP(IF(AND(LEFT($F228,1)=\"小\",NOT(SUM(COUNTIF($F228,{\"*中*\",\"*高*\",\"*大*\"})))),\"小\",IF(AND(LEFT($F228,1)=\"中\",NOT(SUM(COUNTIF($F228,{\"*小*\",\"*高*\",\"*大*\"})))),\"中\",IF(AND(LEFT($F228,1)=\"高\",NOT(SUM(COUNTIF($F228,{\"*小*\",\"*中*\",\"*大*\"})))),\"高\",IF(AND(LEFT($F228,1)=\"大\",NOT(SUM(COUNTIF($F228,{\"*小*\",\"*中*\",\"*高*\"})))),\"大\",\"NG\"))))&MAX(TEXT(MID($F228,{1,2,3,4,5},{1;2;3;4;5;6;7;8;9;10;11;12;13;14;15}),\"標準;;0;!0\")*1),$N$26:$N$46,1,FALSE),\"NG\")))","v":""},"",0,0,0,"","氏名","・","年齢","・","学年","","","が未記入です。","","","","",""]
[null,null,204,null,null,null,"※リストから選択して下さい","",null,null,null,null,null,null,null,null,{"$f":"IF(R229=1,SUM($R$26:$R229),\"\")","v":""},0,"","","","",{"$f":"IF(SUBSTITUTE(SUBSTITUTE($F229,\"　\",\"\"),\" \",\"\")=\"\",\"\",IFERROR(VLOOKUP($F229,$N$26:$N$46,1,FALSE),IFERROR(VLOOKUP(IF(AND(LEFT($F229,1)=\"小\",NOT(SUM(COUNTIF($F229,{\"*中*\",\"*高*\",\"*大*\"})))),\"小\",IF(AND(LEFT($F229,1)=\"中\",NOT(SUM(COUNTIF($F229,{\"*小*\",\"*高*\",\"*大*\"})))),\"中\",IF(AND(LEFT($F229,1)=\"高\",NOT(SUM(COUNTIF($F229,{\"*小*\",\"*中*\",\"*大*\"})))),\"高\",IF(AND(LEFT($F229,1)=\"大\",NOT(SUM(COUNTIF($F229,{\"*小*\",\"*中*\",\"*高*\"})))),\"大\",\"NG\"))))&MAX(TEXT(MID($F229,{1,2,3,4,5},{1;2;3;4;5;6;7;8;9;10;11;12;13;14;15}),\"標準;;0;!0\")*1),$N$26:$N$46,1,FALSE),\"NG\")))","v":""},"",0,0,0,"","氏名","・","年齢","・","学年","","","が未記入です。","","","","",""]
[null,null,205,null,null,null,"※リストから選択して下さい","",null,null,null,null,null,null,null,null,{"$f":"IF(R230=1,SUM($R$26:$R230),\"\")","v":""},0,"","","","",{"$f":"IF(SUBSTITUTE(SUBSTITUTE($F230,\"　\",\"\"),\" \",\"\")=\"\",\"\",IFERROR(VLOOKUP($F230,$N$26:$N$46,1,FALSE),IFERROR(VLOOKUP(IF(AND(LEFT($F230,1)=\"小\",NOT(SUM(COUNTIF($F230,{\"*中*\",\"*高*\",\"*大*\"})))),\"小\",IF(AND(LEFT($F230,1)=\"中\",NOT(SUM(COUNTIF($F230,{\"*小*\",\"*高*\",\"*大*\"})))),\"中\",IF(AND(LEFT($F230,1)=\"高\",NOT(SUM(COUNTIF($F230,{\"*小*\",\"*中*\",\"*大*\"})))),\"高\",IF(AND(LEFT($F230,1)=\"大\",NOT(SUM(COUNTIF($F230,{\"*小*\",\"*中*\",\"*高*\"})))),\"大\",\"NG\"))))&MAX(TEXT(MID($F230,{1,2,3,4,5},{1;2;3;4;5;6;7;8;9;10;11;12;13;14;15}),\"標準;;0;!0\")*1),$N$26:$N$46,1,FALSE),\"NG\")))","v":""},"",0,0,0,"","氏名","・","年齢","・","学年","","","が未記入です。","","","","",""]
[null,null,206,null,null,null,"※リストから選択して下さい","",null,null,null,null,null,null,null,null,{"$f":"IF(R231=1,SUM($R$26:$R231),\"\")","v":""},0,"","","","",{"$f":"IF(SUBSTITUTE(SUBSTITUTE($F231,\"　\",\"\"),\" \",\"\")=\"\",\"\",IFERROR(VLOOKUP($F231,$N$26:$N$46,1,FALSE),IFERROR(VLOOKUP(IF(AND(LEFT($F231,1)=\"小\",NOT(SUM(COUNTIF($F231,{\"*中*\",\"*高*\",\"*大*\"})))),\"小\",IF(AND(LEFT($F231,1)=\"中\",NOT(SUM(COUNTIF($F231,{\"*小*\",\"*高*\",\"*大*\"})))),\"中\",IF(AND(LEFT($F231,1)=\"高\",NOT(SUM(COUNTIF($F231,{\"*小*\",\"*中*\",\"*大*\"})))),\"高\",IF(AND(LEFT($F231,1)=\"大\",NOT(SUM(COUNTIF($F231,{\"*小*\",\"*中*\",\"*高*\"})))),\"大\",\"NG\"))))&MAX(TEXT(MID($F231,{1,2,3,4,5},{1;2;3;4;5;6;7;8;9;10;11;12;13;14;15}),\"標準;;0;!0\")*1),$N$26:$N$46,1,FALSE),\"NG\")))","v":""},"",0,0,0,"","氏名","・","年齢","・","学年","","","が未記入です。","","","","",""]
[null,null,207,null,null,null,"※リストから選択して下さい","",null,null,null,null,null,null,null,null,{"$f":"IF(R232=1,SUM($R$26:$R232),\"\")","v":""},0,"","","","",{"$f":"IF(SUBSTITUTE(SUBSTITUTE($F232,\"　\",\"\"),\" \",\"\")=\"\",\"\",IFERROR(VLOOKUP($F232,$N$26:$N$46,1,FALSE),IFERROR(VLOOKUP(IF(AND(LEFT($F232,1)=\"小\",NOT(SUM(COUNTIF($F232,{\"*中*\",\"*高*\",\"*大*\"})))),\"小\",IF(AND(LEFT($F232,1)=\"中\",NOT(SUM(COUNTIF($F232,{\"*小*\",\"*高*\",\"*大*\"})))),\"中\",IF(AND(LEFT($F232,1)=\"高\",NOT(SUM(COUNTIF($F232,{\"*小*\",\"*中*\",\"*大*\"})))),\"高\",IF(AND(LEFT($F232,1)=\"大\",NOT(SUM(COUNTIF($F232,{\"*小*\",\"*中*\",\"*高*\"})))),\"大\",\"NG\"))))&MAX(TEXT(MID($F232,{1,2,3,4,5},{1;2;3;4;5;6;7;8;9;10;11;12;13;14;15}),\"標準;;0;!0\")*1),$N$26:$N$46,1,FALSE),\"NG\")))","v":""},"",0,0,0,"","氏名","・","年齢","・","学年","","","が未記入です。","","","","",""]
[null,null,208,null,null,null,"※リストから選択して下さい","",null,null,null,null,null,null,null,null,{"$f":"IF(R233=1,SUM($R$26:$R233),\"\")","v":""},0,"","","","",{"$f":"IF(SUBSTITUTE(SUBSTITUTE($F233,\"　\",\"\"),\" \",\"\")=\"\",\"\",IFERROR(VLOOKUP($F233,$N$26:$N$46,1,FALSE),IFERROR(VLOOKUP(IF(AND(LEFT($F233,1)=\"小\",NOT(SUM(COUNTIF($F233,{\"*中*\",\"*高*\",\"*大*\"})))),\"小\",IF(AND(LEFT($F233,1)=\"中\",NOT(SUM(COUNTIF($F233,{\"*小*\",\"*高*\",\"*大*\"})))),\"中\",IF(AND(LEFT($F233,1)=\"高\",NOT(SUM(COUNTIF($F233,{\"*小*\",\"*中*\",\"*大*\"})))),\"高\",IF(AND(LEFT($F233,1)=\"大\",NOT(SUM(COUNTIF($F233,{\"*小*\",\"*中*\",\"*高*\"})))),\"大\",\"NG\"))))&MAX(TEXT(MID($F233,{1,2,3,4,5},{1;2;3;4;5;6;7;8;9;10;11;12;13;14;15}),\"標準;;0;!0\")*1),$N$26:$N$46,1,FALSE),\"NG\")))","v":""},"",0,0,0,"","氏名","・","年齢","・","学年","","","が未記入です。","","","","",""]
[null,null,209,null,null,null,"※リストから選択して下さい","",null,null,null,null,null,null,null,null,{"$f":"IF(R234=1,SUM($R$26:$R234),\"\")","v":""},0,"","","","",{"$f":"IF(SUBSTITUTE(SUBSTITUTE($F234,\"　\",\"\"),\" \",\"\")=\"\",\"\",IFERROR(VLOOKUP($F234,$N$26:$N$46,1,FALSE),IFERROR(VLOOKUP(IF(AND(LEFT($F234,1)=\"小\",NOT(SUM(COUNTIF($F234,{\"*中*\",\"*高*\",\"*大*\"})))),\"小\",IF(AND(LEFT($F234,1)=\"中\",NOT(SUM(COUNTIF($F234,{\"*小*\",\"*高*\",\"*大*\"})))),\"中\",IF(AND(LEFT($F234,1)=\"高\",NOT(SUM(COUNTIF($F234,{\"*小*\",\"*中*\",\"*大*\"})))),\"高\",IF(AND(LEFT($F234,1)=\"大\",NOT(SUM(COUNTIF($F234,{\"*小*\",\"*中*\",\"*高*\"})))),\"大\",\"NG\"))))&MAX(TEXT(MID($F234,{1,2,3,4,5},{1;2;3;4;5;6;7;8;9;10;11;12;13;14;15}),\"標準;;0;!0\")*1),$N$26:$N$46,1,FALSE),\"NG\")))","v":""},"",0,0,0,"","氏名","・","年齢","・","学年","","","が未記入です。","","","","",""]
[null,null,210,null,null,null,"※リストから選択して下さい","",null,null,null,null,null,null,null,null,{"$f":"IF(R235=1,SUM($R$26:$R235),\"\")","v":""},0,"","","","",{"$f":"IF(SUBSTITUTE(SUBSTITUTE($F235,\"　\",\"\"),\" \",\"\")=\"\",\"\",IFERROR(VLOOKUP($F235,$N$26:$N$46,1,FALSE),IFERROR(VLOOKUP(IF(AND(LEFT($F235,1)=\"小\",NOT(SUM(COUNTIF($F235,{\"*中*\",\"*高*\",\"*大*\"})))),\"小\",IF(AND(LEFT($F235,1)=\"中\",NOT(SUM(COUNTIF($F235,{\"*小*\",\"*高*\",\"*大*\"})))),\"中\",IF(AND(LEFT($F235,1)=\"高\",NOT(SUM(COUNTIF($F235,{\"*小*\",\"*中*\",\"*大*\"})))),\"高\",IF(AND(LEFT($F235,1)=\"大\",NOT(SUM(COUNTIF($F235,{\"*小*\",\"*中*\",\"*高*\"})))),\"大\",\"NG\"))))&MAX(TEXT(MID($F235,{1,2,3,4,5},{1;2;3;4;5;6;7;8;9;10;11;12;13;14;15}),\"標準;;0;!0\")*1),$N$26:$N$46,1,FALSE),\"NG\")))","v":""},"",0,0,0,"","氏名","・","年齢","・","学年","","","が未記入です。","","","","",""]
[null,null,211,null,null,null,"※リストから選択して下さい","",null,null,null,null,null,null,null,null,{"$f":"IF(R236=1,SUM($R$26:$R236),\"\")","v":""},0,"","","","",{"$f":"IF(SUBSTITUTE(SUBSTITUTE($F236,\"　\",\"\"),\" \",\"\")=\"\",\"\",IFERROR(VLOOKUP($F236,$N$26:$N$46,1,FALSE),IFERROR(VLOOKUP(IF(AND(LEFT($F236,1)=\"小\",NOT(SUM(COUNTIF($F236,{\"*中*\",\"*高*\",\"*大*\"})))),\"小\",IF(AND(LEFT($F236,1)=\"中\",NOT(SUM(COUNTIF($F236,{\"*小*\",\"*高*\",\"*大*\"})))),\"中\",IF(AND(LEFT($F236,1)=\"高\",NOT(SUM(COUNTIF($F236,{\"*小*\",\"*中*\",\"*大*\"})))),\"高\",IF(AND(LEFT($F236,1)=\"大\",NOT(SUM(COUNTIF($F236,{\"*小*\",\"*中*\",\"*高*\"})))),\"大\",\"NG\"))))&MAX(TEXT(MID($F236,{1,2,3,4,5},{1;2;3;4;5;6;7;8;9;10;11;12;13;14;15}),\"標準;;0;!0\")*1),$N$26:$N$46,1,FALSE),\"NG\")))","v":""},"",0,0,0,"","氏名","・","年齢","・","学年","","","が未記入です。","","","","",""]
[null,null,212,null,null,null,"※リストから選択して下さい","",null,null,null,null,null,null,null,null,{"$f":"IF(R237=1,SUM($R$26:$R237),\"\")","v":""},0,"","","","",{"$f":"IF(SUBSTITUTE(SUBSTITUTE($F237,\"　\",\"\"),\" \",\"\")=\"\",\"\",IFERROR(VLOOKUP($F237,$N$26:$N$46,1,FALSE),IFERROR(VLOOKUP(IF(AND(LEFT($F237,1)=\"小\",NOT(SUM(COUNTIF($F237,{\"*中*\",\"*高*\",\"*大*\"})))),\"小\",IF(AND(LEFT($F237,1)=\"中\",NOT(SUM(COUNTIF($F237,{\"*小*\",\"*高*\",\"*大*\"})))),\"中\",IF(AND(LEFT($F237,1)=\"高\",NOT(SUM(COUNTIF($F237,{\"*小*\",\"*中*\",\"*大*\"})))),\"高\",IF(AND(LEFT($F237,1)=\"大\",NOT(SUM(COUNTIF($F237,{\"*小*\",\"*中*\",\"*高*\"})))),\"大\",\"NG\"))))&MAX(TEXT(MID($F237,{1,2,3,4,5},{1;2;3;4;5;6;7;8;9;10;11;12;13;14;15}),\"標準;;0;!0\")*1),$N$26:$N$46,1,FALSE),\"NG\")))","v":""},"",0,0,0,"","氏名","・","年齢","・","学年","","","が未記入です。","","","","",""]
[null,null,213,null,null,null,"※リストから選択して下さい","",null,null,null,null,null,null,null,null,{"$f":"IF(R238=1,SUM($R$26:$R238),\"\")","v":""},0,"","","","",{"$f":"IF(SUBSTITUTE(SUBSTITUTE($F238,\"　\",\"\"),\" \",\"\")=\"\",\"\",IFERROR(VLOOKUP($F238,$N$26:$N$46,1,FALSE),IFERROR(VLOOKUP(IF(AND(LEFT($F238,1)=\"小\",NOT(SUM(COUNTIF($F238,{\"*中*\",\"*高*\",\"*大*\"})))),\"小\",IF(AND(LEFT($F238,1)=\"中\",NOT(SUM(COUNTIF($F238,{\"*小*\",\"*高*\",\"*大*\"})))),\"中\",IF(AND(LEFT($F238,1)=\"高\",NOT(SUM(COUNTIF($F238,{\"*小*\",\"*中*\",\"*大*\"})))),\"高\",IF(AND(LEFT($F238,1)=\"大\",NOT(SUM(COUNTIF($F238,{\"*小*\",\"*中*\",\"*高*\"})))),\"大\",\"NG\"))))&MAX(TEXT(MID($F238,{1,2,3,4,5},{1;2;3;4;5;6;7;8;9;10;11;12;13;14;15}),\"標準;;0;!0\")*1),$N$26:$N$46,1,FALSE),\"NG\")))","v":""},"",0,0,0,"","氏名","・","年齢","・","学年","","","が未記入です。","","","","",""]
[null,null,214,null,null,null,"※リストから選択して下さい","",null,null,null,null,null,null,null,null,{"$f":"IF(R239=1,SUM($R$26:$R239),\"\")","v":""},0,"","","","",{"$f":"IF(SUBSTITUTE(SUBSTITUTE($F239,\"　\",\"\"),\" \",\"\")=\"\",\"\",IFERROR(VLOOKUP($F239,$N$26:$N$46,1,FALSE),IFERROR(VLOOKUP(IF(AND(LEFT($F239,1)=\"小\",NOT(SUM(COUNTIF($F239,{\"*中*\",\"*高*\",\"*大*\"})))),\"小\",IF(AND(LEFT($F239,1)=\"中\",NOT(SUM(COUNTIF($F239,{\"*小*\",\"*高*\",\"*大*\"})))),\"中\",IF(AND(LEFT($F239,1)=\"高\",NOT(SUM(COUNTIF($F239,{\"*小*\",\"*中*\",\"*大*\"})))),\"高\",IF(AND(LEFT($F239,1)=\"大\",NOT(SUM(COUNTIF($F239,{\"*小*\",\"*中*\",\"*高*\"})))),\"大\",\"NG\"))))&MAX(TEXT(MID($F239,{1,2,3,4,5},{1;2;3;4;5;6;7;8;9;10;11;12;13;14;15}),\"標準;;0;!0\")*1),$N$26:$N$46,1,FALSE),\"NG\")))","v":""},"",0,0,0,"","氏名","・","年齢","・","学年","","","が未記入です。","","","","",""]
[null,null,215,null,null,null,"※リストから選択して下さい","",null,null,null,null,null,null,null,null,{"$f":"IF(R240=1,SUM($R$26:$R240),\"\")","v":""},0,"","","","",{"$f":"IF(SUBSTITUTE(SUBSTITUTE($F240,\"　\",\"\"),\" \",\"\")=\"\",\"\",IFERROR(VLOOKUP($F240,$N$26:$N$46,1,FALSE),IFERROR(VLOOKUP(IF(AND(LEFT($F240,1)=\"小\",NOT(SUM(COUNTIF($F240,{\"*中*\",\"*高*\",\"*大*\"})))),\"小\",IF(AND(LEFT($F240,1)=\"中\",NOT(SUM(COUNTIF($F240,{\"*小*\",\"*高*\",\"*大*\"})))),\"中\",IF(AND(LEFT($F240,1)=\"高\",NOT(SUM(COUNTIF($F240,{\"*小*\",\"*中*\",\"*大*\"})))),\"高\",IF(AND(LEFT($F240,1)=\"大\",NOT(SUM(COUNTIF($F240,{\"*小*\",\"*中*\",\"*高*\"})))),\"大\",\"NG\"))))&MAX(TEXT(MID($F240,{1,2,3,4,5},{1;2;3;4;5;6;7;8;9;10;11;12;13;14;15}),\"標準;;0;!0\")*1),$N$26:$N$46,1,FALSE),\"NG\")))","v":""},"",0,0,0,"","氏名","・","年齢","・","学年","","","が未記入です。","","","","",""]
[null,null,216,null,null,null,"※リストから選択して下さい","",null,null,null,null,null,null,null,null,{"$f":"IF(R241=1,SUM($R$26:$R241),\"\")","v":""},0,"","","","",{"$f":"IF(SUBSTITUTE(SUBSTITUTE($F241,\"　\",\"\"),\" \",\"\")=\"\",\"\",IFERROR(VLOOKUP($F241,$N$26:$N$46,1,FALSE),IFERROR(VLOOKUP(IF(AND(LEFT($F241,1)=\"小\",NOT(SUM(COUNTIF($F241,{\"*中*\",\"*高*\",\"*大*\"})))),\"小\",IF(AND(LEFT($F241,1)=\"中\",NOT(SUM(COUNTIF($F241,{\"*小*\",\"*高*\",\"*大*\"})))),\"中\",IF(AND(LEFT($F241,1)=\"高\",NOT(SUM(COUNTIF($F241,{\"*小*\",\"*中*\",\"*大*\"})))),\"高\",IF(AND(LEFT($F241,1)=\"大\",NOT(SUM(COUNTIF($F241,{\"*小*\",\"*中*\",\"*高*\"})))),\"大\",\"NG\"))))&MAX(TEXT(MID($F241,{1,2,3,4,5},{1;2;3;4;5;6;7;8;9;10;11;12;13;14;15}),\"標準;;0;!0\")*1),$N$26:$N$46,1,FALSE),\"NG\")))","v":""},"",0,0,0,"","氏名","・","年齢","・","学年","","","が未記入です。","","","","",""]
[null,null,217,null,null,null,"※リストから選択して下さい","",null,null,null,null,null,null,null,null,{"$f":"IF(R242=1,SUM($R$26:$R242),\"\")","v":""},0,"","","","",{"$f":"IF(SUBSTITUTE(SUBSTITUTE($F242,\"　\",\"\"),\" \",\"\")=\"\",\"\",IFERROR(VLOOKUP($F242,$N$26:$N$46,1,FALSE),IFERROR(VLOOKUP(IF(AND(LEFT($F242,1)=\"小\",NOT(SUM(COUNTIF($F242,{\"*中*\",\"*高*\",\"*大*\"})))),\"小\",IF(AND(LEFT($F242,1)=\"中\",NOT(SUM(COUNTIF($F242,{\"*小*\",\"*高*\",\"*大*\"})))),\"中\",IF(AND(LEFT($F242,1)=\"高\",NOT(SUM(COUNTIF($F242,{\"*小*\",\"*中*\",\"*大*\"})))),\"高\",IF(AND(LEFT($F242,1)=\"大\",NOT(SUM(COUNTIF($F242,{\"*小*\",\"*中*\",\"*高*\"})))),\"大\",\"NG\"))))&MAX(TEXT(MID($F242,{1,2,3,4,5},{1;2;3;4;5;6;7;8;9;10;11;12;13;14;15}),\"標準;;0;!0\")*1),$N$26:$N$46,1,FALSE),\"NG\")))","v":""},"",0,0,0,"","氏名","・","年齢","・","学年","","","が未記入です。","","","","",""]
[null,null,218,null,null,null,"※リストから選択して下さい","",null,null,null,null,null,null,null,null,{"$f":"IF(R243=1,SUM($R$26:$R243),\"\")","v":""},0,"","","","",{"$f":"IF(SUBSTITUTE(SUBSTITUTE($F243,\"　\",\"\"),\" \",\"\")=\"\",\"\",IFERROR(VLOOKUP($F243,$N$26:$N$46,1,FALSE),IFERROR(VLOOKUP(IF(AND(LEFT($F243,1)=\"小\",NOT(SUM(COUNTIF($F243,{\"*中*\",\"*高*\",\"*大*\"})))),\"小\",IF(AND(LEFT($F243,1)=\"中\",NOT(SUM(COUNTIF($F243,{\"*小*\",\"*高*\",\"*大*\"})))),\"中\",IF(AND(LEFT($F243,1)=\"高\",NOT(SUM(COUNTIF($F243,{\"*小*\",\"*中*\",\"*大*\"})))),\"高\",IF(AND(LEFT($F243,1)=\"大\",NOT(SUM(COUNTIF($F243,{\"*小*\",\"*中*\",\"*高*\"})))),\"大\",\"NG\"))))&MAX(TEXT(MID($F243,{1,2,3,4,5},{1;2;3;4;5;6;7;8;9;10;11;12;13;14;15}),\"標準;;0;!0\")*1),$N$26:$N$46,1,FALSE),\"NG\")))","v":""},"",0,0,0,"","氏名","・","年齢","・","学年","","","が未記入です。","","","","",""]
[null,null,219,null,null,null,"※リストから選択して下さい","",null,null,null,null,null,null,null,null,{"$f":"IF(R244=1,SUM($R$26:$R244),\"\")","v":""},0,"","","","",{"$f":"IF(SUBSTITUTE(SUBSTITUTE($F244,\"　\",\"\"),\" \",\"\")=\"\",\"\",IFERROR(VLOOKUP($F244,$N$26:$N$46,1,FALSE),IFERROR(VLOOKUP(IF(AND(LEFT($F244,1)=\"小\",NOT(SUM(COUNTIF($F244,{\"*中*\",\"*高*\",\"*大*\"})))),\"小\",IF(AND(LEFT($F244,1)=\"中\",NOT(SUM(COUNTIF($F244,{\"*小*\",\"*高*\",\"*大*\"})))),\"中\",IF(AND(LEFT($F244,1)=\"高\",NOT(SUM(COUNTIF($F244,{\"*小*\",\"*中*\",\"*大*\"})))),\"高\",IF(AND(LEFT($F244,1)=\"大\",NOT(SUM(COUNTIF($F244,{\"*小*\",\"*中*\",\"*高*\"})))),\"大\",\"NG\"))))&MAX(TEXT(MID($F244,{1,2,3,4,5},{1;2;3;4;5;6;7;8;9;10;11;12;13;14;15}),\"標準;;0;!0\")*1),$N$26:$N$46,1,FALSE),\"NG\")))","v":""},"",0,0,0,"","氏名","・","年齢","・","学年","","","が未記入です。","","","","",""]
[null,null,220,null,null,null,"※リストから選択して下さい","",null,null,null,null,null,null,null,null,{"$f":"IF(R245=1,SUM($R$26:$R245),\"\")","v":""},0,"","","","",{"$f":"IF(SUBSTITUTE(SUBSTITUTE($F245,\"　\",\"\"),\" \",\"\")=\"\",\"\",IFERROR(VLOOKUP($F245,$N$26:$N$46,1,FALSE),IFERROR(VLOOKUP(IF(AND(LEFT($F245,1)=\"小\",NOT(SUM(COUNTIF($F245,{\"*中*\",\"*高*\",\"*大*\"})))),\"小\",IF(AND(LEFT($F245,1)=\"中\",NOT(SUM(COUNTIF($F245,{\"*小*\",\"*高*\",\"*大*\"})))),\"中\",IF(AND(LEFT($F245,1)=\"高\",NOT(SUM(COUNTIF($F245,{\"*小*\",\"*中*\",\"*大*\"})))),\"高\",IF(AND(LEFT($F245,1)=\"大\",NOT(SUM(COUNTIF($F245,{\"*小*\",\"*中*\",\"*高*\"})))),\"大\",\"NG\"))))&MAX(TEXT(MID($F245,{1,2,3,4,5},{1;2;3;4;5;6;7;8;9;10;11;12;13;14;15}),\"標準;;0;!0\")*1),$N$26:$N$46,1,FALSE),\"NG\")))","v":""},"",0,0,0,"","氏名","・","年齢","・","学年","","","が未記入です。","","","","",""]
[null,null,221,null,null,null,"※リストから選択して下さい","",null,null,null,null,null,null,null,null,{"$f":"IF(R246=1,SUM($R$26:$R246),\"\")","v":""},0,"","","","",{"$f":"IF(SUBSTITUTE(SUBSTITUTE($F246,\"　\",\"\"),\" \",\"\")=\"\",\"\",IFERROR(VLOOKUP($F246,$N$26:$N$46,1,FALSE),IFERROR(VLOOKUP(IF(AND(LEFT($F246,1)=\"小\",NOT(SUM(COUNTIF($F246,{\"*中*\",\"*高*\",\"*大*\"})))),\"小\",IF(AND(LEFT($F246,1)=\"中\",NOT(SUM(COUNTIF($F246,{\"*小*\",\"*高*\",\"*大*\"})))),\"中\",IF(AND(LEFT($F246,1)=\"高\",NOT(SUM(COUNTIF($F246,{\"*小*\",\"*中*\",\"*大*\"})))),\"高\",IF(AND(LEFT($F246,1)=\"大\",NOT(SUM(COUNTIF($F246,{\"*小*\",\"*中*\",\"*高*\"})))),\"大\",\"NG\"))))&MAX(TEXT(MID($F246,{1,2,3,4,5},{1;2;3;4;5;6;7;8;9;10;11;12;13;14;15}),\"標準;;0;!0\")*1),$N$26:$N$46,1,FALSE),\"NG\")))","v":""},"",0,0,0,"","氏名","・","年齢","・","学年","","","が未記入です。","","","","",""]
[null,null,222,null,null,null,"※リストから選択して下さい","",null,null,null,null,null,null,null,null,{"$f":"IF(R247=1,SUM($R$26:$R247),\"\")","v":""},0,"","","","",{"$f":"IF(SUBSTITUTE(SUBSTITUTE($F247,\"　\",\"\"),\" \",\"\")=\"\",\"\",IFERROR(VLOOKUP($F247,$N$26:$N$46,1,FALSE),IFERROR(VLOOKUP(IF(AND(LEFT($F247,1)=\"小\",NOT(SUM(COUNTIF($F247,{\"*中*\",\"*高*\",\"*大*\"})))),\"小\",IF(AND(LEFT($F247,1)=\"中\",NOT(SUM(COUNTIF($F247,{\"*小*\",\"*高*\",\"*大*\"})))),\"中\",IF(AND(LEFT($F247,1)=\"高\",NOT(SUM(COUNTIF($F247,{\"*小*\",\"*中*\",\"*大*\"})))),\"高\",IF(AND(LEFT($F247,1)=\"大\",NOT(SUM(COUNTIF($F247,{\"*小*\",\"*中*\",\"*高*\"})))),\"大\",\"NG\"))))&MAX(TEXT(MID($F247,{1,2,3,4,5},{1;2;3;4;5;6;7;8;9;10;11;12;13;14;15}),\"標準;;0;!0\")*1),$N$26:$N$46,1,FALSE),\"NG\")))","v":""},"",0,0,0,"","氏名","・","年齢","・","学年","","","が未記入です。","","","","",""]
[null,null,223,null,null,null,"※リストから選択して下さい","",null,null,null,null,null,null,null,null,{"$f":"IF(R248=1,SUM($R$26:$R248),\"\")","v":""},0,"","","","",{"$f":"IF(SUBSTITUTE(SUBSTITUTE($F248,\"　\",\"\"),\" \",\"\")=\"\",\"\",IFERROR(VLOOKUP($F248,$N$26:$N$46,1,FALSE),IFERROR(VLOOKUP(IF(AND(LEFT($F248,1)=\"小\",NOT(SUM(COUNTIF($F248,{\"*中*\",\"*高*\",\"*大*\"})))),\"小\",IF(AND(LEFT($F248,1)=\"中\",NOT(SUM(COUNTIF($F248,{\"*小*\",\"*高*\",\"*大*\"})))),\"中\",IF(AND(LEFT($F248,1)=\"高\",NOT(SUM(COUNTIF($F248,{\"*小*\",\"*中*\",\"*大*\"})))),\"高\",IF(AND(LEFT($F248,1)=\"大\",NOT(SUM(COUNTIF($F248,{\"*小*\",\"*中*\",\"*高*\"})))),\"大\",\"NG\"))))&MAX(TEXT(MID($F248,{1,2,3,4,5},{1;2;3;4;5;6;7;8;9;10;11;12;13;14;15}),\"標準;;0;!0\")*1),$N$26:$N$46,1,FALSE),\"NG\")))","v":""},"",0,0,0,"","氏名","・","年齢","・","学年","","","が未記入です。","","","","",""]
[null,null,224,null,null,null,"※リストから選択して下さい","",null,null,null,null,null,null,null,null,{"$f":"IF(R249=1,SUM($R$26:$R249),\"\")","v":""},0,"","","","",{"$f":"IF(SUBSTITUTE(SUBSTITUTE($F249,\"　\",\"\"),\" \",\"\")=\"\",\"\",IFERROR(VLOOKUP($F249,$N$26:$N$46,1,FALSE),IFERROR(VLOOKUP(IF(AND(LEFT($F249,1)=\"小\",NOT(SUM(COUNTIF($F249,{\"*中*\",\"*高*\",\"*大*\"})))),\"小\",IF(AND(LEFT($F249,1)=\"中\",NOT(SUM(COUNTIF($F249,{\"*小*\",\"*高*\",\"*大*\"})))),\"中\",IF(AND(LEFT($F249,1)=\"高\",NOT(SUM(COUNTIF($F249,{\"*小*\",\"*中*\",\"*大*\"})))),\"高\",IF(AND(LEFT($F249,1)=\"大\",NOT(SUM(COUNTIF($F249,{\"*小*\",\"*中*\",\"*高*\"})))),\"大\",\"NG\"))))&MAX(TEXT(MID($F249,{1,2,3,4,5},{1;2;3;4;5;6;7;8;9;10;11;12;13;14;15}),\"標準;;0;!0\")*1),$N$26:$N$46,1,FALSE),\"NG\")))","v":""},"",0,0,0,"","氏名","・","年齢","・","学年","","","が未記入です。","","","","",""]
[null,null,225,null,null,null,"※リストから選択して下さい","",null,null,null,null,null,null,null,null,{"$f":"IF(R250=1,SUM($R$26:$R250),\"\")","v":""},0,{"$f":"TRIM(SUBSTITUTE(D250,\" \",\"　\"))","v":""},"","","",{"$f":"IF(SUBSTITUTE(SUBSTITUTE($F250,\"　\",\"\"),\" \",\"\")=\"\",\"\",IFERROR(VLOOKUP($F250,$N$26:$N$46,1,FALSE),IFERROR(VLOOKUP(IF(AND(LEFT($F250,1)=\"小\",NOT(SUM(COUNTIF($F250,{\"*中*\",\"*高*\",\"*大*\"})))),\"小\",IF(AND(LEFT($F250,1)=\"中\",NOT(SUM(COUNTIF($F250,{\"*小*\",\"*高*\",\"*大*\"})))),\"中\",IF(AND(LEFT($F250,1)=\"高\",NOT(SUM(COUNTIF($F250,{\"*小*\",\"*中*\",\"*大*\"})))),\"高\",IF(AND(LEFT($F250,1)=\"大\",NOT(SUM(COUNTIF($F250,{\"*小*\",\"*中*\",\"*高*\"})))),\"大\",\"NG\"))))&MAX(TEXT(MID($F250,{1,2,3,4,5},{1;2;3;4;5;6;7;8;9;10;11;12;13;14;15}),\"標準;;0;!0\")*1),$N$26:$N$46,1,FALSE),\"NG\")))","v":""},"",0,0,0,"","氏名","・","年齢","・","学年","","","が未記入です。","","","","",""]
[null,null,226,null,null,null,"※リストから選択して下さい","",null,null,null,null,null,null,null,null,{"$f":"IF(R251=1,SUM($R$26:$R251),\"\")","v":""},0,"","","","",{"$f":"IF(SUBSTITUTE(SUBSTITUTE($F251,\"　\",\"\"),\" \",\"\")=\"\",\"\",IFERROR(VLOOKUP($F251,$N$26:$N$46,1,FALSE),IFERROR(VLOOKUP(IF(AND(LEFT($F251,1)=\"小\",NOT(SUM(COUNTIF($F251,{\"*中*\",\"*高*\",\"*大*\"})))),\"小\",IF(AND(LEFT($F251,1)=\"中\",NOT(SUM(COUNTIF($F251,{\"*小*\",\"*高*\",\"*大*\"})))),\"中\",IF(AND(LEFT($F251,1)=\"高\",NOT(SUM(COUNTIF($F251,{\"*小*\",\"*中*\",\"*大*\"})))),\"高\",IF(AND(LEFT($F251,1)=\"大\",NOT(SUM(COUNTIF($F251,{\"*小*\",\"*中*\",\"*高*\"})))),\"大\",\"NG\"))))&MAX(TEXT(MID($F251,{1,2,3,4,5},{1;2;3;4;5;6;7;8;9;10;11;12;13;14;15}),\"標準;;0;!0\")*1),$N$26:$N$46,1,FALSE),\"NG\")))","v":""},"",0,0,0,"","氏名","・","年齢","・","学年","","","が未記入です。","","","","",""]
[null,null,227,null,null,null,"※リストから選択して下さい","",null,null,null,null,null,null,null,null,{"$f":"IF(R252=1,SUM($R$26:$R252),\"\")","v":""},0,"","","","",{"$f":"IF(SUBSTITUTE(SUBSTITUTE($F252,\"　\",\"\"),\" \",\"\")=\"\",\"\",IFERROR(VLOOKUP($F252,$N$26:$N$46,1,FALSE),IFERROR(VLOOKUP(IF(AND(LEFT($F252,1)=\"小\",NOT(SUM(COUNTIF($F252,{\"*中*\",\"*高*\",\"*大*\"})))),\"小\",IF(AND(LEFT($F252,1)=\"中\",NOT(SUM(COUNTIF($F252,{\"*小*\",\"*高*\",\"*大*\"})))),\"中\",IF(AND(LEFT($F252,1)=\"高\",NOT(SUM(COUNTIF($F252,{\"*小*\",\"*中*\",\"*大*\"})))),\"高\",IF(AND(LEFT($F252,1)=\"大\",NOT(SUM(COUNTIF($F252,{\"*小*\",\"*中*\",\"*高*\"})))),\"大\",\"NG\"))))&MAX(TEXT(MID($F252,{1,2,3,4,5},{1;2;3;4;5;6;7;8;9;10;11;12;13;14;15}),\"標準;;0;!0\")*1),$N$26:$N$46,1,FALSE),\"NG\")))","v":""},"",0,0,0,"","氏名","・","年齢","・","学年","","","が未記入です。","","","","",""]
[null,null,228,null,null,null,"※リストから選択して下さい","",null,null,null,null,null,null,null,null,{"$f":"IF(R253=1,SUM($R$26:$R253),\"\")","v":""},0,"","","","",{"$f":"IF(SUBSTITUTE(SUBSTITUTE($F253,\"　\",\"\"),\" \",\"\")=\"\",\"\",IFERROR(VLOOKUP($F253,$N$26:$N$46,1,FALSE),IFERROR(VLOOKUP(IF(AND(LEFT($F253,1)=\"小\",NOT(SUM(COUNTIF($F253,{\"*中*\",\"*高*\",\"*大*\"})))),\"小\",IF(AND(LEFT($F253,1)=\"中\",NOT(SUM(COUNTIF($F253,{\"*小*\",\"*高*\",\"*大*\"})))),\"中\",IF(AND(LEFT($F253,1)=\"高\",NOT(SUM(COUNTIF($F253,{\"*小*\",\"*中*\",\"*大*\"})))),\"高\",IF(AND(LEFT($F253,1)=\"大\",NOT(SUM(COUNTIF($F253,{\"*小*\",\"*中*\",\"*高*\"})))),\"大\",\"NG\"))))&MAX(TEXT(MID($F253,{1,2,3,4,5},{1;2;3;4;5;6;7;8;9;10;11;12;13;14;15}),\"標準;;0;!0\")*1),$N$26:$N$46,1,FALSE),\"NG\")))","v":""},"",0,0,0,"","氏名","・","年齢","・","学年","","","が未記入です。","","","","",""]
[null,null,229,null,null,null,"※リストから選択して下さい","",null,null,null,null,null,null,null,null,{"$f":"IF(R254=1,SUM($R$26:$R254),\"\")","v":""},0,"","","","",{"$f":"IF(SUBSTITUTE(SUBSTITUTE($F254,\"　\",\"\"),\" \",\"\")=\"\",\"\",IFERROR(VLOOKUP($F254,$N$26:$N$46,1,FALSE),IFERROR(VLOOKUP(IF(AND(LEFT($F254,1)=\"小\",NOT(SUM(COUNTIF($F254,{\"*中*\",\"*高*\",\"*大*\"})))),\"小\",IF(AND(LEFT($F254,1)=\"中\",NOT(SUM(COUNTIF($F254,{\"*小*\",\"*高*\",\"*大*\"})))),\"中\",IF(AND(LEFT($F254,1)=\"高\",NOT(SUM(COUNTIF($F254,{\"*小*\",\"*中*\",\"*大*\"})))),\"高\",IF(AND(LEFT($F254,1)=\"大\",NOT(SUM(COUNTIF($F254,{\"*小*\",\"*中*\",\"*高*\"})))),\"大\",\"NG\"))))&MAX(TEXT(MID($F254,{1,2,3,4,5},{1;2;3;4;5;6;7;8;9;10;11;12;13;14;15}),\"標準;;0;!0\")*1),$N$26:$N$46,1,FALSE),\"NG\")))","v":""},"",0,0,0,"","氏名","・","年齢","・","学年","","","が未記入です。","","","","",""]
[null,null,230,null,null,null,"※リストから選択して下さい","",null,null,null,null,null,null,null,null,{"$f":"IF(R255=1,SUM($R$26:$R255),\"\")","v":""},0,"","","","",{"$f":"IF(SUBSTITUTE(SUBSTITUTE($F255,\"　\",\"\"),\" \",\"\")=\"\",\"\",IFERROR(VLOOKUP($F255,$N$26:$N$46,1,FALSE),IFERROR(VLOOKUP(IF(AND(LEFT($F255,1)=\"小\",NOT(SUM(COUNTIF($F255,{\"*中*\",\"*高*\",\"*大*\"})))),\"小\",IF(AND(LEFT($F255,1)=\"中\",NOT(SUM(COUNTIF($F255,{\"*小*\",\"*高*\",\"*大*\"})))),\"中\",IF(AND(LEFT($F255,1)=\"高\",NOT(SUM(COUNTIF($F255,{\"*小*\",\"*中*\",\"*大*\"})))),\"高\",IF(AND(LEFT($F255,1)=\"大\",NOT(SUM(COUNTIF($F255,{\"*小*\",\"*中*\",\"*高*\"})))),\"大\",\"NG\"))))&MAX(TEXT(MID($F255,{1,2,3,4,5},{1;2;3;4;5;6;7;8;9;10;11;12;13;14;15}),\"標準;;0;!0\")*1),$N$26:$N$46,1,FALSE),\"NG\")))","v":""},"",0,0,0,"","氏名","・","年齢","・","学年","","","が未記入です。","","","","",""]
[null,null,231,null,null,null,"※リストから選択して下さい","",null,null,null,null,null,null,null,null,{"$f":"IF(R256=1,SUM($R$26:$R256),\"\")","v":""},0,"","","","",{"$f":"IF(SUBSTITUTE(SUBSTITUTE($F256,\"　\",\"\"),\" \",\"\")=\"\",\"\",IFERROR(VLOOKUP($F256,$N$26:$N$46,1,FALSE),IFERROR(VLOOKUP(IF(AND(LEFT($F256,1)=\"小\",NOT(SUM(COUNTIF($F256,{\"*中*\",\"*高*\",\"*大*\"})))),\"小\",IF(AND(LEFT($F256,1)=\"中\",NOT(SUM(COUNTIF($F256,{\"*小*\",\"*高*\",\"*大*\"})))),\"中\",IF(AND(LEFT($F256,1)=\"高\",NOT(SUM(COUNTIF($F256,{\"*小*\",\"*中*\",\"*大*\"})))),\"高\",IF(AND(LEFT($F256,1)=\"大\",NOT(SUM(COUNTIF($F256,{\"*小*\",\"*中*\",\"*高*\"})))),\"大\",\"NG\"))))&MAX(TEXT(MID($F256,{1,2,3,4,5},{1;2;3;4;5;6;7;8;9;10;11;12;13;14;15}),\"標準;;0;!0\")*1),$N$26:$N$46,1,FALSE),\"NG\")))","v":""},"",0,0,0,"","氏名","・","年齢","・","学年","","","が未記入です。","","","","",""]
[null,null,232,null,null,null,"※リストから選択して下さい","",null,null,null,null,null,null,null,null,{"$f":"IF(R257=1,SUM($R$26:$R257),\"\")","v":""},0,"","","","",{"$f":"IF(SUBSTITUTE(SUBSTITUTE($F257,\"　\",\"\"),\" \",\"\")=\"\",\"\",IFERROR(VLOOKUP($F257,$N$26:$N$46,1,FALSE),IFERROR(VLOOKUP(IF(AND(LEFT($F257,1)=\"小\",NOT(SUM(COUNTIF($F257,{\"*中*\",\"*高*\",\"*大*\"})))),\"小\",IF(AND(LEFT($F257,1)=\"中\",NOT(SUM(COUNTIF($F257,{\"*小*\",\"*高*\",\"*大*\"})))),\"中\",IF(AND(LEFT($F257,1)=\"高\",NOT(SUM(COUNTIF($F257,{\"*小*\",\"*中*\",\"*大*\"})))),\"高\",IF(AND(LEFT($F257,1)=\"大\",NOT(SUM(COUNTIF($F257,{\"*小*\",\"*中*\",\"*高*\"})))),\"大\",\"NG\"))))&MAX(TEXT(MID($F257,{1,2,3,4,5},{1;2;3;4;5;6;7;8;9;10;11;12;13;14;15}),\"標準;;0;!0\")*1),$N$26:$N$46,1,FALSE),\"NG\")))","v":""},"",0,0,0,"","氏名","・","年齢","・","学年","","","が未記入です。","","","","",""]
[null,null,233,null,null,null,"※リストから選択して下さい","",null,null,null,null,null,null,null,null,{"$f":"IF(R258=1,SUM($R$26:$R258),\"\")","v":""},0,"","","","",{"$f":"IF(SUBSTITUTE(SUBSTITUTE($F258,\"　\",\"\"),\" \",\"\")=\"\",\"\",IFERROR(VLOOKUP($F258,$N$26:$N$46,1,FALSE),IFERROR(VLOOKUP(IF(AND(LEFT($F258,1)=\"小\",NOT(SUM(COUNTIF($F258,{\"*中*\",\"*高*\",\"*大*\"})))),\"小\",IF(AND(LEFT($F258,1)=\"中\",NOT(SUM(COUNTIF($F258,{\"*小*\",\"*高*\",\"*大*\"})))),\"中\",IF(AND(LEFT($F258,1)=\"高\",NOT(SUM(COUNTIF($F258,{\"*小*\",\"*中*\",\"*大*\"})))),\"高\",IF(AND(LEFT($F258,1)=\"大\",NOT(SUM(COUNTIF($F258,{\"*小*\",\"*中*\",\"*高*\"})))),\"大\",\"NG\"))))&MAX(TEXT(MID($F258,{1,2,3,4,5},{1;2;3;4;5;6;7;8;9;10;11;12;13;14;15}),\"標準;;0;!0\")*1),$N$26:$N$46,1,FALSE),\"NG\")))","v":""},"",0,0,0,"","氏名","・","年齢","・","学年","","","が未記入です。","","","","",""]
[null,null,234,null,null,null,"※リストから選択して下さい","",null,null,null,null,null,null,null,null,{"$f":"IF(R259=1,SUM($R$26:$R259),\"\")","v":""},0,"","","","",{"$f":"IF(SUBSTITUTE(SUBSTITUTE($F259,\"　\",\"\"),\" \",\"\")=\"\",\"\",IFERROR(VLOOKUP($F259,$N$26:$N$46,1,FALSE),IFERROR(VLOOKUP(IF(AND(LEFT($F259,1)=\"小\",NOT(SUM(COUNTIF($F259,{\"*中*\",\"*高*\",\"*大*\"})))),\"小\",IF(AND(LEFT($F259,1)=\"中\",NOT(SUM(COUNTIF($F259,{\"*小*\",\"*高*\",\"*大*\"})))),\"中\",IF(AND(LEFT($F259,1)=\"高\",NOT(SUM(COUNTIF($F259,{\"*小*\",\"*中*\",\"*大*\"})))),\"高\",IF(AND(LEFT($F259,1)=\"大\",NOT(SUM(COUNTIF($F259,{\"*小*\",\"*中*\",\"*高*\"})))),\"大\",\"NG\"))))&MAX(TEXT(MID($F259,{1,2,3,4,5},{1;2;3;4;5;6;7;8;9;10;11;12;13;14;15}),\"標準;;0;!0\")*1),$N$26:$N$46,1,FALSE),\"NG\")))","v":""},"",0,0,0,"","氏名","・","年齢","・","学年","","","が未記入です。","","","","",""]
[null,null,235,null,null,null,"※リストから選択して下さい","",null,null,null,null,null,null,null,null,{"$f":"IF(R260=1,SUM($R$26:$R260),\"\")","v":""},0,"","","","",{"$f":"IF(SUBSTITUTE(SUBSTITUTE($F260,\"　\",\"\"),\" \",\"\")=\"\",\"\",IFERROR(VLOOKUP($F260,$N$26:$N$46,1,FALSE),IFERROR(VLOOKUP(IF(AND(LEFT($F260,1)=\"小\",NOT(SUM(COUNTIF($F260,{\"*中*\",\"*高*\",\"*大*\"})))),\"小\",IF(AND(LEFT($F260,1)=\"中\",NOT(SUM(COUNTIF($F260,{\"*小*\",\"*高*\",\"*大*\"})))),\"中\",IF(AND(LEFT($F260,1)=\"高\",NOT(SUM(COUNTIF($F260,{\"*小*\",\"*中*\",\"*大*\"})))),\"高\",IF(AND(LEFT($F260,1)=\"大\",NOT(SUM(COUNTIF($F260,{\"*小*\",\"*中*\",\"*高*\"})))),\"大\",\"NG\"))))&MAX(TEXT(MID($F260,{1,2,3,4,5},{1;2;3;4;5;6;7;8;9;10;11;12;13;14;15}),\"標準;;0;!0\")*1),$N$26:$N$46,1,FALSE),\"NG\")))","v":""},"",0,0,0,"","氏名","・","年齢","・","学年","","","が未記入です。","","","","",""]
[null,null,236,null,null,null,"※リストから選択して下さい","",null,null,null,null,null,null,null,null,{"$f":"IF(R261=1,SUM($R$26:$R261),\"\")","v":""},0,"","","","",{"$f":"IF(SUBSTITUTE(SUBSTITUTE($F261,\"　\",\"\"),\" \",\"\")=\"\",\"\",IFERROR(VLOOKUP($F261,$N$26:$N$46,1,FALSE),IFERROR(VLOOKUP(IF(AND(LEFT($F261,1)=\"小\",NOT(SUM(COUNTIF($F261,{\"*中*\",\"*高*\",\"*大*\"})))),\"小\",IF(AND(LEFT($F261,1)=\"中\",NOT(SUM(COUNTIF($F261,{\"*小*\",\"*高*\",\"*大*\"})))),\"中\",IF(AND(LEFT($F261,1)=\"高\",NOT(SUM(COUNTIF($F261,{\"*小*\",\"*中*\",\"*大*\"})))),\"高\",IF(AND(LEFT($F261,1)=\"大\",NOT(SUM(COUNTIF($F261,{\"*小*\",\"*中*\",\"*高*\"})))),\"大\",\"NG\"))))&MAX(TEXT(MID($F261,{1,2,3,4,5},{1;2;3;4;5;6;7;8;9;10;11;12;13;14;15}),\"標準;;0;!0\")*1),$N$26:$N$46,1,FALSE),\"NG\")))","v":""},"",0,0,0,"","氏名","・","年齢","・","学年","","","が未記入です。","","","","",""]
[null,null,237,null,null,null,"※リストから選択して下さい","",null,null,null,null,null,null,null,null,{"$f":"IF(R262=1,SUM($R$26:$R262),\"\")","v":""},0,"","","","",{"$f":"IF(SUBSTITUTE(SUBSTITUTE($F262,\"　\",\"\"),\" \",\"\")=\"\",\"\",IFERROR(VLOOKUP($F262,$N$26:$N$46,1,FALSE),IFERROR(VLOOKUP(IF(AND(LEFT($F262,1)=\"小\",NOT(SUM(COUNTIF($F262,{\"*中*\",\"*高*\",\"*大*\"})))),\"小\",IF(AND(LEFT($F262,1)=\"中\",NOT(SUM(COUNTIF($F262,{\"*小*\",\"*高*\",\"*大*\"})))),\"中\",IF(AND(LEFT($F262,1)=\"高\",NOT(SUM(COUNTIF($F262,{\"*小*\",\"*中*\",\"*大*\"})))),\"高\",IF(AND(LEFT($F262,1)=\"大\",NOT(SUM(COUNTIF($F262,{\"*小*\",\"*中*\",\"*高*\"})))),\"大\",\"NG\"))))&MAX(TEXT(MID($F262,{1,2,3,4,5},{1;2;3;4;5;6;7;8;9;10;11;12;13;14;15}),\"標準;;0;!0\")*1),$N$26:$N$46,1,FALSE),\"NG\")))","v":""},"",0,0,0,"","氏名","・","年齢","・","学年","","","が未記入です。","","","","",""]
[null,null,238,null,null,null,"※リストから選択して下さい","",null,null,null,null,null,null,null,null,{"$f":"IF(R263=1,SUM($R$26:$R263),\"\")","v":""},0,"","","","",{"$f":"IF(SUBSTITUTE(SUBSTITUTE($F263,\"　\",\"\"),\" \",\"\")=\"\",\"\",IFERROR(VLOOKUP($F263,$N$26:$N$46,1,FALSE),IFERROR(VLOOKUP(IF(AND(LEFT($F263,1)=\"小\",NOT(SUM(COUNTIF($F263,{\"*中*\",\"*高*\",\"*大*\"})))),\"小\",IF(AND(LEFT($F263,1)=\"中\",NOT(SUM(COUNTIF($F263,{\"*小*\",\"*高*\",\"*大*\"})))),\"中\",IF(AND(LEFT($F263,1)=\"高\",NOT(SUM(COUNTIF($F263,{\"*小*\",\"*中*\",\"*大*\"})))),\"高\",IF(AND(LEFT($F263,1)=\"大\",NOT(SUM(COUNTIF($F263,{\"*小*\",\"*中*\",\"*高*\"})))),\"大\",\"NG\"))))&MAX(TEXT(MID($F263,{1,2,3,4,5},{1;2;3;4;5;6;7;8;9;10;11;12;13;14;15}),\"標準;;0;!0\")*1),$N$26:$N$46,1,FALSE),\"NG\")))","v":""},"",0,0,0,"","氏名","・","年齢","・","学年","","","が未記入です。","","","","",""]
[null,null,239,null,null,null,"※リストから選択して下さい","",null,null,null,null,null,null,null,null,{"$f":"IF(R264=1,SUM($R$26:$R264),\"\")","v":""},0,"","","","",{"$f":"IF(SUBSTITUTE(SUBSTITUTE($F264,\"　\",\"\"),\" \",\"\")=\"\",\"\",IFERROR(VLOOKUP($F264,$N$26:$N$46,1,FALSE),IFERROR(VLOOKUP(IF(AND(LEFT($F264,1)=\"小\",NOT(SUM(COUNTIF($F264,{\"*中*\",\"*高*\",\"*大*\"})))),\"小\",IF(AND(LEFT($F264,1)=\"中\",NOT(SUM(COUNTIF($F264,{\"*小*\",\"*高*\",\"*大*\"})))),\"中\",IF(AND(LEFT($F264,1)=\"高\",NOT(SUM(COUNTIF($F264,{\"*小*\",\"*中*\",\"*大*\"})))),\"高\",IF(AND(LEFT($F264,1)=\"大\",NOT(SUM(COUNTIF($F264,{\"*小*\",\"*中*\",\"*高*\"})))),\"大\",\"NG\"))))&MAX(TEXT(MID($F264,{1,2,3,4,5},{1;2;3;4;5;6;7;8;9;10;11;12;13;14;15}),\"標準;;0;!0\")*1),$N$26:$N$46,1,FALSE),\"NG\")))","v":""},"",0,0,0,"","氏名","・","年齢","・","学年","","","が未記入です。","","","","",""]
[null,null,240,null,null,null,"※リストから選択して下さい","",null,null,null,null,null,null,null,null,{"$f":"IF(R265=1,SUM($R$26:$R265),\"\")","v":""},0,"","","","",{"$f":"IF(SUBSTITUTE(SUBSTITUTE($F265,\"　\",\"\"),\" \",\"\")=\"\",\"\",IFERROR(VLOOKUP($F265,$N$26:$N$46,1,FALSE),IFERROR(VLOOKUP(IF(AND(LEFT($F265,1)=\"小\",NOT(SUM(COUNTIF($F265,{\"*中*\",\"*高*\",\"*大*\"})))),\"小\",IF(AND(LEFT($F265,1)=\"中\",NOT(SUM(COUNTIF($F265,{\"*小*\",\"*高*\",\"*大*\"})))),\"中\",IF(AND(LEFT($F265,1)=\"高\",NOT(SUM(COUNTIF($F265,{\"*小*\",\"*中*\",\"*大*\"})))),\"高\",IF(AND(LEFT($F265,1)=\"大\",NOT(SUM(COUNTIF($F265,{\"*小*\",\"*中*\",\"*高*\"})))),\"大\",\"NG\"))))&MAX(TEXT(MID($F265,{1,2,3,4,5},{1;2;3;4;5;6;7;8;9;10;11;12;13;14;15}),\"標準;;0;!0\")*1),$N$26:$N$46,1,FALSE),\"NG\")))","v":""},"",0,0,0,"","氏名","・","年齢","・","学年","","","が未記入です。","","","","",""]
[null,null,241,null,null,null,"※リストから選択して下さい","",null,null,null,null,null,null,null,null,{"$f":"IF(R266=1,SUM($R$26:$R266),\"\")","v":""},0,"","","","",{"$f":"IF(SUBSTITUTE(SUBSTITUTE($F266,\"　\",\"\"),\" \",\"\")=\"\",\"\",IFERROR(VLOOKUP($F266,$N$26:$N$46,1,FALSE),IFERROR(VLOOKUP(IF(AND(LEFT($F266,1)=\"小\",NOT(SUM(COUNTIF($F266,{\"*中*\",\"*高*\",\"*大*\"})))),\"小\",IF(AND(LEFT($F266,1)=\"中\",NOT(SUM(COUNTIF($F266,{\"*小*\",\"*高*\",\"*大*\"})))),\"中\",IF(AND(LEFT($F266,1)=\"高\",NOT(SUM(COUNTIF($F266,{\"*小*\",\"*中*\",\"*大*\"})))),\"高\",IF(AND(LEFT($F266,1)=\"大\",NOT(SUM(COUNTIF($F266,{\"*小*\",\"*中*\",\"*高*\"})))),\"大\",\"NG\"))))&MAX(TEXT(MID($F266,{1,2,3,4,5},{1;2;3;4;5;6;7;8;9;10;11;12;13;14;15}),\"標準;;0;!0\")*1),$N$26:$N$46,1,FALSE),\"NG\")))","v":""},"",0,0,0,"","氏名","・","年齢","・","学年","","","が未記入です。","","","","",""]
[null,null,242,null,null,null,"※リストから選択して下さい","",null,null,null,null,null,null,null,null,{"$f":"IF(R267=1,SUM($R$26:$R267),\"\")","v":""},0,"","","","",{"$f":"IF(SUBSTITUTE(SUBSTITUTE($F267,\"　\",\"\"),\" \",\"\")=\"\",\"\",IFERROR(VLOOKUP($F267,$N$26:$N$46,1,FALSE),IFERROR(VLOOKUP(IF(AND(LEFT($F267,1)=\"小\",NOT(SUM(COUNTIF($F267,{\"*中*\",\"*高*\",\"*大*\"})))),\"小\",IF(AND(LEFT($F267,1)=\"中\",NOT(SUM(COUNTIF($F267,{\"*小*\",\"*高*\",\"*大*\"})))),\"中\",IF(AND(LEFT($F267,1)=\"高\",NOT(SUM(COUNTIF($F267,{\"*小*\",\"*中*\",\"*大*\"})))),\"高\",IF(AND(LEFT($F267,1)=\"大\",NOT(SUM(COUNTIF($F267,{\"*小*\",\"*中*\",\"*高*\"})))),\"大\",\"NG\"))))&MAX(TEXT(MID($F267,{1,2,3,4,5},{1;2;3;4;5;6;7;8;9;10;11;12;13;14;15}),\"標準;;0;!0\")*1),$N$26:$N$46,1,FALSE),\"NG\")))","v":""},"",0,0,0,"","氏名","・","年齢","・","学年","","","が未記入です。","","","","",""]
[null,null,243,null,null,null,"※リストから選択して下さい","",null,null,null,null,null,null,null,null,{"$f":"IF(R268=1,SUM($R$26:$R268),\"\")","v":""},0,"","","","",{"$f":"IF(SUBSTITUTE(SUBSTITUTE($F268,\"　\",\"\"),\" \",\"\")=\"\",\"\",IFERROR(VLOOKUP($F268,$N$26:$N$46,1,FALSE),IFERROR(VLOOKUP(IF(AND(LEFT($F268,1)=\"小\",NOT(SUM(COUNTIF($F268,{\"*中*\",\"*高*\",\"*大*\"})))),\"小\",IF(AND(LEFT($F268,1)=\"中\",NOT(SUM(COUNTIF($F268,{\"*小*\",\"*高*\",\"*大*\"})))),\"中\",IF(AND(LEFT($F268,1)=\"高\",NOT(SUM(COUNTIF($F268,{\"*小*\",\"*中*\",\"*大*\"})))),\"高\",IF(AND(LEFT($F268,1)=\"大\",NOT(SUM(COUNTIF($F268,{\"*小*\",\"*中*\",\"*高*\"})))),\"大\",\"NG\"))))&MAX(TEXT(MID($F268,{1,2,3,4,5},{1;2;3;4;5;6;7;8;9;10;11;12;13;14;15}),\"標準;;0;!0\")*1),$N$26:$N$46,1,FALSE),\"NG\")))","v":""},"",0,0,0,"","氏名","・","年齢","・","学年","","","が未記入です。","","","","",""]
[null,null,244,null,null,null,"※リストから選択して下さい","",null,null,null,null,null,null,null,null,{"$f":"IF(R269=1,SUM($R$26:$R269),\"\")","v":""},0,"","","","",{"$f":"IF(SUBSTITUTE(SUBSTITUTE($F269,\"　\",\"\"),\" \",\"\")=\"\",\"\",IFERROR(VLOOKUP($F269,$N$26:$N$46,1,FALSE),IFERROR(VLOOKUP(IF(AND(LEFT($F269,1)=\"小\",NOT(SUM(COUNTIF($F269,{\"*中*\",\"*高*\",\"*大*\"})))),\"小\",IF(AND(LEFT($F269,1)=\"中\",NOT(SUM(COUNTIF($F269,{\"*小*\",\"*高*\",\"*大*\"})))),\"中\",IF(AND(LEFT($F269,1)=\"高\",NOT(SUM(COUNTIF($F269,{\"*小*\",\"*中*\",\"*大*\"})))),\"高\",IF(AND(LEFT($F269,1)=\"大\",NOT(SUM(COUNTIF($F269,{\"*小*\",\"*中*\",\"*高*\"})))),\"大\",\"NG\"))))&MAX(TEXT(MID($F269,{1,2,3,4,5},{1;2;3;4;5;6;7;8;9;10;11;12;13;14;15}),\"標準;;0;!0\")*1),$N$26:$N$46,1,FALSE),\"NG\")))","v":""},"",0,0,0,"","氏名","・","年齢","・","学年","","","が未記入です。","","","","",""]
[null,null,245,null,null,null,"※リストから選択して下さい","",null,null,null,null,null,null,null,null,{"$f":"IF(R270=1,SUM($R$26:$R270),\"\")","v":""},0,"","","","",{"$f":"IF(SUBSTITUTE(SUBSTITUTE($F270,\"　\",\"\"),\" \",\"\")=\"\",\"\",IFERROR(VLOOKUP($F270,$N$26:$N$46,1,FALSE),IFERROR(VLOOKUP(IF(AND(LEFT($F270,1)=\"小\",NOT(SUM(COUNTIF($F270,{\"*中*\",\"*高*\",\"*大*\"})))),\"小\",IF(AND(LEFT($F270,1)=\"中\",NOT(SUM(COUNTIF($F270,{\"*小*\",\"*高*\",\"*大*\"})))),\"中\",IF(AND(LEFT($F270,1)=\"高\",NOT(SUM(COUNTIF($F270,{\"*小*\",\"*中*\",\"*大*\"})))),\"高\",IF(AND(LEFT($F270,1)=\"大\",NOT(SUM(COUNTIF($F270,{\"*小*\",\"*中*\",\"*高*\"})))),\"大\",\"NG\"))))&MAX(TEXT(MID($F270,{1,2,3,4,5},{1;2;3;4;5;6;7;8;9;10;11;12;13;14;15}),\"標準;;0;!0\")*1),$N$26:$N$46,1,FALSE),\"NG\")))","v":""},"",0,0,0,"","氏名","・","年齢","・","学年","","","が未記入です。","","","","",""]
[null,null,246,null,null,null,"※リストから選択して下さい","",null,null,null,null,null,null,null,null,{"$f":"IF(R271=1,SUM($R$26:$R271),\"\")","v":""},0,"","","","",{"$f":"IF(SUBSTITUTE(SUBSTITUTE($F271,\"　\",\"\"),\" \",\"\")=\"\",\"\",IFERROR(VLOOKUP($F271,$N$26:$N$46,1,FALSE),IFERROR(VLOOKUP(IF(AND(LEFT($F271,1)=\"小\",NOT(SUM(COUNTIF($F271,{\"*中*\",\"*高*\",\"*大*\"})))),\"小\",IF(AND(LEFT($F271,1)=\"中\",NOT(SUM(COUNTIF($F271,{\"*小*\",\"*高*\",\"*大*\"})))),\"中\",IF(AND(LEFT($F271,1)=\"高\",NOT(SUM(COUNTIF($F271,{\"*小*\",\"*中*\",\"*大*\"})))),\"高\",IF(AND(LEFT($F271,1)=\"大\",NOT(SUM(COUNTIF($F271,{\"*小*\",\"*中*\",\"*高*\"})))),\"大\",\"NG\"))))&MAX(TEXT(MID($F271,{1,2,3,4,5},{1;2;3;4;5;6;7;8;9;10;11;12;13;14;15}),\"標準;;0;!0\")*1),$N$26:$N$46,1,FALSE),\"NG\")))","v":""},"",0,0,0,"","氏名","・","年齢","・","学年","","","が未記入です。","","","","",""]
[null,null,247,null,null,null,"※リストから選択して下さい","",null,null,null,null,null,"【総合判定】",null,null,{"$f":"IF(R272=1,SUM($R$26:$R272),\"\")","v":""},0,"","","","",{"$f":"IF(SUBSTITUTE(SUBSTITUTE($F272,\"　\",\"\"),\" \",\"\")=\"\",\"\",IFERROR(VLOOKUP($F272,$N$26:$N$46,1,FALSE),IFERROR(VLOOKUP(IF(AND(LEFT($F272,1)=\"小\",NOT(SUM(COUNTIF($F272,{\"*中*\",\"*高*\",\"*大*\"})))),\"小\",IF(AND(LEFT($F272,1)=\"中\",NOT(SUM(COUNTIF($F272,{\"*小*\",\"*高*\",\"*大*\"})))),\"中\",IF(AND(LEFT($F272,1)=\"高\",NOT(SUM(COUNTIF($F272,{\"*小*\",\"*中*\",\"*大*\"})))),\"高\",IF(AND(LEFT($F272,1)=\"大\",NOT(SUM(COUNTIF($F272,{\"*小*\",\"*中*\",\"*高*\"})))),\"大\",\"NG\"))))&MAX(TEXT(MID($F272,{1,2,3,4,5},{1;2;3;4;5;6;7;8;9;10;11;12;13;14;15}),\"標準;;0;!0\")*1),$N$26:$N$46,1,FALSE),\"NG\")))","v":""},"",0,0,0,"","氏名","・","年齢","・","学年","","","が未記入です。","","","","",""]
[null,null,248,null,null,null,"※リストから選択して下さい","",null,null,null,null,null,"シートの完成",{"$f":"IF(AND(O5<>0,O274=0,O275>0),0,1)","v":1},null,{"$f":"IF(R273=1,SUM($R$26:$R273),\"\")","v":""},0,"","","","",{"$f":"IF(SUBSTITUTE(SUBSTITUTE($F273,\"　\",\"\"),\" \",\"\")=\"\",\"\",IFERROR(VLOOKUP($F273,$N$26:$N$46,1,FALSE),IFERROR(VLOOKUP(IF(AND(LEFT($F273,1)=\"小\",NOT(SUM(COUNTIF($F273,{\"*中*\",\"*高*\",\"*大*\"})))),\"小\",IF(AND(LEFT($F273,1)=\"中\",NOT(SUM(COUNTIF($F273,{\"*小*\",\"*高*\",\"*大*\"})))),\"中\",IF(AND(LEFT($F273,1)=\"高\",NOT(SUM(COUNTIF($F273,{\"*小*\",\"*中*\",\"*大*\"})))),\"高\",IF(AND(LEFT($F273,1)=\"大\",NOT(SUM(COUNTIF($F273,{\"*小*\",\"*中*\",\"*高*\"})))),\"大\",\"NG\"))))&MAX(TEXT(MID($F273,{1,2,3,4,5},{1;2;3;4;5;6;7;8;9;10;11;12;13;14;15}),\"標準;;0;!0\")*1),$N$26:$N$46,1,FALSE),\"NG\")))","v":""},"",0,0,0,"","氏名","・","年齢","・","学年","","","が未記入です。","","","","",""]
[null,null,249,null,null,null,"※リストから選択して下さい","",null,null,null,null,null,"名簿の完成",{"$f":"SUM($Z$26:$AA$275)","v":0},null,{"$f":"IF(R274=1,SUM($R$26:$R274),\"\")","v":""},0,"","","","",{"$f":"IF(SUBSTITUTE(SUBSTITUTE($F274,\"　\",\"\"),\" \",\"\")=\"\",\"\",IFERROR(VLOOKUP($F274,$N$26:$N$46,1,FALSE),IFERROR(VLOOKUP(IF(AND(LEFT($F274,1)=\"小\",NOT(SUM(COUNTIF($F274,{\"*中*\",\"*高*\",\"*大*\"})))),\"小\",IF(AND(LEFT($F274,1)=\"中\",NOT(SUM(COUNTIF($F274,{\"*小*\",\"*高*\",\"*大*\"})))),\"中\",IF(AND(LEFT($F274,1)=\"高\",NOT(SUM(COUNTIF($F274,{\"*小*\",\"*中*\",\"*大*\"})))),\"高\",IF(AND(LEFT($F274,1)=\"大\",NOT(SUM(COUNTIF($F274,{\"*小*\",\"*中*\",\"*高*\"})))),\"大\",\"NG\"))))&MAX(TEXT(MID($F274,{1,2,3,4,5},{1;2;3;4;5;6;7;8;9;10;11;12;13;14;15}),\"標準;;0;!0\")*1),$N$26:$N$46,1,FALSE),\"NG\")))","v":""},"",0,0,0,"","氏名","・","年齢","・","学年","","","が未記入です。","","","","",""]
[null,null,250,null,null,null,"※リストから選択して下さい","",null,null,null,null,null,"人数",{"$f":"SUM($Y$26:$Y$275)","v":0},null,{"$f":"IF(R275=1,SUM($R$26:$R275),\"\")","v":""},0,"","","","",{"$f":"IF(SUBSTITUTE(SUBSTITUTE($F275,\"　\",\"\"),\" \",\"\")=\"\",\"\",IFERROR(VLOOKUP($F275,$N$26:$N$46,1,FALSE),IFERROR(VLOOKUP(IF(AND(LEFT($F275,1)=\"小\",NOT(SUM(COUNTIF($F275,{\"*中*\",\"*高*\",\"*大*\"})))),\"小\",IF(AND(LEFT($F275,1)=\"中\",NOT(SUM(COUNTIF($F275,{\"*小*\",\"*高*\",\"*大*\"})))),\"中\",IF(AND(LEFT($F275,1)=\"高\",NOT(SUM(COUNTIF($F275,{\"*小*\",\"*中*\",\"*大*\"})))),\"高\",IF(AND(LEFT($F275,1)=\"大\",NOT(SUM(COUNTIF($F275,{\"*小*\",\"*中*\",\"*高*\"})))),\"大\",\"NG\"))))&MAX(TEXT(MID($F275,{1,2,3,4,5},{1;2;3;4;5;6;7;8;9;10;11;12;13;14;15}),\"標準;;0;!0\")*1),$N$26:$N$46,1,FALSE),\"NG\")))","v":""},{"$f":"IF(OR($O$1=0,Y275=0),\"\",IF(OR($O$5=3,$O$5=0,$O$5=\"\"),IF(G275=$N$23,1,IF(G275=$O$23,2,0)),$O$5))","v":""},{"$f":"IF(AND(COUNTBLANK(U275:W275)=3,OR($O$5=1,$O$5=2,$O$5=\"\",AND(OR($O$5=3,$O$5=0),OR(G275=$P$23,G275=\"\")))),0,1)","v":0},0,0,"","氏名","・","年齢","・","学年","","","が未記入です。","","","","",""]
[]
[null,"■ 構成メンバー数",null,null,{"$f":"O275","v":0},null,"名"]
[]
[null,{"$f":"IF(AND(O274=0,O275>1),N279,IF(O274=0,\"\",O279))","v":""},null,null,null,null,null,null,null,null,null,null,null,"※『Ⅱ．入力用』シートに移って、入力を続けてください。","※リストに不備があります。赤やピンクのセルは、すべて入力してください。","※リストに不備があります。赤やピンクのセルは、すべて入力してください。"]

{"sheet":"Ⅱ.入力用","index":4,"n_rows":338,"n_cols":50,"rows_kept":338,"cut":false,"hidden":false,"merged":[[332,7,332,20],[332,4,332,6],[201,41,202,43],[203,41,203,43],[252,9,252,19],[252,20,252,21],[253,9,253,19],[253,20,253,21],[254,9,254,19],[254,20,254,21],[255,9,255,19],[255,20,255,21],[228,27,228,34],[229,27,229,34],[205,13,205,15],[205,16,205,22],[206,13,206,15],[206,16,206,22],[208,13,208,15],[208,16,208,22],[212,13,212,15],[212,16,212,22],[251,4,251,8],[251,9,251,19],[183,11,183,22],[228,3,228,26],[229,3,229,26],[195,2,195,4],[195,5,195,15],[195,16,195,30],[200,18,200,31],[193,2,193,4],[193,5,193,15],[193,16,193,30],[194,2,194,4],[194,5,194,15],[194,16,194,30],[187,2,187,4],[187,5,187,15],[187,16,187,30],[188,2,188,4],[188,5,188,15],[188,16,188,30],[191,2,191,4],[191,5,191,15],[191,16,191,30],[192,2,192,4],[192,5,192,15],[69,8,69,19],[314,10,314,23],[97,8,102,14],[97,15,102,24],[97,25,97,29],[97,30,97,37],[98,25,100,26],[98,27,98,29],[98,30,98,37],[99,27,99,29],[99,30,99,37],[100,27,100,29],[100,30,100,37],[101,25,101,29],[101,30,101,37],[102,25,102,29],[102,30,102,37],[201,32,202,34],[203,32,203,34],[201,9,201,15],[201,35,202,36],[203,35,203,36],[252,4,256,8],[77,5,82,7],[31,34,31,38],[30,5,30,7],[30,8,30,14],[32,21,32,23],[34,39,34,43],[45,4,45,7],[46,5,46,7],[46,8,46,14],[32,34,32,38],[33,21,33,23],[33,34,33,38],[31,21,31,23],[33,39,33,43],[32,39,32,43],[31,39,31,43],[34,29,34,33],[33,29,33,33],[32,29,32,33],[31,29,31,33],[34,24,34,28],[33,24,33,28],[31,24,31,28],[26,1,26,43],[6,8,6,12],[6,13,6,21],[7,0,7,4],[7,5,7,7],[7,8,7,12],[7,13,7,21],[0,0,0,44],[1,0,1,44],[3,1,3,4],[3,5,3,7],[3,8,3,13],[5,1,5,4],[5,5,5,7],[5,8,5,33],[20,5,20,7],[20,8,20,14],[22,1,22,4],[22,5,22,7],[22,8,22,14],[23,1,23,4],[23,5,23,7],[23,8,23,14],[12,1,12,4],[12,5,12,7],[12,8,12,14],[10,1,10,4],[10,5,10,7],[10,8,10,14],[16,1,16,4],[16,5,16,7],[16,8,16,14],[13,1,13,4],[13,5,13,7],[13,8,13,14],[11,1,11,4],[11,5,11,7],[11,8,11,26],[14,1,14,4],[14,5,14,7],[14,8,14,14],[15,1,15,4],[15,5,15,7],[15,8,15,14],[64,34,64,38],[69,5,69,7],[47,18,47,20],[47,21,47,23],[47,16,47,17],[34,21,34,23],[55,15,56,17],[34,34,34,38],[42,1,42,43],[47,27,47,29],[48,27,49,29],[51,9,51,12],[57,18,58,21],[57,22,58,25],[39,6,39,9],[53,22,54,25],[53,26,54,29],[48,24,49,26],[50,5,50,7],[50,8,50,10],[57,26,58,29],[53,15,54,17],[50,11,50,13],[53,30,58,43],[17,1,17,4],[17,5,17,7],[17,8,17,26],[24,1,24,4],[24,5,24,7],[24,8,24,14],[48,5,48,7],[48,8,48,14],[49,5,49,7],[49,8,49,14],[32,24,32,28],[29,1,29,4],[29,5,29,7],[29,8,29,14],[34,1,34,5],[34,6,34,8],[34,9,34,15],[48,16,49,17],[48,18,49,20],[48,21,49,23],[33,1,33,5],[33,6,33,8],[33,9,33,15],[30,1,30,4],[55,26,56,29],[53,18,54,21],[62,1,62,4],[62,5,62,7],[62,8,62,14],[63,1,63,4],[64,1,64,4],[64,14,64,16],[76,5,76,7],[75,29,75,37],[57,15,58,17],[76,15,76,24],[76,25,76,37],[72,2,72,37],[73,5,73,7],[73,8,73,23],[73,24,73,30],[73,31,73,37],[74,5,74,7],[74,8,74,23],[74,24,74,30],[74,31,74,37],[64,19,64,21],[64,24,64,27],[77,8,82,14],[77,15,82,24],[77,25,77,29],[77,30,77,37],[78,25,80,26],[78,27,78,29],[78,30,78,37],[75,5,75,7],[75,8,75,18],[75,19,75,28],[76,8,76,14],[81,25,81,29],[81,30,81,37],[47,24,47,26],[47,5,47,7],[47,8,47,14],[176,1,176,43],[183,8,183,10],[185,5,185,15],[185,16,185,30],[186,2,186,4],[186,5,186,15],[186,16,186,30],[79,27,79,29],[79,30,79,37],[55,18,56,21],[55,22,56,25],[80,27,80,29],[80,30,80,37],[82,25,82,29],[82,30,82,37],[83,5,83,7],[83,8,83,23],[83,24,83,30],[83,31,83,37],[84,5,84,7],[84,8,84,23],[192,16,192,30],[189,2,189,4],[189,5,189,15],[189,16,189,30],[190,2,190,4],[190,5,190,15],[190,16,190,30],[201,39,202,40],[203,39,203,40],[201,6,201,8],[201,37,202,38],[203,37,203,38],[201,18,203,30],[251,20,251,22],[210,13,210,15],[210,16,210,22],[214,13,214,15],[214,16,214,22],[218,6,219,11],[218,12,219,17],[218,3,219,5],[282,3,282,6],[282,7,282,9],[282,10,282,16],[267,19,267,23],[269,19,269,23],[256,12,256,18],[256,20,256,21],[257,4,259,8],[257,9,257,19],[257,20,257,21],[258,9,258,19],[258,20,258,21],[259,9,259,19],[259,20,259,21],[256,9,256,11],[263,8,263,10],[283,3,283,6],[283,7,283,9],[283,10,283,16],[279,1,279,6],[279,7,279,9],[279,10,279,16],[281,3,281,6],[281,7,281,9],[281,10,281,16],[286,3,286,6],[286,7,286,9],[286,10,286,16],[289,1,289,6],[289,7,289,9],[289,10,289,34],[284,3,284,6],[284,7,284,9],[284,10,284,16],[285,3,285,6],[285,7,285,9],[285,10,285,16],[289,35,289,44],[290,1,290,6],[290,10,290,34],[290,35,290,44],[291,35,291,44],[293,1,293,6],[293,7,293,9],[293,10,293,16],[293,17,293,19],[295,2,295,6],[296,1,296,6],[296,7,296,9],[296,10,296,26],[296,27,296,44],[297,1,297,6],[297,7,297,9],[297,10,297,26],[297,27,297,44],[299,2,299,6],[299,10,299,16],[299,17,299,23],[300,2,303,6],[300,7,300,9],[300,10,300,16],[300,17,300,23],[301,10,301,16],[301,17,301,23],[302,7,302,9],[337,15,337,29],[314,2,314,6],[336,0,336,44],[310,7,310,9],[310,10,310,16],[310,17,310,23],[311,7,311,9],[311,10,311,16],[311,17,311,23],[300,25,311,42],[301,7,301,9],[335,0,335,44],[302,10,302,16],[302,17,302,23],[303,7,303,9],[303,10,303,16],[303,17,303,23],[308,7,308,9],[308,10,308,16],[308,17,308,23],[309,7,309,9],[309,10,309,16],[309,17,309,23],[306,7,306,9],[306,17,306,23],[307,7,307,9],[307,10,307,16],[307,17,307,23],[304,7,304,9],[304,10,304,16],[304,17,304,23],[305,7,305,9],[305,10,305,16],[305,17,305,23],[306,10,306,16],[84,24,84,30],[84,31,84,37],[85,5,85,7],[85,8,85,18],[85,29,85,37],[86,5,86,7],[86,8,86,14],[86,25,86,37],[87,25,87,29],[87,30,87,37],[87,15,92,24],[92,30,92,37],[85,19,85,28],[86,15,86,24],[89,27,89,29],[89,30,89,37],[90,27,90,29],[90,30,90,37],[91,25,91,29],[91,30,91,37],[92,25,92,29],[96,25,96,37],[87,5,92,7],[87,8,92,14],[88,25,90,26],[88,27,88,29],[88,30,88,37],[93,5,93,7],[93,8,93,23],[93,24,93,30],[93,31,93,37],[94,5,94,7],[94,8,94,23],[94,24,94,30],[94,31,94,37],[95,5,95,7],[95,8,95,18],[95,19,95,28],[95,29,95,37],[96,5,96,7],[96,8,96,14],[96,15,96,24],[105,8,105,18],[105,19,105,28],[105,29,105,37],[103,5,103,7],[103,8,103,23],[103,24,103,30],[103,31,103,37],[104,5,104,7],[104,8,104,23],[104,24,104,30],[104,31,104,37],[105,5,105,7],[97,5,102,7],[113,5,113,7],[113,8,113,23],[106,5,106,7],[106,8,106,14],[106,15,106,24],[106,25,106,37],[107,5,112,7],[107,8,112,14],[107,15,112,24],[107,25,107,29],[107,30,107,37],[108,25,110,26],[108,27,108,29],[108,30,108,37],[109,27,109,29],[109,30,109,37],[110,27,110,29],[110,30,110,37],[111,25,111,29],[111,30,111,37],[112,25,112,29],[112,30,112,37],[113,24,113,30],[113,31,113,37],[114,5,114,7],[114,8,114,23],[114,24,114,30],[114,31,114,37],[115,5,115,7],[115,8,115,18],[115,19,115,28],[115,29,115,37],[116,5,116,7],[116,8,116,14],[116,15,116,24],[116,25,116,37],[126,5,126,7],[126,8,126,14],[126,15,126,24],[126,25,126,37],[118,25,120,26],[118,27,118,29],[118,30,118,37],[119,27,119,29],[119,30,119,37],[120,27,120,29],[120,30,120,37],[121,25,121,29],[121,30,121,37],[122,25,122,29],[122,30,122,37],[117,5,122,7],[117,8,122,14],[117,15,122,24],[117,25,117,29],[117,30,117,37],[123,5,123,7],[123,8,123,23],[123,24,123,30],[123,31,123,37],[124,5,124,7],[124,8,124,23],[124,24,124,30],[124,31,124,37],[125,5,125,7],[125,8,125,18],[125,19,125,28],[125,29,125,37],[136,5,136,7],[136,8,136,14],[136,15,136,24],[136,25,136,37],[127,5,132,7],[127,8,132,14],[127,15,132,24],[127,25,127,29],[127,30,127,37],[128,25,130,26],[128,27,128,29],[128,30,128,37],[129,27,129,29],[129,30,129,37],[130,27,130,29],[130,30,130,37],[131,25,131,29],[131,30,131,37],[132,25,132,29],[132,30,132,37],[133,5,133,7],[133,8,133,23],[133,24,133,30],[133,31,133,37],[134,5,134,7],[134,8,134,23],[134,24,134,30],[134,31,134,37],[135,5,135,7],[135,8,135,18],[135,19,135,28],[135,29,135,37],[146,5,146,7],[146,8,146,14],[146,15,146,24],[146,25,146,37],[137,5,142,7],[137,8,142,14],[137,15,142,24],[137,25,137,29],[137,30,137,37],[138,25,140,26],[138,27,138,29],[138,30,138,37],[139,27,139,29],[139,30,139,37],[140,27,140,29],[140,30,140,37],[141,25,141,29],[141,30,141,37],[142,25,142,29],[142,30,142,37],[143,31,143,37],[144,5,144,7],[144,8,144,23],[144,24,144,30],[144,31,144,37],[145,5,145,7],[145,8,145,18],[145,19,145,28],[145,29,145,37],[143,5,143,7],[143,8,143,23],[143,24,143,30],[155,8,155,18],[155,19,155,28],[155,29,155,37],[147,5,152,7],[147,8,152,14],[147,15,152,24],[147,25,147,29],[147,30,147,37],[153,5,153,7],[153,8,153,23],[154,5,154,7],[154,8,154,23],[154,24,154,30],[154,31,154,37],[155,5,155,7],[156,5,156,7],[156,8,156,14],[156,15,156,24],[156,25,156,37],[163,5,163,7],[163,8,163,23],[163,24,163,30],[163,31,163,37],[161,25,161,29],[161,30,161,37],[162,25,162,29],[162,30,162,37],[157,25,157,29],[157,30,157,37],[158,25,160,26],[158,27,158,29],[158,30,158,37],[159,27,159,29],[159,30,159,37],[160,27,160,29],[160,30,160,37],[157,5,162,7],[157,8,162,14],[157,15,162,24],[170,30,170,37],[164,5,164,7],[164,8,164,23],[164,24,164,30],[164,31,164,37],[165,5,165,7],[165,8,165,18],[165,19,165,28],[165,29,165,37],[166,5,166,7],[166,8,166,14],[166,15,166,24],[166,25,166,37],[167,5,172,7],[167,8,172,14],[167,15,172,24],[167,25,167,29],[167,30,167,37],[171,25,171,29],[171,30,171,37],[172,25,172,29],[172,30,172,37],[265,8,265,10],[263,13,263,15],[263,18,263,21],[265,13,265,15],[265,18,265,21],[153,24,153,30],[153,31,153,37],[148,25,150,26],[148,27,148,29],[148,30,148,37],[149,27,149,29],[149,30,149,37],[150,27,150,29],[150,30,150,37],[151,25,151,29],[151,30,151,37],[152,25,152,29],[152,30,152,37],[168,25,170,26],[168,27,168,29],[168,30,168,37],[169,27,169,29],[169,30,169,37],[170,27,170,29]]}
[{"$f":"初期入力!B8&\" 参加に関わる提出内容\"","v":"第52回マーチングバンド関東大会 参加に関わる提出内容"},null,null,null,null,null,null,null,null,null,null,null,null,null,null,null,null,null,null,null,null,null,null,null,null,null,null,null,null,null,null,null,null,null,null,null,null,null,null,null,null,null,null,null,null,null,null,null,"判定","取込変換"]
["【※入力】及び【※選択】部分に入力して下さい。尚、注意事項及び実施要項をご確認の上、入力漏れ等ありませんようご注意ください。"]
["★参加資格に関わる提出書類　「1．参加申込み」"]
[null,"推薦都県名",null,null,null,{"$f":"IF($AW4=1,選択肢!$A$3,選択肢!$A$5)","v":"【※選択】"},null,null,"※リストから選択して下さい",null,null,null,null,null,null,null,null,null,null,null,null,null,null,null,null,null,null,null,null,null,null,null,null,null,null,null,null,null,null,null,null,null,null,null,null,null,null,null,{"$f":"IF(ISERROR(MATCH(I4,選択肢!A13:A22,0)),1,0)","v":1}]
[]
[null,"団体名",null,null,null,{"$f":"IF($AW6=1,選択肢!$A$4,選択肢!$A$6)","v":"【※入力】"},null,null,null,null,null,null,null,null,null,null,null,null,null,null,null,null,null,null,null,null,null,null,null,null,null,null,null,null,null,null,null,null,null,null,null,null,null,null,null,null,null,null,{"$f":"IF(I6=\"\",1,0)","v":1}]
[null,null,null,null,null,null,null,null,"役職",null,null,null,null,"氏名",null,null,null,null,null,null,null,null,null,null,null,null,null,"※団体名は加盟登録団体名でご記入下さい。"]
["代表者 役職/氏名",null,null,null,null,{"$f":"IF($AW8>0,選択肢!$A$4,選択肢!$A$6)","v":"【※入力】"},null,null,null,null,null,null,null,null,null,null,null,null,null,null,null,null,null,null,null,null,null,null,null,null,null,null,null,null,null,null,null,null,null,null,null,null,null,null,null,null,{"$f":"IF(SUBSTITUTE(SUBSTITUTE(I8,\" \",\"\"),\"　\",\"\")=\"\",1,0)","v":1},{"$f":"IF(SUBSTITUTE(SUBSTITUTE(N8,\" \",\"\"),\"　\",\"\")=\"\",1,0)","v":1},{"$f":"SUM(AU8:AV8)","v":2},{"$f":"TRIM(SUBSTITUTE(N8,\" \",\"　\"))","v":""}]
[]
[null,"■書類送付先（連絡先）について　※必ず連絡がとれる方を入力して下さい。大会に関わる書類を送付・送信致します。"]
[null,"〒",null,null,null,{"$f":"IF($AW11=1,選択肢!$A$4,選択肢!$A$6)","v":"【※入力】"},null,null,null,null,null,null,null,null,null,null,null,null,null,null,null,null,null,null,null,null,null,null,null,null,null,null,null,null,null,null,null,null,null,null,null,null,null,null,null,null,null,null,{"$f":"IF(SUBSTITUTE(SUBSTITUTE(I11,\" \",\"\"),\"　\",\"\")=\"\",1,0)","v":1},{"$f":"IF(I11=\"\",\"\",VALUE(SUBSTITUTE(SUBSTITUTE(SUBSTITUTE(SUBSTITUTE(ASC(I11),\" \",\"\"),\"-\",\"\"),\"ｰ\",\"\"),\"〒\",\"\")))","v":""}]
[null,"住所",null,null,null,{"$f":"IF($AW12=1,選択肢!$A$4,選択肢!$A$6)","v":"【※入力】"},null,null,null,null,null,null,null,null,null,null,null,null,null,null,null,null,null,null,null,null,null,"※都道府県より入力して下さい。",null,null,null,null,null,null,null,null,null,null,null,null,null,null,null,null,null,null,null,null,{"$f":"IF(SUBSTITUTE(SUBSTITUTE(I12,\" \",\"\"),\"　\",\"\")=\"\",1,0)","v":1}]
[null,"氏名",null,null,null,{"$f":"IF($AW13=1,選択肢!$A$4,選択肢!$A$6)","v":"【※入力】"},null,null,null,null,null,null,null,null,null,"※担当者の氏名を入力してください。",null,null,null,null,null,null,null,null,null,null,null,null,null,null,null,null,null,null,null,null,null,null,null,null,null,null,null,null,null,null,null,null,{"$f":"IF(SUBSTITUTE(SUBSTITUTE(I13,\" \",\"\"),\"　\",\"\")=\"\",1,0)","v":1},{"$f":"TRIM(SUBSTITUTE(I13,\" \",\"　\"))","v":""}]
[null,"氏名ふりがな",null,null,null,{"$f":"IF($AW14=1,選択肢!$A$4,選択肢!$A$6)","v":"【※入力】"},null,null,null,null,null,null,null,null,null,null,null,null,null,null,null,null,null,null,null,null,null,null,null,null,null,null,null,null,null,null,null,null,null,null,null,null,null,null,null,null,null,null,{"$f":"IF(SUBSTITUTE(SUBSTITUTE(I14,\" \",\"\"),\"　\",\"\")=\"\",1,0)","v":1},{"$f":"TRIM(SUBSTITUTE(I14,\" \",\"　\"))","v":""}]
[null,"電話番号",null,null,null,{"$f":"IF($AU15=1,選択肢!$A$4,選択肢!$A$6)","v":"【※入力】"},null,null,null,null,null,null,null,null,null,{"$f":"IF(AW15=1,選択肢!$C$29,\"\")","v":"※電話番号 もしくは 携帯電話を必ず入力してください。"},null,null,null,null,null,null,null,null,null,null,null,null,null,null,null,null,null,null,null,null,null,null,null,null,null,null,null,null,null,null,{"$f":"IF(SUBSTITUTE(SUBSTITUTE(I15,\" \",\"\"),\"　\",\"\")=\"\",1,0)","v":1},{"$f":"IF(AU15+AU17<2,0,1)","v":1},{"$f":"IF(AV15+AV16=0,0,1)","v":1},{"$f":"IF(I15=\"\",\"\",ASC(I15))","v":""}]
[null,"FAX",null,null,null,{"$f":"IF($AU16=1,選択肢!$A$4,選択肢!$A$6)","v":"【※入力】"},null,null,null,null,null,null,null,null,null,null,null,null,null,null,null,null,null,null,null,null,null,null,null,null,null,null,null,null,null,null,null,null,null,null,null,null,null,null,null,null,{"$f":"IF(SUBSTITUTE(SUBSTITUTE(I16,\" \",\"\"),\"　\",\"\")=\"\",1,0)","v":1},{"$f":"IF(AU16+AU18<2,0,1)","v":1},null,""]
[null,"携帯電話",null,null,null,{"$f":"IF($AU17=1,選択肢!$A$4,選択肢!$A$6)","v":"【※入力】"},null,null,null,null,null,null,null,null,null,null,null,null,null,null,null,null,null,null,null,null,null,null,null,null,null,null,null,null,null,null,null,null,null,null,null,null,null,null,null,null,{"$f":"IF(SUBSTITUTE(SUBSTITUTE(I17,\" \",\"\"),\"　\",\"\")=\"\",1,0)","v":1},null,null,""]
[null,"E-mail(PC)",null,null,null,{"$f":"IF($AU18=1,選択肢!$A$4,選択肢!$A$6)","v":"【※入力】"},null,null,null,null,null,null,null,null,null,null,null,null,null,null,null,null,null,null,null,null,null,null,null,null,null,null,null,null,null,null,null,null,null,null,null,null,null,null,null,null,{"$f":"IF(SUBSTITUTE(SUBSTITUTE(I18,\" \",\"\"),\"　\",\"\")=\"\",1,0)","v":1},null,null,""]
[]
[null,"■当日緊急連絡先"]
[null,"連絡先について",null,null,null,{"$f":"IF($AU21=0,選択肢!$A$3,選択肢!$A$5)","v":"【※選択】"},null,null,"※リストから選択して下さい",null,null,null,null,null,null,null,null,null,null,null,null,null,null,null,null,null,null,null,null,null,null,null,null,null,null,null,null,null,null,null,null,null,null,null,null,null,{"$f":"IF(I21=選択肢!A29,2,IF(I21=選択肢!A30,1,0))","v":0},null,{"$f":"IF(AND(AU21<>0,SUM(AV23:AV25)=0),0,1)","v":1}]
[]
[null,"氏名",null,null,null,{"$f":"IF($AV23=1,選択肢!$A$4,IF($AU$21=2,選択肢!$A$8,選択肢!$A$6))","v":"【※入力】"},null,null,null,null,null,null,null,null,null,null,null,null,null,null,null,null,null,null,null,null,null,null,null,null,null,null,null,null,null,null,null,null,null,null,null,null,null,null,null,null,null,{"$f":"IF(AND(SUBSTITUTE(SUBSTITUTE(I23,\" \",\"\"),\"　\",\"\")=\"\",OR($AU$21=0,$AU$21=1)),1,0)","v":1},null,{"$f":"TRIM(SUBSTITUTE(I23,\" \",\"　\"))","v":""}]
[null,"氏名ふりがな",null,null,null,{"$f":"IF($AV24=1,選択肢!$A$4,IF($AU$21=2,選択肢!$A$8,選択肢!$A$6))","v":"【※入力】"},null,null,null,null,null,null,null,null,null,null,null,null,null,null,null,null,null,null,null,null,null,null,null,null,null,null,null,null,null,null,null,null,null,null,null,null,null,null,null,null,null,{"$f":"IF(AND(SUBSTITUTE(SUBSTITUTE(I24,\" \",\"\"),\"　\",\"\")=\"\",OR($AU$21=0,$AU$21=1)),1,0)","v":1},null,{"$f":"TRIM(SUBSTITUTE(I24,\" \",\"　\"))","v":""}]
[null,"携帯電話",null,null,null,{"$f":"IF(AND(OR(AU25=1,AU21=0),$AV25=0),選択肢!$A$6,IF(AND(AU25=0,$AV25=0),選択肢!$A$8,選択肢!$A$4))","v":"【※入力】"},null,null,null,null,null,null,null,null,null,{"$f":"IF(AND(AU21=2,AV25=1),選択肢!C33,\"\")","v":""},null,null,null,null,null,null,null,null,null,null,null,null,null,null,null,null,null,null,null,null,null,null,null,null,null,null,null,null,null,null,{"$f":"IF(OR(AU21=1,AND(AU21=2,AU17=1)),1,0)","v":0},{"$f":"IF(AND(SUBSTITUTE(SUBSTITUTE(I25,\" \",\"\"),\"　\",\"\")=\"\",OR($AU$21=0,$AU$21=1,$AU$25=1)),1,0)","v":1},null,{"$f":"IF(I25=\"\",\"\",ASC(I25))","v":""}]
[]
[null,{"$f":"IF(AW27=1,選択肢!C36,\"\")","v":"※『構成メンバー名簿』シートを先に入力してください。"},null,null,null,null,null,null,null,null,null,null,null,null,null,null,null,null,null,null,null,null,null,null,null,null,null,null,null,null,null,null,null,null,null,null,null,null,null,null,null,null,null,null,null,null,null,null,{"$f":"Ⅰ.構成メンバー名簿!O273","v":1}]
[]
[null,"■参加内容について  ※参加する部門・構成および編成は、関東大会基本実施要項をよく確認し間違いのないようご記入下さい。"]
[null,"構成",null,null,null,{"$f":"IF($AW30=1,選択肢!$A$3,IF($AW30=2,選択肢!$A$7,選択肢!$A$5))","v":"【※選択】"},null,null,"※リストから選択して下さい",null,null,null,null,null,null,{"$f":"IF(AW30=2,選択肢!C47,\"\")","v":""},null,null,null,null,null,null,null,null,null,null,null,null,null,null,null,null,null,null,null,null,null,null,null,null,null,null,null,null,null,null,null,{"$f":"IF(I30=選択肢!$A$39,1,IF(I30=選択肢!$A$40,2,IF(I30=選択肢!$A$41,3,IF(I30=選択肢!$A$42,4,IF(I30=選択肢!$A$43,5,0)))))","v":0},{"$f":"IF(AV30=0,1,IF(VLOOKUP(I30,Ⅰ.構成メンバー名簿!N65:O69,2,FALSE)=0,0,2))","v":1}]
[null,"編成",null,null,null,{"$f":"IF(AV30=1,選択肢!$A$9,IF(AV31=0,選択肢!$A$3,IF($AW31=2,選択肢!$A$7,選択肢!$A$5)))","v":"【※選択】"},null,null,"※リストから選択して下さい",null,null,null,null,null,null,{"$f":"IF(AW31=2,選択肢!C48,IF(AU31=1,選択肢!C49,\"\"))","v":""},null,null,null,null,null,null,null,null,null,null,null,null,null,null,null,null,null,null,null,null,null,null,null,null,null,null,null,null,null,null,{"$f":"IF(OR(AV30=0,AV30=1),0,IF(AND(I31=選択肢!C40,AV30<>4),1,0))","v":0},{"$f":"IF(I31=選択肢!$C$39,1,IF(I31=選択肢!$C$40,2,IF(I31=選択肢!$C$41,3,0)))","v":0},{"$f":"IF(OR(AV30=1,AND(AV30=0,AV31<>0)),0,IF(OR(AV30=0,AV31=0),1,IF(OR(VLOOKUP(I31,編成別人数[],MATCH(I30,編成別人数[#Headers],0),FALSE)>=G40,VLOOKUP(I31,編成別人数[],MATCH(I30,編成別人数[#Headers],0),FALSE)=\"\"),0,2)))","v":1}]
[null,null,null,null,null,null,null,null,null,null,null,null,null,null,null,null,null,null,null,null,null,"編成",null,null,{"$f":"選択肢!A40","v":"小学生の部"},null,null,null,null,{"$f":"選択肢!A41","v":"中学生の部"},null,null,null,null,{"$f":"選択肢!A42","v":"高等学校の部"},null,null,null,null,{"$f":"選択肢!A43","v":"一般の部"}]
[null,"■編成調査",null,null,null,null,null,null,null,null,null,null,null,null,null,null,null,null,null,null,null,{"$f":"選択肢!C39","v":"小編成"},null,null,{"$f":"IF(INDEX(初期入力!A17:E20,MATCH($V33,初期入力!$A$17:$A$20,0),MATCH(Y$32,初期入力!$A$17:$E$17,0))=\"\",\"\",INDEX(初期入力!$A$17:$E$20,MATCH($V33,初期入力!$A$17:$A$20,0),MATCH(Y$32,初期入力!$A$17:$E$17,0)))&\"名以下\"","v":"50名以下"},null,null,null,null,{"$f":"IF(INDEX(初期入力!$A$17:$E$20,MATCH($V33,初期入力!$A$17:$A$20,0),MATCH(AD$32,初期入力!$A$17:$E$17,0))=\"\",\"\",INDEX(初期入力!$A$17:$E$20,MATCH($V33,初期入力!$A$17:$A$20,0),MATCH(AD$32,初期入力!$A$17:$E$17,0)))&\"名以下\"","v":"54名以下"},null,null,null,null,{"$f":"IF(INDEX(初期入力!$A$17:$E$20,MATCH($V33,初期入力!$A$17:$A$20,0),MATCH(AI$32,初期入力!$A$17:$E$17,0))=\"\",\"\",INDEX(初期入力!$A$17:$E$20,MATCH($V33,初期入力!$A$17:$A$20,0),MATCH(AI$32,初期入力!$A$17:$E$17,0)))&\"名以下\"","v":"54名以下"},null,null,null,null,{"$f":"IF(INDEX(初期入力!$A$17:$E$20,MATCH($V33,初期入力!$A$17:$A$20,0),MATCH(AN$32,初期入力!$A$17:$E$17,0))=\"\",\"\",INDEX(初期入力!$A$17:$E$20,MATCH($V33,初期入力!$A$17:$A$20,0),MATCH(AN$32,初期入力!$A$17:$E$17,0)))&\"名以下\"","v":"54名以下"}]
[null,"カラーガードの有無",null,null,null,null,{"$f":"IF($AW34=1,選択肢!$A$3,選択肢!$A$5)","v":"【※選択】"},null,null,"※リストから選択して下さい",null,null,null,null,null,null,null,null,null,null,null,{"$f":"選択肢!C40","v":"中編成"},null,null,{"$f":"IF(INDEX(初期入力!$A$17:$E$20,MATCH($V34,初期入力!$A$17:$A$20,0),MATCH(Y$32,初期入力!$A$17:$E$17,0))=\"\",\"\",INDEX(初期入力!$A$17:$E$20,MATCH($V34,初期入力!$A$17:$A$20,0)-1,MATCH(Y$32,初期入力!$A$17:$E$17,0))+1&\"名以上\"&INDEX(初期入力!$A$17:$E$20,MATCH($V34,初期入力!$A$17:$A$20,0),MATCH(Y$32,初期入力!$A$17:$E$17,0))&\"名以下\")","v":""},null,null,null,null,{"$f":"IF(INDEX(初期入力!$A$17:$E$20,MATCH($V34,初期入力!$A$17:$A$20,0),MATCH(AD$32,初期入力!$A$17:$E$17,0))=\"\",\"\",INDEX(初期入力!$A$17:$E$20,MATCH($V34,初期入力!$A$17:$A$20,0)-1,MATCH(AD$32,初期入力!$A$17:$E$17,0))+1&\"名以上\"&INDEX(初期入力!$A$17:$E$20,MATCH($V34,初期入力!$A$17:$A$20,0),MATCH(AD$32,初期入力!$A$17:$E$17,0))&\"名以下\")","v":""},null,null,null,null,{"$f":"IF(INDEX(初期入力!$A$17:$E$20,MATCH($V34,初期入力!$A$17:$A$20,0),MATCH(AI$32,初期入力!$A$17:$E$17,0))=\"\",\"\",INDEX(初期入力!$A$17:$E$20,MATCH($V34,初期入力!$A$17:$A$20,0)-1,MATCH(AI$32,初期入力!$A$17:$E$17,0))+1&\"名以上\"&INDEX(初期入力!$A$17:$E$20,MATCH($V34,初期入力!$A$17:$A$20,0),MATCH(AI$32,初期入力!$A$17:$E$17,0))&\"名以下\")","v":"55名以上90名以下"},null,null,null,null,{"$f":"IF(INDEX(初期入力!$A$17:$E$20,MATCH($V34,初期入力!$A$17:$A$20,0),MATCH(AN$32,初期入力!$A$17:$E$17,0))=\"\",\"\",INDEX(初期入力!$A$17:$E$20,MATCH($V34,初期入力!$A$17:$A$20,0)-1,MATCH(AN$32,初期入力!$A$17:$E$17,0))+1&\"名以上\"&INDEX(初期入力!$A$17:$E$20,MATCH($V34,初期入力!$A$17:$A$20,0),MATCH(AN$32,初期入力!$A$17:$E$17,0))&\"名以下\")","v":""},null,null,null,null,null,null,null,null,{"$f":"IF(ISERROR(MATCH(J34,選択肢!D39:D40,0)),1,0)","v":1}]
[null,"楽器編成",null,null,null,null,{"$f":"IF($AW35=1,選択肢!$A$3,選択肢!$A$5)","v":"【※選択】"},null,null,"※リストから選択して下さい",null,null,null,null,null,null,null,null,null,null,null,{"$f":"選択肢!C41","v":"大編成"},null,null,{"$f":"IF(INDEX(初期入力!$A$17:$E$20,MATCH($V35,初期入力!$A$17:$A$20,0)-1,MATCH(Y$32,初期入力!$A$17:$E$17,0))<>\"\",INDEX(初期入力!$A$17:$E$20,MATCH($V35,初期入力!$A$17:$A$20,0)-1,MATCH(Y$32,初期入力!$A$17:$E$17,0)),INDEX(初期入力!$A$17:$E$20,MATCH($V35,初期入力!$A$17:$A$20,0)-2,MATCH(Y$32,初期入力!$A$17:$E$17,0)))+1&\"名以上\"&IF(INDEX(初期入力!$A$17:$E$20,MATCH($V35,初期入力!$A$17:$A$20,0),MATCH(Y$32,初期入力!$A$17:$E$17,0))<>\"\",INDEX(初期入力!$A$17:$E$20,MATCH($V35,初期入力!$A$17:$A$20,0),MATCH(Y$32,初期入力!$A$17:$E$17,0))&\"名以下\",\"\")","v":"51名以上"},null,null,null,null,{"$f":"IF(INDEX(初期入力!$A$17:$E$20,MATCH($V35,初期入力!$A$17:$A$20,0)-1,MATCH(AD$32,初期入力!$A$17:$E$17,0))<>\"\",INDEX(初期入力!$A$17:$E$20,MATCH($V35,初期入力!$A$17:$A$20,0)-1,MATCH(AD$32,初期入力!$A$17:$E$17,0)),INDEX(初期入力!$A$17:$E$20,MATCH($V35,初期入力!$A$17:$A$20,0)-2,MATCH(AD$32,初期入力!$A$17:$E$17,0)))+1&\"名以上\"&IF(INDEX(初期入力!$A$17:$E$20,MATCH($V35,初期入力!$A$17:$A$20,0),MATCH(AD$32,初期入力!$A$17:$E$17,0))<>\"\",INDEX(初期入力!$A$17:$E$20,MATCH($V35,初期入力!$A$17:$A$20,0),MATCH(AD$32,初期入力!$A$17:$E$17,0))&\"名以下\",\"\")","v":"55名以上"},null,null,null,null,{"$f":"IF(INDEX(初期入力!$A$17:$E$20,MATCH($V35,初期入力!$A$17:$A$20,0)-1,MATCH(AI$32,初期入力!$A$17:$E$17,0))<>\"\",INDEX(初期入力!$A$17:$E$20,MATCH($V35,初期入力!$A$17:$A$20,0)-1,MATCH(AI$32,初期入力!$A$17:$E$17,0)),INDEX(初期入力!$A$17:$E$20,MATCH($V35,初期入力!$A$17:$A$20,0)-2,MATCH(AI$32,初期入力!$A$17:$E$17,0)))+1&\"名以上\"&IF(INDEX(初期入力!$A$17:$E$20,MATCH($V35,初期入力!$A$17:$A$20,0),MATCH(AI$32,初期入力!$A$17:$E$17,0))<>\"\",INDEX(初期入力!$A$17:$E$20,MATCH($V35,初期入力!$A$17:$A$20,0),MATCH(AI$32,初期入力!$A$17:$E$17,0))&\"名以下\",\"\")","v":"91名以上"},null,null,null,null,{"$f":"IF(INDEX(初期入力!$A$17:$E$20,MATCH($V35,初期入力!$A$17:$A$20,0)-1,MATCH(AN$32,初期入力!$A$17:$E$17,0))<>\"\",INDEX(初期入力!$A$17:$E$20,MATCH($V35,初期入力!$A$17:$A$20,0)-1,MATCH(AN$32,初期入力!$A$17:$E$17,0)),INDEX(初期入力!$A$17:$E$20,MATCH($V35,初期入力!$A$17:$A$20,0)-2,MATCH(AN$32,初期入力!$A$17:$E$17,0)))+1&\"名以上\"&IF(INDEX(初期入力!$A$17:$E$20,MATCH($V35,初期入力!$A$17:$A$20,0),MATCH(AN$32,初期入力!$A$17:$E$17,0))<>\"\",INDEX(初期入力!$A$17:$E$20,MATCH($V35,初期入力!$A$17:$A$20,0),MATCH(AN$32,初期入力!$A$17:$E$17,0))&\"名以下\",\"\")","v":"55名以上"},null,null,null,null,null,null,null,null,{"$f":"IF(ISERROR(MATCH(J35,選択肢!E39:E40,0)),1,0)","v":1}]
[]
[]
["★参加資格に関わる提出書類　「2．構成メンバー」"]
[]
[null,"■構成メンバー",null,null,null,null,{"$f":"Ⅰ.構成メンバー名簿!O275","v":0},null,null,null,"名"]
[null,null,null,null,null,null,"↑構成メンバー名簿に入力するとカウントされます。"]
[]
[null,{"$f":"IF(AND(OR(AV30=2,AV30=3,AV30=4),Ⅰ.構成メンバー名簿!O54>2),選択肢!C51,\"\")","v":""}]
[]
[null,"■登録引率者"]
[null,null,null,null,null,null,null,null,"↓登録引率者氏名を入力してください。構成メンバーと登録引率者が重複することはありません。",null,null,null,null,null,null,null,null,null,null,null,null,null,null,null,null,null,null,null,null,null,null,null,null,null,null,null,null,null,null,null,null,null,null,null,null,null,null,{"$f":"IF(AW31=1,0,IF(AV30=1,VLOOKUP(選択肢!A39,登録引率者数[],2,FALSE),VLOOKUP(I31,登録引率者数[],2,FALSE)))","v":0}]
[null,null,null,null,1,{"$f":"IF(OR(AND($AV$46=0,AU47=1),AND(AT47=1,AU47=1)),選択肢!$A$6,IF(AND($AV$46>0,AT47=0),選択肢!$A$10,選択肢!$A$4))","v":"【※入力】"},null,null,null,null,null,null,null,null,null,null,null,null,null,null,null,null,null,null,null,null,null,null,null,null,null,null,null,null,null,null,null,null,null,null,null,null,null,null,null,{"$f":"IF(E47>$AV$46,0,1)","v":0},{"$f":"IF(SUBSTITUTE(SUBSTITUTE(I47,\" \",\"\"),\"　\",\"\")=\"\",0,1)","v":0},{"$f":"IF(SUM(AT47:AU47)=2,1,0)","v":0},null,{"$f":"TRIM(SUBSTITUTE(I47,\" \",\"　\"))","v":""}]
[null,null,null,null,2,{"$f":"IF(OR(AND($AV$46=0,AU48=1),AND(AT48=1,AU48=1)),選択肢!$A$6,IF(AND($AV$46>0,AT48=0),選択肢!$A$10,選択肢!$A$4))","v":"【※入力】"},null,null,null,null,null,null,null,null,null,null,"編成",null,{"$f":"初期入力!$A$24","v":"小編成"},null,null,{"$f":"初期入力!$A$25","v":"中編成"},null,null,{"$f":"初期入力!$A$26","v":"大編成"},null,null,{"$f":"初期入力!$A$27","v":"幼保の部"},null,null,null,null,null,null,null,null,null,null,null,null,null,null,null,null,null,{"$f":"IF(E48>$AV$46,0,1)","v":0},{"$f":"IF(SUBSTITUTE(SUBSTITUTE(I48,\" \",\"\"),\"　\",\"\")=\"\",0,1)","v":0},{"$f":"IF(SUM(AT48:AU48)=2,1,0)","v":0},null,{"$f":"TRIM(SUBSTITUTE(I48,\" \",\"　\"))","v":""}]
[null,null,null,null,3,{"$f":"IF(OR(AND($AV$46=0,AU49=1),AND(AT49=1,AU49=1)),選択肢!$A$6,IF(AND($AV$46>0,AT49=0),選択肢!$A$10,選択肢!$A$4))","v":"【※入力】"},null,null,null,null,null,null,null,null,null,null,"最大人数",null,{"$f":"VLOOKUP(S48,登録引率者数[],2,FALSE)&\"名\"","v":"2名"},null,null,{"$f":"VLOOKUP(V48,登録引率者数[],2,FALSE)&\"名\"","v":"3名"},null,null,{"$f":"VLOOKUP(Y48,登録引率者数[],2,FALSE)&\"名\"","v":"4名"},null,null,{"$f":"VLOOKUP(AB48,登録引率者数[],2,FALSE)&\"名\"","v":"4名"},null,null,"※旗の合図を行う計時補助員1名を含む。",null,null,null,null,null,null,null,null,null,null,null,null,null,null,{"$f":"IF(E49>$AV$46,0,1)","v":0},{"$f":"IF(SUBSTITUTE(SUBSTITUTE(I49,\" \",\"\"),\"　\",\"\")=\"\",0,1)","v":0},{"$f":"IF(SUM(AT49:AU49)=2,1,0)","v":0},null,""]
[null,null,null,null,4,{"$f":"IF(OR(AND($AV$46=0,AU50=1),AND(AT50=1,AU50=1)),選択肢!$A$6,IF(AND($AV$46>0,AT50=0),選択肢!$A$10,選択肢!$A$4))","v":"【※入力】"},null,null,null,null,null,null,null,null,null,null,null,null,null,null,null,null,null,null,null,null,null,null,null,null,null,null,null,null,null,null,null,null,null,null,null,null,null,null,null,{"$f":"IF(E50>$AV$46,0,1)","v":0},{"$f":"IF(SUBSTITUTE(SUBSTITUTE(I50,\" \",\"\"),\"　\",\"\")=\"\",0,1)","v":0},{"$f":"IF(SUM(AT50:AU50)=2,1,0)","v":0},null,""]
[]
[null,null,null,null,null,null,null,null,"合計",{"$f":"IF(AV46=0,COUNTA(I47:O50),SUM(AV47:AV50))","v":0},null,null,null,"名","← 登録引率者氏名を入力するとカウントされます。"]
[]
[null,null,null,null,null,null,null,null,null,null,null,null,null,null,null,null,null,null,"構成メンバー",null,null,null,"登録引率者",null,null,null,"補助スタッフ",null,null,null,"※構成メンバー・登録引率者・補助スタッフは、一般席にご入場いただけません。一般席にご入場の際には、入場券をご購入ください。\n※構成メンバーおよび登録引率者は、出演者席にてご観覧いただけます。（出演者席は、団体割当ではありません。他団体と譲り合ってご利用下さい）尚、補助スタッフは、出演者席へはご入場いただけません。"]
[]
[null,null,null,null,null,null,null,null,null,null,null,null,null,null,null,"認識証",null,null,"加盟員記章\n参加証リストバンド",null,null,null,"引率者用リボン",null,null,null,"ゼッケン"]
[]
[null,null,null,null,null,null,null,null,null,null,null,null,null,null,null,"出演者席への入場",null,null,"可",null,null,null,"可",null,null,null,"不可"]
[]
[]
[null,"■参加費について",null,null,null,null,"※払込総額を、郵便局備付けの「払込取扱票」にて指定口座へご入金下さい。"]
[null,null,null,null,null,null," 　別紙「振込用紙 記入例」を参考に、通信欄へ団体名・都県名・構成メンバー数・参加費金額等をもれなくご記入下さい。"]
[null,"払込日",null,null,null,{"$f":"IF($AW63=1,選択肢!$A$4,選択肢!$A$6)","v":"【※入力】"},null,null,null,null,null,null,null,null,null,null,null,null,null,null,null,null,null,null,null,null,null,null,null,null,null,null,null,null,null,null,null,null,null,null,null,null,null,null,null,null,null,null,{"$f":"IF(SUBSTITUTE(SUBSTITUTE(I63,\" \",\"\"),\"　\",\"\")=\"\",1,0)","v":1}]
[null,"払込額",null,null,null,null,"団体参加費　 ：",null,null,null,{"$f":"TEXT(初期入力!B37,\"#,##0\")&\"円\"","v":"3,000円"}]
[null,null,null,null,null,null,"個人参加費　 ：",null,null,null," 構成メンバー",null,null,null,{"$f":"G40","v":0},null,null,"名","×",{"$f":"IF(AW30=1,\"\",VLOOKUP(I30,個人参加費[],MATCH(個人参加費[[#Headers],[個人参加費]],個人参加費[#Headers],0),FALSE))","v":""},null,null,"円","=",{"$f":"IF(T65=\"\",\"\",O65*T65)","v":""},null,null,null,"円",null,"参加費総額",null,null,null,{"$f":"IF(Y65=\"\",\"\",初期入力!B37+Y65)","v":""},null,null,null,null,"円"]
[]
[]
["★参加資格に関わる提出書類　「3．音楽著作権使用許諾に関する確認」"]
[]
[null,"■使用楽曲数",null,null,null,{"$f":"IF($AW70=1,選択肢!$A$3,選択肢!$A$5)","v":"【※選択】"},null,null,"※リストから選択して下さい",null,null,null,null,null,null,null,null,null,null,null,null,null,null,null,null,null,null,null,null,null,null,null,null,null,null,null,null,null,null,null,null,null,null,null,null,null,null,{"$f":"IF(ISERROR(MATCH(I70,選択肢!A54:A63,0)),0,MATCH(I70,選択肢!A54:A63,0))","v":0},{"$f":"IF(AV70=0,1,0)","v":1}]
[null,null,"※基本実施要項P．4「大会における著作権について」を必ずご確認ください."]
[null,null,"※使用許諾を証明する書類の写しは、Ａ４サイズで添付して下さい。"]
[null,null,"※市販の楽譜を利用する場合は、スコアーの表紙及び、購入を証明する（領収証等）のコピーを添付して提出して頂きます。　　　　　　　　　　　　　　　　　　　　　　　　　　　　　　　　　　　　但し、購入を証明する（領収証等）がない場合は、スコアーの表紙のみ提出して頂きます。"]
[null,null,null,null,null,"1曲目",null,null,"使用楽曲名",null,null,null,null,null,null,null,null,null,null,null,null,null,null,null,"作曲者",null,null,null,null,null,null,"出版社",null,null,null,null,null,null,null,null,null,null,null,null,null,null,null,{"$f":"IF($AV$70>=VALUE(SUBSTITUTE(F74,\"曲目\",\"\")),1,0)","v":0}]
[null,null,null,null,null,{"$f":"IF(AV74=0,選択肢!$A$10,IF(AW75=0,選択肢!$A$6,選択肢!$A$4))","v":"―"},null,null,null,null,null,null,null,null,null,null,null,null,null,null,null,null,null,null,null,null,null,null,null,null,null,null,null,null,null,null,null,null,null,null,null,null,null,null,null,{"$f":"IF(SUBSTITUTE(SUBSTITUTE(I75,\" \",\"\"),\"　\",\"\")=\"\",1,0)","v":1},{"$f":"IF(SUBSTITUTE(SUBSTITUTE(Y75,\" \",\"\"),\"　\",\"\")=\"\",1,0)","v":1},{"$f":"IF(AND(AT77=2,SUBSTITUTE(SUBSTITUTE(AF75,\" \",\"\"),\"　\",\"\")=\"\"),1,0)","v":0},{"$f":"IF(OR(AV74=0,SUM(AT75:AV75)=0),0,1)","v":0}]
[null,null,null,null,null,{"$f":"IF(AV74=0,選択肢!$A$10,IF(AU76=0,選択肢!$A$3,選択肢!$A$5))","v":"―"},null,null,"１．音楽著作権使用許諾申請の必要有無について",null,null,null,null,null,null,null,null,null,null,"※リストから選択して下さい",null,null,null,null,null,null,null,null,null,{"$f":"IF(AU76=1,選択肢!$B$60,IF(AU76=2,選択肢!$B$61,選択肢!$B$62))","v":"－"},null,null,null,null,null,null,null,null,null,null,null,null,null,null,null,null,{"$f":"IF(T76=選択肢!$B$54,1,IF(T76=選択肢!$B$55,2,0))","v":0},null,{"$f":"IF(OR(AV74=0,AU76<>0),0,1)","v":0}]
[null,null,null,null,null,{"$f":"IF(OR(AV74=0,AU76<>1),選択肢!$A$10,IF(AT77=0,選択肢!$A$3,IF(AND(AU77=1,AV77=1),選択肢!$A$4,選択肢!$A$5)))","v":"―"},null,null,"２．使用許諾の必要が無い場合",null,null,null,null,null,null,"※リストから選択して下さい",null,null,null,null,null,null,null,null,null,null,null,null,null,null,null,null,null,null,null,null,null,null,null,null,null,null,null,null,null,{"$f":"IF(P77=選択肢!$C$57,1,IF(P77=選択肢!$C$54,2,IF(OR(P77=選択肢!$C$55,P77=選択肢!$C$56),3,0)))","v":0},{"$f":"IF(AV74=0,0,IF(AND(AU76=1,AT77=1),1,0))","v":0},{"$f":"IF(AND(AU77=1,SUBSTITUTE(SUBSTITUTE(Z77,\" \",\"\"),\"　\",\"\")=\"\"),1,0)","v":0},{"$f":"IF(AND(AU76=1,OR(AT77=0,SUM(AV77:AV77)>0)),1,0)","v":0}]
[null,null,null,null,null,{"$f":"IF(OR(AV74=0,AU76<>2),選択肢!$A$10,IF(AT78=0,選択肢!$A$3,IF(SUM(AV78:AV82)>0,選択肢!$A$4,IF(AV83=1,選択肢!$A$3,選択肢!$A$5))))","v":"―"},null,null,"３．編曲使用許諾の必要な場合",null,null,null,null,null,null,"※リストから選択して下さい",null,null,null,null,null,null,null,null,null,{"$f":"IF(P78=選択肢!$D$56,\"取得予定日\",\"確認日\")","v":"確認日"},null,null,null,null,null,null,null,null,null,null,null,null,null,null,null,null,null,null,null,{"$f":"IF(P78=選択肢!$D$54,1,IF(P78=選択肢!$D$55,2,IF(P78=選択肢!$D$56,3,0)))","v":0},{"$f":"IF(AV74=0,0,IF(AND(AU76=2,OR(AT78=2,AT78=3)),1,0))","v":0},{"$f":"IF(AND(AU78=1,SUBSTITUTE(SUBSTITUTE(AE78,\" \",\"\"),\"　\",\"\")=\"\"),1,0)","v":0},{"$f":"IF(AND(AU76=2,AT78=0),1,SUM(AV78:AV83))","v":0}]
[null,null,null,null,null,{"$f":"IF(OR(AV76=0,AU78=2),選択肢!$A$10,IF(AT79=0,選択肢!$A$3,IF(AND(AU79=1,AV79=1),選択肢!$A$4,選択肢!$A$5)))","v":"―"},null,null,null,null,null,null,null,null,null,null,null,null,null,null,null,null,null,null,null,"確認\n相手先",null,"社名",null,null,null,null,null,null,null,null,null,null,null,null,null,null,null,null,null,null,{"$f":"IF(AV74=0,0,IF(AND(AU76=2,AT78=2),1,0))","v":0},{"$f":"IF(AND(AU79=1,SUBSTITUTE(SUBSTITUTE(AE79,\" \",\"\"),\"　\",\"\")=\"\"),1,0)","v":0}]
[null,null,null,null,null,{"$f":"IF(OR(AV77=0,AU79=2),選択肢!$A$10,IF(AT80=0,選択肢!$A$3,IF(AND(AU80=1,AV80=1),選択肢!$A$4,選択肢!$A$5)))","v":"―"},null,null,null,null,null,null,null,null,null,null,null,null,null,null,null,null,null,null,null,null,null,"担当者名",null,null,null,null,null,null,null,null,null,null,null,null,null,null,null,null,null,"必要書類",{"$f":"IF(AV74=0,0,IF(AND(AU76=2,AT78=2),1,0))","v":0},{"$f":"IF(AND(AU80=1,SUBSTITUTE(SUBSTITUTE(AE80,\" \",\"\"),\"　\",\"\")=\"\"),1,0)","v":0}]
[null,null,null,null,null,{"$f":"IF(OR(AV78=0,AU80=2),選択肢!$A$10,IF(AT81=0,選択肢!$A$3,IF(AND(AU81=1,AV81=1),選択肢!$A$4,選択肢!$A$5)))","v":"―"},null,null,null,null,null,null,null,null,null,null,null,null,null,null,null,null,null,null,null,null,null,"電話番号",null,null,null,null,null,null,null,null,null,null,null,null,null,null,null,null,null,{"$f":"IF(AV74=0,2,IF(OR(AU76=0,AND(AU76=1,AT77=0)),\"\",IF(AND(AU76=1,AT77=2),1,0)))","v":2},{"$f":"IF(AV74=0,0,IF(AND(AU76=2,AT78=2),1,0))","v":0},{"$f":"IF(AND(AU81=1,SUBSTITUTE(SUBSTITUTE(AE81,\" \",\"\"),\"　\",\"\")=\"\"),1,0)","v":0}]
[null,null,null,null,null,{"$f":"IF(OR(AV79=0,AU81=2),選択肢!$A$10,IF(AT82=0,選択肢!$A$3,IF(AND(AU82=1,AV82=1),選択肢!$A$4,選択肢!$A$5)))","v":"―"},null,null,null,null,null,null,null,null,null,null,null,null,null,null,null,null,null,null,null," 出演団体担当者名",null,null,null,null,null,null,null,null,null,null,null,null,null,null,null,null,null,null,null,{"$f":"IF(AV74=0,2,IF(OR(AU76=0,AND(AU76=2,OR(AT78=0,AT78=3))),\"\",IF(AND(AU76=2,AT78=1),1,0)))","v":2},{"$f":"IF(AV74=0,0,IF(AND(AU76=2,AT78=2),1,0))","v":0},{"$f":"IF(AND(AU82=1,SUBSTITUTE(SUBSTITUTE(AE82,\" \",\"\"),\"　\",\"\")=\"\"),1,0)","v":0}]
[null,null,null,null,null,{"$f":"IF(OR(AV80=0,AU82=2),選択肢!$A$10,IF(AT83=0,選択肢!$A$3,IF(AND(AU83=1,AV83=1),選択肢!$A$4,選択肢!$A$5)))","v":"―"},null,null,null,null,null,null,null,null,null,null,null,null,null,null,null,null,null,null,null,"使用料",null,null,null,null,"※リストから選択して下さい",null,null,null,null,null,null,null,null,null,null,null,null,null,null,{"$f":"IF(AV74=0,2,IF(OR(AU76=0,AND(AU76=2,OR(AT78=0,AV83=1,AE83=選択肢!$F$56))),\"\",IF(AND(AU76=2,AE83=選択肢!$F$55),1,0)))","v":2},{"$f":"IF(AV74=0,0,IF(AND(AU76=2,AT78<>0),1,0))","v":0},{"$f":"IF(AND(AU83=1,ISERROR(MATCH(AE83,選択肢!$F$54:$F$56,0))),1,0)","v":0}]
[null,null,null,null,null,{"$f":"VALUE(SUBSTITUTE(F74,\"曲目\",\"\"))+1&\"曲目\"","v":"2曲目"},null,null,"使用楽曲名",null,null,null,null,null,null,null,null,null,null,null,null,null,null,null,"作曲者",null,null,null,null,null,null,"出版社",null,null,null,null,null,null,null,null,null,null,null,null,null,null,null,{"$f":"IF($AV$70>=VALUE(SUBSTITUTE(F84,\"曲目\",\"\")),1,0)","v":0}]
[null,null,null,null,null,{"$f":"IF(AV84=0,選択肢!$A$10,IF(AW85=0,選択肢!$A$6,選択肢!$A$4))","v":"―"},null,null,null,null,null,null,null,null,null,null,null,null,null,null,null,null,null,null,null,null,null,null,null,null,null,null,null,null,null,null,null,null,null,null,null,null,null,null,null,{"$f":"IF(SUBSTITUTE(SUBSTITUTE(I85,\" \",\"\"),\"　\",\"\")=\"\",1,0)","v":1},{"$f":"IF(SUBSTITUTE(SUBSTITUTE(Y85,\" \",\"\"),\"　\",\"\")=\"\",1,0)","v":1},{"$f":"IF(AND(AT87=2,SUBSTITUTE(SUBSTITUTE(AF85,\" \",\"\"),\"　\",\"\")=\"\"),1,0)","v":0},{"$f":"IF(OR(AV84=0,SUM(AT85:AV85)=0),0,1)","v":0}]
[null,null,null,null,null,{"$f":"IF(AV84=0,選択肢!$A$10,IF(AU86=0,選択肢!$A$3,選択肢!$A$5))","v":"―"},null,null,"１．音楽著作権使用許諾申請の必要有無について",null,null,null,null,null,null,null,null,null,null,"※リストから選択して下さい",null,null,null,null,null,null,null,null,null,{"$f":"IF(AU86=1,選択肢!$B$60,IF(AU86=2,選択肢!$B$61,選択肢!$B$62))","v":"－"},null,null,null,null,null,null,null,null,null,null,null,null,null,null,null,null,{"$f":"IF(T86=選択肢!$B$54,1,IF(T86=選択肢!$B$55,2,0))","v":0},null,{"$f":"IF(OR(AV84=0,AU86<>0),0,1)","v":0}]
[null,null,null,null,null,{"$f":"IF(OR(AV84=0,AU86<>1),選択肢!$A$10,IF(AT87=0,選択肢!$A$3,IF(AND(AU87=1,AV87=1),選択肢!$A$4,選択肢!$A$5)))","v":"―"},null,null,"２．使用許諾の必要が無い場合",null,null,null,null,null,null,"※リストから選択して下さい",null,null,null,null,null,null,null,null,null,null,null,null,null,null,null,null,null,null,null,null,null,null,null,null,null,null,null,null,null,{"$f":"IF(P87=選択肢!$C$57,1,IF(P87=選択肢!$C$54,2,IF(OR(P87=選択肢!$C$55,P87=選択肢!$C$56),3,0)))","v":0},{"$f":"IF(AV84=0,0,IF(AND(AU86=1,AT87=1),1,0))","v":0},{"$f":"IF(AND(AU87=1,SUBSTITUTE(SUBSTITUTE(Z87,\" \",\"\"),\"　\",\"\")=\"\"),1,0)","v":0},{"$f":"IF(AND(AU86=1,OR(AT87=0,SUM(AV87:AV87)>0)),1,0)","v":0}]
[null,null,null,null,null,{"$f":"IF(OR(AV84=0,AU86<>2),選択肢!$A$10,IF(AT88=0,選択肢!$A$3,IF(SUM(AV88:AV92)>0,選択肢!$A$4,IF(AV93=1,選択肢!$A$3,選択肢!$A$5))))","v":"―"},null,null,"３．編曲使用許諾の必要な場合",null,null,null,null,null,null,"※リストから選択して下さい",null,null,null,null,null,null,null,null,null,{"$f":"IF(P88=選択肢!$D$56,\"取得予定日\",\"確認日\")","v":"確認日"},null,null,null,null,null,null,null,null,null,null,null,null,null,null,null,null,null,null,null,{"$f":"IF(P88=選択肢!$D$54,1,IF(P88=選択肢!$D$55,2,IF(P88=選択肢!$D$56,3,0)))","v":0},{"$f":"IF(AV84=0,0,IF(AND(AU86=2,OR(AT88=2,AT88=3)),1,0))","v":0},{"$f":"IF(AND(AU88=1,SUBSTITUTE(SUBSTITUTE(AE88,\" \",\"\"),\"　\",\"\")=\"\"),1,0)","v":0},{"$f":"IF(AND(AU86=2,AT88=0),1,SUM(AV88:AV93))","v":0}]
[null,null,null,null,null,{"$f":"IF(OR(AV86=0,AU88=2),選択肢!$A$10,IF(AT89=0,選択肢!$A$3,IF(AND(AU89=1,AV89=1),選択肢!$A$4,選択肢!$A$5)))","v":"―"},null,null,null,null,null,null,null,null,null,null,null,null,null,null,null,null,null,null,null,"確認\n相手先",null,"社名",null,null,null,null,null,null,null,null,null,null,null,null,null,null,null,null,null,null,{"$f":"IF(AV84=0,0,IF(AND(AU86=2,AT88=2),1,0))","v":0},{"$f":"IF(AND(AU89=1,SUBSTITUTE(SUBSTITUTE(AE89,\" \",\"\"),\"　\",\"\")=\"\"),1,0)","v":0}]
[null,null,null,null,null,{"$f":"IF(OR(AV87=0,AU89=2),選択肢!$A$10,IF(AT90=0,選択肢!$A$3,IF(AND(AU90=1,AV90=1),選択肢!$A$4,選択肢!$A$5)))","v":"―"},null,null,null,null,null,null,null,null,null,null,null,null,null,null,null,null,null,null,null,null,null,"担当者名",null,null,null,null,null,null,null,null,null,null,null,null,null,null,null,null,null,"必要書類",{"$f":"IF(AV84=0,0,IF(AND(AU86=2,AT88=2),1,0))","v":0},{"$f":"IF(AND(AU90=1,SUBSTITUTE(SUBSTITUTE(AE90,\" \",\"\"),\"　\",\"\")=\"\"),1,0)","v":0}]
[null,null,null,null,null,{"$f":"IF(OR(AV88=0,AU90=2),選択肢!$A$10,IF(AT91=0,選択肢!$A$3,IF(AND(AU91=1,AV91=1),選択肢!$A$4,選択肢!$A$5)))","v":"―"},null,null,null,null,null,null,null,null,null,null,null,null,null,null,null,null,null,null,null,null,null,"電話番号",null,null,null,null,null,null,null,null,null,null,null,null,null,null,null,null,null,{"$f":"IF(AV84=0,2,IF(OR(AU86=0,AND(AU86=1,AT87=0)),\"\",IF(AND(AU86=1,AT87=2),1,0)))","v":2},{"$f":"IF(AV84=0,0,IF(AND(AU86=2,AT88=2),1,0))","v":0},{"$f":"IF(AND(AU91=1,SUBSTITUTE(SUBSTITUTE(AE91,\" \",\"\"),\"　\",\"\")=\"\"),1,0)","v":0}]
[null,null,null,null,null,{"$f":"IF(OR(AV89=0,AU91=2),選択肢!$A$10,IF(AT92=0,選択肢!$A$3,IF(AND(AU92=1,AV92=1),選択肢!$A$4,選択肢!$A$5)))","v":"―"},null,null,null,null,null,null,null,null,null,null,null,null,null,null,null,null,null,null,null," 出演団体担当者名",null,null,null,null,null,null,null,null,null,null,null,null,null,null,null,null,null,null,null,{"$f":"IF(AV84=0,2,IF(OR(AU86=0,AND(AU86=2,OR(AT88=0,AT88=3))),\"\",IF(AND(AU86=2,AT88=1),1,0)))","v":2},{"$f":"IF(AV84=0,0,IF(AND(AU86=2,AT88=2),1,0))","v":0},{"$f":"IF(AND(AU92=1,SUBSTITUTE(SUBSTITUTE(AE92,\" \",\"\"),\"　\",\"\")=\"\"),1,0)","v":0}]
[null,null,null,null,null,{"$f":"IF(OR(AV90=0,AU92=2),選択肢!$A$10,IF(AT93=0,選択肢!$A$3,IF(AND(AU93=1,AV93=1),選択肢!$A$4,選択肢!$A$5)))","v":"―"},null,null,null,null,null,null,null,null,null,null,null,null,null,null,null,null,null,null,null,"使用料",null,null,null,null,"※リストから選択して下さい",null,null,null,null,null,null,null,null,null,null,null,null,null,null,{"$f":"IF(AV84=0,2,IF(OR(AU86=0,AND(AU86=2,OR(AT88=0,AV93=1,AE93=選択肢!$F$56))),\"\",IF(AND(AU86=2,AE93=選択肢!$F$55),1,0)))","v":2},{"$f":"IF(AV84=0,0,IF(AND(AU86=2,AT88<>0),1,0))","v":0},{"$f":"IF(AND(AU93=1,ISERROR(MATCH(AE93,選択肢!$F$54:$F$56,0))),1,0)","v":0}]
[null,null,null,null,null,{"$f":"VALUE(SUBSTITUTE(F84,\"曲目\",\"\"))+1&\"曲目\"","v":"3曲目"},null,null,"使用楽曲名",null,null,null,null,null,null,null,null,null,null,null,null,null,null,null,"作曲者",null,null,null,null,null,null,"出版社",null,null,null,null,null,null,null,null,null,null,null,null,null,null,null,{"$f":"IF($AV$70>=VALUE(SUBSTITUTE(F94,\"曲目\",\"\")),1,0)","v":0}]
[null,null,null,null,null,{"$f":"IF(AV94=0,選択肢!$A$10,IF(AW95=0,選択肢!$A$6,選択肢!$A$4))","v":"―"},null,null,null,null,null,null,null,null,null,null,null,null,null,null,null,null,null,null,null,null,null,null,null,null,null,null,null,null,null,null,null,null,null,null,null,null,null,null,null,{"$f":"IF(SUBSTITUTE(SUBSTITUTE(I95,\" \",\"\"),\"　\",\"\")=\"\",1,0)","v":1},{"$f":"IF(SUBSTITUTE(SUBSTITUTE(Y95,\" \",\"\"),\"　\",\"\")=\"\",1,0)","v":1},{"$f":"IF(AND(AT97=2,SUBSTITUTE(SUBSTITUTE(AF95,\" \",\"\"),\"　\",\"\")=\"\"),1,0)","v":0},{"$f":"IF(OR(AV94=0,SUM(AT95:AV95)=0),0,1)","v":0}]
[null,null,null,null,null,{"$f":"IF(AV94=0,選択肢!$A$10,IF(AU96=0,選択肢!$A$3,選択肢!$A$5))","v":"―"},null,null,"１．音楽著作権使用許諾申請の必要有無について",null,null,null,null,null,null,null,null,null,null,"※リストから選択して下さい",null,null,null,null,null,null,null,null,null,{"$f":"IF(AU96=1,選択肢!$B$60,IF(AU96=2,選択肢!$B$61,選択肢!$B$62))","v":"－"},null,null,null,null,null,null,null,null,null,null,null,null,null,null,null,null,{"$f":"IF(T96=選択肢!$B$54,1,IF(T96=選択肢!$B$55,2,0))","v":0},null,{"$f":"IF(OR(AV94=0,AU96<>0),0,1)","v":0}]
[null,null,null,null,null,{"$f":"IF(OR(AV94=0,AU96<>1),選択肢!$A$10,IF(AT97=0,選択肢!$A$3,IF(AND(AU97=1,AV97=1),選択肢!$A$4,選択肢!$A$5)))","v":"―"},null,null,"２．使用許諾の必要が無い場合",null,null,null,null,null,null,"※リストから選択して下さい",null,null,null,null,null,null,null,null,null,null,null,null,null,null,null,null,null,null,null,null,null,null,null,null,null,null,null,null,null,{"$f":"IF(P97=選択肢!$C$57,1,IF(P97=選択肢!$C$54,2,IF(OR(P97=選択肢!$C$55,P97=選択肢!$C$56),3,0)))","v":0},{"$f":"IF(AV94=0,0,IF(AND(AU96=1,AT97=1),1,0))","v":0},{"$f":"IF(AND(AU97=1,SUBSTITUTE(SUBSTITUTE(Z97,\" \",\"\"),\"　\",\"\")=\"\"),1,0)","v":0},{"$f":"IF(AND(AU96=1,OR(AT97=0,SUM(AV97:AV97)>0)),1,0)","v":0}]
[null,null,null,null,null,{"$f":"IF(OR(AV94=0,AU96<>2),選択肢!$A$10,IF(AT98=0,選択肢!$A$3,IF(SUM(AV98:AV102)>0,選択肢!$A$4,IF(AV103=1,選択肢!$A$3,選択肢!$A$5))))","v":"―"},null,null,"３．編曲使用許諾の必要な場合",null,null,null,null,null,null,"※リストから選択して下さい",null,null,null,null,null,null,null,null,null,{"$f":"IF(P98=選択肢!$D$56,\"取得予定日\",\"確認日\")","v":"確認日"},null,null,null,null,null,null,null,null,null,null,null,null,null,null,null,null,null,null,null,{"$f":"IF(P98=選択肢!$D$54,1,IF(P98=選択肢!$D$55,2,IF(P98=選択肢!$D$56,3,0)))","v":0},{"$f":"IF(AV94=0,0,IF(AND(AU96=2,OR(AT98=2,AT98=3)),1,0))","v":0},{"$f":"IF(AND(AU98=1,SUBSTITUTE(SUBSTITUTE(AE98,\" \",\"\"),\"　\",\"\")=\"\"),1,0)","v":0},{"$f":"IF(AND(AU96=2,AT98=0),1,SUM(AV98:AV103))","v":0}]
[null,null,null,null,null,{"$f":"IF(OR(AV96=0,AU98=2),選択肢!$A$10,IF(AT99=0,選択肢!$A$3,IF(AND(AU99=1,AV99=1),選択肢!$A$4,選択肢!$A$5)))","v":"―"},null,null,null,null,null,null,null,null,null,null,null,null,null,null,null,null,null,null,null,"確認\n相手先",null,"社名",null,null,null,null,null,null,null,null,null,null,null,null,null,null,null,null,null,null,{"$f":"IF(AV94=0,0,IF(AND(AU96=2,AT98=2),1,0))","v":0},{"$f":"IF(AND(AU99=1,SUBSTITUTE(SUBSTITUTE(AE99,\" \",\"\"),\"　\",\"\")=\"\"),1,0)","v":0}]
[null,null,null,null,null,{"$f":"IF(OR(AV97=0,AU99=2),選択肢!$A$10,IF(AT100=0,選択肢!$A$3,IF(AND(AU100=1,AV100=1),選択肢!$A$4,選択肢!$A$5)))","v":"―"},null,null,null,null,null,null,null,null,null,null,null,null,null,null,null,null,null,null,null,null,null,"担当者名",null,null,null,null,null,null,null,null,null,null,null,null,null,null,null,null,null,"必要書類",{"$f":"IF(AV94=0,0,IF(AND(AU96=2,AT98=2),1,0))","v":0},{"$f":"IF(AND(AU100=1,SUBSTITUTE(SUBSTITUTE(AE100,\" \",\"\"),\"　\",\"\")=\"\"),1,0)","v":0}]
[null,null,null,null,null,{"$f":"IF(OR(AV98=0,AU100=2),選択肢!$A$10,IF(AT101=0,選択肢!$A$3,IF(AND(AU101=1,AV101=1),選択肢!$A$4,選択肢!$A$5)))","v":"―"},null,null,null,null,null,null,null,null,null,null,null,null,null,null,null,null,null,null,null,null,null,"電話番号",null,null,null,null,null,null,null,null,null,null,null,null,null,null,null,null,null,{"$f":"IF(AV94=0,2,IF(OR(AU96=0,AND(AU96=1,AT97=0)),\"\",IF(AND(AU96=1,AT97=2),1,0)))","v":2},{"$f":"IF(AV94=0,0,IF(AND(AU96=2,AT98=2),1,0))","v":0},{"$f":"IF(AND(AU101=1,SUBSTITUTE(SUBSTITUTE(AE101,\" \",\"\"),\"　\",\"\")=\"\"),1,0)","v":0}]
[null,null,null,null,null,{"$f":"IF(OR(AV99=0,AU101=2),選択肢!$A$10,IF(AT102=0,選択肢!$A$3,IF(AND(AU102=1,AV102=1),選択肢!$A$4,選択肢!$A$5)))","v":"―"},null,null,null,null,null,null,null,null,null,null,null,null,null,null,null,null,null,null,null," 出演団体担当者名",null,null,null,null,null,null,null,null,null,null,null,null,null,null,null,null,null,null,null,{"$f":"IF(AV94=0,2,IF(OR(AU96=0,AND(AU96=2,OR(AT98=0,AT98=3))),\"\",IF(AND(AU96=2,AT98=1),1,0)))","v":2},{"$f":"IF(AV94=0,0,IF(AND(AU96=2,AT98=2),1,0))","v":0},{"$f":"IF(AND(AU102=1,SUBSTITUTE(SUBSTITUTE(AE102,\" \",\"\"),\"　\",\"\")=\"\"),1,0)","v":0}]
[null,null,null,null,null,{"$f":"IF(OR(AV100=0,AU102=2),選択肢!$A$10,IF(AT103=0,選択肢!$A$3,IF(AND(AU103=1,AV103=1),選択肢!$A$4,選択肢!$A$5)))","v":"―"},null,null,null,null,null,null,null,null,null,null,null,null,null,null,null,null,null,null,null,"使用料",null,null,null,null,"※リストから選択して下さい",null,null,null,null,null,null,null,null,null,null,null,null,null,null,{"$f":"IF(AV94=0,2,IF(OR(AU96=0,AND(AU96=2,OR(AT98=0,AV103=1,AE103=選択肢!$F$56))),\"\",IF(AND(AU96=2,AE103=選択肢!$F$55),1,0)))","v":2},{"$f":"IF(AV94=0,0,IF(AND(AU96=2,AT98<>0),1,0))","v":0},{"$f":"IF(AND(AU103=1,ISERROR(MATCH(AE103,選択肢!$F$54:$F$56,0))),1,0)","v":0}]
[null,null,null,null,null,{"$f":"VALUE(SUBSTITUTE(F94,\"曲目\",\"\"))+1&\"曲目\"","v":"4曲目"},null,null,"使用楽曲名",null,null,null,null,null,null,null,null,null,null,null,null,null,null,null,"作曲者",null,null,null,null,null,null,"出版社",null,null,null,null,null,null,null,null,null,null,null,null,null,null,null,{"$f":"IF($AV$70>=VALUE(SUBSTITUTE(F104,\"曲目\",\"\")),1,0)","v":0}]
[null,null,null,null,null,{"$f":"IF(AV104=0,選択肢!$A$10,IF(AW105=0,選択肢!$A$6,選択肢!$A$4))","v":"―"},null,null,null,null,null,null,null,null,null,null,null,null,null,null,null,null,null,null,null,null,null,null,null,null,null,null,null,null,null,null,null,null,null,null,null,null,null,null,null,{"$f":"IF(SUBSTITUTE(SUBSTITUTE(I105,\" \",\"\"),\"　\",\"\")=\"\",1,0)","v":1},{"$f":"IF(SUBSTITUTE(SUBSTITUTE(Y105,\" \",\"\"),\"　\",\"\")=\"\",1,0)","v":1},{"$f":"IF(AND(AT107=2,SUBSTITUTE(SUBSTITUTE(AF105,\" \",\"\"),\"　\",\"\")=\"\"),1,0)","v":0},{"$f":"IF(OR(AV104=0,SUM(AT105:AV105)=0),0,1)","v":0}]
[null,null,null,null,null,{"$f":"IF(AV104=0,選択肢!$A$10,IF(AU106=0,選択肢!$A$3,選択肢!$A$5))","v":"―"},null,null,"１．音楽著作権使用許諾申請の必要有無について",null,null,null,null,null,null,null,null,null,null,"※リストから選択して下さい",null,null,null,null,null,null,null,null,null,{"$f":"IF(AU106=1,選択肢!$B$60,IF(AU106=2,選択肢!$B$61,選択肢!$B$62))","v":"－"},null,null,null,null,null,null,null,null,null,null,null,null,null,null,null,null,{"$f":"IF(T106=選択肢!$B$54,1,IF(T106=選択肢!$B$55,2,0))","v":0},null,{"$f":"IF(OR(AV104=0,AU106<>0),0,1)","v":0}]
[null,null,null,null,null,{"$f":"IF(OR(AV104=0,AU106<>1),選択肢!$A$10,IF(AT107=0,選択肢!$A$3,IF(AND(AU107=1,AV107=1),選択肢!$A$4,選択肢!$A$5)))","v":"―"},null,null,"２．使用許諾の必要が無い場合",null,null,null,null,null,null,"※リストから選択して下さい",null,null,null,null,null,null,null,null,null,null,null,null,null,null,null,null,null,null,null,null,null,null,null,null,null,null,null,null,null,{"$f":"IF(P107=選択肢!$C$57,1,IF(P107=選択肢!$C$54,2,IF(OR(P107=選択肢!$C$55,P107=選択肢!$C$56),3,0)))","v":0},{"$f":"IF(AV104=0,0,IF(AND(AU106=1,AT107=1),1,0))","v":0},{"$f":"IF(AND(AU107=1,SUBSTITUTE(SUBSTITUTE(Z107,\" \",\"\"),\"　\",\"\")=\"\"),1,0)","v":0},{"$f":"IF(AND(AU106=1,OR(AT107=0,SUM(AV107:AV107)>0)),1,0)","v":0}]
[null,null,null,null,null,{"$f":"IF(OR(AV104=0,AU106<>2),選択肢!$A$10,IF(AT108=0,選択肢!$A$3,IF(SUM(AV108:AV112)>0,選択肢!$A$4,IF(AV113=1,選択肢!$A$3,選択肢!$A$5))))","v":"―"},null,null,"３．編曲使用許諾の必要な場合",null,null,null,null,null,null,"※リストから選択して下さい",null,null,null,null,null,null,null,null,null,{"$f":"IF(P108=選択肢!$D$56,\"取得予定日\",\"確認日\")","v":"確認日"},null,null,null,null,null,null,null,null,null,null,null,null,null,null,null,null,null,null,null,{"$f":"IF(P108=選択肢!$D$54,1,IF(P108=選択肢!$D$55,2,IF(P108=選択肢!$D$56,3,0)))","v":0},{"$f":"IF(AV104=0,0,IF(AND(AU106=2,OR(AT108=2,AT108=3)),1,0))","v":0},{"$f":"IF(AND(AU108=1,SUBSTITUTE(SUBSTITUTE(AE108,\" \",\"\"),\"　\",\"\")=\"\"),1,0)","v":0},{"$f":"IF(AND(AU106=2,AT108=0),1,SUM(AV108:AV113))","v":0}]
[null,null,null,null,null,{"$f":"IF(OR(AV106=0,AU108=2),選択肢!$A$10,IF(AT109=0,選択肢!$A$3,IF(AND(AU109=1,AV109=1),選択肢!$A$4,選択肢!$A$5)))","v":"―"},null,null,null,null,null,null,null,null,null,null,null,null,null,null,null,null,null,null,null,"確認\n相手先",null,"社名",null,null,null,null,null,null,null,null,null,null,null,null,null,null,null,null,null,null,{"$f":"IF(AV104=0,0,IF(AND(AU106=2,AT108=2),1,0))","v":0},{"$f":"IF(AND(AU109=1,SUBSTITUTE(SUBSTITUTE(AE109,\" \",\"\"),\"　\",\"\")=\"\"),1,0)","v":0}]
[null,null,null,null,null,{"$f":"IF(OR(AV107=0,AU109=2),選択肢!$A$10,IF(AT110=0,選択肢!$A$3,IF(AND(AU110=1,AV110=1),選択肢!$A$4,選択肢!$A$5)))","v":"―"},null,null,null,null,null,null,null,null,null,null,null,null,null,null,null,null,null,null,null,null,null,"担当者名",null,null,null,null,null,null,null,null,null,null,null,null,null,null,null,null,null,"必要書類",{"$f":"IF(AV104=0,0,IF(AND(AU106=2,AT108=2),1,0))","v":0},{"$f":"IF(AND(AU110=1,SUBSTITUTE(SUBSTITUTE(AE110,\" \",\"\"),\"　\",\"\")=\"\"),1,0)","v":0}]
[null,null,null,null,null,{"$f":"IF(OR(AV108=0,AU110=2),選択肢!$A$10,IF(AT111=0,選択肢!$A$3,IF(AND(AU111=1,AV111=1),選択肢!$A$4,選択肢!$A$5)))","v":"―"},null,null,null,null,null,null,null,null,null,null,null,null,null,null,null,null,null,null,null,null,null,"電話番号",null,null,null,null,null,null,null,null,null,null,null,null,null,null,null,null,null,{"$f":"IF(AV104=0,2,IF(OR(AU106=0,AND(AU106=1,AT107=0)),\"\",IF(AND(AU106=1,AT107=2),1,0)))","v":2},{"$f":"IF(AV104=0,0,IF(AND(AU106=2,AT108=2),1,0))","v":0},{"$f":"IF(AND(AU111=1,SUBSTITUTE(SUBSTITUTE(AE111,\" \",\"\"),\"　\",\"\")=\"\"),1,0)","v":0}]
[null,null,null,null,null,{"$f":"IF(OR(AV109=0,AU111=2),選択肢!$A$10,IF(AT112=0,選択肢!$A$3,IF(AND(AU112=1,AV112=1),選択肢!$A$4,選択肢!$A$5)))","v":"―"},null,null,null,null,null,null,null,null,null,null,null,null,null,null,null,null,null,null,null," 出演団体担当者名",null,null,null,null,null,null,null,null,null,null,null,null,null,null,null,null,null,null,null,{"$f":"IF(AV104=0,2,IF(OR(AU106=0,AND(AU106=2,OR(AT108=0,AT108=3))),\"\",IF(AND(AU106=2,AT108=1),1,0)))","v":2},{"$f":"IF(AV104=0,0,IF(AND(AU106=2,AT108=2),1,0))","v":0},{"$f":"IF(AND(AU112=1,SUBSTITUTE(SUBSTITUTE(AE112,\" \",\"\"),\"　\",\"\")=\"\"),1,0)","v":0}]
[null,null,null,null,null,{"$f":"IF(OR(AV110=0,AU112=2),選択肢!$A$10,IF(AT113=0,選択肢!$A$3,IF(AND(AU113=1,AV113=1),選択肢!$A$4,選択肢!$A$5)))","v":"―"},null,null,null,null,null,null,null,null,null,null,null,null,null,null,null,null,null,null,null,"使用料",null,null,null,null,"※リストから選択して下さい",null,null,null,null,null,null,null,null,null,null,null,null,null,null,{"$f":"IF(AV104=0,2,IF(OR(AU106=0,AND(AU106=2,OR(AT108=0,AV113=1,AE113=選択肢!$F$56))),\"\",IF(AND(AU106=2,AE113=選択肢!$F$55),1,0)))","v":2},{"$f":"IF(AV104=0,0,IF(AND(AU106=2,AT108<>0),1,0))","v":0},{"$f":"IF(AND(AU113=1,ISERROR(MATCH(AE113,選択肢!$F$54:$F$56,0))),1,0)","v":0}]
[null,null,null,null,null,{"$f":"VALUE(SUBSTITUTE(F104,\"曲目\",\"\"))+1&\"曲目\"","v":"5曲目"},null,null,"使用楽曲名",null,null,null,null,null,null,null,null,null,null,null,null,null,null,null,"作曲者",null,null,null,null,null,null,"出版社",null,null,null,null,null,null,null,null,null,null,null,null,null,null,null,{"$f":"IF($AV$70>=VALUE(SUBSTITUTE(F114,\"曲目\",\"\")),1,0)","v":0}]
[null,null,null,null,null,{"$f":"IF(AV114=0,選択肢!$A$10,IF(AW115=0,選択肢!$A$6,選択肢!$A$4))","v":"―"},null,null,null,null,null,null,null,null,null,null,null,null,null,null,null,null,null,null,null,null,null,null,null,null,null,null,null,null,null,null,null,null,null,null,null,null,null,null,null,{"$f":"IF(SUBSTITUTE(SUBSTITUTE(I115,\" \",\"\"),\"　\",\"\")=\"\",1,0)","v":1},{"$f":"IF(SUBSTITUTE(SUBSTITUTE(Y115,\" \",\"\"),\"　\",\"\")=\"\",1,0)","v":1},{"$f":"IF(AND(AT117=2,SUBSTITUTE(SUBSTITUTE(AF115,\" \",\"\"),\"　\",\"\")=\"\"),1,0)","v":0},{"$f":"IF(OR(AV114=0,SUM(AT115:AV115)=0),0,1)","v":0}]
[null,null,null,null,null,{"$f":"IF(AV114=0,選択肢!$A$10,IF(AU116=0,選択肢!$A$3,選択肢!$A$5))","v":"―"},null,null,"１．音楽著作権使用許諾申請の必要有無について",null,null,null,null,null,null,null,null,null,null,"※リストから選択して下さい",null,null,null,null,null,null,null,null,null,{"$f":"IF(AU116=1,選択肢!$B$60,IF(AU116=2,選択肢!$B$61,選択肢!$B$62))","v":"－"},null,null,null,null,null,null,null,null,null,null,null,null,null,null,null,null,{"$f":"IF(T116=選択肢!$B$54,1,IF(T116=選択肢!$B$55,2,0))","v":0},null,{"$f":"IF(OR(AV114=0,AU116<>0),0,1)","v":0}]
[null,null,null,null,null,{"$f":"IF(OR(AV114=0,AU116<>1),選択肢!$A$10,IF(AT117=0,選択肢!$A$3,IF(AND(AU117=1,AV117=1),選択肢!$A$4,選択肢!$A$5)))","v":"―"},null,null,"２．使用許諾の必要が無い場合",null,null,null,null,null,null,"※リストから選択して下さい",null,null,null,null,null,null,null,null,null,null,null,null,null,null,null,null,null,null,null,null,null,null,null,null,null,null,null,null,null,{"$f":"IF(P117=選択肢!$C$57,1,IF(P117=選択肢!$C$54,2,IF(OR(P117=選択肢!$C$55,P117=選択肢!$C$56),3,0)))","v":0},{"$f":"IF(AV114=0,0,IF(AND(AU116=1,AT117=1),1,0))","v":0},{"$f":"IF(AND(AU117=1,SUBSTITUTE(SUBSTITUTE(Z117,\" \",\"\"),\"　\",\"\")=\"\"),1,0)","v":0},{"$f":"IF(AND(AU116=1,OR(AT117=0,SUM(AV117:AV117)>0)),1,0)","v":0}]
[null,null,null,null,null,{"$f":"IF(OR(AV114=0,AU116<>2),選択肢!$A$10,IF(AT118=0,選択肢!$A$3,IF(SUM(AV118:AV122)>0,選択肢!$A$4,IF(AV123=1,選択肢!$A$3,選択肢!$A$5))))","v":"―"},null,null,"３．編曲使用許諾の必要な場合",null,null,null,null,null,null,"※リストから選択して下さい",null,null,null,null,null,null,null,null,null,{"$f":"IF(P118=選択肢!$D$56,\"取得予定日\",\"確認日\")","v":"確認日"},null,null,null,null,null,null,null,null,null,null,null,null,null,null,null,null,null,null,null,{"$f":"IF(P118=選択肢!$D$54,1,IF(P118=選択肢!$D$55,2,IF(P118=選択肢!$D$56,3,0)))","v":0},{"$f":"IF(AV114=0,0,IF(AND(AU116=2,OR(AT118=2,AT118=3)),1,0))","v":0},{"$f":"IF(AND(AU118=1,SUBSTITUTE(SUBSTITUTE(AE118,\" \",\"\"),\"　\",\"\")=\"\"),1,0)","v":0},{"$f":"IF(AND(AU116=2,AT118=0),1,SUM(AV118:AV123))","v":0}]
[null,null,null,null,null,{"$f":"IF(OR(AV116=0,AU118=2),選択肢!$A$10,IF(AT119=0,選択肢!$A$3,IF(AND(AU119=1,AV119=1),選択肢!$A$4,選択肢!$A$5)))","v":"―"},null,null,null,null,null,null,null,null,null,null,null,null,null,null,null,null,null,null,null,"確認\n相手先",null,"社名",null,null,null,null,null,null,null,null,null,null,null,null,null,null,null,null,null,null,{"$f":"IF(AV114=0,0,IF(AND(AU116=2,AT118=2),1,0))","v":0},{"$f":"IF(AND(AU119=1,SUBSTITUTE(SUBSTITUTE(AE119,\" \",\"\"),\"　\",\"\")=\"\"),1,0)","v":0}]
[null,null,null,null,null,{"$f":"IF(OR(AV117=0,AU119=2),選択肢!$A$10,IF(AT120=0,選択肢!$A$3,IF(AND(AU120=1,AV120=1),選択肢!$A$4,選択肢!$A$5)))","v":"―"},null,null,null,null,null,null,null,null,null,null,null,null,null,null,null,null,null,null,null,null,null,"担当者名",null,null,null,null,null,null,null,null,null,null,null,null,null,null,null,null,null,"必要書類",{"$f":"IF(AV114=0,0,IF(AND(AU116=2,AT118=2),1,0))","v":0},{"$f":"IF(AND(AU120=1,SUBSTITUTE(SUBSTITUTE(AE120,\" \",\"\"),\"　\",\"\")=\"\"),1,0)","v":0}]
[null,null,null,null,null,{"$f":"IF(OR(AV118=0,AU120=2),選択肢!$A$10,IF(AT121=0,選択肢!$A$3,IF(AND(AU121=1,AV121=1),選択肢!$A$4,選択肢!$A$5)))","v":"―"},null,null,null,null,null,null,null,null,null,null,null,null,null,null,null,null,null,null,null,null,null,"電話番号",null,null,null,null,null,null,null,null,null,null,null,null,null,null,null,null,null,{"$f":"IF(AV114=0,2,IF(OR(AU116=0,AND(AU116=1,AT117=0)),\"\",IF(AND(AU116=1,AT117=2),1,0)))","v":2},{"$f":"IF(AV114=0,0,IF(AND(AU116=2,AT118=2),1,0))","v":0},{"$f":"IF(AND(AU121=1,SUBSTITUTE(SUBSTITUTE(AE121,\" \",\"\"),\"　\",\"\")=\"\"),1,0)","v":0}]
[null,null,null,null,null,{"$f":"IF(OR(AV119=0,AU121=2),選択肢!$A$10,IF(AT122=0,選択肢!$A$3,IF(AND(AU122=1,AV122=1),選択肢!$A$4,選択肢!$A$5)))","v":"―"},null,null,null,null,null,null,null,null,null,null,null,null,null,null,null,null,null,null,null," 出演団体担当者名",null,null,null,null,null,null,null,null,null,null,null,null,null,null,null,null,null,null,null,{"$f":"IF(AV114=0,2,IF(OR(AU116=0,AND(AU116=2,OR(AT118=0,AT118=3))),\"\",IF(AND(AU116=2,AT118=1),1,0)))","v":2},{"$f":"IF(AV114=0,0,IF(AND(AU116=2,AT118=2),1,0))","v":0},{"$f":"IF(AND(AU122=1,SUBSTITUTE(SUBSTITUTE(AE122,\" \",\"\"),\"　\",\"\")=\"\"),1,0)","v":0}]
[null,null,null,null,null,{"$f":"IF(OR(AV120=0,AU122=2),選択肢!$A$10,IF(AT123=0,選択肢!$A$3,IF(AND(AU123=1,AV123=1),選択肢!$A$4,選択肢!$A$5)))","v":"―"},null,null,null,null,null,null,null,null,null,null,null,null,null,null,null,null,null,null,null,"使用料",null,null,null,null,"※リストから選択して下さい",null,null,null,null,null,null,null,null,null,null,null,null,null,null,{"$f":"IF(AV114=0,2,IF(OR(AU116=0,AND(AU116=2,OR(AT118=0,AV123=1,AE123=選択肢!$F$56))),\"\",IF(AND(AU116=2,AE123=選択肢!$F$55),1,0)))","v":2},{"$f":"IF(AV114=0,0,IF(AND(AU116=2,AT118<>0),1,0))","v":0},{"$f":"IF(AND(AU123=1,ISERROR(MATCH(AE123,選択肢!$F$54:$F$56,0))),1,0)","v":0}]
[null,null,null,null,null,{"$f":"VALUE(SUBSTITUTE(F114,\"曲目\",\"\"))+1&\"曲目\"","v":"6曲目"},null,null,"使用楽曲名",null,null,null,null,null,null,null,null,null,null,null,null,null,null,null,"作曲者",null,null,null,null,null,null,"出版社",null,null,null,null,null,null,null,null,null,null,null,null,null,null,null,{"$f":"IF($AV$70>=VALUE(SUBSTITUTE(F124,\"曲目\",\"\")),1,0)","v":0}]
[null,null,null,null,null,{"$f":"IF(AV124=0,選択肢!$A$10,IF(AW125=0,選択肢!$A$6,選択肢!$A$4))","v":"―"},null,null,null,null,null,null,null,null,null,null,null,null,null,null,null,null,null,null,null,null,null,null,null,null,null,null,null,null,null,null,null,null,null,null,null,null,null,null,null,{"$f":"IF(SUBSTITUTE(SUBSTITUTE(I125,\" \",\"\"),\"　\",\"\")=\"\",1,0)","v":1},{"$f":"IF(SUBSTITUTE(SUBSTITUTE(Y125,\" \",\"\"),\"　\",\"\")=\"\",1,0)","v":1},{"$f":"IF(AND(AT127=2,SUBSTITUTE(SUBSTITUTE(AF125,\" \",\"\"),\"　\",\"\")=\"\"),1,0)","v":0},{"$f":"IF(OR(AV124=0,SUM(AT125:AV125)=0),0,1)","v":0}]
[null,null,null,null,null,{"$f":"IF(AV124=0,選択肢!$A$10,IF(AU126=0,選択肢!$A$3,選択肢!$A$5))","v":"―"},null,null,"１．音楽著作権使用許諾申請の必要有無について",null,null,null,null,null,null,null,null,null,null,"※リストから選択して下さい",null,null,null,null,null,null,null,null,null,{"$f":"IF(AU126=1,選択肢!$B$60,IF(AU126=2,選択肢!$B$61,選択肢!$B$62))","v":"－"},null,null,null,null,null,null,null,null,null,null,null,null,null,null,null,null,{"$f":"IF(T126=選択肢!$B$54,1,IF(T126=選択肢!$B$55,2,0))","v":0},null,{"$f":"IF(OR(AV124=0,AU126<>0),0,1)","v":0}]
[null,null,null,null,null,{"$f":"IF(OR(AV124=0,AU126<>1),選択肢!$A$10,IF(AT127=0,選択肢!$A$3,IF(AND(AU127=1,AV127=1),選択肢!$A$4,選択肢!$A$5)))","v":"―"},null,null,"２．使用許諾の必要が無い場合",null,null,null,null,null,null,"※リストから選択して下さい",null,null,null,null,null,null,null,null,null,null,null,null,null,null,null,null,null,null,null,null,null,null,null,null,null,null,null,null,null,{"$f":"IF(P127=選択肢!$C$57,1,IF(P127=選択肢!$C$54,2,IF(OR(P127=選択肢!$C$55,P127=選択肢!$C$56),3,0)))","v":0},{"$f":"IF(AV124=0,0,IF(AND(AU126=1,AT127=1),1,0))","v":0},{"$f":"IF(AND(AU127=1,SUBSTITUTE(SUBSTITUTE(Z127,\" \",\"\"),\"　\",\"\")=\"\"),1,0)","v":0},{"$f":"IF(AND(AU126=1,OR(AT127=0,SUM(AV127:AV127)>0)),1,0)","v":0}]
[null,null,null,null,null,{"$f":"IF(OR(AV124=0,AU126<>2),選択肢!$A$10,IF(AT128=0,選択肢!$A$3,IF(SUM(AV128:AV132)>0,選択肢!$A$4,IF(AV133=1,選択肢!$A$3,選択肢!$A$5))))","v":"―"},null,null,"３．編曲使用許諾の必要な場合",null,null,null,null,null,null,"※リストから選択して下さい",null,null,null,null,null,null,null,null,null,{"$f":"IF(P128=選択肢!$D$56,\"取得予定日\",\"確認日\")","v":"確認日"},null,null,null,null,null,null,null,null,null,null,null,null,null,null,null,null,null,null,null,{"$f":"IF(P128=選択肢!$D$54,1,IF(P128=選択肢!$D$55,2,IF(P128=選択肢!$D$56,3,0)))","v":0},{"$f":"IF(AV124=0,0,IF(AND(AU126=2,OR(AT128=2,AT128=3)),1,0))","v":0},{"$f":"IF(AND(AU128=1,SUBSTITUTE(SUBSTITUTE(AE128,\" \",\"\"),\"　\",\"\")=\"\"),1,0)","v":0},{"$f":"IF(AND(AU126=2,AT128=0),1,SUM(AV128:AV133))","v":0}]
[null,null,null,null,null,{"$f":"IF(OR(AV126=0,AU128=2),選択肢!$A$10,IF(AT129=0,選択肢!$A$3,IF(AND(AU129=1,AV129=1),選択肢!$A$4,選択肢!$A$5)))","v":"―"},null,null,null,null,null,null,null,null,null,null,null,null,null,null,null,null,null,null,null,"確認\n相手先",null,"社名",null,null,null,null,null,null,null,null,null,null,null,null,null,null,null,null,null,null,{"$f":"IF(AV124=0,0,IF(AND(AU126=2,AT128=2),1,0))","v":0},{"$f":"IF(AND(AU129=1,SUBSTITUTE(SUBSTITUTE(AE129,\" \",\"\"),\"　\",\"\")=\"\"),1,0)","v":0}]
[null,null,null,null,null,{"$f":"IF(OR(AV127=0,AU129=2),選択肢!$A$10,IF(AT130=0,選択肢!$A$3,IF(AND(AU130=1,AV130=1),選択肢!$A$4,選択肢!$A$5)))","v":"―"},null,null,null,null,null,null,null,null,null,null,null,null,null,null,null,null,null,null,null,null,null,"担当者名",null,null,null,null,null,null,null,null,null,null,null,null,null,null,null,null,null,"必要書類",{"$f":"IF(AV124=0,0,IF(AND(AU126=2,AT128=2),1,0))","v":0},{"$f":"IF(AND(AU130=1,SUBSTITUTE(SUBSTITUTE(AE130,\" \",\"\"),\"　\",\"\")=\"\"),1,0)","v":0}]
[null,null,null,null,null,{"$f":"IF(OR(AV128=0,AU130=2),選択肢!$A$10,IF(AT131=0,選択肢!$A$3,IF(AND(AU131=1,AV131=1),選択肢!$A$4,選択肢!$A$5)))","v":"―"},null,null,null,null,null,null,null,null,null,null,null,null,null,null,null,null,null,null,null,null,null,"電話番号",null,null,null,null,null,null,null,null,null,null,null,null,null,null,null,null,null,{"$f":"IF(AV124=0,2,IF(OR(AU126=0,AND(AU126=1,AT127=0)),\"\",IF(AND(AU126=1,AT127=2),1,0)))","v":2},{"$f":"IF(AV124=0,0,IF(AND(AU126=2,AT128=2),1,0))","v":0},{"$f":"IF(AND(AU131=1,SUBSTITUTE(SUBSTITUTE(AE131,\" \",\"\"),\"　\",\"\")=\"\"),1,0)","v":0}]
[null,null,null,null,null,{"$f":"IF(OR(AV129=0,AU131=2),選択肢!$A$10,IF(AT132=0,選択肢!$A$3,IF(AND(AU132=1,AV132=1),選択肢!$A$4,選択肢!$A$5)))","v":"―"},null,null,null,null,null,null,null,null,null,null,null,null,null,null,null,null,null,null,null," 出演団体担当者名",null,null,null,null,null,null,null,null,null,null,null,null,null,null,null,null,null,null,null,{"$f":"IF(AV124=0,2,IF(OR(AU126=0,AND(AU126=2,OR(AT128=0,AT128=3))),\"\",IF(AND(AU126=2,AT128=1),1,0)))","v":2},{"$f":"IF(AV124=0,0,IF(AND(AU126=2,AT128=2),1,0))","v":0},{"$f":"IF(AND(AU132=1,SUBSTITUTE(SUBSTITUTE(AE132,\" \",\"\"),\"　\",\"\")=\"\"),1,0)","v":0}]
[null,null,null,null,null,{"$f":"IF(OR(AV130=0,AU132=2),選択肢!$A$10,IF(AT133=0,選択肢!$A$3,IF(AND(AU133=1,AV133=1),選択肢!$A$4,選択肢!$A$5)))","v":"―"},null,null,null,null,null,null,null,null,null,null,null,null,null,null,null,null,null,null,null,"使用料",null,null,null,null,"※リストから選択して下さい",null,null,null,null,null,null,null,null,null,null,null,null,null,null,{"$f":"IF(AV124=0,2,IF(OR(AU126=0,AND(AU126=2,OR(AT128=0,AV133=1,AE133=選択肢!$F$56))),\"\",IF(AND(AU126=2,AE133=選択肢!$F$55),1,0)))","v":2},{"$f":"IF(AV124=0,0,IF(AND(AU126=2,AT128<>0),1,0))","v":0},{"$f":"IF(AND(AU133=1,ISERROR(MATCH(AE133,選択肢!$F$54:$F$56,0))),1,0)","v":0}]
[null,null,null,null,null,{"$f":"VALUE(SUBSTITUTE(F124,\"曲目\",\"\"))+1&\"曲目\"","v":"7曲目"},null,null,"使用楽曲名",null,null,null,null,null,null,null,null,null,null,null,null,null,null,null,"作曲者",null,null,null,null,null,null,"出版社",null,null,null,null,null,null,null,null,null,null,null,null,null,null,null,{"$f":"IF($AV$70>=VALUE(SUBSTITUTE(F134,\"曲目\",\"\")),1,0)","v":0}]
[null,null,null,null,null,{"$f":"IF(AV134=0,選択肢!$A$10,IF(AW135=0,選択肢!$A$6,選択肢!$A$4))","v":"―"},null,null,null,null,null,null,null,null,null,null,null,null,null,null,null,null,null,null,null,null,null,null,null,null,null,null,null,null,null,null,null,null,null,null,null,null,null,null,null,{"$f":"IF(SUBSTITUTE(SUBSTITUTE(I135,\" \",\"\"),\"　\",\"\")=\"\",1,0)","v":1},{"$f":"IF(SUBSTITUTE(SUBSTITUTE(Y135,\" \",\"\"),\"　\",\"\")=\"\",1,0)","v":1},{"$f":"IF(AND(AT137=2,SUBSTITUTE(SUBSTITUTE(AF135,\" \",\"\"),\"　\",\"\")=\"\"),1,0)","v":0},{"$f":"IF(OR(AV134=0,SUM(AT135:AV135)=0),0,1)","v":0}]
[null,null,null,null,null,{"$f":"IF(AV134=0,選択肢!$A$10,IF(AU136=0,選択肢!$A$3,選択肢!$A$5))","v":"―"},null,null,"１．音楽著作権使用許諾申請の必要有無について",null,null,null,null,null,null,null,null,null,null,"※リストから選択して下さい",null,null,null,null,null,null,null,null,null,{"$f":"IF(AU136=1,選択肢!$B$60,IF(AU136=2,選択肢!$B$61,選択肢!$B$62))","v":"－"},null,null,null,null,null,null,null,null,null,null,null,null,null,null,null,null,{"$f":"IF(T136=選択肢!$B$54,1,IF(T136=選択肢!$B$55,2,0))","v":0},null,{"$f":"IF(OR(AV134=0,AU136<>0),0,1)","v":0}]
[null,null,null,null,null,{"$f":"IF(OR(AV134=0,AU136<>1),選択肢!$A$10,IF(AT137=0,選択肢!$A$3,IF(AND(AU137=1,AV137=1),選択肢!$A$4,選択肢!$A$5)))","v":"―"},null,null,"２．使用許諾の必要が無い場合",null,null,null,null,null,null,"※リストから選択して下さい",null,null,null,null,null,null,null,null,null,null,null,null,null,null,null,null,null,null,null,null,null,null,null,null,null,null,null,null,null,{"$f":"IF(P137=選択肢!$C$57,1,IF(P137=選択肢!$C$54,2,IF(OR(P137=選択肢!$C$55,P137=選択肢!$C$56),3,0)))","v":0},{"$f":"IF(AV134=0,0,IF(AND(AU136=1,AT137=1),1,0))","v":0},{"$f":"IF(AND(AU137=1,SUBSTITUTE(SUBSTITUTE(Z137,\" \",\"\"),\"　\",\"\")=\"\"),1,0)","v":0},{"$f":"IF(AND(AU136=1,OR(AT137=0,SUM(AV137:AV137)>0)),1,0)","v":0}]
[null,null,null,null,null,{"$f":"IF(OR(AV134=0,AU136<>2),選択肢!$A$10,IF(AT138=0,選択肢!$A$3,IF(SUM(AV138:AV142)>0,選択肢!$A$4,IF(AV143=1,選択肢!$A$3,選択肢!$A$5))))","v":"―"},null,null,"３．編曲使用許諾の必要な場合",null,null,null,null,null,null,"※リストから選択して下さい",null,null,null,null,null,null,null,null,null,{"$f":"IF(P138=選択肢!$D$56,\"取得予定日\",\"確認日\")","v":"確認日"},null,null,null,null,null,null,null,null,null,null,null,null,null,null,null,null,null,null,null,{"$f":"IF(P138=選択肢!$D$54,1,IF(P138=選択肢!$D$55,2,IF(P138=選択肢!$D$56,3,0)))","v":0},{"$f":"IF(AV134=0,0,IF(AND(AU136=2,OR(AT138=2,AT138=3)),1,0))","v":0},{"$f":"IF(AND(AU138=1,SUBSTITUTE(SUBSTITUTE(AE138,\" \",\"\"),\"　\",\"\")=\"\"),1,0)","v":0},{"$f":"IF(AND(AU136=2,AT138=0),1,SUM(AV138:AV143))","v":0}]
[null,null,null,null,null,{"$f":"IF(OR(AV136=0,AU138=2),選択肢!$A$10,IF(AT139=0,選択肢!$A$3,IF(AND(AU139=1,AV139=1),選択肢!$A$4,選択肢!$A$5)))","v":"―"},null,null,null,null,null,null,null,null,null,null,null,null,null,null,null,null,null,null,null,"確認\n相手先",null,"社名",null,null,null,null,null,null,null,null,null,null,null,null,null,null,null,null,null,null,{"$f":"IF(AV134=0,0,IF(AND(AU136=2,AT138=2),1,0))","v":0},{"$f":"IF(AND(AU139=1,SUBSTITUTE(SUBSTITUTE(AE139,\" \",\"\"),\"　\",\"\")=\"\"),1,0)","v":0}]
[null,null,null,null,null,{"$f":"IF(OR(AV137=0,AU139=2),選択肢!$A$10,IF(AT140=0,選択肢!$A$3,IF(AND(AU140=1,AV140=1),選択肢!$A$4,選択肢!$A$5)))","v":"―"},null,null,null,null,null,null,null,null,null,null,null,null,null,null,null,null,null,null,null,null,null,"担当者名",null,null,null,null,null,null,null,null,null,null,null,null,null,null,null,null,null,"必要書類",{"$f":"IF(AV134=0,0,IF(AND(AU136=2,AT138=2),1,0))","v":0},{"$f":"IF(AND(AU140=1,SUBSTITUTE(SUBSTITUTE(AE140,\" \",\"\"),\"　\",\"\")=\"\"),1,0)","v":0}]
[null,null,null,null,null,{"$f":"IF(OR(AV138=0,AU140=2),選択肢!$A$10,IF(AT141=0,選択肢!$A$3,IF(AND(AU141=1,AV141=1),選択肢!$A$4,選択肢!$A$5)))","v":"―"},null,null,null,null,null,null,null,null,null,null,null,null,null,null,null,null,null,null,null,null,null,"電話番号",null,null,null,null,null,null,null,null,null,null,null,null,null,null,null,null,null,{"$f":"IF(AV134=0,2,IF(OR(AU136=0,AND(AU136=1,AT137=0)),\"\",IF(AND(AU136=1,AT137=2),1,0)))","v":2},{"$f":"IF(AV134=0,0,IF(AND(AU136=2,AT138=2),1,0))","v":0},{"$f":"IF(AND(AU141=1,SUBSTITUTE(SUBSTITUTE(AE141,\" \",\"\"),\"　\",\"\")=\"\"),1,0)","v":0}]
[null,null,null,null,null,{"$f":"IF(OR(AV139=0,AU141=2),選択肢!$A$10,IF(AT142=0,選択肢!$A$3,IF(AND(AU142=1,AV142=1),選択肢!$A$4,選択肢!$A$5)))","v":"―"},null,null,null,null,null,null,null,null,null,null,null,null,null,null,null,null,null,null,null," 出演団体担当者名",null,null,null,null,null,null,null,null,null,null,null,null,null,null,null,null,null,null,null,{"$f":"IF(AV134=0,2,IF(OR(AU136=0,AND(AU136=2,OR(AT138=0,AT138=3))),\"\",IF(AND(AU136=2,AT138=1),1,0)))","v":2},{"$f":"IF(AV134=0,0,IF(AND(AU136=2,AT138=2),1,0))","v":0},{"$f":"IF(AND(AU142=1,SUBSTITUTE(SUBSTITUTE(AE142,\" \",\"\"),\"　\",\"\")=\"\"),1,0)","v":0}]
[null,null,null,null,null,{"$f":"IF(OR(AV140=0,AU142=2),選択肢!$A$10,IF(AT143=0,選択肢!$A$3,IF(AND(AU143=1,AV143=1),選択肢!$A$4,選択肢!$A$5)))","v":"―"},null,null,null,null,null,null,null,null,null,null,null,null,null,null,null,null,null,null,null,"使用料",null,null,null,null,"※リストから選択して下さい",null,null,null,null,null,null,null,null,null,null,null,null,null,null,{"$f":"IF(AV134=0,2,IF(OR(AU136=0,AND(AU136=2,OR(AT138=0,AV143=1,AE143=選択肢!$F$56))),\"\",IF(AND(AU136=2,AE143=選択肢!$F$55),1,0)))","v":2},{"$f":"IF(AV134=0,0,IF(AND(AU136=2,AT138<>0),1,0))","v":0},{"$f":"IF(AND(AU143=1,ISERROR(MATCH(AE143,選択肢!$F$54:$F$56,0))),1,0)","v":0}]
[null,null,null,null,null,{"$f":"VALUE(SUBSTITUTE(F134,\"曲目\",\"\"))+1&\"曲目\"","v":"8曲目"},null,null,"使用楽曲名",null,null,null,null,null,null,null,null,null,null,null,null,null,null,null,"作曲者",null,null,null,null,null,null,"出版社",null,null,null,null,null,null,null,null,null,null,null,null,null,null,null,{"$f":"IF($AV$70>=VALUE(SUBSTITUTE(F144,\"曲目\",\"\")),1,0)","v":0}]
[null,null,null,null,null,{"$f":"IF(AV144=0,選択肢!$A$10,IF(AW145=0,選択肢!$A$6,選択肢!$A$4))","v":"―"},null,null,null,null,null,null,null,null,null,null,null,null,null,null,null,null,null,null,null,null,null,null,null,null,null,null,null,null,null,null,null,null,null,null,null,null,null,null,null,{"$f":"IF(SUBSTITUTE(SUBSTITUTE(I145,\" \",\"\"),\"　\",\"\")=\"\",1,0)","v":1},{"$f":"IF(SUBSTITUTE(SUBSTITUTE(Y145,\" \",\"\"),\"　\",\"\")=\"\",1,0)","v":1},{"$f":"IF(AND(AT147=2,SUBSTITUTE(SUBSTITUTE(AF145,\" \",\"\"),\"　\",\"\")=\"\"),1,0)","v":0},{"$f":"IF(OR(AV144=0,SUM(AT145:AV145)=0),0,1)","v":0}]
[null,null,null,null,null,{"$f":"IF(AV144=0,選択肢!$A$10,IF(AU146=0,選択肢!$A$3,選択肢!$A$5))","v":"―"},null,null,"１．音楽著作権使用許諾申請の必要有無について",null,null,null,null,null,null,null,null,null,null,"※リストから選択して下さい",null,null,null,null,null,null,null,null,null,{"$f":"IF(AU146=1,選択肢!$B$60,IF(AU146=2,選択肢!$B$61,選択肢!$B$62))","v":"－"},null,null,null,null,null,null,null,null,null,null,null,null,null,null,null,null,{"$f":"IF(T146=選択肢!$B$54,1,IF(T146=選択肢!$B$55,2,0))","v":0},null,{"$f":"IF(OR(AV144=0,AU146<>0),0,1)","v":0}]
[null,null,null,null,null,{"$f":"IF(OR(AV144=0,AU146<>1),選択肢!$A$10,IF(AT147=0,選択肢!$A$3,IF(AND(AU147=1,AV147=1),選択肢!$A$4,選択肢!$A$5)))","v":"―"},null,null,"２．使用許諾の必要が無い場合",null,null,null,null,null,null,"※リストから選択して下さい",null,null,null,null,null,null,null,null,null,null,null,null,null,null,null,null,null,null,null,null,null,null,null,null,null,null,null,null,null,{"$f":"IF(P147=選択肢!$C$57,1,IF(P147=選択肢!$C$54,2,IF(OR(P147=選択肢!$C$55,P147=選択肢!$C$56),3,0)))","v":0},{"$f":"IF(AV144=0,0,IF(AND(AU146=1,AT147=1),1,0))","v":0},{"$f":"IF(AND(AU147=1,SUBSTITUTE(SUBSTITUTE(Z147,\" \",\"\"),\"　\",\"\")=\"\"),1,0)","v":0},{"$f":"IF(AND(AU146=1,OR(AT147=0,SUM(AV147:AV147)>0)),1,0)","v":0}]
[null,null,null,null,null,{"$f":"IF(OR(AV144=0,AU146<>2),選択肢!$A$10,IF(AT148=0,選択肢!$A$3,IF(SUM(AV148:AV152)>0,選択肢!$A$4,IF(AV153=1,選択肢!$A$3,選択肢!$A$5))))","v":"―"},null,null,"３．編曲使用許諾の必要な場合",null,null,null,null,null,null,"※リストから選択して下さい",null,null,null,null,null,null,null,null,null,{"$f":"IF(P148=選択肢!$D$56,\"取得予定日\",\"確認日\")","v":"確認日"},null,null,null,null,null,null,null,null,null,null,null,null,null,null,null,null,null,null,null,{"$f":"IF(P148=選択肢!$D$54,1,IF(P148=選択肢!$D$55,2,IF(P148=選択肢!$D$56,3,0)))","v":0},{"$f":"IF(AV144=0,0,IF(AND(AU146=2,OR(AT148=2,AT148=3)),1,0))","v":0},{"$f":"IF(AND(AU148=1,SUBSTITUTE(SUBSTITUTE(AE148,\" \",\"\"),\"　\",\"\")=\"\"),1,0)","v":0},{"$f":"IF(AND(AU146=2,AT148=0),1,SUM(AV148:AV153))","v":0}]
[null,null,null,null,null,{"$f":"IF(OR(AV146=0,AU148=2),選択肢!$A$10,IF(AT149=0,選択肢!$A$3,IF(AND(AU149=1,AV149=1),選択肢!$A$4,選択肢!$A$5)))","v":"―"},null,null,null,null,null,null,null,null,null,null,null,null,null,null,null,null,null,null,null,"確認\n相手先",null,"社名",null,null,null,null,null,null,null,null,null,null,null,null,null,null,null,null,null,null,{"$f":"IF(AV144=0,0,IF(AND(AU146=2,AT148=2),1,0))","v":0},{"$f":"IF(AND(AU149=1,SUBSTITUTE(SUBSTITUTE(AE149,\" \",\"\"),\"　\",\"\")=\"\"),1,0)","v":0}]
[null,null,null,null,null,{"$f":"IF(OR(AV147=0,AU149=2),選択肢!$A$10,IF(AT150=0,選択肢!$A$3,IF(AND(AU150=1,AV150=1),選択肢!$A$4,選択肢!$A$5)))","v":"―"},null,null,null,null,null,null,null,null,null,null,null,null,null,null,null,null,null,null,null,null,null,"担当者名",null,null,null,null,null,null,null,null,null,null,null,null,null,null,null,null,null,"必要書類",{"$f":"IF(AV144=0,0,IF(AND(AU146=2,AT148=2),1,0))","v":0},{"$f":"IF(AND(AU150=1,SUBSTITUTE(SUBSTITUTE(AE150,\" \",\"\"),\"　\",\"\")=\"\"),1,0)","v":0}]
[null,null,null,null,null,{"$f":"IF(OR(AV148=0,AU150=2),選択肢!$A$10,IF(AT151=0,選択肢!$A$3,IF(AND(AU151=1,AV151=1),選択肢!$A$4,選択肢!$A$5)))","v":"―"},null,null,null,null,null,null,null,null,null,null,null,null,null,null,null,null,null,null,null,null,null,"電話番号",null,null,null,null,null,null,null,null,null,null,null,null,null,null,null,null,null,{"$f":"IF(AV144=0,2,IF(OR(AU146=0,AND(AU146=1,AT147=0)),\"\",IF(AND(AU146=1,AT147=2),1,0)))","v":2},{"$f":"IF(AV144=0,0,IF(AND(AU146=2,AT148=2),1,0))","v":0},{"$f":"IF(AND(AU151=1,SUBSTITUTE(SUBSTITUTE(AE151,\" \",\"\"),\"　\",\"\")=\"\"),1,0)","v":0}]
[null,null,null,null,null,{"$f":"IF(OR(AV149=0,AU151=2),選択肢!$A$10,IF(AT152=0,選択肢!$A$3,IF(AND(AU152=1,AV152=1),選択肢!$A$4,選択肢!$A$5)))","v":"―"},null,null,null,null,null,null,null,null,null,null,null,null,null,null,null,null,null,null,null," 出演団体担当者名",null,null,null,null,null,null,null,null,null,null,null,null,null,null,null,null,null,null,null,{"$f":"IF(AV144=0,2,IF(OR(AU146=0,AND(AU146=2,OR(AT148=0,AT148=3))),\"\",IF(AND(AU146=2,AT148=1),1,0)))","v":2},{"$f":"IF(AV144=0,0,IF(AND(AU146=2,AT148=2),1,0))","v":0},{"$f":"IF(AND(AU152=1,SUBSTITUTE(SUBSTITUTE(AE152,\" \",\"\"),\"　\",\"\")=\"\"),1,0)","v":0}]
[null,null,null,null,null,{"$f":"IF(OR(AV150=0,AU152=2),選択肢!$A$10,IF(AT153=0,選択肢!$A$3,IF(AND(AU153=1,AV153=1),選択肢!$A$4,選択肢!$A$5)))","v":"―"},null,null,null,null,null,null,null,null,null,null,null,null,null,null,null,null,null,null,null,"使用料",null,null,null,null,"※リストから選択して下さい",null,null,null,null,null,null,null,null,null,null,null,null,null,null,{"$f":"IF(AV144=0,2,IF(OR(AU146=0,AND(AU146=2,OR(AT148=0,AV153=1,AE153=選択肢!$F$56))),\"\",IF(AND(AU146=2,AE153=選択肢!$F$55),1,0)))","v":2},{"$f":"IF(AV144=0,0,IF(AND(AU146=2,AT148<>0),1,0))","v":0},{"$f":"IF(AND(AU153=1,ISERROR(MATCH(AE153,選択肢!$F$54:$F$56,0))),1,0)","v":0}]
[null,null,null,null,null,{"$f":"VALUE(SUBSTITUTE(F144,\"曲目\",\"\"))+1&\"曲目\"","v":"9曲目"},null,null,"使用楽曲名",null,null,null,null,null,null,null,null,null,null,null,null,null,null,null,"作曲者",null,null,null,null,null,null,"出版社",null,null,null,null,null,null,null,null,null,null,null,null,null,null,null,{"$f":"IF($AV$70>=VALUE(SUBSTITUTE(F154,\"曲目\",\"\")),1,0)","v":0}]
[null,null,null,null,null,{"$f":"IF(AV154=0,選択肢!$A$10,IF(AW155=0,選択肢!$A$6,選択肢!$A$4))","v":"―"},null,null,null,null,null,null,null,null,null,null,null,null,null,null,null,null,null,null,null,null,null,null,null,null,null,null,null,null,null,null,null,null,null,null,null,null,null,null,null,{"$f":"IF(SUBSTITUTE(SUBSTITUTE(I155,\" \",\"\"),\"　\",\"\")=\"\",1,0)","v":1},{"$f":"IF(SUBSTITUTE(SUBSTITUTE(Y155,\" \",\"\"),\"　\",\"\")=\"\",1,0)","v":1},{"$f":"IF(AND(AT157=2,SUBSTITUTE(SUBSTITUTE(AF155,\" \",\"\"),\"　\",\"\")=\"\"),1,0)","v":0},{"$f":"IF(OR(AV154=0,SUM(AT155:AV155)=0),0,1)","v":0}]
[null,null,null,null,null,{"$f":"IF(AV154=0,選択肢!$A$10,IF(AU156=0,選択肢!$A$3,選択肢!$A$5))","v":"―"},null,null,"１．音楽著作権使用許諾申請の必要有無について",null,null,null,null,null,null,null,null,null,null,"※リストから選択して下さい",null,null,null,null,null,null,null,null,null,{"$f":"IF(AU156=1,選択肢!$B$60,IF(AU156=2,選択肢!$B$61,選択肢!$B$62))","v":"－"},null,null,null,null,null,null,null,null,null,null,null,null,null,null,null,null,{"$f":"IF(T156=選択肢!$B$54,1,IF(T156=選択肢!$B$55,2,0))","v":0},null,{"$f":"IF(OR(AV154=0,AU156<>0),0,1)","v":0}]
[null,null,null,null,null,{"$f":"IF(OR(AV154=0,AU156<>1),選択肢!$A$10,IF(AT157=0,選択肢!$A$3,IF(AND(AU157=1,AV157=1),選択肢!$A$4,選択肢!$A$5)))","v":"―"},null,null,"２．使用許諾の必要が無い場合",null,null,null,null,null,null,"※リストから選択して下さい",null,null,null,null,null,null,null,null,null,null,null,null,null,null,null,null,null,null,null,null,null,null,null,null,null,null,null,null,null,{"$f":"IF(P157=選択肢!$C$57,1,IF(P157=選択肢!$C$54,2,IF(OR(P157=選択肢!$C$55,P157=選択肢!$C$56),3,0)))","v":0},{"$f":"IF(AV154=0,0,IF(AND(AU156=1,AT157=1),1,0))","v":0},{"$f":"IF(AND(AU157=1,SUBSTITUTE(SUBSTITUTE(Z157,\" \",\"\"),\"　\",\"\")=\"\"),1,0)","v":0},{"$f":"IF(AND(AU156=1,OR(AT157=0,SUM(AV157:AV157)>0)),1,0)","v":0}]
[null,null,null,null,null,{"$f":"IF(OR(AV154=0,AU156<>2),選択肢!$A$10,IF(AT158=0,選択肢!$A$3,IF(SUM(AV158:AV162)>0,選択肢!$A$4,IF(AV163=1,選択肢!$A$3,選択肢!$A$5))))","v":"―"},null,null,"３．編曲使用許諾の必要な場合",null,null,null,null,null,null,"※リストから選択して下さい",null,null,null,null,null,null,null,null,null,{"$f":"IF(P158=選択肢!$D$56,\"取得予定日\",\"確認日\")","v":"確認日"},null,null,null,null,null,null,null,null,null,null,null,null,null,null,null,null,null,null,null,{"$f":"IF(P158=選択肢!$D$54,1,IF(P158=選択肢!$D$55,2,IF(P158=選択肢!$D$56,3,0)))","v":0},{"$f":"IF(AV154=0,0,IF(AND(AU156=2,OR(AT158=2,AT158=3)),1,0))","v":0},{"$f":"IF(AND(AU158=1,SUBSTITUTE(SUBSTITUTE(AE158,\" \",\"\"),\"　\",\"\")=\"\"),1,0)","v":0},{"$f":"IF(AND(AU156=2,AT158=0),1,SUM(AV158:AV163))","v":0}]
[null,null,null,null,null,{"$f":"IF(OR(AV156=0,AU158=2),選択肢!$A$10,IF(AT159=0,選択肢!$A$3,IF(AND(AU159=1,AV159=1),選択肢!$A$4,選択肢!$A$5)))","v":"―"},null,null,null,null,null,null,null,null,null,null,null,null,null,null,null,null,null,null,null,"確認\n相手先",null,"社名",null,null,null,null,null,null,null,null,null,null,null,null,null,null,null,null,null,null,{"$f":"IF(AV154=0,0,IF(AND(AU156=2,AT158=2),1,0))","v":0},{"$f":"IF(AND(AU159=1,SUBSTITUTE(SUBSTITUTE(AE159,\" \",\"\"),\"　\",\"\")=\"\"),1,0)","v":0}]
[null,null,null,null,null,{"$f":"IF(OR(AV157=0,AU159=2),選択肢!$A$10,IF(AT160=0,選択肢!$A$3,IF(AND(AU160=1,AV160=1),選択肢!$A$4,選択肢!$A$5)))","v":"―"},null,null,null,null,null,null,null,null,null,null,null,null,null,null,null,null,null,null,null,null,null,"担当者名",null,null,null,null,null,null,null,null,null,null,null,null,null,null,null,null,null,"必要書類",{"$f":"IF(AV154=0,0,IF(AND(AU156=2,AT158=2),1,0))","v":0},{"$f":"IF(AND(AU160=1,SUBSTITUTE(SUBSTITUTE(AE160,\" \",\"\"),\"　\",\"\")=\"\"),1,0)","v":0}]
[null,null,null,null,null,{"$f":"IF(OR(AV158=0,AU160=2),選択肢!$A$10,IF(AT161=0,選択肢!$A$3,IF(AND(AU161=1,AV161=1),選択肢!$A$4,選択肢!$A$5)))","v":"―"},null,null,null,null,null,null,null,null,null,null,null,null,null,null,null,null,null,null,null,null,null,"電話番号",null,null,null,null,null,null,null,null,null,null,null,null,null,null,null,null,null,{"$f":"IF(AV154=0,2,IF(OR(AU156=0,AND(AU156=1,AT157=0)),\"\",IF(AND(AU156=1,AT157=2),1,0)))","v":2},{"$f":"IF(AV154=0,0,IF(AND(AU156=2,AT158=2),1,0))","v":0},{"$f":"IF(AND(AU161=1,SUBSTITUTE(SUBSTITUTE(AE161,\" \",\"\"),\"　\",\"\")=\"\"),1,0)","v":0}]
[null,null,null,null,null,{"$f":"IF(OR(AV159=0,AU161=2),選択肢!$A$10,IF(AT162=0,選択肢!$A$3,IF(AND(AU162=1,AV162=1),選択肢!$A$4,選択肢!$A$5)))","v":"―"},null,null,null,null,null,null,null,null,null,null,null,null,null,null,null,null,null,null,null," 出演団体担当者名",null,null,null,null,null,null,null,null,null,null,null,null,null,null,null,null,null,null,null,{"$f":"IF(AV154=0,2,IF(OR(AU156=0,AND(AU156=2,OR(AT158=0,AT158=3))),\"\",IF(AND(AU156=2,AT158=1),1,0)))","v":2},{"$f":"IF(AV154=0,0,IF(AND(AU156=2,AT158=2),1,0))","v":0},{"$f":"IF(AND(AU162=1,SUBSTITUTE(SUBSTITUTE(AE162,\" \",\"\"),\"　\",\"\")=\"\"),1,0)","v":0}]
[null,null,null,null,null,{"$f":"IF(OR(AV160=0,AU162=2),選択肢!$A$10,IF(AT163=0,選択肢!$A$3,IF(AND(AU163=1,AV163=1),選択肢!$A$4,選択肢!$A$5)))","v":"―"},null,null,null,null,null,null,null,null,null,null,null,null,null,null,null,null,null,null,null,"使用料",null,null,null,null,"※リストから選択して下さい",null,null,null,null,null,null,null,null,null,null,null,null,null,null,{"$f":"IF(AV154=0,2,IF(OR(AU156=0,AND(AU156=2,OR(AT158=0,AV163=1,AE163=選択肢!$F$56))),\"\",IF(AND(AU156=2,AE163=選択肢!$F$55),1,0)))","v":2},{"$f":"IF(AV154=0,0,IF(AND(AU156=2,AT158<>0),1,0))","v":0},{"$f":"IF(AND(AU163=1,ISERROR(MATCH(AE163,選択肢!$F$54:$F$56,0))),1,0)","v":0}]
[null,null,null,null,null,{"$f":"VALUE(SUBSTITUTE(F154,\"曲目\",\"\"))+1&\"曲目\"","v":"10曲目"},null,null,"使用楽曲名",null,null,null,null,null,null,null,null,null,null,null,null,null,null,null,"作曲者",null,null,null,null,null,null,"出版社",null,null,null,null,null,null,null,null,null,null,null,null,null,null,null,{"$f":"IF($AV$70>=VALUE(SUBSTITUTE(F164,\"曲目\",\"\")),1,0)","v":0}]
[null,null,null,null,null,{"$f":"IF(AV164=0,選択肢!$A$10,IF(AW165=0,選択肢!$A$6,選択肢!$A$4))","v":"―"},null,null,null,null,null,null,null,null,null,null,null,null,null,null,null,null,null,null,null,null,null,null,null,null,null,null,null,null,null,null,null,null,null,null,null,null,null,null,null,{"$f":"IF(SUBSTITUTE(SUBSTITUTE(I165,\" \",\"\"),\"　\",\"\")=\"\",1,0)","v":1},{"$f":"IF(SUBSTITUTE(SUBSTITUTE(Y165,\" \",\"\"),\"　\",\"\")=\"\",1,0)","v":1},{"$f":"IF(AND(AT167=2,SUBSTITUTE(SUBSTITUTE(AF165,\" \",\"\"),\"　\",\"\")=\"\"),1,0)","v":0},{"$f":"IF(OR(AV164=0,SUM(AT165:AV165)=0),0,1)","v":0}]
[null,null,null,null,null,{"$f":"IF(AV164=0,選択肢!$A$10,IF(AU166=0,選択肢!$A$3,選択肢!$A$5))","v":"―"},null,null,"１．音楽著作権使用許諾申請の必要有無について",null,null,null,null,null,null,null,null,null,null,"※リストから選択して下さい",null,null,null,null,null,null,null,null,null,{"$f":"IF(AU166=1,選択肢!$B$60,IF(AU166=2,選択肢!$B$61,選択肢!$B$62))","v":"－"},null,null,null,null,null,null,null,null,null,null,null,null,null,null,null,null,{"$f":"IF(T166=選択肢!$B$54,1,IF(T166=選択肢!$B$55,2,0))","v":0},null,{"$f":"IF(OR(AV164=0,AU166<>0),0,1)","v":0}]
[null,null,null,null,null,{"$f":"IF(OR(AV164=0,AU166<>1),選択肢!$A$10,IF(AT167=0,選択肢!$A$3,IF(AND(AU167=1,AV167=1),選択肢!$A$4,選択肢!$A$5)))","v":"―"},null,null,"２．使用許諾の必要が無い場合",null,null,null,null,null,null,"※リストから選択して下さい",null,null,null,null,null,null,null,null,null,null,null,null,null,null,null,null,null,null,null,null,null,null,null,null,null,null,null,null,null,{"$f":"IF(P167=選択肢!$C$57,1,IF(P167=選択肢!$C$54,2,IF(OR(P167=選択肢!$C$55,P167=選択肢!$C$56),3,0)))","v":0},{"$f":"IF(AV164=0,0,IF(AND(AU166=1,AT167=1),1,0))","v":0},{"$f":"IF(AND(AU167=1,SUBSTITUTE(SUBSTITUTE(Z167,\" \",\"\"),\"　\",\"\")=\"\"),1,0)","v":0},{"$f":"IF(AND(AU166=1,OR(AT167=0,SUM(AV167:AV167)>0)),1,0)","v":0}]
[null,null,null,null,null,{"$f":"IF(OR(AV164=0,AU166<>2),選択肢!$A$10,IF(AT168=0,選択肢!$A$3,IF(SUM(AV168:AV172)>0,選択肢!$A$4,IF(AV173=1,選択肢!$A$3,選択肢!$A$5))))","v":"―"},null,null,"３．編曲使用許諾の必要な場合",null,null,null,null,null,null,"※リストから選択して下さい",null,null,null,null,null,null,null,null,null,{"$f":"IF(P168=選択肢!$D$56,\"取得予定日\",\"確認日\")","v":"確認日"},null,null,null,null,null,null,null,null,null,null,null,null,null,null,null,null,null,null,null,{"$f":"IF(P168=選択肢!$D$54,1,IF(P168=選択肢!$D$55,2,IF(P168=選択肢!$D$56,3,0)))","v":0},{"$f":"IF(AV164=0,0,IF(AND(AU166=2,OR(AT168=2,AT168=3)),1,0))","v":0},{"$f":"IF(AND(AU168=1,SUBSTITUTE(SUBSTITUTE(AE168,\" \",\"\"),\"　\",\"\")=\"\"),1,0)","v":0},{"$f":"IF(AND(AU166=2,AT168=0),1,SUM(AV168:AV173))","v":0}]
[null,null,null,null,null,{"$f":"IF(OR(AV166=0,AU168=2),選択肢!$A$10,IF(AT169=0,選択肢!$A$3,IF(AND(AU169=1,AV169=1),選択肢!$A$4,選択肢!$A$5)))","v":"―"},null,null,null,null,null,null,null,null,null,null,null,null,null,null,null,null,null,null,null,"確認\n相手先",null,"社名",null,null,null,null,null,null,null,null,null,null,null,null,null,null,null,null,null,null,{"$f":"IF(AV164=0,0,IF(AND(AU166=2,AT168=2),1,0))","v":0},{"$f":"IF(AND(AU169=1,SUBSTITUTE(SUBSTITUTE(AE169,\" \",\"\"),\"　\",\"\")=\"\"),1,0)","v":0}]
[null,null,null,null,null,{"$f":"IF(OR(AV167=0,AU169=2),選択肢!$A$10,IF(AT170=0,選択肢!$A$3,IF(AND(AU170=1,AV170=1),選択肢!$A$4,選択肢!$A$5)))","v":"―"},null,null,null,null,null,null,null,null,null,null,null,null,null,null,null,null,null,null,null,null,null,"担当者名",null,null,null,null,null,null,null,null,null,null,null,null,null,null,null,null,null,"必要書類",{"$f":"IF(AV164=0,0,IF(AND(AU166=2,AT168=2),1,0))","v":0},{"$f":"IF(AND(AU170=1,SUBSTITUTE(SUBSTITUTE(AE170,\" \",\"\"),\"　\",\"\")=\"\"),1,0)","v":0}]
[null,null,null,null,null,{"$f":"IF(OR(AV168=0,AU170=2),選択肢!$A$10,IF(AT171=0,選択肢!$A$3,IF(AND(AU171=1,AV171=1),選択肢!$A$4,選択肢!$A$5)))","v":"―"},null,null,null,null,null,null,null,null,null,null,null,null,null,null,null,null,null,null,null,null,null,"電話番号",null,null,null,null,null,null,null,null,null,null,null,null,null,null,null,null,null,{"$f":"IF(AV164=0,2,IF(OR(AU166=0,AND(AU166=1,AT167=0)),\"\",IF(AND(AU166=1,AT167=2),1,0)))","v":2},{"$f":"IF(AV164=0,0,IF(AND(AU166=2,AT168=2),1,0))","v":0},{"$f":"IF(AND(AU171=1,SUBSTITUTE(SUBSTITUTE(AE171,\" \",\"\"),\"　\",\"\")=\"\"),1,0)","v":0}]
[null,null,null,null,null,{"$f":"IF(OR(AV169=0,AU171=2),選択肢!$A$10,IF(AT172=0,選択肢!$A$3,IF(AND(AU172=1,AV172=1),選択肢!$A$4,選択肢!$A$5)))","v":"―"},null,null,null,null,null,null,null,null,null,null,null,null,null,null,null,null,null,null,null," 出演団体担当者名",null,null,null,null,null,null,null,null,null,null,null,null,null,null,null,null,null,null,null,{"$f":"IF(AV164=0,2,IF(OR(AU166=0,AND(AU166=2,OR(AT168=0,AT168=3))),\"\",IF(AND(AU166=2,AT168=1),1,0)))","v":2},{"$f":"IF(AV164=0,0,IF(AND(AU166=2,AT168=2),1,0))","v":0},{"$f":"IF(AND(AU172=1,SUBSTITUTE(SUBSTITUTE(AE172,\" \",\"\"),\"　\",\"\")=\"\"),1,0)","v":0}]
[null,null,null,null,null,{"$f":"IF(OR(AV170=0,AU172=2),選択肢!$A$10,IF(AT173=0,選択肢!$A$3,IF(AND(AU173=1,AV173=1),選択肢!$A$4,選択肢!$A$5)))","v":"―"},null,null,null,null,null,null,null,null,null,null,null,null,null,null,null,null,null,null,null,"使用料",null,null,null,null,"※リストから選択して下さい",null,null,null,null,null,null,null,null,null,null,null,null,null,null,{"$f":"IF(AV164=0,2,IF(OR(AU166=0,AND(AU166=2,OR(AT168=0,AV173=1,AE173=選択肢!$F$56))),\"\",IF(AND(AU166=2,AE173=選択肢!$F$55),1,0)))","v":2},{"$f":"IF(AV164=0,0,IF(AND(AU166=2,AT168<>0),1,0))","v":0},{"$f":"IF(AND(AU173=1,ISERROR(MATCH(AE173,選択肢!$F$54:$F$56,0))),1,0)","v":0}]
[]
[]
["★参加資格に関わる提出書類　『 JASRAC所定用紙 「演奏利用明細書」 』"]
[null,"・大会で使用する音源に発生する演奏利用料金は大会本部が負担します。協会HPよりJASRAC所定用紙「演奏利用明細書」をダウンロードし、必要事項をご記入の上、ご提出下さい。"]
[]
[]
["※参加資格に関わる提出書類　「4．特殊効果申請」"]
[]
[null,"「特殊効果」とは、フラッシュ・ストロボ・各種ライト類（ケミカル類含）等の光の効果を用いたもの全般を指す。"]
[]
[null,"■特殊効果使用について",null,null,null,null,null,null,{"$f":"IF(AV184=0,選択肢!$A$3,選択肢!$A$5)","v":"【※選択】"},null,null,"※リストから選択して下さい",null,null,null,null,null,null,null,null,null,null,null,null,null,null,null,null,null,null,null,null,null,null,null,null,null,null,null,null,null,null,null,null,null,null,null,{"$f":"IF(L184=選択肢!A67,1,IF(L184=選択肢!A68,2,0))","v":0},{"$f":"IF(AV184=0,1,0)","v":1}]
[null,null,"・申請があった団体へは、後日回答を送付します。"]
[null,null,null,null,null,"使用項目",null,null,null,null,null,null,null,null,null,null,"使用方法"]
[null,null,{"$f":"IF(AV184=0,選択肢!$A$10,IF(AV184=2,選択肢!$A$8,IF(SUM(AU187:AV187)<2,選択肢!$A$4,選択肢!$A$6)))","v":"―"},null,null,null,null,null,null,null,null,null,null,null,null,null,null,null,null,null,null,null,null,null,null,null,null,null,null,null,null,null,null,null,null,null,null,null,null,null,null,null,null,null,null,null,{"$f":"IF(SUBSTITUTE(SUBSTITUTE(F187,\" \",\"\"),\"　\",\"\")=\"\",0,1)","v":0},{"$f":"IF(SUBSTITUTE(SUBSTITUTE(Q187,\" \",\"\"),\"　\",\"\")=\"\",0,1)","v":0},{"$f":"IF(OR(AV184=2,AND(AV184=1,SUM(AU187:AV196)>0)),0,1)","v":1}]
[null,null,{"$f":"IF(OR($AV$184<>1,SUM(AU188:AV188)=0),選択肢!$A$10,IF(SUM(AU188:AV188)=1,選択肢!$A$4,選択肢!$A$6))","v":"―"},null,null,null,null,null,null,null,null,null,null,null,null,null,null,null,null,null,null,null,null,null,null,null,null,null,null,null,null,null,null,null,null,null,null,null,null,null,null,null,null,null,null,null,0,0]
[null,null,{"$f":"IF(OR($AV$184<>1,SUM(AU189:AV189)=0),選択肢!$A$10,IF(SUM(AU189:AV189)=1,選択肢!$A$4,選択肢!$A$6))","v":"―"},null,null,null,null,null,null,null,null,null,null,null,null,null,null,null,null,null,null,null,null,null,null,null,null,null,null,null,null,null,null,null,null,null,null,null,null,null,null,null,null,null,null,null,0,0]
[null,null,{"$f":"IF(OR($AV$184<>1,SUM(AU190:AV190)=0),選択肢!$A$10,IF(SUM(AU190:AV190)=1,選択肢!$A$4,選択肢!$A$6))","v":"―"},null,null,null,null,null,null,null,null,null,null,null,null,null,null,null,null,null,null,null,null,null,null,null,null,null,null,null,null,null,null,null,null,null,null,null,null,null,null,null,null,null,null,null,0,0]
[null,null,{"$f":"IF(OR($AV$184<>1,SUM(AU191:AV191)=0),選択肢!$A$10,IF(SUM(AU191:AV191)=1,選択肢!$A$4,選択肢!$A$6))","v":"―"},null,null,null,null,null,null,null,null,null,null,null,null,null,null,null,null,null,null,null,null,null,null,null,null,null,null,null,null,null,null,null,null,null,null,null,null,null,null,null,null,null,null,null,0,0]
[null,null,{"$f":"IF(OR($AV$184<>1,SUM(AU192:AV192)=0),選択肢!$A$10,IF(SUM(AU192:AV192)=1,選択肢!$A$4,選択肢!$A$6))","v":"―"},null,null,null,null,null,null,null,null,null,null,null,null,null,null,null,null,null,null,null,null,null,null,null,null,null,null,null,null,null,null,null,null,null,null,null,null,null,null,null,null,null,null,null,0,0]
[null,null,{"$f":"IF(OR($AV$184<>1,SUM(AU193:AV193)=0),選択肢!$A$10,IF(SUM(AU193:AV193)=1,選択肢!$A$4,選択肢!$A$6))","v":"―"},null,null,null,null,null,null,null,null,null,null,null,null,null,null,null,null,null,null,null,null,null,null,null,null,null,null,null,null,null,null,null,null,null,null,null,null,null,null,null,null,null,null,null,0,0]
[null,null,{"$f":"IF(OR($AV$184<>1,SUM(AU194:AV194)=0),選択肢!$A$10,IF(SUM(AU194:AV194)=1,選択肢!$A$4,選択肢!$A$6))","v":"―"},null,null,null,null,null,null,null,null,null,null,null,null,null,null,null,null,null,null,null,null,null,null,null,null,null,null,null,null,null,null,null,null,null,null,null,null,null,null,null,null,null,null,null,0,0]
[null,null,{"$f":"IF(OR($AV$184<>1,SUM(AU195:AV195)=0),選択肢!$A$10,IF(SUM(AU195:AV195)=1,選択肢!$A$4,選択肢!$A$6))","v":"―"},null,null,null,null,null,null,null,null,null,null,null,null,null,null,null,null,null,null,null,null,null,null,null,null,null,null,null,null,null,null,null,null,null,null,null,null,null,null,null,null,null,null,null,0,0]
[null,null,{"$f":"IF(OR($AV$184<>1,SUM(AU196:AV196)=0),選択肢!$A$10,IF(SUM(AU196:AV196)=1,選択肢!$A$4,選択肢!$A$6))","v":"―"},null,null,null,null,null,null,null,null,null,null,null,null,null,null,null,null,null,null,null,null,null,null,null,null,null,null,null,null,null,null,null,null,null,null,null,null,null,null,null,null,null,null,null,0,0]
[]
[]
["5．アンケート"]
[]
[null,"■補助スタッフの申請",null,null,null,null,null,null,null,null,null,null,null,null,null,null,null,"・","補助スタッフは、右の規定通りに申請することができます。"]
[null,null,null,null,null,null,{"$f":"IF(AT202=1,選択肢!$A$3,IF(AV202<>0,選択肢!$A$7,選択肢!$A$5))","v":"【※選択】"},null,null,"※リストから選択して下さい",null,null,null,null,null,null,"名","・","補助スタッフは、大会当日配布されるゼッケンを着用することで、自団体積み降ろしから積み込みまでの時間のみ出演者エリア（出演者席を除く）及び演技フロアーに入ることができます。出演者席への入場は厳禁です。一般席への入場は、別途入場券が必要です｡",null,null,null,null,null,null,null,null,null,null,null,null,null,"編成",null,null,{"$f":"初期入力!$A$31","v":"小編成"},null,{"$f":"初期入力!$A$32","v":"中編成"},null,{"$f":"初期入力!$A$33","v":"大編成"},null,{"$f":"初期入力!$A$34","v":"幼保の部"},null,null,null,{"$f":"IF(OR(J202=選択肢!$A$2,J202=\"\"),1,0)","v":1},{"$f":"IFERROR(VLOOKUP(I30,補助スタッフ数[],MATCH(補助スタッフ数[[#Headers],[最大人数]],補助スタッフ数[#Headers],0),FALSE),IFERROR(VLOOKUP(I31,補助スタッフ数[],MATCH(補助スタッフ数[[#Headers],[最大人数]],補助スタッフ数[#Headers],0),FALSE),MAX(補助スタッフ数[最大人数])))","v":10},{"$f":"IF(OR(J202=選択肢!$B$72,AT202=1,J202<=AU202),0,1)","v":0},{"$f":"AT202+AV202","v":1}]
[null,null,null,null,null,null,{"$f":"IF(AV202=1,選択肢!$C$91,\"\")","v":""}]
[null,null,null,null,null,null,null,null,null,null,null,null,null,null,null,null,null,null,null,null,null,null,null,null,null,null,null,null,null,null,null,null,"最大人数",null,null,{"$f":"VLOOKUP(AJ202,補助スタッフ数[],MATCH($AG$204,補助スタッフ数[#Headers],0),FALSE)&\"名\"","v":"7名"},null,{"$f":"VLOOKUP(AL202,補助スタッフ数[],MATCH($AG$204,補助スタッフ数[#Headers],0),FALSE)&\"名\"","v":"5名"},null,{"$f":"VLOOKUP(AN202,補助スタッフ数[],MATCH($AG$204,補助スタッフ数[#Headers],0),FALSE)&\"名\"","v":"5名"},null,{"$f":"VLOOKUP(AP202,補助スタッフ数[],MATCH($AG$204,補助スタッフ数[#Headers],0),FALSE)&\"名\"","v":"10名"}]
[null,"■演奏演技計時"]
[null,null,"※合図はどなたが行いますか？",null,null,null,null,null,null,null,null,null,null,{"$f":"IF(AW206=0,選択肢!$A$5,選択肢!$A$3)","v":"【※選択】"},null,null,"※リストから選択して下さい",null,null,null,null,null,null,null,null,null,null,null,null,null,null,null,null,null,null,null,null,null,null,null,null,null,null,null,null,null,null,null,{"$f":"IF(ISERROR(MATCH(Q206,選択肢!$C$72:$C$74,0)),1,0)","v":1}]
[null,null,"※合図場所を選択してください。",null,null,null,null,null,null,null,null,null,null,{"$f":"IF(AW207=0,選択肢!$A$5,選択肢!$A$3)","v":"【※選択】"},null,null,"※リストから選択して下さい",null,null,null,null,null,null,null,null,null,null,null,null,null,null,null,null,null,null,null,null,null,null,null,null,null,null,null,null,null,null,null,{"$f":"IF(ISERROR(MATCH(Q207,選択肢!$D$72:$D$73,0)),1,0)","v":1}]
[]
[null,"■プロップの使用",null,null,null,null,null,null,null,null,null,null,null,{"$f":"IF(AW209=0,選択肢!$A$5,選択肢!$A$3)","v":"【※選択】"},null,null,"※リストから選択して下さい",null,null,null,null,null,null,null,null,null,null,null,null,null,null,null,null,null,null,null,null,null,null,null,null,null,null,null,null,null,null,null,{"$f":"IF(ISERROR(MATCH(Q209,選択肢!$E$72:$E$73,0)),1,0)","v":1}]
[]
[null,"■チューニングルームの使用",null,null,null,null,null,null,null,null,null,null,null,{"$f":"IF(AW211=0,選択肢!$A$5,選択肢!$A$3)","v":"【※選択】"},null,null,"※リストから選択して下さい",null,null,null,null,null,null,null,null,null,null,null,null,null,null,null,null,null,null,null,null,null,null,null,null,null,null,null,null,null,null,null,{"$f":"IF(ISERROR(MATCH(Q211,選択肢!$F$72:$F$73,0)),1,0)","v":1}]
[]
[null,{"$f":"IF(AV213=1,\"■\"&初期入力!B49&\"の使用\",\"\")","v":"■CG（カラーガード）ストレッチエリアの使用"},null,null,null,null,null,null,null,null,null,null,null,{"$f":"IF(AV213=1,IF(AW213=0,選択肢!$A$5,選択肢!$A$3),\"\")","v":"【※選択】"},null,null,"※リストから選択して下さい",null,null,null,null,null,null,{"$f":"IF(AV213=1,IF(初期入力!B50=\"\",\"\",\"※\"&初期入力!B50),\"\")","v":"※カラーガードの有無に関わらず、全団体選択してください。"},null,null,null,null,null,null,null,null,null,null,null,null,null,null,null,null,null,null,null,null,null,null,null,{"$f":"IF(初期入力!A48=選択肢!$A$113,1,0)","v":1},{"$f":"IF(AV213=0,0,IF(ISERROR(MATCH(Q213,選択肢!$F$72:$F$73,0)),1,0))","v":1}]
[]
[null,"■ピット楽器の使用",null,null,null,null,null,null,null,null,null,null,null,{"$f":"IF(AW215=0,選択肢!$A$5,選択肢!$A$3)","v":"【※選択】"},null,null,"※リストから選択して下さい",null,null,null,null,null,null,null,null,null,null,null,null,null,null,null,null,null,null,null,null,null,null,null,null,null,null,null,null,null,null,null,{"$f":"IF(ISERROR(MATCH(Q215,選択肢!$G$72:$G$73,0)),1,0)","v":1}]
[]
[null,"■記録撮影者席",null,null,null,null,null,null,null,null,null,null,null,null,null,null,null,null,null,"・当協会の指定する座席において、自団体演奏演技中のみ撮影をすることができます。"]
[null,null,"使用希望の場合は撮影者の氏名をご記入下さい。（2名まで）",null,null,null,null,null,null,null,null,null,null,null,null,null,null,null,null,"・撮影は、写真・ビデオ2名まで可能です。撮影者は、入場券が必要です。"]
[null,null,null,null,null,null,null,null,null,null,null,null,null,null,null,null,null,null,null,"　但し、登録引率者が撮影を行う場合は、入場券は不要です。当日配布する引率者用リボンを着用してください。",null,null,null,null,null,null,null,null,null,null,null,null,null,null,null,null,null,null,null,null,null,null,null,null,null,{"$f":"IF(SUBSTITUTE(SUBSTITUTE(G219,\" \",\"\"),\"　\",\"\")=\"\",0,1)","v":0},{"$f":"IF(SUBSTITUTE(SUBSTITUTE(M219,\" \",\"\"),\"　\",\"\")=\"\",0,1)","v":0},{"$f":"SUM(AT219:AU219)","v":0},null,{"$f":"TRIM(SUBSTITUTE(G219,\" \",\"　\"))","v":""}]
[null,null,null,null,null,null,null,null,null,null,null,null,null,null,null,null,null,null,null,"・ビデオ撮影･カメラ撮影機材は、家庭用の物のみとさせていただきますので、ご了承下さい。",null,null,null,null,null,null,null,null,null,null,null,null,null,null,null,null,null,null,null,null,null,null,null,null,null,null,null,null,null,{"$f":"TRIM(SUBSTITUTE(M219,\" \",\"　\"))","v":""}]
[null,null,null,null,null,null,null,null,null,null,null,null,null,null,null,null,null,null,null,"　また、一脚･三脚の使用、フラッシュ撮影は禁止です。"]
[null,null,null,null,null,null,null,null,null,null,null,null,null,null,null,null,null,null,null,"・当日の申込みは、ご遠慮下さい。"]
[]
[null,"■写真およびＤＶＤ撮影販売・二次使用について"]
[null,null,{"$f":"\"・写真およびＤＶＤの著作権は、\"&初期入力!B12&\"に帰属します。\"","v":"・写真およびＤＶＤの著作権は、日本マーチングバンド協会関東支部に帰属します。"}]
[null,null,"・写真およびＤＶＤの撮影販売は、当協会指定業者が行います。"]
[null,null,"・二次使用については、該当団体の承諾のもと使用することとします。"]
[null,null,{"$f":"初期入力!B8&\"における当団体の演奏演技について\"","v":"第52回マーチングバンド関東大会における当団体の演奏演技について"}]
[null,null,null,{"$f":"初期入力!B12&\"指定の各社により、写真撮影、録画されることを\"","v":"日本マーチングバンド協会関東支部指定の各社により、写真撮影、録画されることを"},null,null,null,null,null,null,null,null,null,null,null,null,null,null,null,null,null,null,null,null,null,null,null,"※リストから選択して下さい",null,null,null,null,null,null,null,{"$f":"IF(AW229=0,選択肢!$A$5,選択肢!$A$3)","v":"【※選択】"},null,null,null,null,null,null,null,null,null,null,null,null,{"$f":"IF(ISERROR(MATCH(AB229,選択肢!$A$94:$A$95,0)),1,0)","v":1}]
[null,null,null,"主催者指定の各社により撮影された写真、ＶＴＲを二次使用（放送等）されることを",null,null,null,null,null,null,null,null,null,null,null,null,null,null,null,null,null,null,null,null,null,null,null,"※リストから選択して下さい",null,null,null,null,null,null,null,{"$f":"IF(AW230=0,選択肢!$A$5,選択肢!$A$3)","v":"【※選択】"},null,null,null,null,null,null,null,null,null,null,null,null,{"$f":"IF(ISERROR(MATCH(AB230,選択肢!$A$94:$A$95,0)),1,0)","v":1}]
[]
[null,"■入場券申込み"]
[null,null,{"$f":"\"・団体は、\"&TEXT(初期入力!B65,\"yyyy年m月d日（aaa）\")&\"より\"&TEXT(初期入力!B66,\"yyyy年m月d日（aaa）\")&\"必着で、関東支部でのみ購入いただけます。（送料は関東支部にて、1団体に付1回分のみ負担）\"","v":"・団体は、2017年9月4日(月)より2017年10月6日(金)必着で、関東支部でのみ購入いただけます。（送料は関東支部にて、1団体に付1回分のみ負担）"}]
[null,null,"・上記以外のご購入につきましては、一般前売券販売の扱いとなりますので、ご了承ください。"]
[null,null,"・別紙「振込用紙 記入例」を参考に、郵便振替にてお申込みください。"]
[]
[null,null,"【出演者席について】"]
[null,null,"・出演者席は、構成メンバー及び登録引率者が無料で利用できます。（補助スタッフは利用できません。）"]
[null,null,"・出演者席は、団体割当ではありません。他団体と譲り合ってご利用下さい。"]
[null,null,"・一般の方が出演者席へ入ることはできません。また、構成メンバー・登録引率者・補助スタッフが一般席へ入ることもできません。"]
[]
[null,"■通行証・配車証申込み"]
[null,null,"・大会当日、会場敷地内への進入車両は、当協会が許可した車両のみです。"]
[null,null,"　尚、当協会で許可するものは、出演日の構成メンバー使用の楽器・器物搬入に使用する車両のみとさせていただきます。"]
[null,null,"　許可した車両には、トラック通行証を発行します。"]
[null,null,"・大会専用駐車場はございません。なるべく公共交通機関をご利用の上、ご来場下さいますようお願いします。"]
[null,null,{"$f":"\"・トラック\"&初期入力!D54&\"＝会場敷地内の指定された場所での楽器・器物の積み降ろしが可能です。\"","v":"・トラック通行証＝会場敷地内の指定された場所での楽器・器物の積み降ろしが可能です。"}]
[null,null,{"$f":"\"・バス\"&初期入力!D55&\"＝指定された時間・場所でのバスの乗降等をお願いいたします。\"","v":"・バス配車証＝指定された時間・場所でのバスの乗降等をお願いいたします。"}]
[null,null,"・申込み状況により、希望台数に添えないことがございますので、予めご了承下さい。"]
[null,null,"・トラックの大きさは、４ｔロング以内でお願いします。"]
[]
[null,null,null,null,null,null,null,null,null,"大きさ",null,null,null,null,null,null,null,null,null,null,"希望台数"]
[null,null,null,null,{"$f":"\"トラック\"&初期入力!D54","v":"トラック通行証"},null,null,null,null,"2tトラック",null,null,null,null,null,null,null,null,null,null,null,null,"台",null,null,null,null,null,null,null,null,null,null,null,null,null,null,null,null,null,null,null,null,null,null,null,null,null,null,{"$f":"IF(SUBSTITUTE(ASC(U253),\" \",\"\")=\"\",\"\",SUBSTITUTE(ASC(U253),\" \",\"\"))","v":""}]
[null,null,null,null,null,null,null,null,null,"2tロングトラック",null,null,null,null,null,null,null,null,null,null,null,null,"台",null,null,null,null,null,null,null,null,null,null,null,null,null,null,null,null,null,null,null,null,null,null,null,null,null,null,{"$f":"IF(SUBSTITUTE(ASC(U254),\" \",\"\")=\"\",\"\",SUBSTITUTE(ASC(U254),\" \",\"\"))","v":""}]
[null,null,null,null,null,null,null,null,null,"4tトラック",null,null,null,null,null,null,null,null,null,null,null,null,"台",null,null,null,null,null,null,null,null,null,null,null,null,null,null,null,null,null,null,null,null,null,null,null,null,null,null,""]
[null,null,null,null,null,null,null,null,null,"4tロングトラック",null,null,null,null,null,null,null,null,null,null,null,null,"台",null,null,null,null,null,null,null,null,null,null,null,null,null,null,null,null,null,null,null,null,null,null,null,null,null,null,""]
[null,null,null,null,null,null,null,null,null,"その他（車種：",null,null,null,null,null,null,null,null,null,"）",null,null,"台",{"$f":"IF(AW257=1,選択肢!C99,\"\")","v":""},null,null,null,null,null,null,null,null,null,null,null,null,null,null,null,null,null,null,null,null,null,null,null,{"$f":"IF(U257>=1,1,0)","v":0},{"$f":"IF(AND(AV257=1,M257=\"\"),1,0)","v":0},""]
[null,null,null,null,{"$f":"\"バス\"&初期入力!D55","v":"バス配車証"},null,null,null,null,"マイクロ（小型）バス（長さ7m以下）",null,null,null,null,null,null,null,null,null,null,null,null,"台",null,null,null,null,null,null,null,null,null,null,null,null,null,null,null,null,null,null,null,null,null,null,null,null,null,null,""]
[null,null,null,null,null,null,null,null,null,"中型バス（長さ7～9m）",null,null,null,null,null,null,null,null,null,null,null,null,"台",null,null,null,null,null,null,null,null,null,null,null,null,null,null,null,null,null,null,null,null,null,null,null,null,null,null,""]
[null,null,null,null,null,null,null,null,null,"大型バス（長さ9m以上）",null,null,null,null,null,null,null,null,null,null,null,null,"台",null,null,null,null,null,null,null,null,null,null,null,null,null,null,null,null,null,null,null,null,null,null,null,null,null,null,""]
[]
[null,null,null,null,"● 駐車料金",null,null,null,"※駐車料金は、参加費とともに指定口座へご入金下さい。（払込総額）"]
[null,null,null,null,null,null,null,null," 　振込用紙の通信欄へ、駐車台数と料金もご記入下さい。"]
[null,null,null,null,null,"【トラック】",null,null,{"$f":"SUM(U253:V257)","v":0},null,null,"台","×",{"$f":"IF(AT264=1,VLOOKUP(SUBSTITUTE(SUBSTITUTE(F264,\"【\",\"\"),\"】\",\"\"),初期入力!$A$53:$C$55,MATCH(初期入力!$C$53,初期入力!$A$53:$C$53,0)),0)","v":0},null,null,"円","=",{"$f":"IF(N264=\"\",\"\",I264*N264)","v":0},null,null,null,"円",null,null,null,null,null,null,null,null,null,null,null,null,null,null,null,null,null,null,null,null,null,null,{"$f":"IF(VLOOKUP(SUBSTITUTE(SUBSTITUTE(F264,\"【\",\"\"),\"】\",\"\"),初期入力!$A$53:$C$55,MATCH(初期入力!$B$53,初期入力!$A$53:$C$53,0))=選択肢!$A$113,1,0)","v":0},{"$f":"SUM(AT264:AT266)","v":0}]
[]
[null,null,null,null,null,"【バス】",null,null,{"$f":"SUM(U258:V260)","v":0},null,null,"台","×",{"$f":"IF(AT266=1,VLOOKUP(SUBSTITUTE(SUBSTITUTE(F266,\"【\",\"\"),\"】\",\"\"),初期入力!$A$53:$C$55,MATCH(初期入力!$C$53,初期入力!$A$53:$C$53,0)),0)","v":0},null,null,"円","=",{"$f":"IF(N266=\"\",\"\",I266*N266)","v":0},null,null,null,"円",null,null,null,null,null,null,null,null,null,null,null,null,null,null,null,null,null,null,null,null,null,null,{"$f":"IF(VLOOKUP(SUBSTITUTE(SUBSTITUTE(F266,\"【\",\"\"),\"】\",\"\"),初期入力!$A$53:$C$55,MATCH(初期入力!$B$53,初期入力!$A$53:$C$53,0))=選択肢!$A$113,1,0)","v":0}]
[]
[null,null,null,null,null,null,null,null,null,null,null,null,null,null,null,"駐車料金総額",null,null,null,{"$f":"S264+S266","v":0},null,null,null,null,"円"]
[]
[null,null,null,null,null,null,null,null,null,null,null,null,null,null,null,"払込総額",null,null,null,{"$f":"SUM(AI65,T268)","v":0},null,null,null,null,"円"]
[]
[]
["6．プログラム掲載事項"]
[null,"※プログラム掲載事項は各団体の責任の上、完全原稿でのご提出をお願い致します。"]
[null,"※完全原稿ご提出後、外部委託している印刷会社より校正のご連絡がいきますので、必ず、校正を行ってください。"]
[null,"　尚、校正段階での写真の差し替えはできません。"]
[null,"※プログラム校正は、基本的にメール（PDF添付）またはFAXで、直接印刷業者とのやりとりとなります。"]
[]
[null,"■プログラム校正責任者"]
[null,"送付先と同様／その他",null,null,null,null,null,{"$f":"IF(AU280=0,選択肢!$A$3,選択肢!$A$5)","v":"【※選択】"},null,null,"※リストから選択して下さい",null,null,null,null,null,null,"※必ず連絡がとれる方を入力して下さい。",null,null,null,null,null,null,null,null,null,null,null,null,null,null,null,null,null,null,null,null,null,null,null,null,null,null,null,null,{"$f":"IF(K280=選択肢!A102,2,IF(K280=選択肢!A103,1,0))","v":0},null,{"$f":"IF(AND(AU280<>0,SUM(AW282:AW284)=0),0,1)","v":1}]
[]
[null,null,null,"氏名",null,null,null,{"$f":"IF(AT282=0,選択肢!$A$10,IF(AV282=0,選択肢!$A$6,選択肢!$A$4))","v":"【※入力】"},null,null,null,null,null,null,null,null,null,null,null,null,null,null,null,null,null,null,null,null,null,null,null,null,null,null,null,null,null,null,null,null,null,null,null,null,null,{"$f":"IF($AU$280=2,0,1)","v":1},null,{"$f":"IF(AND(AT282=1,K282=\"\"),1,0)","v":1},{"$f":"SUM(AV282:AV285)","v":4},{"$f":"TRIM(SUBSTITUTE(K282,\" \",\"　\"))","v":""}]
[null,null,null,"氏名ふりがな",null,null,null,{"$f":"IF(AT283=0,選択肢!$A$10,IF(AV283=0,選択肢!$A$6,選択肢!$A$4))","v":"【※入力】"},null,null,null,null,null,null,null,null,null,null,null,null,null,null,null,null,null,null,null,null,null,null,null,null,null,null,null,null,null,null,null,null,null,null,null,null,null,{"$f":"IF($AU$280=2,0,1)","v":1},null,{"$f":"IF(AND(AT283=1,K283=\"\"),1,0)","v":1},null,{"$f":"TRIM(SUBSTITUTE(K283,\" \",\"　\"))","v":""}]
[null,null,null,"電話番号",null,null,null,{"$f":"IF(AT284=0,選択肢!$A$10,IF(AU284=0,選択肢!$A$6,選択肢!$A$4))","v":"【※入力】"},null,null,null,null,null,null,null,null,null,{"$f":"IF(AV284=1,選択肢!C29,\"\")","v":"※電話番号 もしくは 携帯電話を必ず入力してください。"},null,null,null,null,null,null,null,null,null,null,null,null,null,null,null,null,null,null,null,null,null,null,null,null,null,null,null,{"$f":"IF(AND($AU$280<>1,$AV$15=0),0,1)","v":1},{"$f":"IF(AND(AT284=1,SUBSTITUTE(SUBSTITUTE(K284,\" \",\"\"),\"　\",\"\")=\"\"),1,0)","v":1},{"$f":"IF(AU284+AU286<2,0,1)","v":1},null,{"$f":"IF(K284=\"\",\"\",ASC(K284))","v":""}]
[null,null,null,"FAX",null,null,null,{"$f":"IF(AT285=0,選択肢!$A$10,IF(AU285=0,選択肢!$A$6,選択肢!$A$4))","v":"【※入力】"},null,null,null,null,null,null,null,null,null,{"$f":"IF(AV285=1,選択肢!C30,\"\")","v":"※FAX番号 もしくは E-mailアドレスを必ず入力してください。"},null,null,null,null,null,null,null,null,null,null,null,null,null,null,null,null,null,null,null,null,null,null,null,null,null,null,null,{"$f":"IF(AND($AU$280<>1,$AV$16=0),0,1)","v":1},{"$f":"IF(AND(AT285=1,SUBSTITUTE(SUBSTITUTE(K285,\" \",\"\"),\"　\",\"\")=\"\"),1,0)","v":1},{"$f":"IF(AU285+AU287<2,0,1)","v":1},null,{"$f":"IF(K285=\"\",\"\",ASC(K285))","v":""}]
[null,null,null,"携帯電話",null,null,null,{"$f":"IF(AT286=0,選択肢!$A$10,IF(AU286=0,選択肢!$A$6,選択肢!$A$4))","v":"【※入力】"},null,null,null,null,null,null,null,null,null,null,null,null,null,null,null,null,null,null,null,null,null,null,null,null,null,null,null,null,null,null,null,null,null,null,null,null,null,{"$f":"IF(AND($AU$280<>1,$AV$15=0),0,1)","v":1},{"$f":"IF(AND(AT286=1,SUBSTITUTE(SUBSTITUTE(K286,\" \",\"\"),\"　\",\"\")=\"\"),1,0)","v":1},null,null,""]
[null,null,null,"E-mail(PC)",null,null,null,{"$f":"IF(AT287=0,選択肢!$A$10,IF(AU287=0,選択肢!$A$6,選択肢!$A$4))","v":"【※入力】"},null,null,null,null,null,null,null,null,null,null,null,null,null,null,null,null,null,null,null,null,null,null,null,null,null,null,null,null,null,null,null,null,null,null,null,null,null,{"$f":"IF(AND($AU$280<>1,$AV$16=0),0,1)","v":1},{"$f":"IF(AND(AT287=1,SUBSTITUTE(SUBSTITUTE(K287,\" \",\"\"),\"　\",\"\")=\"\"),1,0)","v":1},null,null,{"$f":"IF(K287=\"\",\"\",ASC(K287))","v":""}]
[]
[null,"■掲載内容"]
[null,"団体名ふりがな",null,null,null,null,null,{"$f":"IF(AW290=1,選択肢!$A$4,選択肢!$A$6)","v":"【※入力】"},null,null,null,null,null,null,null,null,null,null,null,null,null,null,null,null,null,null,null,null,null,null,null,null,null,null,null,"※ふりがなは必ず入力して下さい。",null,null,null,null,null,null,null,null,null,null,null,null,{"$f":"IF(SUBSTITUTE(SUBSTITUTE(K290,\" \",\"\"),\"　\",\"\")=\"\",1,0)","v":1}]
[null,"団体名〈日本語表記〉",null,null,null,null,null,null,null,null,{"$f":"IF(I6=\"\",\"\",I6)","v":""}]
[]
[]
[null,"都県名",null,null,null,null,null,null,null,null,{"$f":"IF(I4=\"\",\"\",I4)","v":"※リストから選択して下さい"}]
[]
[null,null,"演目〈テーマ〉"]
[null,"演目〈テーマ〉ふりがな",null,null,null,null,null,{"$f":"IF(AW297=1,選択肢!$A$4,選択肢!$A$6)","v":"【※入力】"},null,null,null,null,null,null,null,null,null,null,null,null,null,null,null,null,null,null,null,"※ふりがなは必ず入力して下さい。数字についてもふりがなをふって下さい。",null,null,null,null,null,null,null,null,null,null,null,null,null,null,null,null,null,null,null,null,{"$f":"IF(SUBSTITUTE(SUBSTITUTE(K297,\" \",\"\"),\"　\",\"\")=\"\",1,0)","v":1}]
[null,"演目〈テーマ〉",null,null,null,null,null,{"$f":"IF(AW298=1,選択肢!$A$4,選択肢!$A$6)","v":"【※入力】"},null,null,null,null,null,null,null,null,null,null,null,null,null,null,null,null,null,null,null,"※大・小文字、スペース、記号等に注意して入力して下さい。",null,null,null,null,null,null,null,null,null,null,null,null,null,null,null,null,null,null,null,null,{"$f":"IF(SUBSTITUTE(SUBSTITUTE(K298,\" \",\"\"),\"　\",\"\")=\"\",1,0)","v":1}]
[]
[null,null,"役職\n所属長・理事長・学校長\n顧問・指導者・指揮者\nドラムメジャー部長など",null,null,null,null,null,null,null,"役職",null,null,null,null,null,null,"氏名",null,null,null,null,null,null,"※外部指導者は記載不可"]
[null,null,"所属長・理事長・学校長　　　　　　　　　　　　　　　　　　　　　　　　　　　　・顧問・指導者・指揮者\nドラムメジャー・部長\nなど",null,null,null,null,{"$f":"IF(AV301=1,選択肢!$A$4,IF(AV301=2,選択肢!$A$6,選択肢!$A$10))","v":"―"},null,null,null,null,null,null,null,null,null,null,null,null,null,null,null,null,{"$f":"COUNTA(K301:X301)","v":0},"※名字と名前の間に必ず１つスペースを空けて入力して下さい。",null,null,null,null,null,null,null,null,null,null,null,null,null,null,null,null,null,null,null,{"$f":"IF(SUBSTITUTE(SUBSTITUTE(K301,\" \",\"\"),\"　\",\"\")=\"\",0,1)","v":0},{"$f":"IF(SUBSTITUTE(SUBSTITUTE(R301,\" \",\"\"),\"　\",\"\")=\"\",0,1)","v":0},{"$f":"SUM(AT301:AU301)","v":0},null,{"$f":"TRIM(SUBSTITUTE(R301,\" \",\"　\"))","v":""}]
[null,null,null,null,null,null,null,{"$f":"IF(AV302=1,選択肢!$A$4,IF(AV302=2,選択肢!$A$6,選択肢!$A$10))","v":"―"},null,null,null,null,null,null,null,null,null,null,null,null,null,null,null,null,0,null,null,null,null,null,null,null,null,null,null,null,null,null,null,null,null,null,null,null,null,0,0,0,null,{"$f":"TRIM(SUBSTITUTE(R302,\" \",\"　\"))","v":""}]
[null,null,null,null,null,null,null,{"$f":"IF(AV303=1,選択肢!$A$4,IF(AV303=2,選択肢!$A$6,選択肢!$A$10))","v":"―"},null,null,null,null,null,null,null,null,null,null,null,null,null,null,null,null,0,null,null,null,null,null,null,null,null,null,null,null,null,null,null,null,null,null,null,null,null,0,0,0,null,""]
[null,null,null,null,null,null,null,{"$f":"IF(AV304=1,選択肢!$A$4,IF(AV304=2,選択肢!$A$6,選択肢!$A$10))","v":"―"},null,null,null,null,null,null,null,null,null,null,null,null,null,null,null,null,0,null,null,null,null,null,null,null,null,null,null,null,null,null,null,null,null,null,null,null,null,0,0,0,null,""]
[null,null,null,null,null,null,null,{"$f":"IF(AV305=1,選択肢!$A$4,IF(AV305=2,選択肢!$A$6,選択肢!$A$10))","v":"―"},null,null,null,null,null,null,null,null,null,null,null,null,null,null,null,null,0,null,null,null,null,null,null,null,null,null,null,null,null,null,null,null,null,null,null,null,null,0,0,0,null,""]
[null,null,null,null,null,null,null,{"$f":"IF(AV306=1,選択肢!$A$4,IF(AV306=2,選択肢!$A$6,選択肢!$A$10))","v":"―"},null,null,null,null,null,null,null,null,null,null,null,null,null,null,null,null,0,null,null,null,null,null,null,null,null,null,null,null,null,null,null,null,null,null,null,null,null,0,0,0,null,""]
[null,null,null,null,null,null,null,{"$f":"IF(AV307=1,選択肢!$A$4,IF(AV307=2,選択肢!$A$6,選択肢!$A$10))","v":"―"},null,null,null,null,null,null,null,null,null,null,null,null,null,null,null,null,0,null,null,null,null,null,null,null,null,null,null,null,null,null,null,null,null,null,null,null,null,0,0,0,null,""]
[null,null,null,null,null,null,null,{"$f":"IF(AV308=1,選択肢!$A$4,IF(AV308=2,選択肢!$A$6,選択肢!$A$10))","v":"―"},null,null,null,null,null,null,null,null,null,null,null,null,null,null,null,null,0,null,null,null,null,null,null,null,null,null,null,null,null,null,null,null,null,null,null,null,null,0,0,0,null,""]
[null,null,null,null,null,null,null,{"$f":"IF(AV309=1,選択肢!$A$4,IF(AV309=2,選択肢!$A$6,選択肢!$A$10))","v":"―"},null,null,null,null,null,null,null,null,null,null,null,null,null,null,null,null,0,null,null,null,null,null,null,null,null,null,null,null,null,null,null,null,null,null,null,null,null,0,0,0,null,""]
[null,null,null,null,null,null,null,{"$f":"IF(AV310=1,選択肢!$A$4,IF(AV310=2,選択肢!$A$6,選択肢!$A$10))","v":"―"},null,null,null,null,null,null,null,null,null,null,null,null,null,null,null,null,0,null,null,null,null,null,null,null,null,null,null,null,null,null,null,null,null,null,null,null,null,0,0,0,null,""]
[null,null,null,null,null,null,null,{"$f":"IF(AV311=1,選択肢!$A$4,IF(AV311=2,選択肢!$A$6,選択肢!$A$10))","v":"―"},null,null,null,null,null,null,null,null,null,null,null,null,null,null,null,null,0,null,null,null,null,null,null,null,null,null,null,null,null,null,null,null,null,null,null,null,null,0,0,0,null,""]
[null,null,null,null,null,null,null,{"$f":"IF(AV312=1,選択肢!$A$4,IF(AV312=2,選択肢!$A$6,選択肢!$A$10))","v":"―"},null,null,null,null,null,null,null,null,null,null,null,null,null,null,null,null,0,null,null,null,null,null,null,null,null,null,null,null,null,null,null,null,null,null,null,null,null,0,0,0,null,""]
[]
[null,null,"・プログラム掲載で別途ご提出いただくもの"]
[null,null,"※写真",null,null,null,null,{"$f":"IF(AV315=1,選択肢!$A$7,IF(AW315=1,選択肢!$A$3,選択肢!$A$5))","v":"【※選択】"},null,null,"※リストから選択して下さい",null,null,null,null,null,null,null,null,null,null,null,null,null,{"$f":"IF(AV315=1,\"※ この提出方法は選択できません\",\"※ 提出方法を選択してください\")","v":"※ 提出方法を選択してください"},null,null,null,null,null,null,null,null,null,null,null,null,null,null,null,null,null,null,null,null,null,{"$f":"IF(K315=選択肢!B109,1,IF(K315=選択肢!B107,2,IF(K315=選択肢!B108,3,0)))","v":0},{"$f":"IF(OR(AV317<0,AV321<0,AV323<0),1,0)","v":0},{"$f":"IF(OR(AU315=0,AV317<0,AV321<0,AV323<0),1,0)","v":1}]
[]
[null,null,null,null,null,null,null,"データ【JPEG】の場合",null,null,null,null,null,null,{"$f":"IF(選択肢!E107=\"\",\"※選択できません。\",\"\")","v":"※選択できません。"},null,null,null,null,null,null,null,null,null,null,null,"・集合写真もしくは演技写真をご提出下さい｡",null,null,null,null,null,null,null,null,null,null,null,null,null,null,null,null,null,null,{"$f":"IF(選択肢!E107=\"\",0,1)","v":0},{"$f":"IF($K$315=選択肢!B107,1,0)","v":0},{"$f":"AT317-AU317","v":0}]
[null,null,null,null,null,null,null,{"$f":"IF(選択肢!E107=\"\",\"\",\"　※データご提出の場合は必ずプリントアウト（A4普通紙）をし、プリントアウト裏面\")","v":""},null,null,null,null,null,null,null,null,null,null,null,null,null,null,null,null,null,null,"　提出後の写真の差し替えは出来ません。"]
[null,null,null,null,null,null,null,{"$f":"IF(選択肢!E107=\"\",\"\",\"　　 に 団体名・構成を必ずご記入ください。データは、メール添付か郵送にて提出\")","v":""},null,null,null,null,null,null,null,null,null,null,null,null,null,null,null,null,null,null,"・個人の特定できる写真を使用する場合は、その個人にプログラムへの"]
[null,null,null,null,null,null,null,{"$f":"IF(選択肢!E107=\"\",\"\",\"　　 してください。\")","v":""},null,null,null,null,null,null,null,null,null,null,null,null,null,null,null,null,null,null,"　写真掲載の承諾を得た上でご提出をお願いします｡"]
[null,null,null,null,null,null,null,"生写真の場合　",null,null,null,null,null,null,{"$f":"IF(選択肢!E108=\"\",\"※選択できません。\",\"\")","v":"※選択できません。"},null,null,null,null,null,null,null,null,null,null,null,"・掲載する写真は１点です。複数枚のご提出は間違いの基になります。",null,null,null,null,null,null,null,null,null,null,null,null,null,null,null,null,null,null,{"$f":"IF(選択肢!E108=\"\",0,1)","v":0},{"$f":"IF($K$315=選択肢!B108,1,0)","v":0},{"$f":"AT321-AU321","v":0}]
[null,null,null,null,null,null,null,{"$f":"IF(選択肢!E108=\"\",\"\",\"　※裏面に団体名・構成を必ず記入し、郵送してください。\")","v":""},null,null,null,null,null,null,null,null,null,null,null,null,null,null,null,null,null,null,"・お預かりいたしました写真（データ・プリントアウト・原本）の返却はいたしません。"]
[null,null,null,null,null,null,null,{"$f":"IF(選択肢!E109=\"\",\"\",初期入力!C61&\" 撮影業者から直送の場合\")","v":"都県大会 撮影業者から直送の場合"},null,null,null,null,null,null,null,null,null,null,null,null,null,null,null,null,null,null,null,null,null,null,null,null,null,null,null,null,null,null,null,null,null,null,null,null,null,{"$f":"IF(選択肢!E109=\"\",0,1)","v":1},{"$f":"IF($K$315=選択肢!B109,1,0)","v":0},{"$f":"AT323-AU323","v":1}]
[null,null,null,null,null,null,null,{"$f":"IF(選択肢!E109=\"\",\"\",\"　※団体での手続きはございません。\")","v":"　※団体での手続きはございません。"}]
[]
[]
[{"$f":"IF($AV$327=1,\"★\"&初期入力!C73&\"への参加アンケート\",\"\")","v":"★関東スーパーマーチングへの参加アンケート"},null,null,null,null,null,null,null,null,null,null,null,null,null,null,null,null,null,null,null,null,null,null,null,null,null,null,null,null,null,null,null,null,null,null,null,null,null,null,null,null,null,null,null,null,null,null,{"$f":"IF(初期入力!A72=選択肢!$A$113,1,0)","v":1},{"$f":"IF(AV327=0,0,IF(ISERROR(MATCH(H333,選択肢!$A$158:$A$159,0)),1,0))","v":1}]
[]
[null,{"$f":"IF($AV$327=1,\"以下の日程で行われる『\"&初期入力!C73&\"』へ招待された場合の参加の有無をお答えください。\",\"\")","v":"以下の日程で行われる『関東スーパーマーチング』へ招待された場合の参加の有無をお答えください。"}]
[null,null,null,null,{"$f":"IF($AV$327=1,\"日程\",\"\")","v":"日程"},null,{"$f":"IF($AV$327=1,TEXT(初期入力!C74,\"yyyy年m月d日（aaa）\")&IF(初期入力!C75=\"\",\"\",\" ～ \"&TEXT(初期入力!C75,\"yyyy年m月d日（aaa）\")),\"\")","v":"2017年12月24日(日)"}]
[null,null,null,null,{"$f":"IF($AV$327=1,\"場所\",\"\")","v":"場所"},null,{"$f":"IF($AV$327=1,初期入力!C76,\"\")","v":"エスフォルタアリーナ八王子"}]
[]
[null,null,null,null,{"$f":"IF(AV327=1,IF(AW327=0,選択肢!$A$5,選択肢!$A$3),\"\")","v":"【※選択】"},null,null,"※リストから選択して下さい"]
[]
[]
[{"$f":"IF(AW336=0,AV337,AU337)","v":"未入力の項目があります。再度チェックし、必須項目を入力してください。"},null,null,null,null,null,null,null,null,null,null,null,null,null,null,null,null,null,null,null,null,null,null,null,null,null,null,null,null,null,null,null,null,null,null,null,null,null,null,null,null,null,null,null,null,null,null,null,{"$f":"SUM(AW1:AW335)","v":38}]
["データ入力完了後、保存をして、このデータを関東支部事務局へご提出ください。",null,null,null,null,null,null,null,null,null,null,null,null,null,null,null,null,null,null,null,null,null,null,null,null,null,null,null,null,null,null,null,null,null,null,null,null,null,null,null,null,null,null,null,null,null,"未入力の項目があります。再度チェックし、必須項目を入力してください。","入力は終了しました。『Ⅲ.印刷用』シートで入力内容を確認してください。"]
[null,null,null,null,null,null,null,null,null,null,null,null,null,null,null,"mb.contest.kanto@m-bkanto.org"]

{"sheet":"@","index":5,"n_rows":290,"n_cols":248,"rows_kept":290,"cut":false,"hidden":true,"merged":[]}
["推薦都県名","団体名","所属長 役職","所属長 氏名","書類送付先 〒","書類送付先 住所","書類送付先 氏名","書類送付先 氏名ふりがな","書類送付先 電話番号","書類送付先 FAX","書類送付先 携帯電話","書類送付先 E-mail（PC）","当日連絡先","当日連絡先 氏名","当日連絡先 氏名ふりがな","当日連絡先 携帯電話","構成","編成","カラーガードの有無","楽器編成","構成メンバー数","登録引率者1","登録引率者2","登録引率者3","登録引率者4","登録引率者数","払込予定日","団体参加費","個人参加費 単価","個人参加費 合計","参加費総額","使用曲数","M1使用楽曲名","M1作曲者","M1出版社","M1使用許諾の有無","M1理由","M1その他","M1確認書の有無","M1確認日","M1確認相手先 社名","M1確認相手先 担当者","M1確認相手先 電話番号","M1団体担当者","M1使用料","M2使用楽曲名","M2作曲者","M2出版社","M2使用許諾の有無","M2理由","M2その他","M2確認書の有無","M2確認日","M2確認相手先 社名","M2確認相手先 担当者","M2確認相手先 電話番号","M2団体担当者","M2使用料","M3使用楽曲名","M3作曲者","M3出版社","M3使用許諾の有無","M3理由","M3その他","M3確認書の有無","M3確認日","M3確認相手先 社名","M3確認相手先 担当者","M3確認相手先 電話番号","M3団体担当者","M3使用料","M4使用楽曲名","M4作曲者","M4出版社","M4使用許諾の有無","M4理由","M4その他","M4確認書の有無","M4確認日","M4確認相手先 社名","M4確認相手先 担当者","M4確認相手先 電話番号","M4団体担当者","M4使用料","M5使用楽曲名","M5作曲者","M5出版社","M5使用許諾の有無","M5理由","M5その他","M5確認書の有無","M5確認日","M5確認相手先 社名","M5確認相手先 担当者","M5確認相手先 電話番号","M5団体担当者","M5使用料","M6使用楽曲名","M6作曲者","M6出版社","M6使用許諾の有無","M6理由","M6その他","M6確認書の有無","M6確認日","M6確認相手先 社名","M6確認相手先 担当者","M6確認相手先 電話番号","M6団体担当者","M6使用料","M7使用楽曲名","M7作曲者","M7出版社","M7使用許諾の有無","M7理由","M7その他","M7確認書の有無","M7確認日","M7確認相手先 社名","M7確認相手先 担当者","M7確認相手先 電話番号","M7団体担当者","M7使用料","M8使用楽曲名","M8作曲者","M8出版社","M8使用許諾の有無","M8理由","M8その他","M8確認書の有無","M8確認日","M8確認相手先 社名","M8確認相手先 担当者","M8確認相手先 電話番号","M8団体担当者","M8使用料","M9使用楽曲名","M9作曲者","M9出版社","M9使用許諾の有無","M9理由","M9その他","M9確認書の有無","M9確認日","M9確認相手先 社名","M9確認相手先 担当者","M9確認相手先 電話番号","M9団体担当者","M9使用料","M10使用楽曲名","M10作曲者","M10出版社","M10使用許諾の有無","M10理由","M10その他","M10確認書の有無","M10確認日","M10確認相手先 社名","M10確認相手先 担当者","M10確認相手先 電話番号","M10団体担当者","M10使用料","特殊効果","使用項目1","使用方法1","使用項目2","使用方法2","使用項目3","使用方法3","使用項目4","使用方法4","使用項目5","使用方法5","使用項目6","使用方法6","使用項目7","使用方法7","使用項目8","使用方法8","使用項目9","使用方法9","使用項目10","使用方法10","補助スタッフ","計時合図者","計時合図場所","プロップの使用","チューニングルームの使用",{"$f":"IF(初期入力!A48=選択肢!A113,初期入力!B49,\"他準備エリア\")&\"の使用\"","v":"CG（カラーガード）ストレッチエリアの使用"},"ピット楽器の使用","記録撮影者1","記録撮影者2","DVD撮影","二次使用","2t","2tロング","4t","4tロング","その他","その他 車種","マイクロ（小型）","中型","大型","トラック 台数合計","トラック 駐車料金単価","トラック 駐車料金合計","バス 台数合計","バス 駐車料金単価","バス 駐車料金合計","駐車料金合計","払込総額","校正責任者","校正責任者 氏名","校正責任者 氏名ふりがな","校正責任者 電話番号","校正責任者 FAX","校正責任者 携帯電話","校正責任者 E-mail(PC)","団体名ふりがな","演目〈テーマ〉ふりがな","演目〈テーマ〉","掲載役職1","掲載氏名1","掲載役職2","掲載氏名2","掲載役職3","掲載氏名3","掲載役職4","掲載氏名4","掲載役職5","掲載氏名5","掲載役職6","掲載氏名6","掲載役職7","掲載氏名7","掲載役職8","掲載氏名8","掲載役職9","掲載氏名9","掲載役職10","掲載氏名10","掲載役職11","掲載氏名11","掲載役職12","掲載氏名12","写真提出方法",{"$f":"IF(初期入力!A72=選択肢!A113,初期入力!C73,\"他大会\")&\"への参加\"","v":"関東スーパーマーチングへの参加"}]
[{"$f":"IF(Ⅱ.入力用!AW4=1,\"\",Ⅱ.入力用!I4)","v":""},{"$f":"IF(Ⅱ.入力用!I6=\"\",\"\",Ⅱ.入力用!I6)","v":""},{"$f":"IF(Ⅱ.入力用!I8=\"\",\"\",Ⅱ.入力用!I8)","v":""},{"$f":"IF(Ⅱ.入力用!AX8=\"\",\"\",Ⅱ.入力用!AX8)","v":""},{"$f":"IF(Ⅱ.入力用!AX11=\"\",\"\",Ⅱ.入力用!AX11)","v":""},{"$f":"IF(Ⅱ.入力用!I12=\"\",\"\",Ⅱ.入力用!I12)","v":""},{"$f":"IF(Ⅱ.入力用!AX13=\"\",\"\",Ⅱ.入力用!AX13)","v":""},{"$f":"IF(Ⅱ.入力用!AX14=\"\",\"\",Ⅱ.入力用!AX14)","v":""},{"$f":"IF(Ⅱ.入力用!AX15=\"\",\"\",Ⅱ.入力用!AX15)","v":""},{"$f":"IF(Ⅱ.入力用!AX16=\"\",\"\",Ⅱ.入力用!AX16)","v":""},{"$f":"IF(Ⅱ.入力用!AX17=\"\",\"\",Ⅱ.入力用!AX17)","v":""},{"$f":"IF(Ⅱ.入力用!AX18=\"\",\"\",Ⅱ.入力用!AX18)","v":""},{"$f":"IF(Ⅱ.入力用!AU21=0,\"\",Ⅱ.入力用!I21)","v":""},{"$f":"IF(Ⅱ.入力用!$AU$21=2,IF(Ⅱ.入力用!AX13=\"\",\"\",Ⅱ.入力用!AX13),IF(Ⅱ.入力用!AX23=\"\",\"\",Ⅱ.入力用!AX23))","v":""},{"$f":"IF(Ⅱ.入力用!$AU$21=2,IF(Ⅱ.入力用!AX14=\"\",\"\",Ⅱ.入力用!AX14),IF(Ⅱ.入力用!AX24=\"\",\"\",Ⅱ.入力用!AX24))","v":""},{"$f":"IF(Ⅱ.入力用!$AU$21=2,IF(Ⅱ.入力用!AU25=1,IF(Ⅱ.入力用!AX25=\"\",\"\",Ⅱ.入力用!AX25),Ⅱ.入力用!AX17),IF(Ⅱ.入力用!AX25=\"\",\"\",Ⅱ.入力用!AX25))","v":""},{"$f":"IF(Ⅱ.入力用!AV30=0,\"\",Ⅱ.入力用!I30)","v":""},{"$f":"IF(OR(Ⅱ.入力用!AV30=1,Ⅱ.入力用!AV31=0),\"\",Ⅱ.入力用!I31)","v":""},{"$f":"IF(Ⅱ.入力用!AW34=1,\"\",Ⅱ.入力用!J34)","v":""},{"$f":"IF(Ⅱ.入力用!AW35=1,\"\",Ⅱ.入力用!J35)","v":""},{"$f":"Ⅱ.入力用!G40","v":0},{"$f":"IF(OR(Ⅱ.入力用!AX47=\"\",AND(SUM(Ⅱ.入力用!$AT$47:$AT$50)>0,Ⅱ.入力用!AT47=0)),\"\",Ⅱ.入力用!AX47)","v":""},{"$f":"IF(OR(Ⅱ.入力用!AX48=\"\",AND(SUM(Ⅱ.入力用!$AT$47:$AT$50)>0,Ⅱ.入力用!AT48=0)),\"\",Ⅱ.入力用!AX48)","v":""},{"$f":"IF(OR(Ⅱ.入力用!AX49=\"\",AND(SUM(Ⅱ.入力用!$AT$47:$AT$50)>0,Ⅱ.入力用!AT49=0)),\"\",Ⅱ.入力用!AX49)","v":""},{"$f":"IF(OR(Ⅱ.入力用!AX50=\"\",AND(SUM(Ⅱ.入力用!$AT$47:$AT$50)>0,Ⅱ.入力用!AT50=0)),\"\",Ⅱ.入力用!AX50)","v":""},{"$f":"Ⅱ.入力用!J52","v":0},{"$f":"IF(Ⅱ.入力用!I63=\"\",\"\",Ⅱ.入力用!I63)","v":""},{"$f":"初期入力!B37","v":3000},{"$f":"IF(Ⅱ.入力用!T65=\"\",\"\",Ⅱ.入力用!T65)","v":""},{"$f":"IF(Ⅱ.入力用!Y65=\"\",\"\",Ⅱ.入力用!Y65)","v":""},{"$f":"IF(Ⅱ.入力用!AI65=\"\",\"\",Ⅱ.入力用!AI65)","v":""},{"$f":"Ⅱ.入力用!AV70","v":0},{"$f":"IF(OFFSET(Ⅱ.入力用!$AV$74,$AG$4*(AG3-1),0,1,1)=0,\"\",IF(OFFSET(Ⅱ.入力用!$I$75,$AG$4*(AG3-1),0,1,1)=\"\",\"\",OFFSET(Ⅱ.入力用!$I$75,$AG$4*(AG3-1),0,1,1)))","v":""},{"$f":"IF(OFFSET(Ⅱ.入力用!$AV$74,$AG$4*(AG3-1),0,1,1)=0,\"\",IF(OFFSET(Ⅱ.入力用!$Y$75,$AG$4*(AG3-1),0,1,1)=\"\",\"\",OFFSET(Ⅱ.入力用!$Y$75,$AG$4*(AG3-1),0,1,1)))","v":""},{"$f":"IF(OFFSET(Ⅱ.入力用!$AV$74,$AG$4*(AG3-1),0,1,1)=0,\"\",IF(OFFSET(Ⅱ.入力用!$AF$75,$AG$4*(AG3-1),0,1,1)=\"\",\"\",OFFSET(Ⅱ.入力用!$AF$75,$AG$4*(AG3-1),0,1,1)))","v":""},{"$f":"IF(OR(OFFSET(Ⅱ.入力用!$AV$74,$AG$4*(AG3-1),0,1,1)=0,OFFSET(Ⅱ.入力用!$AU$76,$AG$4*(AG3-1),0,1,1)=0),\"\",OFFSET(Ⅱ.入力用!$T$76,$AG$4*(AG3-1),0,1,1))","v":""},{"$f":"IF(OR(OFFSET(Ⅱ.入力用!$AV$74,$AG$4*(AG3-1),0,1,1)=0,OFFSET(Ⅱ.入力用!$AU$76,$AG$4*(AG3-1),0,1,1)<>1,OFFSET(Ⅱ.入力用!$AT$77,$AG$4*(AG3-1),0,1,1)=0),\"\",OFFSET(Ⅱ.入力用!$P$77,$AG$4*(AG3-1),0,1,1))","v":""},{"$f":"IF(OR(OFFSET(Ⅱ.入力用!$AU$77,$AG$4*(AG3-1),0,1,1)<>1,OFFSET(Ⅱ.入力用!$Z$77,$AG$4*(AG3-1),0,1,1)=\"\"),\"\",OFFSET(Ⅱ.入力用!$Z$77,$AG$4*(AG3-1),0,1,1))","v":""},{"$f":"IF(OR(OFFSET(Ⅱ.入力用!$AV$74,$AG$4*(AG3-1),0,1,1)=0,OFFSET(Ⅱ.入力用!$AU$76,$AG$4*(AG3-1),0,1,1)<>2,OFFSET(Ⅱ.入力用!$AT$78,$AG$4*(AG3-1),0,1,1)=0),\"\",OFFSET(Ⅱ.入力用!$P$78,$AG$4*(AG3-1),0,1,1))","v":""},{"$f":"IF(OR(OFFSET(Ⅱ.入力用!$AU$78,$AG$4*(AG3-1),0,1,1)<>1,OFFSET(Ⅱ.入力用!$AE$78,$AG$4*(AG3-1),0,1,1)=\"\"),\"\",OFFSET(Ⅱ.入力用!$AE$78,$AG$4*(AG3-1),0,1,1))","v":""},{"$f":"IF(OR(OFFSET(Ⅱ.入力用!$AU$79,$AG$4*(AG3-1),0,1,1)<>1,OFFSET(Ⅱ.入力用!$AE$79,$AG$4*(AG3-1),0,1,1)=\"\"),\"\",OFFSET(Ⅱ.入力用!$AE$79,$AG$4*(AG3-1),0,1,1))","v":""},{"$f":"IF(OR(OFFSET(Ⅱ.入力用!$AU$80,$AG$4*(AG3-1),0,1,1)<>1,OFFSET(Ⅱ.入力用!$AE$80,$AG$4*(AG3-1),0,1,1)=\"\"),\"\",OFFSET(Ⅱ.入力用!$AE$80,$AG$4*(AG3-1),0,1,1))","v":""},{"$f":"IF(OR(OFFSET(Ⅱ.入力用!$AU$81,$AG$4*(AG3-1),0,1,1)<>1,OFFSET(Ⅱ.入力用!$AE$81,$AG$4*(AG3-1),0,1,1)=\"\"),\"\",OFFSET(Ⅱ.入力用!$AE$81,$AG$4*(AG3-1),0,1,1))","v":""},{"$f":"IF(OR(OFFSET(Ⅱ.入力用!$AU$82,$AG$4*(AG3-1),0,1,1)<>1,OFFSET(Ⅱ.入力用!$AE$82,$AG$4*(AG3-1),0,1,1)=\"\"),\"\",OFFSET(Ⅱ.入力用!$AE$82,$AG$4*(AG3-1),0,1,1))","v":""},{"$f":"IF(OR(OFFSET(Ⅱ.入力用!$AU$83,$AG$4*(AG3-1),0,1,1)<>1,OFFSET(Ⅱ.入力用!$AV$83,$AG$4*(AG3-1),0,1,1)=1),\"\",OFFSET(Ⅱ.入力用!$AE$83,$AG$4*(AG3-1),0,1,1))","v":""},{"$f":"IF(OFFSET(Ⅱ.入力用!$AV$74,$AG$4*(AT3-1),0,1,1)=0,\"\",IF(OFFSET(Ⅱ.入力用!$I$75,$AG$4*(AT3-1),0,1,1)=\"\",\"\",OFFSET(Ⅱ.入力用!$I$75,$AG$4*(AT3-1),0,1,1)))","v":""},{"$f":"IF(OFFSET(Ⅱ.入力用!$AV$74,$AG$4*(AT3-1),0,1,1)=0,\"\",IF(OFFSET(Ⅱ.入力用!$Y$75,$AG$4*(AT3-1),0,1,1)=\"\",\"\",OFFSET(Ⅱ.入力用!$Y$75,$AG$4*(AT3-1),0,1,1)))","v":""},{"$f":"IF(OFFSET(Ⅱ.入力用!$AV$74,$AG$4*(AT3-1),0,1,1)=0,\"\",IF(OFFSET(Ⅱ.入力用!$AF$75,$AG$4*(AT3-1),0,1,1)=\"\",\"\",OFFSET(Ⅱ.入力用!$AF$75,$AG$4*(AT3-1),0,1,1)))","v":""},{"$f":"IF(OR(OFFSET(Ⅱ.入力用!$AV$74,$AG$4*(AT3-1),0,1,1)=0,OFFSET(Ⅱ.入力用!$AU$76,$AG$4*(AT3-1),0,1,1)=0),\"\",OFFSET(Ⅱ.入力用!$T$76,$AG$4*(AT3-1),0,1,1))","v":""},{"$f":"IF(OR(OFFSET(Ⅱ.入力用!$AV$74,$AG$4*(AT3-1),0,1,1)=0,OFFSET(Ⅱ.入力用!$AU$76,$AG$4*(AT3-1),0,1,1)<>1,OFFSET(Ⅱ.入力用!$AT$77,$AG$4*(AT3-1),0,1,1)=0),\"\",OFFSET(Ⅱ.入力用!$P$77,$AG$4*(AT3-1),0,1,1))","v":""},{"$f":"IF(OR(OFFSET(Ⅱ.入力用!$AU$77,$AG$4*(AT3-1),0,1,1)<>1,OFFSET(Ⅱ.入力用!$Z$77,$AG$4*(AT3-1),0,1,1)=\"\"),\"\",OFFSET(Ⅱ.入力用!$Z$77,$AG$4*(AT3-1),0,1,1))","v":""},{"$f":"IF(OR(OFFSET(Ⅱ.入力用!$AV$74,$AG$4*(AT3-1),0,1,1)=0,OFFSET(Ⅱ.入力用!$AU$76,$AG$4*(AT3-1),0,1,1)<>2,OFFSET(Ⅱ.入力用!$AT$78,$AG$4*(AT3-1),0,1,1)=0),\"\",OFFSET(Ⅱ.入力用!$P$78,$AG$4*(AT3-1),0,1,1))","v":""},{"$f":"IF(OR(OFFSET(Ⅱ.入力用!$AU$78,$AG$4*(AT3-1),0,1,1)<>1,OFFSET(Ⅱ.入力用!$AE$78,$AG$4*(AT3-1),0,1,1)=\"\"),\"\",OFFSET(Ⅱ.入力用!$AE$78,$AG$4*(AT3-1),0,1,1))","v":""},{"$f":"IF(OR(OFFSET(Ⅱ.入力用!$AU$79,$AG$4*(AT3-1),0,1,1)<>1,OFFSET(Ⅱ.入力用!$AE$79,$AG$4*(AT3-1),0,1,1)=\"\"),\"\",OFFSET(Ⅱ.入力用!$AE$79,$AG$4*(AT3-1),0,1,1))","v":""},{"$f":"IF(OR(OFFSET(Ⅱ.入力用!$AU$80,$AG$4*(AT3-1),0,1,1)<>1,OFFSET(Ⅱ.入力用!$AE$80,$AG$4*(AT3-1),0,1,1)=\"\"),\"\",OFFSET(Ⅱ.入力用!$AE$80,$AG$4*(AT3-1),0,1,1))","v":""},{"$f":"IF(OR(OFFSET(Ⅱ.入力用!$AU$81,$AG$4*(AT3-1),0,1,1)<>1,OFFSET(Ⅱ.入力用!$AE$81,$AG$4*(AT3-1),0,1,1)=\"\"),\"\",OFFSET(Ⅱ.入力用!$AE$81,$AG$4*(AT3-1),0,1,1))","v":""},{"$f":"IF(OR(OFFSET(Ⅱ.入力用!$AU$82,$AG$4*(AT3-1),0,1,1)<>1,OFFSET(Ⅱ.入力用!$AE$82,$AG$4*(AT3-1),0,1,1)=\"\"),\"\",OFFSET(Ⅱ.入力用!$AE$82,$AG$4*(AT3-1),0,1,1))","v":""},{"$f":"IF(OR(OFFSET(Ⅱ.入力用!$AU$83,$AG$4*(AT3-1),0,1,1)<>1,OFFSET(Ⅱ.入力用!$AV$83,$AG$4*(AT3-1),0,1,1)=1),\"\",OFFSET(Ⅱ.入力用!$AE$83,$AG$4*(AT3-1),0,1,1))","v":""},{"$f":"IF(OFFSET(Ⅱ.入力用!$AV$74,$AG$4*(BG3-1),0,1,1)=0,\"\",IF(OFFSET(Ⅱ.入力用!$I$75,$AG$4*(BG3-1),0,1,1)=\"\",\"\",OFFSET(Ⅱ.入力用!$I$75,$AG$4*(BG3-1),0,1,1)))","v":""},{"$f":"IF(OFFSET(Ⅱ.入力用!$AV$74,$AG$4*(BG3-1),0,1,1)=0,\"\",IF(OFFSET(Ⅱ.入力用!$Y$75,$AG$4*(BG3-1),0,1,1)=\"\",\"\",OFFSET(Ⅱ.入力用!$Y$75,$AG$4*(BG3-1),0,1,1)))","v":""},{"$f":"IF(OFFSET(Ⅱ.入力用!$AV$74,$AG$4*(BG3-1),0,1,1)=0,\"\",IF(OFFSET(Ⅱ.入力用!$AF$75,$AG$4*(BG3-1),0,1,1)=\"\",\"\",OFFSET(Ⅱ.入力用!$AF$75,$AG$4*(BG3-1),0,1,1)))","v":""},{"$f":"IF(OR(OFFSET(Ⅱ.入力用!$AV$74,$AG$4*(BG3-1),0,1,1)=0,OFFSET(Ⅱ.入力用!$AU$76,$AG$4*(BG3-1),0,1,1)=0),\"\",OFFSET(Ⅱ.入力用!$T$76,$AG$4*(BG3-1),0,1,1))","v":""},{"$f":"IF(OR(OFFSET(Ⅱ.入力用!$AV$74,$AG$4*(BG3-1),0,1,1)=0,OFFSET(Ⅱ.入力用!$AU$76,$AG$4*(BG3-1),0,1,1)<>1,OFFSET(Ⅱ.入力用!$AT$77,$AG$4*(BG3-1),0,1,1)=0),\"\",OFFSET(Ⅱ.入力用!$P$77,$AG$4*(BG3-1),0,1,1))","v":""},{"$f":"IF(OR(OFFSET(Ⅱ.入力用!$AU$77,$AG$4*(BG3-1),0,1,1)<>1,OFFSET(Ⅱ.入力用!$Z$77,$AG$4*(BG3-1),0,1,1)=\"\"),\"\",OFFSET(Ⅱ.入力用!$Z$77,$AG$4*(BG3-1),0,1,1))","v":""},{"$f":"IF(OR(OFFSET(Ⅱ.入力用!$AV$74,$AG$4*(BG3-1),0,1,1)=0,OFFSET(Ⅱ.入力用!$AU$76,$AG$4*(BG3-1),0,1,1)<>2,OFFSET(Ⅱ.入力用!$AT$78,$AG$4*(BG3-1),0,1,1)=0),\"\",OFFSET(Ⅱ.入力用!$P$78,$AG$4*(BG3-1),0,1,1))","v":""},{"$f":"IF(OR(OFFSET(Ⅱ.入力用!$AU$78,$AG$4*(BG3-1),0,1,1)<>1,OFFSET(Ⅱ.入力用!$AE$78,$AG$4*(BG3-1),0,1,1)=\"\"),\"\",OFFSET(Ⅱ.入力用!$AE$78,$AG$4*(BG3-1),0,1,1))","v":""},{"$f":"IF(OR(OFFSET(Ⅱ.入力用!$AU$79,$AG$4*(BG3-1),0,1,1)<>1,OFFSET(Ⅱ.入力用!$AE$79,$AG$4*(BG3-1),0,1,1)=\"\"),\"\",OFFSET(Ⅱ.入力用!$AE$79,$AG$4*(BG3-1),0,1,1))","v":""},{"$f":"IF(OR(OFFSET(Ⅱ.入力用!$AU$80,$AG$4*(BG3-1),0,1,1)<>1,OFFSET(Ⅱ.入力用!$AE$80,$AG$4*(BG3-1),0,1,1)=\"\"),\"\",OFFSET(Ⅱ.入力用!$AE$80,$AG$4*(BG3-1),0,1,1))","v":""},{"$f":"IF(OR(OFFSET(Ⅱ.入力用!$AU$81,$AG$4*(BG3-1),0,1,1)<>1,OFFSET(Ⅱ.入力用!$AE$81,$AG$4*(BG3-1),0,1,1)=\"\"),\"\",OFFSET(Ⅱ.入力用!$AE$81,$AG$4*(BG3-1),0,1,1))","v":""},{"$f":"IF(OR(OFFSET(Ⅱ.入力用!$AU$82,$AG$4*(BG3-1),0,1,1)<>1,OFFSET(Ⅱ.入力用!$AE$82,$AG$4*(BG3-1),0,1,1)=\"\"),\"\",OFFSET(Ⅱ.入力用!$AE$82,$AG$4*(BG3-1),0,1,1))","v":""},{"$f":"IF(OR(OFFSET(Ⅱ.入力用!$AU$83,$AG$4*(BG3-1),0,1,1)<>1,OFFSET(Ⅱ.入力用!$AV$83,$AG$4*(BG3-1),0,1,1)=1),\"\",OFFSET(Ⅱ.入力用!$AE$83,$AG$4*(BG3-1),0,1,1))","v":""},{"$f":"IF(OFFSET(Ⅱ.入力用!$AV$74,$AG$4*(BT3-1),0,1,1)=0,\"\",IF(OFFSET(Ⅱ.入力用!$I$75,$AG$4*(BT3-1),0,1,1)=\"\",\"\",OFFSET(Ⅱ.入力用!$I$75,$AG$4*(BT3-1),0,1,1)))","v":""},{"$f":"IF(OFFSET(Ⅱ.入力用!$AV$74,$AG$4*(BT3-1),0,1,1)=0,\"\",IF(OFFSET(Ⅱ.入力用!$Y$75,$AG$4*(BT3-1),0,1,1)=\"\",\"\",OFFSET(Ⅱ.入力用!$Y$75,$AG$4*(BT3-1),0,1,1)))","v":""},{"$f":"IF(OFFSET(Ⅱ.入力用!$AV$74,$AG$4*(BT3-1),0,1,1)=0,\"\",IF(OFFSET(Ⅱ.入力用!$AF$75,$AG$4*(BT3-1),0,1,1)=\"\",\"\",OFFSET(Ⅱ.入力用!$AF$75,$AG$4*(BT3-1),0,1,1)))","v":""},{"$f":"IF(OR(OFFSET(Ⅱ.入力用!$AV$74,$AG$4*(BT3-1),0,1,1)=0,OFFSET(Ⅱ.入力用!$AU$76,$AG$4*(BT3-1),0,1,1)=0),\"\",OFFSET(Ⅱ.入力用!$T$76,$AG$4*(BT3-1),0,1,1))","v":""},{"$f":"IF(OR(OFFSET(Ⅱ.入力用!$AV$74,$AG$4*(BT3-1),0,1,1)=0,OFFSET(Ⅱ.入力用!$AU$76,$AG$4*(BT3-1),0,1,1)<>1,OFFSET(Ⅱ.入力用!$AT$77,$AG$4*(BT3-1),0,1,1)=0),\"\",OFFSET(Ⅱ.入力用!$P$77,$AG$4*(BT3-1),0,1,1))","v":""},{"$f":"IF(OR(OFFSET(Ⅱ.入力用!$AU$77,$AG$4*(BT3-1),0,1,1)<>1,OFFSET(Ⅱ.入力用!$Z$77,$AG$4*(BT3-1),0,1,1)=\"\"),\"\",OFFSET(Ⅱ.入力用!$Z$77,$AG$4*(BT3-1),0,1,1))","v":""},{"$f":"IF(OR(OFFSET(Ⅱ.入力用!$AV$74,$AG$4*(BT3-1),0,1,1)=0,OFFSET(Ⅱ.入力用!$AU$76,$AG$4*(BT3-1),0,1,1)<>2,OFFSET(Ⅱ.入力用!$AT$78,$AG$4*(BT3-1),0,1,1)=0),\"\",OFFSET(Ⅱ.入力用!$P$78,$AG$4*(BT3-1),0,1,1))","v":""},{"$f":"IF(OR(OFFSET(Ⅱ.入力用!$AU$78,$AG$4*(BT3-1),0,1,1)<>1,OFFSET(Ⅱ.入力用!$AE$78,$AG$4*(BT3-1),0,1,1)=\"\"),\"\",OFFSET(Ⅱ.入力用!$AE$78,$AG$4*(BT3-1),0,1,1))","v":""},{"$f":"IF(OR(OFFSET(Ⅱ.入力用!$AU$79,$AG$4*(BT3-1),0,1,1)<>1,OFFSET(Ⅱ.入力用!$AE$79,$AG$4*(BT3-1),0,1,1)=\"\"),\"\",OFFSET(Ⅱ.入力用!$AE$79,$AG$4*(BT3-1),0,1,1))","v":""},{"$f":"IF(OR(OFFSET(Ⅱ.入力用!$AU$80,$AG$4*(BT3-1),0,1,1)<>1,OFFSET(Ⅱ.入力用!$AE$80,$AG$4*(BT3-1),0,1,1)=\"\"),\"\",OFFSET(Ⅱ.入力用!$AE$80,$AG$4*(BT3-1),0,1,1))","v":""},{"$f":"IF(OR(OFFSET(Ⅱ.入力用!$AU$81,$AG$4*(BT3-1),0,1,1)<>1,OFFSET(Ⅱ.入力用!$AE$81,$AG$4*(BT3-1),0,1,1)=\"\"),\"\",OFFSET(Ⅱ.入力用!$AE$81,$AG$4*(BT3-1),0,1,1))","v":""},{"$f":"IF(OR(OFFSET(Ⅱ.入力用!$AU$82,$AG$4*(BT3-1),0,1,1)<>1,OFFSET(Ⅱ.入力用!$AE$82,$AG$4*(BT3-1),0,1,1)=\"\"),\"\",OFFSET(Ⅱ.入力用!$AE$82,$AG$4*(BT3-1),0,1,1))","v":""},{"$f":"IF(OR(OFFSET(Ⅱ.入力用!$AU$83,$AG$4*(BT3-1),0,1,1)<>1,OFFSET(Ⅱ.入力用!$AV$83,$AG$4*(BT3-1),0,1,1)=1),\"\",OFFSET(Ⅱ.入力用!$AE$83,$AG$4*(BT3-1),0,1,1))","v":""},{"$f":"IF(OFFSET(Ⅱ.入力用!$AV$74,$AG$4*(CG3-1),0,1,1)=0,\"\",IF(OFFSET(Ⅱ.入力用!$I$75,$AG$4*(CG3-1),0,1,1)=\"\",\"\",OFFSET(Ⅱ.入力用!$I$75,$AG$4*(CG3-1),0,1,1)))","v":""},{"$f":"IF(OFFSET(Ⅱ.入力用!$AV$74,$AG$4*(CG3-1),0,1,1)=0,\"\",IF(OFFSET(Ⅱ.入力用!$Y$75,$AG$4*(CG3-1),0,1,1)=\"\",\"\",OFFSET(Ⅱ.入力用!$Y$75,$AG$4*(CG3-1),0,1,1)))","v":""},{"$f":"IF(OFFSET(Ⅱ.入力用!$AV$74,$AG$4*(CG3-1),0,1,1)=0,\"\",IF(OFFSET(Ⅱ.入力用!$AF$75,$AG$4*(CG3-1),0,1,1)=\"\",\"\",OFFSET(Ⅱ.入力用!$AF$75,$AG$4*(CG3-1),0,1,1)))","v":""},{"$f":"IF(OR(OFFSET(Ⅱ.入力用!$AV$74,$AG$4*(CG3-1),0,1,1)=0,OFFSET(Ⅱ.入力用!$AU$76,$AG$4*(CG3-1),0,1,1)=0),\"\",OFFSET(Ⅱ.入力用!$T$76,$AG$4*(CG3-1),0,1,1))","v":""},{"$f":"IF(OR(OFFSET(Ⅱ.入力用!$AV$74,$AG$4*(CG3-1),0,1,1)=0,OFFSET(Ⅱ.入力用!$AU$76,$AG$4*(CG3-1),0,1,1)<>1,OFFSET(Ⅱ.入力用!$AT$77,$AG$4*(CG3-1),0,1,1)=0),\"\",OFFSET(Ⅱ.入力用!$P$77,$AG$4*(CG3-1),0,1,1))","v":""},{"$f":"IF(OR(OFFSET(Ⅱ.入力用!$AU$77,$AG$4*(CG3-1),0,1,1)<>1,OFFSET(Ⅱ.入力用!$Z$77,$AG$4*(CG3-1),0,1,1)=\"\"),\"\",OFFSET(Ⅱ.入力用!$Z$77,$AG$4*(CG3-1),0,1,1))","v":""},{"$f":"IF(OR(OFFSET(Ⅱ.入力用!$AV$74,$AG$4*(CG3-1),0,1,1)=0,OFFSET(Ⅱ.入力用!$AU$76,$AG$4*(CG3-1),0,1,1)<>2,OFFSET(Ⅱ.入力用!$AT$78,$AG$4*(CG3-1),0,1,1)=0),\"\",OFFSET(Ⅱ.入力用!$P$78,$AG$4*(CG3-1),0,1,1))","v":""},{"$f":"IF(OR(OFFSET(Ⅱ.入力用!$AU$78,$AG$4*(CG3-1),0,1,1)<>1,OFFSET(Ⅱ.入力用!$AE$78,$AG$4*(CG3-1),0,1,1)=\"\"),\"\",OFFSET(Ⅱ.入力用!$AE$78,$AG$4*(CG3-1),0,1,1))","v":""},{"$f":"IF(OR(OFFSET(Ⅱ.入力用!$AU$79,$AG$4*(CG3-1),0,1,1)<>1,OFFSET(Ⅱ.入力用!$AE$79,$AG$4*(CG3-1),0,1,1)=\"\"),\"\",OFFSET(Ⅱ.入力用!$AE$79,$AG$4*(CG3-1),0,1,1))","v":""},{"$f":"IF(OR(OFFSET(Ⅱ.入力用!$AU$80,$AG$4*(CG3-1),0,1,1)<>1,OFFSET(Ⅱ.入力用!$AE$80,$AG$4*(CG3-1),0,1,1)=\"\"),\"\",OFFSET(Ⅱ.入力用!$AE$80,$AG$4*(CG3-1),0,1,1))","v":""},{"$f":"IF(OR(OFFSET(Ⅱ.入力用!$AU$81,$AG$4*(CG3-1),0,1,1)<>1,OFFSET(Ⅱ.入力用!$AE$81,$AG$4*(CG3-1),0,1,1)=\"\"),\"\",OFFSET(Ⅱ.入力用!$AE$81,$AG$4*(CG3-1),0,1,1))","v":""},{"$f":"IF(OR(OFFSET(Ⅱ.入力用!$AU$82,$AG$4*(CG3-1),0,1,1)<>1,OFFSET(Ⅱ.入力用!$AE$82,$AG$4*(CG3-1),0,1,1)=\"\"),\"\",OFFSET(Ⅱ.入力用!$AE$82,$AG$4*(CG3-1),0,1,1))","v":""},{"$f":"IF(OR(OFFSET(Ⅱ.入力用!$AU$83,$AG$4*(CG3-1),0,1,1)<>1,OFFSET(Ⅱ.入力用!$AV$83,$AG$4*(CG3-1),0,1,1)=1),\"\",OFFSET(Ⅱ.入力用!$AE$83,$AG$4*(CG3-1),0,1,1))","v":""},{"$f":"IF(OFFSET(Ⅱ.入力用!$AV$74,$AG$4*(CT3-1),0,1,1)=0,\"\",IF(OFFSET(Ⅱ.入力用!$I$75,$AG$4*(CT3-1),0,1,1)=\"\",\"\",OFFSET(Ⅱ.入力用!$I$75,$AG$4*(CT3-1),0,1,1)))","v":""},{"$f":"IF(OFFSET(Ⅱ.入力用!$AV$74,$AG$4*(CT3-1),0,1,1)=0,\"\",IF(OFFSET(Ⅱ.入力用!$Y$75,$AG$4*(CT3-1),0,1,1)=\"\",\"\",OFFSET(Ⅱ.入力用!$Y$75,$AG$4*(CT3-1),0,1,1)))","v":""},{"$f":"IF(OFFSET(Ⅱ.入力用!$AV$74,$AG$4*(CT3-1),0,1,1)=0,\"\",IF(OFFSET(Ⅱ.入力用!$AF$75,$AG$4*(CT3-1),0,1,1)=\"\",\"\",OFFSET(Ⅱ.入力用!$AF$75,$AG$4*(CT3-1),0,1,1)))","v":""},{"$f":"IF(OR(OFFSET(Ⅱ.入力用!$AV$74,$AG$4*(CT3-1),0,1,1)=0,OFFSET(Ⅱ.入力用!$AU$76,$AG$4*(CT3-1),0,1,1)=0),\"\",OFFSET(Ⅱ.入力用!$T$76,$AG$4*(CT3-1),0,1,1))","v":""},{"$f":"IF(OR(OFFSET(Ⅱ.入力用!$AV$74,$AG$4*(CT3-1),0,1,1)=0,OFFSET(Ⅱ.入力用!$AU$76,$AG$4*(CT3-1),0,1,1)<>1,OFFSET(Ⅱ.入力用!$AT$77,$AG$4*(CT3-1),0,1,1)=0),\"\",OFFSET(Ⅱ.入力用!$P$77,$AG$4*(CT3-1),0,1,1))","v":""},{"$f":"IF(OR(OFFSET(Ⅱ.入力用!$AU$77,$AG$4*(CT3-1),0,1,1)<>1,OFFSET(Ⅱ.入力用!$Z$77,$AG$4*(CT3-1),0,1,1)=\"\"),\"\",OFFSET(Ⅱ.入力用!$Z$77,$AG$4*(CT3-1),0,1,1))","v":""},{"$f":"IF(OR(OFFSET(Ⅱ.入力用!$AV$74,$AG$4*(CT3-1),0,1,1)=0,OFFSET(Ⅱ.入力用!$AU$76,$AG$4*(CT3-1),0,1,1)<>2,OFFSET(Ⅱ.入力用!$AT$78,$AG$4*(CT3-1),0,1,1)=0),\"\",OFFSET(Ⅱ.入力用!$P$78,$AG$4*(CT3-1),0,1,1))","v":""},{"$f":"IF(OR(OFFSET(Ⅱ.入力用!$AU$78,$AG$4*(CT3-1),0,1,1)<>1,OFFSET(Ⅱ.入力用!$AE$78,$AG$4*(CT3-1),0,1,1)=\"\"),\"\",OFFSET(Ⅱ.入力用!$AE$78,$AG$4*(CT3-1),0,1,1))","v":""},{"$f":"IF(OR(OFFSET(Ⅱ.入力用!$AU$79,$AG$4*(CT3-1),0,1,1)<>1,OFFSET(Ⅱ.入力用!$AE$79,$AG$4*(CT3-1),0,1,1)=\"\"),\"\",OFFSET(Ⅱ.入力用!$AE$79,$AG$4*(CT3-1),0,1,1))","v":""},{"$f":"IF(OR(OFFSET(Ⅱ.入力用!$AU$80,$AG$4*(CT3-1),0,1,1)<>1,OFFSET(Ⅱ.入力用!$AE$80,$AG$4*(CT3-1),0,1,1)=\"\"),\"\",OFFSET(Ⅱ.入力用!$AE$80,$AG$4*(CT3-1),0,1,1))","v":""},{"$f":"IF(OR(OFFSET(Ⅱ.入力用!$AU$81,$AG$4*(CT3-1),0,1,1)<>1,OFFSET(Ⅱ.入力用!$AE$81,$AG$4*(CT3-1),0,1,1)=\"\"),\"\",OFFSET(Ⅱ.入力用!$AE$81,$AG$4*(CT3-1),0,1,1))","v":""},{"$f":"IF(OR(OFFSET(Ⅱ.入力用!$AU$82,$AG$4*(CT3-1),0,1,1)<>1,OFFSET(Ⅱ.入力用!$AE$82,$AG$4*(CT3-1),0,1,1)=\"\"),\"\",OFFSET(Ⅱ.入力用!$AE$82,$AG$4*(CT3-1),0,1,1))","v":""},{"$f":"IF(OR(OFFSET(Ⅱ.入力用!$AU$83,$AG$4*(CT3-1),0,1,1)<>1,OFFSET(Ⅱ.入力用!$AV$83,$AG$4*(CT3-1),0,1,1)=1),\"\",OFFSET(Ⅱ.入力用!$AE$83,$AG$4*(CT3-1),0,1,1))","v":""},{"$f":"IF(OFFSET(Ⅱ.入力用!$AV$74,$AG$4*(DG3-1),0,1,1)=0,\"\",IF(OFFSET(Ⅱ.入力用!$I$75,$AG$4*(DG3-1),0,1,1)=\"\",\"\",OFFSET(Ⅱ.入力用!$I$75,$AG$4*(DG3-1),0,1,1)))","v":""},{"$f":"IF(OFFSET(Ⅱ.入力用!$AV$74,$AG$4*(DG3-1),0,1,1)=0,\"\",IF(OFFSET(Ⅱ.入力用!$Y$75,$AG$4*(DG3-1),0,1,1)=\"\",\"\",OFFSET(Ⅱ.入力用!$Y$75,$AG$4*(DG3-1),0,1,1)))","v":""},{"$f":"IF(OFFSET(Ⅱ.入力用!$AV$74,$AG$4*(DG3-1),0,1,1)=0,\"\",IF(OFFSET(Ⅱ.入力用!$AF$75,$AG$4*(DG3-1),0,1,1)=\"\",\"\",OFFSET(Ⅱ.入力用!$AF$75,$AG$4*(DG3-1),0,1,1)))","v":""},{"$f":"IF(OR(OFFSET(Ⅱ.入力用!$AV$74,$AG$4*(DG3-1),0,1,1)=0,OFFSET(Ⅱ.入力用!$AU$76,$AG$4*(DG3-1),0,1,1)=0),\"\",OFFSET(Ⅱ.入力用!$T$76,$AG$4*(DG3-1),0,1,1))","v":""},{"$f":"IF(OR(OFFSET(Ⅱ.入力用!$AV$74,$AG$4*(DG3-1),0,1,1)=0,OFFSET(Ⅱ.入力用!$AU$76,$AG$4*(DG3-1),0,1,1)<>1,OFFSET(Ⅱ.入力用!$AT$77,$AG$4*(DG3-1),0,1,1)=0),\"\",OFFSET(Ⅱ.入力用!$P$77,$AG$4*(DG3-1),0,1,1))","v":""},{"$f":"IF(OR(OFFSET(Ⅱ.入力用!$AU$77,$AG$4*(DG3-1),0,1,1)<>1,OFFSET(Ⅱ.入力用!$Z$77,$AG$4*(DG3-1),0,1,1)=\"\"),\"\",OFFSET(Ⅱ.入力用!$Z$77,$AG$4*(DG3-1),0,1,1))","v":""},{"$f":"IF(OR(OFFSET(Ⅱ.入力用!$AV$74,$AG$4*(DG3-1),0,1,1)=0,OFFSET(Ⅱ.入力用!$AU$76,$AG$4*(DG3-1),0,1,1)<>2,OFFSET(Ⅱ.入力用!$AT$78,$AG$4*(DG3-1),0,1,1)=0),\"\",OFFSET(Ⅱ.入力用!$P$78,$AG$4*(DG3-1),0,1,1))","v":""},{"$f":"IF(OR(OFFSET(Ⅱ.入力用!$AU$78,$AG$4*(DG3-1),0,1,1)<>1,OFFSET(Ⅱ.入力用!$AE$78,$AG$4*(DG3-1),0,1,1)=\"\"),\"\",OFFSET(Ⅱ.入力用!$AE$78,$AG$4*(DG3-1),0,1,1))","v":""},{"$f":"IF(OR(OFFSET(Ⅱ.入力用!$AU$79,$AG$4*(DG3-1),0,1,1)<>1,OFFSET(Ⅱ.入力用!$AE$79,$AG$4*(DG3-1),0,1,1)=\"\"),\"\",OFFSET(Ⅱ.入力用!$AE$79,$AG$4*(DG3-1),0,1,1))","v":""},{"$f":"IF(OR(OFFSET(Ⅱ.入力用!$AU$80,$AG$4*(DG3-1),0,1,1)<>1,OFFSET(Ⅱ.入力用!$AE$80,$AG$4*(DG3-1),0,1,1)=\"\"),\"\",OFFSET(Ⅱ.入力用!$AE$80,$AG$4*(DG3-1),0,1,1))","v":""},{"$f":"IF(OR(OFFSET(Ⅱ.入力用!$AU$81,$AG$4*(DG3-1),0,1,1)<>1,OFFSET(Ⅱ.入力用!$AE$81,$AG$4*(DG3-1),0,1,1)=\"\"),\"\",OFFSET(Ⅱ.入力用!$AE$81,$AG$4*(DG3-1),0,1,1))","v":""},{"$f":"IF(OR(OFFSET(Ⅱ.入力用!$AU$82,$AG$4*(DG3-1),0,1,1)<>1,OFFSET(Ⅱ.入力用!$AE$82,$AG$4*(DG3-1),0,1,1)=\"\"),\"\",OFFSET(Ⅱ.入力用!$AE$82,$AG$4*(DG3-1),0,1,1))","v":""},{"$f":"IF(OR(OFFSET(Ⅱ.入力用!$AU$83,$AG$4*(DG3-1),0,1,1)<>1,OFFSET(Ⅱ.入力用!$AV$83,$AG$4*(DG3-1),0,1,1)=1),\"\",OFFSET(Ⅱ.入力用!$AE$83,$AG$4*(DG3-1),0,1,1))","v":""},{"$f":"IF(OFFSET(Ⅱ.入力用!$AV$74,$AG$4*(DT3-1),0,1,1)=0,\"\",IF(OFFSET(Ⅱ.入力用!$I$75,$AG$4*(DT3-1),0,1,1)=\"\",\"\",OFFSET(Ⅱ.入力用!$I$75,$AG$4*(DT3-1),0,1,1)))","v":""},{"$f":"IF(OFFSET(Ⅱ.入力用!$AV$74,$AG$4*(DT3-1),0,1,1)=0,\"\",IF(OFFSET(Ⅱ.入力用!$Y$75,$AG$4*(DT3-1),0,1,1)=\"\",\"\",OFFSET(Ⅱ.入力用!$Y$75,$AG$4*(DT3-1),0,1,1)))","v":""},{"$f":"IF(OFFSET(Ⅱ.入力用!$AV$74,$AG$4*(DT3-1),0,1,1)=0,\"\",IF(OFFSET(Ⅱ.入力用!$AF$75,$AG$4*(DT3-1),0,1,1)=\"\",\"\",OFFSET(Ⅱ.入力用!$AF$75,$AG$4*(DT3-1),0,1,1)))","v":""},{"$f":"IF(OR(OFFSET(Ⅱ.入力用!$AV$74,$AG$4*(DT3-1),0,1,1)=0,OFFSET(Ⅱ.入力用!$AU$76,$AG$4*(DT3-1),0,1,1)=0),\"\",OFFSET(Ⅱ.入力用!$T$76,$AG$4*(DT3-1),0,1,1))","v":""},{"$f":"IF(OR(OFFSET(Ⅱ.入力用!$AV$74,$AG$4*(DT3-1),0,1,1)=0,OFFSET(Ⅱ.入力用!$AU$76,$AG$4*(DT3-1),0,1,1)<>1,OFFSET(Ⅱ.入力用!$AT$77,$AG$4*(DT3-1),0,1,1)=0),\"\",OFFSET(Ⅱ.入力用!$P$77,$AG$4*(DT3-1),0,1,1))","v":""},{"$f":"IF(OR(OFFSET(Ⅱ.入力用!$AU$77,$AG$4*(DT3-1),0,1,1)<>1,OFFSET(Ⅱ.入力用!$Z$77,$AG$4*(DT3-1),0,1,1)=\"\"),\"\",OFFSET(Ⅱ.入力用!$Z$77,$AG$4*(DT3-1),0,1,1))","v":""},{"$f":"IF(OR(OFFSET(Ⅱ.入力用!$AV$74,$AG$4*(DT3-1),0,1,1)=0,OFFSET(Ⅱ.入力用!$AU$76,$AG$4*(DT3-1),0,1,1)<>2,OFFSET(Ⅱ.入力用!$AT$78,$AG$4*(DT3-1),0,1,1)=0),\"\",OFFSET(Ⅱ.入力用!$P$78,$AG$4*(DT3-1),0,1,1))","v":""},{"$f":"IF(OR(OFFSET(Ⅱ.入力用!$AU$78,$AG$4*(DT3-1),0,1,1)<>1,OFFSET(Ⅱ.入力用!$AE$78,$AG$4*(DT3-1),0,1,1)=\"\"),\"\",OFFSET(Ⅱ.入力用!$AE$78,$AG$4*(DT3-1),0,1,1))","v":""},{"$f":"IF(OR(OFFSET(Ⅱ.入力用!$AU$79,$AG$4*(DT3-1),0,1,1)<>1,OFFSET(Ⅱ.入力用!$AE$79,$AG$4*(DT3-1),0,1,1)=\"\"),\"\",OFFSET(Ⅱ.入力用!$AE$79,$AG$4*(DT3-1),0,1,1))","v":""},{"$f":"IF(OR(OFFSET(Ⅱ.入力用!$AU$80,$AG$4*(DT3-1),0,1,1)<>1,OFFSET(Ⅱ.入力用!$AE$80,$AG$4*(DT3-1),0,1,1)=\"\"),\"\",OFFSET(Ⅱ.入力用!$AE$80,$AG$4*(DT3-1),0,1,1))","v":""},{"$f":"IF(OR(OFFSET(Ⅱ.入力用!$AU$81,$AG$4*(DT3-1),0,1,1)<>1,OFFSET(Ⅱ.入力用!$AE$81,$AG$4*(DT3-1),0,1,1)=\"\"),\"\",OFFSET(Ⅱ.入力用!$AE$81,$AG$4*(DT3-1),0,1,1))","v":""},{"$f":"IF(OR(OFFSET(Ⅱ.入力用!$AU$82,$AG$4*(DT3-1),0,1,1)<>1,OFFSET(Ⅱ.入力用!$AE$82,$AG$4*(DT3-1),0,1,1)=\"\"),\"\",OFFSET(Ⅱ.入力用!$AE$82,$AG$4*(DT3-1),0,1,1))","v":""},{"$f":"IF(OR(OFFSET(Ⅱ.入力用!$AU$83,$AG$4*(DT3-1),0,1,1)<>1,OFFSET(Ⅱ.入力用!$AV$83,$AG$4*(DT3-1),0,1,1)=1),\"\",OFFSET(Ⅱ.入力用!$AE$83,$AG$4*(DT3-1),0,1,1))","v":""},{"$f":"IF(OFFSET(Ⅱ.入力用!$AV$74,$AG$4*(EG3-1),0,1,1)=0,\"\",IF(OFFSET(Ⅱ.入力用!$I$75,$AG$4*(EG3-1),0,1,1)=\"\",\"\",OFFSET(Ⅱ.入力用!$I$75,$AG$4*(EG3-1),0,1,1)))","v":""},{"$f":"IF(OFFSET(Ⅱ.入力用!$AV$74,$AG$4*(EG3-1),0,1,1)=0,\"\",IF(OFFSET(Ⅱ.入力用!$Y$75,$AG$4*(EG3-1),0,1,1)=\"\",\"\",OFFSET(Ⅱ.入力用!$Y$75,$AG$4*(EG3-1),0,1,1)))","v":""},{"$f":"IF(OFFSET(Ⅱ.入力用!$AV$74,$AG$4*(EG3-1),0,1,1)=0,\"\",IF(OFFSET(Ⅱ.入力用!$AF$75,$AG$4*(EG3-1),0,1,1)=\"\",\"\",OFFSET(Ⅱ.入力用!$AF$75,$AG$4*(EG3-1),0,1,1)))","v":""},{"$f":"IF(OR(OFFSET(Ⅱ.入力用!$AV$74,$AG$4*(EG3-1),0,1,1)=0,OFFSET(Ⅱ.入力用!$AU$76,$AG$4*(EG3-1),0,1,1)=0),\"\",OFFSET(Ⅱ.入力用!$T$76,$AG$4*(EG3-1),0,1,1))","v":""},{"$f":"IF(OR(OFFSET(Ⅱ.入力用!$AV$74,$AG$4*(EG3-1),0,1,1)=0,OFFSET(Ⅱ.入力用!$AU$76,$AG$4*(EG3-1),0,1,1)<>1,OFFSET(Ⅱ.入力用!$AT$77,$AG$4*(EG3-1),0,1,1)=0),\"\",OFFSET(Ⅱ.入力用!$P$77,$AG$4*(EG3-1),0,1,1))","v":""},{"$f":"IF(OR(OFFSET(Ⅱ.入力用!$AU$77,$AG$4*(EG3-1),0,1,1)<>1,OFFSET(Ⅱ.入力用!$Z$77,$AG$4*(EG3-1),0,1,1)=\"\"),\"\",OFFSET(Ⅱ.入力用!$Z$77,$AG$4*(EG3-1),0,1,1))","v":""},{"$f":"IF(OR(OFFSET(Ⅱ.入力用!$AV$74,$AG$4*(EG3-1),0,1,1)=0,OFFSET(Ⅱ.入力用!$AU$76,$AG$4*(EG3-1),0,1,1)<>2,OFFSET(Ⅱ.入力用!$AT$78,$AG$4*(EG3-1),0,1,1)=0),\"\",OFFSET(Ⅱ.入力用!$P$78,$AG$4*(EG3-1),0,1,1))","v":""},{"$f":"IF(OR(OFFSET(Ⅱ.入力用!$AU$78,$AG$4*(EG3-1),0,1,1)<>1,OFFSET(Ⅱ.入力用!$AE$78,$AG$4*(EG3-1),0,1,1)=\"\"),\"\",OFFSET(Ⅱ.入力用!$AE$78,$AG$4*(EG3-1),0,1,1))","v":""},{"$f":"IF(OR(OFFSET(Ⅱ.入力用!$AU$79,$AG$4*(EG3-1),0,1,1)<>1,OFFSET(Ⅱ.入力用!$AE$79,$AG$4*(EG3-1),0,1,1)=\"\"),\"\",OFFSET(Ⅱ.入力用!$AE$79,$AG$4*(EG3-1),0,1,1))","v":""},{"$f":"IF(OR(OFFSET(Ⅱ.入力用!$AU$80,$AG$4*(EG3-1),0,1,1)<>1,OFFSET(Ⅱ.入力用!$AE$80,$AG$4*(EG3-1),0,1,1)=\"\"),\"\",OFFSET(Ⅱ.入力用!$AE$80,$AG$4*(EG3-1),0,1,1))","v":""},{"$f":"IF(OR(OFFSET(Ⅱ.入力用!$AU$81,$AG$4*(EG3-1),0,1,1)<>1,OFFSET(Ⅱ.入力用!$AE$81,$AG$4*(EG3-1),0,1,1)=\"\"),\"\",OFFSET(Ⅱ.入力用!$AE$81,$AG$4*(EG3-1),0,1,1))","v":""},{"$f":"IF(OR(OFFSET(Ⅱ.入力用!$AU$82,$AG$4*(EG3-1),0,1,1)<>1,OFFSET(Ⅱ.入力用!$AE$82,$AG$4*(EG3-1),0,1,1)=\"\"),\"\",OFFSET(Ⅱ.入力用!$AE$82,$AG$4*(EG3-1),0,1,1))","v":""},{"$f":"IF(OR(OFFSET(Ⅱ.入力用!$AU$83,$AG$4*(EG3-1),0,1,1)<>1,OFFSET(Ⅱ.入力用!$AV$83,$AG$4*(EG3-1),0,1,1)=1),\"\",OFFSET(Ⅱ.入力用!$AE$83,$AG$4*(EG3-1),0,1,1))","v":""},{"$f":"IF(OFFSET(Ⅱ.入力用!$AV$74,$AG$4*(ET3-1),0,1,1)=0,\"\",IF(OFFSET(Ⅱ.入力用!$I$75,$AG$4*(ET3-1),0,1,1)=\"\",\"\",OFFSET(Ⅱ.入力用!$I$75,$AG$4*(ET3-1),0,1,1)))","v":""},{"$f":"IF(OFFSET(Ⅱ.入力用!$AV$74,$AG$4*(ET3-1),0,1,1)=0,\"\",IF(OFFSET(Ⅱ.入力用!$Y$75,$AG$4*(ET3-1),0,1,1)=\"\",\"\",OFFSET(Ⅱ.入力用!$Y$75,$AG$4*(ET3-1),0,1,1)))","v":""},{"$f":"IF(OFFSET(Ⅱ.入力用!$AV$74,$AG$4*(ET3-1),0,1,1)=0,\"\",IF(OFFSET(Ⅱ.入力用!$AF$75,$AG$4*(ET3-1),0,1,1)=\"\",\"\",OFFSET(Ⅱ.入力用!$AF$75,$AG$4*(ET3-1),0,1,1)))","v":""},{"$f":"IF(OR(OFFSET(Ⅱ.入力用!$AV$74,$AG$4*(ET3-1),0,1,1)=0,OFFSET(Ⅱ.入力用!$AU$76,$AG$4*(ET3-1),0,1,1)=0),\"\",OFFSET(Ⅱ.入力用!$T$76,$AG$4*(ET3-1),0,1,1))","v":""},{"$f":"IF(OR(OFFSET(Ⅱ.入力用!$AV$74,$AG$4*(ET3-1),0,1,1)=0,OFFSET(Ⅱ.入力用!$AU$76,$AG$4*(ET3-1),0,1,1)<>1,OFFSET(Ⅱ.入力用!$AT$77,$AG$4*(ET3-1),0,1,1)=0),\"\",OFFSET(Ⅱ.入力用!$P$77,$AG$4*(ET3-1),0,1,1))","v":""},{"$f":"IF(OR(OFFSET(Ⅱ.入力用!$AU$77,$AG$4*(ET3-1),0,1,1)<>1,OFFSET(Ⅱ.入力用!$Z$77,$AG$4*(ET3-1),0,1,1)=\"\"),\"\",OFFSET(Ⅱ.入力用!$Z$77,$AG$4*(ET3-1),0,1,1))","v":""},{"$f":"IF(OR(OFFSET(Ⅱ.入力用!$AV$74,$AG$4*(ET3-1),0,1,1)=0,OFFSET(Ⅱ.入力用!$AU$76,$AG$4*(ET3-1),0,1,1)<>2,OFFSET(Ⅱ.入力用!$AT$78,$AG$4*(ET3-1),0,1,1)=0),\"\",OFFSET(Ⅱ.入力用!$P$78,$AG$4*(ET3-1),0,1,1))","v":""},{"$f":"IF(OR(OFFSET(Ⅱ.入力用!$AU$78,$AG$4*(ET3-1),0,1,1)<>1,OFFSET(Ⅱ.入力用!$AE$78,$AG$4*(ET3-1),0,1,1)=\"\"),\"\",OFFSET(Ⅱ.入力用!$AE$78,$AG$4*(ET3-1),0,1,1))","v":""},{"$f":"IF(OR(OFFSET(Ⅱ.入力用!$AU$79,$AG$4*(ET3-1),0,1,1)<>1,OFFSET(Ⅱ.入力用!$AE$79,$AG$4*(ET3-1),0,1,1)=\"\"),\"\",OFFSET(Ⅱ.入力用!$AE$79,$AG$4*(ET3-1),0,1,1))","v":""},{"$f":"IF(OR(OFFSET(Ⅱ.入力用!$AU$80,$AG$4*(ET3-1),0,1,1)<>1,OFFSET(Ⅱ.入力用!$AE$80,$AG$4*(ET3-1),0,1,1)=\"\"),\"\",OFFSET(Ⅱ.入力用!$AE$80,$AG$4*(ET3-1),0,1,1))","v":""},{"$f":"IF(OR(OFFSET(Ⅱ.入力用!$AU$81,$AG$4*(ET3-1),0,1,1)<>1,OFFSET(Ⅱ.入力用!$AE$81,$AG$4*(ET3-1),0,1,1)=\"\"),\"\",OFFSET(Ⅱ.入力用!$AE$81,$AG$4*(ET3-1),0,1,1))","v":""},{"$f":"IF(OR(OFFSET(Ⅱ.入力用!$AU$82,$AG$4*(ET3-1),0,1,1)<>1,OFFSET(Ⅱ.入力用!$AE$82,$AG$4*(ET3-1),0,1,1)=\"\"),\"\",OFFSET(Ⅱ.入力用!$AE$82,$AG$4*(ET3-1),0,1,1))","v":""},{"$f":"IF(OR(OFFSET(Ⅱ.入力用!$AU$83,$AG$4*(ET3-1),0,1,1)<>1,OFFSET(Ⅱ.入力用!$AV$83,$AG$4*(ET3-1),0,1,1)=1),\"\",OFFSET(Ⅱ.入力用!$AE$83,$AG$4*(ET3-1),0,1,1))","v":""},{"$f":"IF(Ⅱ.入力用!AV184=0,\"\",Ⅱ.入力用!L184)","v":""},{"$f":"IF(OR(Ⅱ.入力用!$AV$184<>1,Ⅱ.入力用!AU187=0),\"\",Ⅱ.入力用!F187)","v":""},{"$f":"IF(OR(Ⅱ.入力用!$AV$184<>1,Ⅱ.入力用!AV187=0),\"\",Ⅱ.入力用!Q187)","v":""},{"$f":"IF(OR(Ⅱ.入力用!$AV$184<>1,Ⅱ.入力用!AU188=0),\"\",Ⅱ.入力用!F188)","v":""},{"$f":"IF(OR(Ⅱ.入力用!$AV$184<>1,Ⅱ.入力用!AV188=0),\"\",Ⅱ.入力用!Q188)","v":""},{"$f":"IF(OR(Ⅱ.入力用!$AV$184<>1,Ⅱ.入力用!AU189=0),\"\",Ⅱ.入力用!F189)","v":""},{"$f":"IF(OR(Ⅱ.入力用!$AV$184<>1,Ⅱ.入力用!AV189=0),\"\",Ⅱ.入力用!Q189)","v":""},{"$f":"IF(OR(Ⅱ.入力用!$AV$184<>1,Ⅱ.入力用!AU190=0),\"\",Ⅱ.入力用!F190)","v":""},{"$f":"IF(OR(Ⅱ.入力用!$AV$184<>1,Ⅱ.入力用!AV190=0),\"\",Ⅱ.入力用!Q190)","v":""},{"$f":"IF(OR(Ⅱ.入力用!$AV$184<>1,Ⅱ.入力用!AU191=0),\"\",Ⅱ.入力用!F191)","v":""},{"$f":"IF(OR(Ⅱ.入力用!$AV$184<>1,Ⅱ.入力用!AV191=0),\"\",Ⅱ.入力用!Q191)","v":""},{"$f":"IF(OR(Ⅱ.入力用!$AV$184<>1,Ⅱ.入力用!AU192=0),\"\",Ⅱ.入力用!F192)","v":""},{"$f":"IF(OR(Ⅱ.入力用!$AV$184<>1,Ⅱ.入力用!AV192=0),\"\",Ⅱ.入力用!Q192)","v":""},{"$f":"IF(OR(Ⅱ.入力用!$AV$184<>1,Ⅱ.入力用!AU193=0),\"\",Ⅱ.入力用!F193)","v":""},{"$f":"IF(OR(Ⅱ.入力用!$AV$184<>1,Ⅱ.入力用!AV193=0),\"\",Ⅱ.入力用!Q193)","v":""},{"$f":"IF(OR(Ⅱ.入力用!$AV$184<>1,Ⅱ.入力用!AU194=0),\"\",Ⅱ.入力用!F194)","v":""},{"$f":"IF(OR(Ⅱ.入力用!$AV$184<>1,Ⅱ.入力用!AV194=0),\"\",Ⅱ.入力用!Q194)","v":""},{"$f":"IF(OR(Ⅱ.入力用!$AV$184<>1,Ⅱ.入力用!AU195=0),\"\",Ⅱ.入力用!F195)","v":""},{"$f":"IF(OR(Ⅱ.入力用!$AV$184<>1,Ⅱ.入力用!AV195=0),\"\",Ⅱ.入力用!Q195)","v":""},{"$f":"IF(OR(Ⅱ.入力用!$AV$184<>1,Ⅱ.入力用!AU196=0),\"\",Ⅱ.入力用!F196)","v":""},{"$f":"IF(OR(Ⅱ.入力用!$AV$184<>1,Ⅱ.入力用!AV196=0),\"\",Ⅱ.入力用!Q196)","v":""},{"$f":"IF(ISERROR(Ⅱ.入力用!J202*1),0,Ⅱ.入力用!J202)","v":0},{"$f":"IF(Ⅱ.入力用!AW206=1,\"\",Ⅱ.入力用!Q206)","v":""},{"$f":"IF(Ⅱ.入力用!AW207=1,\"\",Ⅱ.入力用!Q207)","v":""},{"$f":"IF(Ⅱ.入力用!AW209=1,\"\",Ⅱ.入力用!Q209)","v":""},{"$f":"IF(Ⅱ.入力用!AW211=1,\"\",Ⅱ.入力用!Q211)","v":""},{"$f":"IF(Ⅱ.入力用!AW213=1,\"\",Ⅱ.入力用!Q213)","v":""},{"$f":"IF(Ⅱ.入力用!AW215=1,\"\",Ⅱ.入力用!Q215)","v":""},{"$f":"IF(Ⅱ.入力用!AT219=0,\"\",Ⅱ.入力用!AX219)","v":""},{"$f":"IF(Ⅱ.入力用!AU219=0,\"\",Ⅱ.入力用!AX220)","v":""},{"$f":"IF(Ⅱ.入力用!AW229=1,\"\",Ⅱ.入力用!AB229)","v":""},{"$f":"IF(Ⅱ.入力用!AW230=1,\"\",Ⅱ.入力用!AB230)","v":""},{"$f":"IF(Ⅱ.入力用!AX253=\"\",\"\",Ⅱ.入力用!AX253)","v":""},{"$f":"IF(Ⅱ.入力用!AX254=\"\",\"\",Ⅱ.入力用!AX254)","v":""},{"$f":"IF(Ⅱ.入力用!AX255=\"\",\"\",Ⅱ.入力用!AX255)","v":""},{"$f":"IF(Ⅱ.入力用!AX256=\"\",\"\",Ⅱ.入力用!AX256)","v":""},{"$f":"IF(Ⅱ.入力用!AX257=\"\",\"\",Ⅱ.入力用!AX257)","v":""},{"$f":"IF(AND(Ⅱ.入力用!U257>0,Ⅱ.入力用!M257<>\"\"),Ⅱ.入力用!M257,\"\")","v":""},{"$f":"IF(Ⅱ.入力用!AX258=\"\",\"\",Ⅱ.入力用!AX258)","v":""},{"$f":"IF(Ⅱ.入力用!AX259=\"\",\"\",Ⅱ.入力用!AX259)","v":""},{"$f":"IF(Ⅱ.入力用!AX260=\"\",\"\",Ⅱ.入力用!AX260)","v":""},{"$f":"Ⅱ.入力用!I264","v":0},{"$f":"Ⅱ.入力用!N264","v":0},{"$f":"Ⅱ.入力用!S264","v":0},{"$f":"Ⅱ.入力用!I266","v":0},{"$f":"Ⅱ.入力用!N266","v":0},{"$f":"Ⅱ.入力用!S266","v":0},{"$f":"Ⅱ.入力用!T268","v":0},{"$f":"Ⅱ.入力用!T270","v":0},{"$f":"IF(Ⅱ.入力用!$AU$280=0,\"\",Ⅱ.入力用!K280)","v":""},{"$f":"IF(Ⅱ.入力用!$AU$280=0,\"\",IF(Ⅱ.入力用!AT282=0,IF(Ⅱ.入力用!AX13=\"\",\"\",Ⅱ.入力用!AX13),IF(Ⅱ.入力用!AX282=\"\",\"\",Ⅱ.入力用!AX282)))","v":""},{"$f":"IF(Ⅱ.入力用!$AU$280=0,\"\",IF(Ⅱ.入力用!AT283=0,IF(Ⅱ.入力用!AX14=\"\",\"\",Ⅱ.入力用!AX14),IF(Ⅱ.入力用!AX283=\"\",\"\",Ⅱ.入力用!AX283)))","v":""},{"$f":"IF(Ⅱ.入力用!$AU$280=0,\"\",IF(Ⅱ.入力用!AT284=0,IF(Ⅱ.入力用!AX15=\"\",\"\",Ⅱ.入力用!AX15),IF(Ⅱ.入力用!AX284=\"\",\"\",Ⅱ.入力用!AX284)))","v":""},{"$f":"IF(Ⅱ.入力用!$AU$280=0,\"\",IF(Ⅱ.入力用!AT285=0,IF(Ⅱ.入力用!AX16=\"\",\"\",Ⅱ.入力用!AX16),IF(Ⅱ.入力用!AX285=\"\",\"\",Ⅱ.入力用!AX285)))","v":""},{"$f":"IF(Ⅱ.入力用!$AU$280=0,\"\",IF(Ⅱ.入力用!AT286=0,IF(Ⅱ.入力用!AX17=\"\",\"\",Ⅱ.入力用!AX17),IF(Ⅱ.入力用!AX286=\"\",\"\",Ⅱ.入力用!AX286)))","v":""},{"$f":"IF(Ⅱ.入力用!$AU$280=0,\"\",IF(Ⅱ.入力用!AT287=0,IF(Ⅱ.入力用!AX18=\"\",\"\",Ⅱ.入力用!AX18),IF(Ⅱ.入力用!AX287=\"\",\"\",Ⅱ.入力用!AX287)))","v":""},{"$f":"IF(Ⅱ.入力用!K290=\"\",\"\",Ⅱ.入力用!K290)","v":""},{"$f":"IF(Ⅱ.入力用!K297=\"\",\"\",Ⅱ.入力用!K297)","v":""},{"$f":"IF(Ⅱ.入力用!K298=\"\",\"\",Ⅱ.入力用!K298)","v":""},{"$f":"IF(Ⅱ.入力用!K301=\"\",\"\",Ⅱ.入力用!K301)","v":""},{"$f":"IF(Ⅱ.入力用!AX301=\"\",\"\",Ⅱ.入力用!AX301)","v":""},{"$f":"IF(Ⅱ.入力用!K302=\"\",\"\",Ⅱ.入力用!K302)","v":""},{"$f":"IF(Ⅱ.入力用!AX302=\"\",\"\",Ⅱ.入力用!AX302)","v":""},{"$f":"IF(Ⅱ.入力用!K303=\"\",\"\",Ⅱ.入力用!K303)","v":""},{"$f":"IF(Ⅱ.入力用!AX303=\"\",\"\",Ⅱ.入力用!AX303)","v":""},{"$f":"IF(Ⅱ.入力用!K304=\"\",\"\",Ⅱ.入力用!K304)","v":""},{"$f":"IF(Ⅱ.入力用!AX304=\"\",\"\",Ⅱ.入力用!AX304)","v":""},{"$f":"IF(Ⅱ.入力用!K305=\"\",\"\",Ⅱ.入力用!K305)","v":""},{"$f":"IF(Ⅱ.入力用!AX305=\"\",\"\",Ⅱ.入力用!AX305)","v":""},{"$f":"IF(Ⅱ.入力用!K306=\"\",\"\",Ⅱ.入力用!K306)","v":""},{"$f":"IF(Ⅱ.入力用!AX306=\"\",\"\",Ⅱ.入力用!AX306)","v":""},{"$f":"IF(Ⅱ.入力用!K307=\"\",\"\",Ⅱ.入力用!K307)","v":""},{"$f":"IF(Ⅱ.入力用!AX307=\"\",\"\",Ⅱ.入力用!AX307)","v":""},{"$f":"IF(Ⅱ.入力用!K308=\"\",\"\",Ⅱ.入力用!K308)","v":""},{"$f":"IF(Ⅱ.入力用!AX308=\"\",\"\",Ⅱ.入力用!AX308)","v":""},{"$f":"IF(Ⅱ.入力用!K309=\"\",\"\",Ⅱ.入力用!K309)","v":""},{"$f":"IF(Ⅱ.入力用!AX309=\"\",\"\",Ⅱ.入力用!AX309)","v":""},{"$f":"IF(Ⅱ.入力用!K310=\"\",\"\",Ⅱ.入力用!K310)","v":""},{"$f":"IF(Ⅱ.入力用!AX310=\"\",\"\",Ⅱ.入力用!AX310)","v":""},{"$f":"IF(Ⅱ.入力用!K311=\"\",\"\",Ⅱ.入力用!K311)","v":""},{"$f":"IF(Ⅱ.入力用!AX311=\"\",\"\",Ⅱ.入力用!AX311)","v":""},{"$f":"IF(Ⅱ.入力用!K312=\"\",\"\",Ⅱ.入力用!K312)","v":""},{"$f":"IF(Ⅱ.入力用!AX312=\"\",\"\",Ⅱ.入力用!AX312)","v":""},{"$f":"IF(Ⅱ.入力用!AU315=0,\"\",Ⅱ.入力用!K315)","v":""},{"$f":"IF(AND(Ⅱ.入力用!AV327=1,Ⅱ.入力用!AW327=0),Ⅱ.入力用!H333,\"\")","v":""},"←ここまで値でコピー"]
["↑2行目を値でコピー",null,null,null,null,null,null,null,null,null,null,null,null,null,null,null,null,null,null,null,null,null,null,null,null,null,null,null,null,null,null,null,1,"曲目",null,null,null,null,null,null,null,null,null,null,null,{"$f":"AG3+1","v":2},"曲目",null,null,null,null,null,null,null,null,null,null,null,{"$f":"AT3+1","v":3},"曲目",null,null,null,null,null,null,null,null,null,null,null,{"$f":"BG3+1","v":4},"曲目",null,null,null,null,null,null,null,null,null,null,null,{"$f":"BT3+1","v":5},"曲目",null,null,null,null,null,null,null,null,null,null,null,{"$f":"CG3+1","v":6},"曲目",null,null,null,null,null,null,null,null,null,null,null,{"$f":"CT3+1","v":7},"曲目",null,null,null,null,null,null,null,null,null,null,null,{"$f":"DG3+1","v":8},"曲目",null,null,null,null,null,null,null,null,null,null,null,{"$f":"DT3+1","v":9},"曲目",null,null,null,null,null,null,null,null,null,null,null,{"$f":"EG3+1","v":10},"曲目"]
["【メインデータ】　■の領域をコピー&ペースト",null,null,null,null,null,null,null,null,null,null,null,null,null,null,null,null,null,null,null,null,null,null,null,null,null,null,null,null,null,null,null,10,"行とばし"]
[]
[]
["【印刷会社発送用データ】　■の領域をコピー&ペースト",null,null,null,null,null,null,null,null,"【保険会社発送用データ】　■の領域をコピー&ペースト"]
["推薦都県名：",{"$f":"IF(Ⅱ.入力用!AW4=1,\"\",Ⅱ.入力用!I4)","v":""},null,null,"←ここから値でコピー",null,null,null,null,"団体名：",{"$f":"IF(Ⅱ.入力用!I6=\"\",\"\",Ⅱ.入力用!I6)","v":""},null,null,"←ここから値でコピー"]
["団体名：",{"$f":"IF(Ⅱ.入力用!I6=\"\",\"\",Ⅱ.入力用!I6)","v":""}]
["演目〈テーマ〉：",{"$f":"IF(Ⅱ.入力用!K298=\"\",\"\",Ⅱ.入力用!K298)","v":""},null,null,null,null,null,null,null,{"$f":"Ⅰ.構成メンバー名簿!E277&\"名\"","v":"0名"}]
[null,null,null,null,null,null,null,null,null,"№","氏名","年齢","学年"]
["【校正責任者】",null,null,null,null,null,null,null,null,{"$f":"IF(K12=\"\",\"\",1)","v":""},{"$f":"IF(Ⅰ.構成メンバー名簿!S26<>\"\",Ⅰ.構成メンバー名簿!S26,\"\")","v":""},{"$f":"IF(Ⅰ.構成メンバー名簿!V26=\"\",\"\",Ⅰ.構成メンバー名簿!E26)","v":""},{"$f":"IF(Ⅰ.構成メンバー名簿!W26=\"\",\"\",Ⅰ.構成メンバー名簿!W26)","v":""},{"$f":"IF(AND(Q12>0,SUM($Q13:$Q$261)=0),\"←ここまで値でコピー\",\"\")","v":""},null,null,{"$f":"IF(COUNTBLANK(K12:M12)=3,0,1)","v":0}]
["氏名",{"$f":"IF(Ⅱ.入力用!$AU$280=0,\"\",IF(Ⅱ.入力用!AT282=0,IF(Ⅱ.入力用!I13=\"\",\"\",Ⅱ.入力用!I13),IF(Ⅱ.入力用!K282=\"\",\"\",Ⅱ.入力用!K282)))","v":""},null,null,null,null,null,null,null,{"$f":"IF(SUM($Q13:$Q$261)=0,\"\",J12+1)","v":""},{"$f":"IF(Ⅰ.構成メンバー名簿!S27<>\"\",Ⅰ.構成メンバー名簿!S27,\"\")","v":""},{"$f":"IF(Ⅰ.構成メンバー名簿!V27=\"\",\"\",Ⅰ.構成メンバー名簿!E27)","v":""},{"$f":"IF(Ⅰ.構成メンバー名簿!W27=\"\",\"\",Ⅰ.構成メンバー名簿!W27)","v":""},{"$f":"IF(AND(Q13>0,SUM($Q14:$Q$261)=0),\"←ここまで値でコピー\",\"\")","v":""},null,null,{"$f":"IF(COUNTBLANK(K13:M13)=3,0,1)","v":0}]
["氏名フリガナ",{"$f":"IF(Ⅱ.入力用!$AU$280=0,\"\",IF(Ⅱ.入力用!AT283=0,IF(Ⅱ.入力用!I14=\"\",\"\",Ⅱ.入力用!I14),IF(Ⅱ.入力用!K283=\"\",\"\",Ⅱ.入力用!K283)))","v":""},null,null,null,null,null,null,null,{"$f":"IF(SUM($Q14:$Q$261)=0,\"\",J13+1)","v":""},{"$f":"IF(Ⅰ.構成メンバー名簿!S28<>\"\",Ⅰ.構成メンバー名簿!S28,\"\")","v":""},{"$f":"IF(Ⅰ.構成メンバー名簿!V28=\"\",\"\",Ⅰ.構成メンバー名簿!E28)","v":""},{"$f":"IF(Ⅰ.構成メンバー名簿!W28=\"\",\"\",Ⅰ.構成メンバー名簿!W28)","v":""},{"$f":"IF(AND(Q14>0,SUM($Q15:$Q$261)=0),\"←ここまで値でコピー\",\"\")","v":""},null,null,0]
["電話番号",{"$f":"IF(Ⅱ.入力用!$AU$280=0,\"\",IF(Ⅱ.入力用!AT284=0,IF(Ⅱ.入力用!I15=\"\",\"\",Ⅱ.入力用!I15),IF(Ⅱ.入力用!K284=\"\",\"\",Ⅱ.入力用!K284)))","v":""},null,null,null,null,null,null,null,{"$f":"IF(SUM($Q15:$Q$261)=0,\"\",J14+1)","v":""},{"$f":"IF(Ⅰ.構成メンバー名簿!S29<>\"\",Ⅰ.構成メンバー名簿!S29,\"\")","v":""},{"$f":"IF(Ⅰ.構成メンバー名簿!V29=\"\",\"\",Ⅰ.構成メンバー名簿!E29)","v":""},{"$f":"IF(Ⅰ.構成メンバー名簿!W29=\"\",\"\",Ⅰ.構成メンバー名簿!W29)","v":""},{"$f":"IF(AND(Q15>0,SUM($Q16:$Q$261)=0),\"←ここまで値でコピー\",\"\")","v":""},null,null,0]
["FAX",{"$f":"IF(Ⅱ.入力用!$AU$280=0,\"\",IF(Ⅱ.入力用!AT285=0,IF(Ⅱ.入力用!I16=\"\",\"\",Ⅱ.入力用!I16),IF(Ⅱ.入力用!K285=\"\",\"\",Ⅱ.入力用!K285)))","v":""},null,null,null,null,null,null,null,{"$f":"IF(SUM($Q16:$Q$261)=0,\"\",J15+1)","v":""},{"$f":"IF(Ⅰ.構成メンバー名簿!S30<>\"\",Ⅰ.構成メンバー名簿!S30,\"\")","v":""},{"$f":"IF(Ⅰ.構成メンバー名簿!V30=\"\",\"\",Ⅰ.構成メンバー名簿!E30)","v":""},{"$f":"IF(Ⅰ.構成メンバー名簿!W30=\"\",\"\",Ⅰ.構成メンバー名簿!W30)","v":""},{"$f":"IF(AND(Q16>0,SUM($Q17:$Q$261)=0),\"←ここまで値でコピー\",\"\")","v":""},null,null,0]
["携帯電話",{"$f":"IF(Ⅱ.入力用!$AU$280=0,\"\",IF(Ⅱ.入力用!AT286=0,IF(Ⅱ.入力用!I17=\"\",\"\",Ⅱ.入力用!I17),IF(Ⅱ.入力用!K286=\"\",\"\",Ⅱ.入力用!K286)))","v":""},null,null,null,null,null,null,null,{"$f":"IF(SUM($Q17:$Q$261)=0,\"\",J16+1)","v":""},{"$f":"IF(Ⅰ.構成メンバー名簿!S31<>\"\",Ⅰ.構成メンバー名簿!S31,\"\")","v":""},{"$f":"IF(Ⅰ.構成メンバー名簿!V31=\"\",\"\",Ⅰ.構成メンバー名簿!E31)","v":""},{"$f":"IF(Ⅰ.構成メンバー名簿!W31=\"\",\"\",Ⅰ.構成メンバー名簿!W31)","v":""},{"$f":"IF(AND(Q17>0,SUM($Q18:$Q$261)=0),\"←ここまで値でコピー\",\"\")","v":""},null,null,0]
["E-mail(PC)",{"$f":"IF(Ⅱ.入力用!$AU$280=0,\"\",IF(Ⅱ.入力用!AT287=0,IF(Ⅱ.入力用!I18=\"\",\"\",Ⅱ.入力用!I18),IF(Ⅱ.入力用!K287=\"\",\"\",Ⅱ.入力用!K287)))","v":""},null,null,null,null,null,null,null,{"$f":"IF(SUM($Q18:$Q$261)=0,\"\",J17+1)","v":""},{"$f":"IF(Ⅰ.構成メンバー名簿!S32<>\"\",Ⅰ.構成メンバー名簿!S32,\"\")","v":""},{"$f":"IF(Ⅰ.構成メンバー名簿!V32=\"\",\"\",Ⅰ.構成メンバー名簿!E32)","v":""},{"$f":"IF(Ⅰ.構成メンバー名簿!W32=\"\",\"\",Ⅰ.構成メンバー名簿!W32)","v":""},{"$f":"IF(AND(Q18>0,SUM($Q19:$Q$261)=0),\"←ここまで値でコピー\",\"\")","v":""},null,null,0]
[null,null,null,null,null,null,null,null,null,{"$f":"IF(SUM($Q19:$Q$261)=0,\"\",J18+1)","v":""},{"$f":"IF(Ⅰ.構成メンバー名簿!S33<>\"\",Ⅰ.構成メンバー名簿!S33,\"\")","v":""},{"$f":"IF(Ⅰ.構成メンバー名簿!V33=\"\",\"\",Ⅰ.構成メンバー名簿!E33)","v":""},{"$f":"IF(Ⅰ.構成メンバー名簿!W33=\"\",\"\",Ⅰ.構成メンバー名簿!W33)","v":""},{"$f":"IF(AND(Q19>0,SUM($Q20:$Q$261)=0),\"←ここまで値でコピー\",\"\")","v":""},null,null,0]
["【掲載内容】",null,null,null,null,null,null,null,null,{"$f":"IF(SUM($Q20:$Q$261)=0,\"\",J19+1)","v":""},{"$f":"IF(Ⅰ.構成メンバー名簿!S34<>\"\",Ⅰ.構成メンバー名簿!S34,\"\")","v":""},{"$f":"IF(Ⅰ.構成メンバー名簿!V34=\"\",\"\",Ⅰ.構成メンバー名簿!E34)","v":""},{"$f":"IF(Ⅰ.構成メンバー名簿!W34=\"\",\"\",Ⅰ.構成メンバー名簿!W34)","v":""},{"$f":"IF(AND(Q20>0,SUM($Q21:$Q$261)=0),\"←ここまで値でコピー\",\"\")","v":""},null,null,0]
["№","役職","氏名",null,null,null,null,null,null,{"$f":"IF(SUM($Q21:$Q$261)=0,\"\",J20+1)","v":""},{"$f":"IF(Ⅰ.構成メンバー名簿!S35<>\"\",Ⅰ.構成メンバー名簿!S35,\"\")","v":""},{"$f":"IF(Ⅰ.構成メンバー名簿!V35=\"\",\"\",Ⅰ.構成メンバー名簿!E35)","v":""},{"$f":"IF(Ⅰ.構成メンバー名簿!W35=\"\",\"\",Ⅰ.構成メンバー名簿!W35)","v":""},{"$f":"IF(AND(Q21>0,SUM($Q22:$Q$261)=0),\"←ここまで値でコピー\",\"\")","v":""},null,null,0]
[1,{"$f":"IF(Ⅱ.入力用!K301=\"\",\"\",Ⅱ.入力用!K301)","v":""},{"$f":"IF(Ⅱ.入力用!R301=\"\",\"\",Ⅱ.入力用!R301)","v":""},null,null,null,null,null,null,{"$f":"IF(SUM($Q22:$Q$261)=0,\"\",J21+1)","v":""},{"$f":"IF(Ⅰ.構成メンバー名簿!S36<>\"\",Ⅰ.構成メンバー名簿!S36,\"\")","v":""},{"$f":"IF(Ⅰ.構成メンバー名簿!V36=\"\",\"\",Ⅰ.構成メンバー名簿!E36)","v":""},{"$f":"IF(Ⅰ.構成メンバー名簿!W36=\"\",\"\",Ⅰ.構成メンバー名簿!W36)","v":""},{"$f":"IF(AND(Q22>0,SUM($Q23:$Q$261)=0),\"←ここまで値でコピー\",\"\")","v":""},null,null,0]
[2,{"$f":"IF(Ⅱ.入力用!K302=\"\",\"\",Ⅱ.入力用!K302)","v":""},{"$f":"IF(Ⅱ.入力用!R302=\"\",\"\",Ⅱ.入力用!R302)","v":""},null,null,null,null,null,null,{"$f":"IF(SUM($Q23:$Q$261)=0,\"\",J22+1)","v":""},{"$f":"IF(Ⅰ.構成メンバー名簿!S37<>\"\",Ⅰ.構成メンバー名簿!S37,\"\")","v":""},{"$f":"IF(Ⅰ.構成メンバー名簿!V37=\"\",\"\",Ⅰ.構成メンバー名簿!E37)","v":""},{"$f":"IF(Ⅰ.構成メンバー名簿!W37=\"\",\"\",Ⅰ.構成メンバー名簿!W37)","v":""},{"$f":"IF(AND(Q23>0,SUM($Q24:$Q$261)=0),\"←ここまで値でコピー\",\"\")","v":""},null,null,0]
[3,{"$f":"IF(Ⅱ.入力用!K303=\"\",\"\",Ⅱ.入力用!K303)","v":""},{"$f":"IF(Ⅱ.入力用!R303=\"\",\"\",Ⅱ.入力用!R303)","v":""},null,null,null,null,null,null,{"$f":"IF(SUM($Q24:$Q$261)=0,\"\",J23+1)","v":""},{"$f":"IF(Ⅰ.構成メンバー名簿!S38<>\"\",Ⅰ.構成メンバー名簿!S38,\"\")","v":""},{"$f":"IF(Ⅰ.構成メンバー名簿!V38=\"\",\"\",Ⅰ.構成メンバー名簿!E38)","v":""},{"$f":"IF(Ⅰ.構成メンバー名簿!W38=\"\",\"\",Ⅰ.構成メンバー名簿!W38)","v":""},{"$f":"IF(AND(Q24>0,SUM($Q25:$Q$261)=0),\"←ここまで値でコピー\",\"\")","v":""},null,null,0]
[4,{"$f":"IF(Ⅱ.入力用!K304=\"\",\"\",Ⅱ.入力用!K304)","v":""},{"$f":"IF(Ⅱ.入力用!R304=\"\",\"\",Ⅱ.入力用!R304)","v":""},null,null,null,null,null,null,{"$f":"IF(SUM($Q25:$Q$261)=0,\"\",J24+1)","v":""},{"$f":"IF(Ⅰ.構成メンバー名簿!S39<>\"\",Ⅰ.構成メンバー名簿!S39,\"\")","v":""},{"$f":"IF(Ⅰ.構成メンバー名簿!V39=\"\",\"\",Ⅰ.構成メンバー名簿!E39)","v":""},{"$f":"IF(Ⅰ.構成メンバー名簿!W39=\"\",\"\",Ⅰ.構成メンバー名簿!W39)","v":""},{"$f":"IF(AND(Q25>0,SUM($Q26:$Q$261)=0),\"←ここまで値でコピー\",\"\")","v":""},null,null,0]
[5,{"$f":"IF(Ⅱ.入力用!K305=\"\",\"\",Ⅱ.入力用!K305)","v":""},{"$f":"IF(Ⅱ.入力用!R305=\"\",\"\",Ⅱ.入力用!R305)","v":""},null,null,null,null,null,null,{"$f":"IF(SUM($Q26:$Q$261)=0,\"\",J25+1)","v":""},{"$f":"IF(Ⅰ.構成メンバー名簿!S40<>\"\",Ⅰ.構成メンバー名簿!S40,\"\")","v":""},{"$f":"IF(Ⅰ.構成メンバー名簿!V40=\"\",\"\",Ⅰ.構成メンバー名簿!E40)","v":""},{"$f":"IF(Ⅰ.構成メンバー名簿!W40=\"\",\"\",Ⅰ.構成メンバー名簿!W40)","v":""},{"$f":"IF(AND(Q26>0,SUM($Q27:$Q$261)=0),\"←ここまで値でコピー\",\"\")","v":""},null,null,0]
[6,{"$f":"IF(Ⅱ.入力用!K306=\"\",\"\",Ⅱ.入力用!K306)","v":""},{"$f":"IF(Ⅱ.入力用!R306=\"\",\"\",Ⅱ.入力用!R306)","v":""},null,null,null,null,null,null,{"$f":"IF(SUM($Q27:$Q$261)=0,\"\",J26+1)","v":""},{"$f":"IF(Ⅰ.構成メンバー名簿!S41<>\"\",Ⅰ.構成メンバー名簿!S41,\"\")","v":""},{"$f":"IF(Ⅰ.構成メンバー名簿!V41=\"\",\"\",Ⅰ.構成メンバー名簿!E41)","v":""},{"$f":"IF(Ⅰ.構成メンバー名簿!W41=\"\",\"\",Ⅰ.構成メンバー名簿!W41)","v":""},{"$f":"IF(AND(Q27>0,SUM($Q28:$Q$261)=0),\"←ここまで値でコピー\",\"\")","v":""},null,null,0]
[7,{"$f":"IF(Ⅱ.入力用!K307=\"\",\"\",Ⅱ.入力用!K307)","v":""},{"$f":"IF(Ⅱ.入力用!R307=\"\",\"\",Ⅱ.入力用!R307)","v":""},null,null,null,null,null,null,{"$f":"IF(SUM($Q28:$Q$261)=0,\"\",J27+1)","v":""},{"$f":"IF(Ⅰ.構成メンバー名簿!S42<>\"\",Ⅰ.構成メンバー名簿!S42,\"\")","v":""},{"$f":"IF(Ⅰ.構成メンバー名簿!V42=\"\",\"\",Ⅰ.構成メンバー名簿!E42)","v":""},{"$f":"IF(Ⅰ.構成メンバー名簿!W42=\"\",\"\",Ⅰ.構成メンバー名簿!W42)","v":""},{"$f":"IF(AND(Q28>0,SUM($Q29:$Q$261)=0),\"←ここまで値でコピー\",\"\")","v":""},null,null,0]
[8,{"$f":"IF(Ⅱ.入力用!K308=\"\",\"\",Ⅱ.入力用!K308)","v":""},{"$f":"IF(Ⅱ.入力用!R308=\"\",\"\",Ⅱ.入力用!R308)","v":""},null,null,null,null,null,null,{"$f":"IF(SUM($Q29:$Q$261)=0,\"\",J28+1)","v":""},{"$f":"IF(Ⅰ.構成メンバー名簿!S43<>\"\",Ⅰ.構成メンバー名簿!S43,\"\")","v":""},{"$f":"IF(Ⅰ.構成メンバー名簿!V43=\"\",\"\",Ⅰ.構成メンバー名簿!E43)","v":""},{"$f":"IF(Ⅰ.構成メンバー名簿!W43=\"\",\"\",Ⅰ.構成メンバー名簿!W43)","v":""},{"$f":"IF(AND(Q29>0,SUM($Q30:$Q$261)=0),\"←ここまで値でコピー\",\"\")","v":""},null,null,0]
[9,{"$f":"IF(Ⅱ.入力用!K309=\"\",\"\",Ⅱ.入力用!K309)","v":""},{"$f":"IF(Ⅱ.入力用!R309=\"\",\"\",Ⅱ.入力用!R309)","v":""},null,null,null,null,null,null,{"$f":"IF(SUM($Q30:$Q$261)=0,\"\",J29+1)","v":""},{"$f":"IF(Ⅰ.構成メンバー名簿!S44<>\"\",Ⅰ.構成メンバー名簿!S44,\"\")","v":""},{"$f":"IF(Ⅰ.構成メンバー名簿!V44=\"\",\"\",Ⅰ.構成メンバー名簿!E44)","v":""},{"$f":"IF(Ⅰ.構成メンバー名簿!W44=\"\",\"\",Ⅰ.構成メンバー名簿!W44)","v":""},{"$f":"IF(AND(Q30>0,SUM($Q31:$Q$261)=0),\"←ここまで値でコピー\",\"\")","v":""},null,null,0]
[10,{"$f":"IF(Ⅱ.入力用!K310=\"\",\"\",Ⅱ.入力用!K310)","v":""},{"$f":"IF(Ⅱ.入力用!R310=\"\",\"\",Ⅱ.入力用!R310)","v":""},null,null,null,null,null,null,{"$f":"IF(SUM($Q31:$Q$261)=0,\"\",J30+1)","v":""},{"$f":"IF(Ⅰ.構成メンバー名簿!S45<>\"\",Ⅰ.構成メンバー名簿!S45,\"\")","v":""},{"$f":"IF(Ⅰ.構成メンバー名簿!V45=\"\",\"\",Ⅰ.構成メンバー名簿!E45)","v":""},{"$f":"IF(Ⅰ.構成メンバー名簿!W45=\"\",\"\",Ⅰ.構成メンバー名簿!W45)","v":""},{"$f":"IF(AND(Q31>0,SUM($Q32:$Q$261)=0),\"←ここまで値でコピー\",\"\")","v":""},null,null,0]
[11,{"$f":"IF(Ⅱ.入力用!K311=\"\",\"\",Ⅱ.入力用!K311)","v":""},{"$f":"IF(Ⅱ.入力用!R311=\"\",\"\",Ⅱ.入力用!R311)","v":""},null,null,null,null,null,null,{"$f":"IF(SUM($Q32:$Q$261)=0,\"\",J31+1)","v":""},{"$f":"IF(Ⅰ.構成メンバー名簿!S46<>\"\",Ⅰ.構成メンバー名簿!S46,\"\")","v":""},{"$f":"IF(Ⅰ.構成メンバー名簿!V46=\"\",\"\",Ⅰ.構成メンバー名簿!E46)","v":""},{"$f":"IF(Ⅰ.構成メンバー名簿!W46=\"\",\"\",Ⅰ.構成メンバー名簿!W46)","v":""},{"$f":"IF(AND(Q32>0,SUM($Q33:$Q$261)=0),\"←ここまで値でコピー\",\"\")","v":""},null,null,0]
[12,{"$f":"IF(Ⅱ.入力用!K312=\"\",\"\",Ⅱ.入力用!K312)","v":""},{"$f":"IF(Ⅱ.入力用!R312=\"\",\"\",Ⅱ.入力用!R312)","v":""},null,null,null,null,null,null,{"$f":"IF(SUM($Q33:$Q$261)=0,\"\",J32+1)","v":""},{"$f":"IF(Ⅰ.構成メンバー名簿!S47<>\"\",Ⅰ.構成メンバー名簿!S47,\"\")","v":""},{"$f":"IF(Ⅰ.構成メンバー名簿!V47=\"\",\"\",Ⅰ.構成メンバー名簿!E47)","v":""},{"$f":"IF(Ⅰ.構成メンバー名簿!W47=\"\",\"\",Ⅰ.構成メンバー名簿!W47)","v":""},{"$f":"IF(AND(Q33>0,SUM($Q34:$Q$261)=0),\"←ここまで値でコピー\",\"\")","v":""},null,null,0]
[null,null,null,null,null,null,null,null,null,{"$f":"IF(SUM($Q34:$Q$261)=0,\"\",J33+1)","v":""},{"$f":"IF(Ⅰ.構成メンバー名簿!S48<>\"\",Ⅰ.構成メンバー名簿!S48,\"\")","v":""},{"$f":"IF(Ⅰ.構成メンバー名簿!V48=\"\",\"\",Ⅰ.構成メンバー名簿!E48)","v":""},{"$f":"IF(Ⅰ.構成メンバー名簿!W48=\"\",\"\",Ⅰ.構成メンバー名簿!W48)","v":""},{"$f":"IF(AND(Q34>0,SUM($Q35:$Q$261)=0),\"←ここまで値でコピー\",\"\")","v":""},null,null,0]
["【写真提出方法】",null,null,null,null,null,null,null,null,{"$f":"IF(SUM($Q35:$Q$261)=0,\"\",J34+1)","v":""},{"$f":"IF(Ⅰ.構成メンバー名簿!S49<>\"\",Ⅰ.構成メンバー名簿!S49,\"\")","v":""},{"$f":"IF(Ⅰ.構成メンバー名簿!V49=\"\",\"\",Ⅰ.構成メンバー名簿!E49)","v":""},{"$f":"IF(Ⅰ.構成メンバー名簿!W49=\"\",\"\",Ⅰ.構成メンバー名簿!W49)","v":""},{"$f":"IF(AND(Q35>0,SUM($Q36:$Q$261)=0),\"←ここまで値でコピー\",\"\")","v":""},null,null,0]
[{"$f":"IF(Ⅱ.入力用!AU315=0,\"\",Ⅱ.入力用!K315)","v":""},null,null,null,null,null,null,null,null,{"$f":"IF(SUM($Q36:$Q$261)=0,\"\",J35+1)","v":""},{"$f":"IF(Ⅰ.構成メンバー名簿!S50<>\"\",Ⅰ.構成メンバー名簿!S50,\"\")","v":""},{"$f":"IF(Ⅰ.構成メンバー名簿!V50=\"\",\"\",Ⅰ.構成メンバー名簿!E50)","v":""},{"$f":"IF(Ⅰ.構成メンバー名簿!W50=\"\",\"\",Ⅰ.構成メンバー名簿!W50)","v":""},{"$f":"IF(AND(Q36>0,SUM($Q37:$Q$261)=0),\"←ここまで値でコピー\",\"\")","v":""},null,null,0]
[null,null,null,null,null,null,null,null,null,{"$f":"IF(SUM($Q37:$Q$261)=0,\"\",J36+1)","v":""},{"$f":"IF(Ⅰ.構成メンバー名簿!S51<>\"\",Ⅰ.構成メンバー名簿!S51,\"\")","v":""},{"$f":"IF(Ⅰ.構成メンバー名簿!V51=\"\",\"\",Ⅰ.構成メンバー名簿!E51)","v":""},{"$f":"IF(Ⅰ.構成メンバー名簿!W51=\"\",\"\",Ⅰ.構成メンバー名簿!W51)","v":""},{"$f":"IF(AND(Q37>0,SUM($Q38:$Q$261)=0),\"←ここまで値でコピー\",\"\")","v":""},null,null,0]
["【構成メンバー名簿】",null,null,null,null,null,null,null,null,{"$f":"IF(SUM($Q38:$Q$261)=0,\"\",J37+1)","v":""},{"$f":"IF(Ⅰ.構成メンバー名簿!S52<>\"\",Ⅰ.構成メンバー名簿!S52,\"\")","v":""},{"$f":"IF(Ⅰ.構成メンバー名簿!V52=\"\",\"\",Ⅰ.構成メンバー名簿!E52)","v":""},{"$f":"IF(Ⅰ.構成メンバー名簿!W52=\"\",\"\",Ⅰ.構成メンバー名簿!W52)","v":""},{"$f":"IF(AND(Q38>0,SUM($Q39:$Q$261)=0),\"←ここまで値でコピー\",\"\")","v":""},null,null,0]
["プログラム掲載人数",{"$f":"H39&\" 名\"","v":"0 名"},null,null,{"$f":"IF(H39=0,\"←ここまで値でコピー\",\"\")","v":"←ここまで値でコピー"},null,null,{"$f":"MAX(Ⅰ.構成メンバー名簿!$Q$26:$Q$275)","v":0},null,{"$f":"IF(SUM($Q39:$Q$261)=0,\"\",J38+1)","v":""},{"$f":"IF(Ⅰ.構成メンバー名簿!S53<>\"\",Ⅰ.構成メンバー名簿!S53,\"\")","v":""},{"$f":"IF(Ⅰ.構成メンバー名簿!V53=\"\",\"\",Ⅰ.構成メンバー名簿!E53)","v":""},{"$f":"IF(Ⅰ.構成メンバー名簿!W53=\"\",\"\",Ⅰ.構成メンバー名簿!W53)","v":""},{"$f":"IF(AND(Q39>0,SUM($Q40:$Q$261)=0),\"←ここまで値でコピー\",\"\")","v":""},null,null,0]
[{"$f":"IF($H$39=0,\"\",\"№\")","v":""},{"$f":"IF($H$39=0,\"\",\"氏名\")","v":""},{"$f":"IF($H$39=0,\"\",\"年齢\")","v":""},{"$f":"IF($H$39=0,\"\",\"学年\")","v":""},null,null,null,null,null,{"$f":"IF(SUM($Q40:$Q$261)=0,\"\",J39+1)","v":""},{"$f":"IF(Ⅰ.構成メンバー名簿!S54<>\"\",Ⅰ.構成メンバー名簿!S54,\"\")","v":""},{"$f":"IF(Ⅰ.構成メンバー名簿!V54=\"\",\"\",Ⅰ.構成メンバー名簿!E54)","v":""},{"$f":"IF(Ⅰ.構成メンバー名簿!W54=\"\",\"\",Ⅰ.構成メンバー名簿!W54)","v":""},{"$f":"IF(AND(Q40>0,SUM($Q41:$Q$261)=0),\"←ここまで値でコピー\",\"\")","v":""},null,null,0]
[{"$f":"IF(MAX(Ⅰ.構成メンバー名簿!$Q$26:$Q$275)>0,1,\"\")","v":""},{"$f":"IF($A41=\"\",\"\",VLOOKUP($A41,Ⅰ.構成メンバー名簿!$Q$26:$W$275,MATCH(Ⅰ.構成メンバー名簿!$S$25,Ⅰ.構成メンバー名簿!$Q$25:$W$25,0),FALSE))","v":""},{"$f":"IF($A41=\"\",\"\",IF(VLOOKUP($A41,Ⅰ.構成メンバー名簿!$Q$26:$W$275,MATCH(Ⅰ.構成メンバー名簿!$T$25,Ⅰ.構成メンバー名簿!$Q$25:$W$25,0),FALSE)=\"\",\"\",VLOOKUP($A41,Ⅰ.構成メンバー名簿!$Q$26:$W$275,MATCH(Ⅰ.構成メンバー名簿!$T$25,Ⅰ.構成メンバー名簿!$Q$25:$W$25,0),FALSE)))","v":""},{"$f":"IF($A41=\"\",\"\",VLOOKUP($A41,Ⅰ.構成メンバー名簿!$Q$26:$W$275,MATCH(Ⅰ.構成メンバー名簿!$W$25,Ⅰ.構成メンバー名簿!$Q$25:$W$25,0),FALSE))","v":""},{"$f":"IF(AND(H41>0,SUM(H42:$H$290)=0),\"←ここまで値でコピー\",\"\")","v":""},null,null,{"$f":"IF(COUNTBLANK(B41:D41)=3,0,1)","v":0},null,{"$f":"IF(SUM($Q41:$Q$261)=0,\"\",J40+1)","v":""},{"$f":"IF(Ⅰ.構成メンバー名簿!S55<>\"\",Ⅰ.構成メンバー名簿!S55,\"\")","v":""},{"$f":"IF(Ⅰ.構成メンバー名簿!V55=\"\",\"\",Ⅰ.構成メンバー名簿!E55)","v":""},{"$f":"IF(Ⅰ.構成メンバー名簿!W55=\"\",\"\",Ⅰ.構成メンバー名簿!W55)","v":""},{"$f":"IF(AND(Q41>0,SUM($Q42:$Q$261)=0),\"←ここまで値でコピー\",\"\")","v":""},null,null,0]
[{"$f":"IF(MAX(Ⅰ.構成メンバー名簿!$Q$26:$Q$275)>A41,A41+1,\"\")","v":""},{"$f":"IF($A42=\"\",\"\",VLOOKUP($A42,Ⅰ.構成メンバー名簿!$Q$26:$W$275,MATCH(Ⅰ.構成メンバー名簿!$S$25,Ⅰ.構成メンバー名簿!$Q$25:$W$25,0),FALSE))","v":""},{"$f":"IF($A42=\"\",\"\",IF(VLOOKUP($A42,Ⅰ.構成メンバー名簿!$Q$26:$W$275,MATCH(Ⅰ.構成メンバー名簿!$T$25,Ⅰ.構成メンバー名簿!$Q$25:$W$25,0),FALSE)=\"\",\"\",VLOOKUP($A42,Ⅰ.構成メンバー名簿!$Q$26:$W$275,MATCH(Ⅰ.構成メンバー名簿!$T$25,Ⅰ.構成メンバー名簿!$Q$25:$W$25,0),FALSE)))","v":""},{"$f":"IF($A42=\"\",\"\",VLOOKUP($A42,Ⅰ.構成メンバー名簿!$Q$26:$W$275,MATCH(Ⅰ.構成メンバー名簿!$W$25,Ⅰ.構成メンバー名簿!$Q$25:$W$25,0),FALSE))","v":""},{"$f":"IF(AND(H42>0,SUM(H43:$H$290)=0),\"←ここまで値でコピー\",\"\")","v":""},null,null,{"$f":"IF(COUNTBLANK(B42:D42)=3,0,1)","v":0},null,{"$f":"IF(SUM($Q42:$Q$261)=0,\"\",J41+1)","v":""},{"$f":"IF(Ⅰ.構成メンバー名簿!S56<>\"\",Ⅰ.構成メンバー名簿!S56,\"\")","v":""},{"$f":"IF(Ⅰ.構成メンバー名簿!V56=\"\",\"\",Ⅰ.構成メンバー名簿!E56)","v":""},{"$f":"IF(Ⅰ.構成メンバー名簿!W56=\"\",\"\",Ⅰ.構成メンバー名簿!W56)","v":""},{"$f":"IF(AND(Q42>0,SUM($Q43:$Q$261)=0),\"←ここまで値でコピー\",\"\")","v":""},null,null,0]
[{"$f":"IF(MAX(Ⅰ.構成メンバー名簿!$Q$26:$Q$275)>A42,A42+1,\"\")","v":""},{"$f":"IF($A43=\"\",\"\",VLOOKUP($A43,Ⅰ.構成メンバー名簿!$Q$26:$W$275,MATCH(Ⅰ.構成メンバー名簿!$S$25,Ⅰ.構成メンバー名簿!$Q$25:$W$25,0),FALSE))","v":""},{"$f":"IF($A43=\"\",\"\",IF(VLOOKUP($A43,Ⅰ.構成メンバー名簿!$Q$26:$W$275,MATCH(Ⅰ.構成メンバー名簿!$T$25,Ⅰ.構成メンバー名簿!$Q$25:$W$25,0),FALSE)=\"\",\"\",VLOOKUP($A43,Ⅰ.構成メンバー名簿!$Q$26:$W$275,MATCH(Ⅰ.構成メンバー名簿!$T$25,Ⅰ.構成メンバー名簿!$Q$25:$W$25,0),FALSE)))","v":""},{"$f":"IF($A43=\"\",\"\",VLOOKUP($A43,Ⅰ.構成メンバー名簿!$Q$26:$W$275,MATCH(Ⅰ.構成メンバー名簿!$W$25,Ⅰ.構成メンバー名簿!$Q$25:$W$25,0),FALSE))","v":""},{"$f":"IF(AND(H43>0,SUM(H44:$H$290)=0),\"←ここまで値でコピー\",\"\")","v":""},null,null,0,null,{"$f":"IF(SUM($Q43:$Q$261)=0,\"\",J42+1)","v":""},{"$f":"IF(Ⅰ.構成メンバー名簿!S57<>\"\",Ⅰ.構成メンバー名簿!S57,\"\")","v":""},{"$f":"IF(Ⅰ.構成メンバー名簿!V57=\"\",\"\",Ⅰ.構成メンバー名簿!E57)","v":""},{"$f":"IF(Ⅰ.構成メンバー名簿!W57=\"\",\"\",Ⅰ.構成メンバー名簿!W57)","v":""},{"$f":"IF(AND(Q43>0,SUM($Q44:$Q$261)=0),\"←ここまで値でコピー\",\"\")","v":""},null,null,0]
[{"$f":"IF(MAX(Ⅰ.構成メンバー名簿!$Q$26:$Q$275)>A43,A43+1,\"\")","v":""},{"$f":"IF($A44=\"\",\"\",VLOOKUP($A44,Ⅰ.構成メンバー名簿!$Q$26:$W$275,MATCH(Ⅰ.構成メンバー名簿!$S$25,Ⅰ.構成メンバー名簿!$Q$25:$W$25,0),FALSE))","v":""},{"$f":"IF($A44=\"\",\"\",IF(VLOOKUP($A44,Ⅰ.構成メンバー名簿!$Q$26:$W$275,MATCH(Ⅰ.構成メンバー名簿!$T$25,Ⅰ.構成メンバー名簿!$Q$25:$W$25,0),FALSE)=\"\",\"\",VLOOKUP($A44,Ⅰ.構成メンバー名簿!$Q$26:$W$275,MATCH(Ⅰ.構成メンバー名簿!$T$25,Ⅰ.構成メンバー名簿!$Q$25:$W$25,0),FALSE)))","v":""},{"$f":"IF($A44=\"\",\"\",VLOOKUP($A44,Ⅰ.構成メンバー名簿!$Q$26:$W$275,MATCH(Ⅰ.構成メンバー名簿!$W$25,Ⅰ.構成メンバー名簿!$Q$25:$W$25,0),FALSE))","v":""},{"$f":"IF(AND(H44>0,SUM(H45:$H$290)=0),\"←ここまで値でコピー\",\"\")","v":""},null,null,0,null,{"$f":"IF(SUM($Q44:$Q$261)=0,\"\",J43+1)","v":""},{"$f":"IF(Ⅰ.構成メンバー名簿!S58<>\"\",Ⅰ.構成メンバー名簿!S58,\"\")","v":""},{"$f":"IF(Ⅰ.構成メンバー名簿!V58=\"\",\"\",Ⅰ.構成メンバー名簿!E58)","v":""},{"$f":"IF(Ⅰ.構成メンバー名簿!W58=\"\",\"\",Ⅰ.構成メンバー名簿!W58)","v":""},{"$f":"IF(AND(Q44>0,SUM($Q45:$Q$261)=0),\"←ここまで値でコピー\",\"\")","v":""},null,null,0]
[{"$f":"IF(MAX(Ⅰ.構成メンバー名簿!$Q$26:$Q$275)>A44,A44+1,\"\")","v":""},{"$f":"IF($A45=\"\",\"\",VLOOKUP($A45,Ⅰ.構成メンバー名簿!$Q$26:$W$275,MATCH(Ⅰ.構成メンバー名簿!$S$25,Ⅰ.構成メンバー名簿!$Q$25:$W$25,0),FALSE))","v":""},{"$f":"IF($A45=\"\",\"\",IF(VLOOKUP($A45,Ⅰ.構成メンバー名簿!$Q$26:$W$275,MATCH(Ⅰ.構成メンバー名簿!$T$25,Ⅰ.構成メンバー名簿!$Q$25:$W$25,0),FALSE)=\"\",\"\",VLOOKUP($A45,Ⅰ.構成メンバー名簿!$Q$26:$W$275,MATCH(Ⅰ.構成メンバー名簿!$T$25,Ⅰ.構成メンバー名簿!$Q$25:$W$25,0),FALSE)))","v":""},{"$f":"IF($A45=\"\",\"\",VLOOKUP($A45,Ⅰ.構成メンバー名簿!$Q$26:$W$275,MATCH(Ⅰ.構成メンバー名簿!$W$25,Ⅰ.構成メンバー名簿!$Q$25:$W$25,0),FALSE))","v":""},{"$f":"IF(AND(H45>0,SUM(H46:$H$290)=0),\"←ここまで値でコピー\",\"\")","v":""},null,null,0,null,{"$f":"IF(SUM($Q45:$Q$261)=0,\"\",J44+1)","v":""},{"$f":"IF(Ⅰ.構成メンバー名簿!S59<>\"\",Ⅰ.構成メンバー名簿!S59,\"\")","v":""},{"$f":"IF(Ⅰ.構成メンバー名簿!V59=\"\",\"\",Ⅰ.構成メンバー名簿!E59)","v":""},{"$f":"IF(Ⅰ.構成メンバー名簿!W59=\"\",\"\",Ⅰ.構成メンバー名簿!W59)","v":""},{"$f":"IF(AND(Q45>0,SUM($Q46:$Q$261)=0),\"←ここまで値でコピー\",\"\")","v":""},null,null,0]
[{"$f":"IF(MAX(Ⅰ.構成メンバー名簿!$Q$26:$Q$275)>A45,A45+1,\"\")","v":""},{"$f":"IF($A46=\"\",\"\",VLOOKUP($A46,Ⅰ.構成メンバー名簿!$Q$26:$W$275,MATCH(Ⅰ.構成メンバー名簿!$S$25,Ⅰ.構成メンバー名簿!$Q$25:$W$25,0),FALSE))","v":""},{"$f":"IF($A46=\"\",\"\",IF(VLOOKUP($A46,Ⅰ.構成メンバー名簿!$Q$26:$W$275,MATCH(Ⅰ.構成メンバー名簿!$T$25,Ⅰ.構成メンバー名簿!$Q$25:$W$25,0),FALSE)=\"\",\"\",VLOOKUP($A46,Ⅰ.構成メンバー名簿!$Q$26:$W$275,MATCH(Ⅰ.構成メンバー名簿!$T$25,Ⅰ.構成メンバー名簿!$Q$25:$W$25,0),FALSE)))","v":""},{"$f":"IF($A46=\"\",\"\",VLOOKUP($A46,Ⅰ.構成メンバー名簿!$Q$26:$W$275,MATCH(Ⅰ.構成メンバー名簿!$W$25,Ⅰ.構成メンバー名簿!$Q$25:$W$25,0),FALSE))","v":""},{"$f":"IF(AND(H46>0,SUM(H47:$H$290)=0),\"←ここまで値でコピー\",\"\")","v":""},null,null,0,null,{"$f":"IF(SUM($Q46:$Q$261)=0,\"\",J45+1)","v":""},{"$f":"IF(Ⅰ.構成メンバー名簿!S60<>\"\",Ⅰ.構成メンバー名簿!S60,\"\")","v":""},{"$f":"IF(Ⅰ.構成メンバー名簿!V60=\"\",\"\",Ⅰ.構成メンバー名簿!E60)","v":""},{"$f":"IF(Ⅰ.構成メンバー名簿!W60=\"\",\"\",Ⅰ.構成メンバー名簿!W60)","v":""},{"$f":"IF(AND(Q46>0,SUM($Q47:$Q$261)=0),\"←ここまで値でコピー\",\"\")","v":""},null,null,0]
[{"$f":"IF(MAX(Ⅰ.構成メンバー名簿!$Q$26:$Q$275)>A46,A46+1,\"\")","v":""},{"$f":"IF($A47=\"\",\"\",VLOOKUP($A47,Ⅰ.構成メンバー名簿!$Q$26:$W$275,MATCH(Ⅰ.構成メンバー名簿!$S$25,Ⅰ.構成メンバー名簿!$Q$25:$W$25,0),FALSE))","v":""},{"$f":"IF($A47=\"\",\"\",IF(VLOOKUP($A47,Ⅰ.構成メンバー名簿!$Q$26:$W$275,MATCH(Ⅰ.構成メンバー名簿!$T$25,Ⅰ.構成メンバー名簿!$Q$25:$W$25,0),FALSE)=\"\",\"\",VLOOKUP($A47,Ⅰ.構成メンバー名簿!$Q$26:$W$275,MATCH(Ⅰ.構成メンバー名簿!$T$25,Ⅰ.構成メンバー名簿!$Q$25:$W$25,0),FALSE)))","v":""},{"$f":"IF($A47=\"\",\"\",VLOOKUP($A47,Ⅰ.構成メンバー名簿!$Q$26:$W$275,MATCH(Ⅰ.構成メンバー名簿!$W$25,Ⅰ.構成メンバー名簿!$Q$25:$W$25,0),FALSE))","v":""},{"$f":"IF(AND(H47>0,SUM(H48:$H$290)=0),\"←ここまで値でコピー\",\"\")","v":""},null,null,0,null,{"$f":"IF(SUM($Q47:$Q$261)=0,\"\",J46+1)","v":""},{"$f":"IF(Ⅰ.構成メンバー名簿!S61<>\"\",Ⅰ.構成メンバー名簿!S61,\"\")","v":""},{"$f":"IF(Ⅰ.構成メンバー名簿!V61=\"\",\"\",Ⅰ.構成メンバー名簿!E61)","v":""},{"$f":"IF(Ⅰ.構成メンバー名簿!W61=\"\",\"\",Ⅰ.構成メンバー名簿!W61)","v":""},{"$f":"IF(AND(Q47>0,SUM($Q48:$Q$261)=0),\"←ここまで値でコピー\",\"\")","v":""},null,null,0]
[{"$f":"IF(MAX(Ⅰ.構成メンバー名簿!$Q$26:$Q$275)>A47,A47+1,\"\")","v":""},{"$f":"IF($A48=\"\",\"\",VLOOKUP($A48,Ⅰ.構成メンバー名簿!$Q$26:$W$275,MATCH(Ⅰ.構成メンバー名簿!$S$25,Ⅰ.構成メンバー名簿!$Q$25:$W$25,0),FALSE))","v":""},{"$f":"IF($A48=\"\",\"\",IF(VLOOKUP($A48,Ⅰ.構成メンバー名簿!$Q$26:$W$275,MATCH(Ⅰ.構成メンバー名簿!$T$25,Ⅰ.構成メンバー名簿!$Q$25:$W$25,0),FALSE)=\"\",\"\",VLOOKUP($A48,Ⅰ.構成メンバー名簿!$Q$26:$W$275,MATCH(Ⅰ.構成メンバー名簿!$T$25,Ⅰ.構成メンバー名簿!$Q$25:$W$25,0),FALSE)))","v":""},{"$f":"IF($A48=\"\",\"\",VLOOKUP($A48,Ⅰ.構成メンバー名簿!$Q$26:$W$275,MATCH(Ⅰ.構成メンバー名簿!$W$25,Ⅰ.構成メンバー名簿!$Q$25:$W$25,0),FALSE))","v":""},{"$f":"IF(AND(H48>0,SUM(H49:$H$290)=0),\"←ここまで値でコピー\",\"\")","v":""},null,null,0,null,{"$f":"IF(SUM($Q48:$Q$261)=0,\"\",J47+1)","v":""},{"$f":"IF(Ⅰ.構成メンバー名簿!S62<>\"\",Ⅰ.構成メンバー名簿!S62,\"\")","v":""},{"$f":"IF(Ⅰ.構成メンバー名簿!V62=\"\",\"\",Ⅰ.構成メンバー名簿!E62)","v":""},{"$f":"IF(Ⅰ.構成メンバー名簿!W62=\"\",\"\",Ⅰ.構成メンバー名簿!W62)","v":""},{"$f":"IF(AND(Q48>0,SUM($Q49:$Q$261)=0),\"←ここまで値でコピー\",\"\")","v":""},null,null,0]
[{"$f":"IF(MAX(Ⅰ.構成メンバー名簿!$Q$26:$Q$275)>A48,A48+1,\"\")","v":""},{"$f":"IF($A49=\"\",\"\",VLOOKUP($A49,Ⅰ.構成メンバー名簿!$Q$26:$W$275,MATCH(Ⅰ.構成メンバー名簿!$S$25,Ⅰ.構成メンバー名簿!$Q$25:$W$25,0),FALSE))","v":""},{"$f":"IF($A49=\"\",\"\",IF(VLOOKUP($A49,Ⅰ.構成メンバー名簿!$Q$26:$W$275,MATCH(Ⅰ.構成メンバー名簿!$T$25,Ⅰ.構成メンバー名簿!$Q$25:$W$25,0),FALSE)=\"\",\"\",VLOOKUP($A49,Ⅰ.構成メンバー名簿!$Q$26:$W$275,MATCH(Ⅰ.構成メンバー名簿!$T$25,Ⅰ.構成メンバー名簿!$Q$25:$W$25,0),FALSE)))","v":""},{"$f":"IF($A49=\"\",\"\",VLOOKUP($A49,Ⅰ.構成メンバー名簿!$Q$26:$W$275,MATCH(Ⅰ.構成メンバー名簿!$W$25,Ⅰ.構成メンバー名簿!$Q$25:$W$25,0),FALSE))","v":""},{"$f":"IF(AND(H49>0,SUM(H50:$H$290)=0),\"←ここまで値でコピー\",\"\")","v":""},null,null,0,null,{"$f":"IF(SUM($Q49:$Q$261)=0,\"\",J48+1)","v":""},{"$f":"IF(Ⅰ.構成メンバー名簿!S63<>\"\",Ⅰ.構成メンバー名簿!S63,\"\")","v":""},{"$f":"IF(Ⅰ.構成メンバー名簿!V63=\"\",\"\",Ⅰ.構成メンバー名簿!E63)","v":""},{"$f":"IF(Ⅰ.構成メンバー名簿!W63=\"\",\"\",Ⅰ.構成メンバー名簿!W63)","v":""},{"$f":"IF(AND(Q49>0,SUM($Q50:$Q$261)=0),\"←ここまで値でコピー\",\"\")","v":""},null,null,0]
[{"$f":"IF(MAX(Ⅰ.構成メンバー名簿!$Q$26:$Q$275)>A49,A49+1,\"\")","v":""},{"$f":"IF($A50=\"\",\"\",VLOOKUP($A50,Ⅰ.構成メンバー名簿!$Q$26:$W$275,MATCH(Ⅰ.構成メンバー名簿!$S$25,Ⅰ.構成メンバー名簿!$Q$25:$W$25,0),FALSE))","v":""},{"$f":"IF($A50=\"\",\"\",IF(VLOOKUP($A50,Ⅰ.構成メンバー名簿!$Q$26:$W$275,MATCH(Ⅰ.構成メンバー名簿!$T$25,Ⅰ.構成メンバー名簿!$Q$25:$W$25,0),FALSE)=\"\",\"\",VLOOKUP($A50,Ⅰ.構成メンバー名簿!$Q$26:$W$275,MATCH(Ⅰ.構成メンバー名簿!$T$25,Ⅰ.構成メンバー名簿!$Q$25:$W$25,0),FALSE)))","v":""},{"$f":"IF($A50=\"\",\"\",VLOOKUP($A50,Ⅰ.構成メンバー名簿!$Q$26:$W$275,MATCH(Ⅰ.構成メンバー名簿!$W$25,Ⅰ.構成メンバー名簿!$Q$25:$W$25,0),FALSE))","v":""},{"$f":"IF(AND(H50>0,SUM(H51:$H$290)=0),\"←ここまで値でコピー\",\"\")","v":""},null,null,0,null,{"$f":"IF(SUM($Q50:$Q$261)=0,\"\",J49+1)","v":""},{"$f":"IF(Ⅰ.構成メンバー名簿!S64<>\"\",Ⅰ.構成メンバー名簿!S64,\"\")","v":""},{"$f":"IF(Ⅰ.構成メンバー名簿!V64=\"\",\"\",Ⅰ.構成メンバー名簿!E64)","v":""},{"$f":"IF(Ⅰ.構成メンバー名簿!W64=\"\",\"\",Ⅰ.構成メンバー名簿!W64)","v":""},{"$f":"IF(AND(Q50>0,SUM($Q51:$Q$261)=0),\"←ここまで値でコピー\",\"\")","v":""},null,null,0]
[{"$f":"IF(MAX(Ⅰ.構成メンバー名簿!$Q$26:$Q$275)>A50,A50+1,\"\")","v":""},{"$f":"IF($A51=\"\",\"\",VLOOKUP($A51,Ⅰ.構成メンバー名簿!$Q$26:$W$275,MATCH(Ⅰ.構成メンバー名簿!$S$25,Ⅰ.構成メンバー名簿!$Q$25:$W$25,0),FALSE))","v":""},{"$f":"IF($A51=\"\",\"\",IF(VLOOKUP($A51,Ⅰ.構成メンバー名簿!$Q$26:$W$275,MATCH(Ⅰ.構成メンバー名簿!$T$25,Ⅰ.構成メンバー名簿!$Q$25:$W$25,0),FALSE)=\"\",\"\",VLOOKUP($A51,Ⅰ.構成メンバー名簿!$Q$26:$W$275,MATCH(Ⅰ.構成メンバー名簿!$T$25,Ⅰ.構成メンバー名簿!$Q$25:$W$25,0),FALSE)))","v":""},{"$f":"IF($A51=\"\",\"\",VLOOKUP($A51,Ⅰ.構成メンバー名簿!$Q$26:$W$275,MATCH(Ⅰ.構成メンバー名簿!$W$25,Ⅰ.構成メンバー名簿!$Q$25:$W$25,0),FALSE))","v":""},{"$f":"IF(AND(H51>0,SUM(H52:$H$290)=0),\"←ここまで値でコピー\",\"\")","v":""},null,null,0,null,{"$f":"IF(SUM($Q51:$Q$261)=0,\"\",J50+1)","v":""},{"$f":"IF(Ⅰ.構成メンバー名簿!S65<>\"\",Ⅰ.構成メンバー名簿!S65,\"\")","v":""},{"$f":"IF(Ⅰ.構成メンバー名簿!V65=\"\",\"\",Ⅰ.構成メンバー名簿!E65)","v":""},{"$f":"IF(Ⅰ.構成メンバー名簿!W65=\"\",\"\",Ⅰ.構成メンバー名簿!W65)","v":""},{"$f":"IF(AND(Q51>0,SUM($Q52:$Q$261)=0),\"←ここまで値でコピー\",\"\")","v":""},null,null,0]
[{"$f":"IF(MAX(Ⅰ.構成メンバー名簿!$Q$26:$Q$275)>A51,A51+1,\"\")","v":""},{"$f":"IF($A52=\"\",\"\",VLOOKUP($A52,Ⅰ.構成メンバー名簿!$Q$26:$W$275,MATCH(Ⅰ.構成メンバー名簿!$S$25,Ⅰ.構成メンバー名簿!$Q$25:$W$25,0),FALSE))","v":""},{"$f":"IF($A52=\"\",\"\",IF(VLOOKUP($A52,Ⅰ.構成メンバー名簿!$Q$26:$W$275,MATCH(Ⅰ.構成メンバー名簿!$T$25,Ⅰ.構成メンバー名簿!$Q$25:$W$25,0),FALSE)=\"\",\"\",VLOOKUP($A52,Ⅰ.構成メンバー名簿!$Q$26:$W$275,MATCH(Ⅰ.構成メンバー名簿!$T$25,Ⅰ.構成メンバー名簿!$Q$25:$W$25,0),FALSE)))","v":""},{"$f":"IF($A52=\"\",\"\",VLOOKUP($A52,Ⅰ.構成メンバー名簿!$Q$26:$W$275,MATCH(Ⅰ.構成メンバー名簿!$W$25,Ⅰ.構成メンバー名簿!$Q$25:$W$25,0),FALSE))","v":""},{"$f":"IF(AND(H52>0,SUM(H53:$H$290)=0),\"←ここまで値でコピー\",\"\")","v":""},null,null,0,null,{"$f":"IF(SUM($Q52:$Q$261)=0,\"\",J51+1)","v":""},{"$f":"IF(Ⅰ.構成メンバー名簿!S66<>\"\",Ⅰ.構成メンバー名簿!S66,\"\")","v":""},{"$f":"IF(Ⅰ.構成メンバー名簿!V66=\"\",\"\",Ⅰ.構成メンバー名簿!E66)","v":""},{"$f":"IF(Ⅰ.構成メンバー名簿!W66=\"\",\"\",Ⅰ.構成メンバー名簿!W66)","v":""},{"$f":"IF(AND(Q52>0,SUM($Q53:$Q$261)=0),\"←ここまで値でコピー\",\"\")","v":""},null,null,0]
[{"$f":"IF(MAX(Ⅰ.構成メンバー名簿!$Q$26:$Q$275)>A52,A52+1,\"\")","v":""},{"$f":"IF($A53=\"\",\"\",VLOOKUP($A53,Ⅰ.構成メンバー名簿!$Q$26:$W$275,MATCH(Ⅰ.構成メンバー名簿!$S$25,Ⅰ.構成メンバー名簿!$Q$25:$W$25,0),FALSE))","v":""},{"$f":"IF($A53=\"\",\"\",IF(VLOOKUP($A53,Ⅰ.構成メンバー名簿!$Q$26:$W$275,MATCH(Ⅰ.構成メンバー名簿!$T$25,Ⅰ.構成メンバー名簿!$Q$25:$W$25,0),FALSE)=\"\",\"\",VLOOKUP($A53,Ⅰ.構成メンバー名簿!$Q$26:$W$275,MATCH(Ⅰ.構成メンバー名簿!$T$25,Ⅰ.構成メンバー名簿!$Q$25:$W$25,0),FALSE)))","v":""},{"$f":"IF($A53=\"\",\"\",VLOOKUP($A53,Ⅰ.構成メンバー名簿!$Q$26:$W$275,MATCH(Ⅰ.構成メンバー名簿!$W$25,Ⅰ.構成メンバー名簿!$Q$25:$W$25,0),FALSE))","v":""},{"$f":"IF(AND(H53>0,SUM(H54:$H$290)=0),\"←ここまで値でコピー\",\"\")","v":""},null,null,0,null,{"$f":"IF(SUM($Q53:$Q$261)=0,\"\",J52+1)","v":""},{"$f":"IF(Ⅰ.構成メンバー名簿!S67<>\"\",Ⅰ.構成メンバー名簿!S67,\"\")","v":""},{"$f":"IF(Ⅰ.構成メンバー名簿!V67=\"\",\"\",Ⅰ.構成メンバー名簿!E67)","v":""},{"$f":"IF(Ⅰ.構成メンバー名簿!W67=\"\",\"\",Ⅰ.構成メンバー名簿!W67)","v":""},{"$f":"IF(AND(Q53>0,SUM($Q54:$Q$261)=0),\"←ここまで値でコピー\",\"\")","v":""},null,null,0]
[{"$f":"IF(MAX(Ⅰ.構成メンバー名簿!$Q$26:$Q$275)>A53,A53+1,\"\")","v":""},{"$f":"IF($A54=\"\",\"\",VLOOKUP($A54,Ⅰ.構成メンバー名簿!$Q$26:$W$275,MATCH(Ⅰ.構成メンバー名簿!$S$25,Ⅰ.構成メンバー名簿!$Q$25:$W$25,0),FALSE))","v":""},{"$f":"IF($A54=\"\",\"\",IF(VLOOKUP($A54,Ⅰ.構成メンバー名簿!$Q$26:$W$275,MATCH(Ⅰ.構成メンバー名簿!$T$25,Ⅰ.構成メンバー名簿!$Q$25:$W$25,0),FALSE)=\"\",\"\",VLOOKUP($A54,Ⅰ.構成メンバー名簿!$Q$26:$W$275,MATCH(Ⅰ.構成メンバー名簿!$T$25,Ⅰ.構成メンバー名簿!$Q$25:$W$25,0),FALSE)))","v":""},{"$f":"IF($A54=\"\",\"\",VLOOKUP($A54,Ⅰ.構成メンバー名簿!$Q$26:$W$275,MATCH(Ⅰ.構成メンバー名簿!$W$25,Ⅰ.構成メンバー名簿!$Q$25:$W$25,0),FALSE))","v":""},{"$f":"IF(AND(H54>0,SUM(H55:$H$290)=0),\"←ここまで値でコピー\",\"\")","v":""},null,null,0,null,{"$f":"IF(SUM($Q54:$Q$261)=0,\"\",J53+1)","v":""},{"$f":"IF(Ⅰ.構成メンバー名簿!S68<>\"\",Ⅰ.構成メンバー名簿!S68,\"\")","v":""},{"$f":"IF(Ⅰ.構成メンバー名簿!V68=\"\",\"\",Ⅰ.構成メンバー名簿!E68)","v":""},{"$f":"IF(Ⅰ.構成メンバー名簿!W68=\"\",\"\",Ⅰ.構成メンバー名簿!W68)","v":""},{"$f":"IF(AND(Q54>0,SUM($Q55:$Q$261)=0),\"←ここまで値でコピー\",\"\")","v":""},null,null,0]
[{"$f":"IF(MAX(Ⅰ.構成メンバー名簿!$Q$26:$Q$275)>A54,A54+1,\"\")","v":""},{"$f":"IF($A55=\"\",\"\",VLOOKUP($A55,Ⅰ.構成メンバー名簿!$Q$26:$W$275,MATCH(Ⅰ.構成メンバー名簿!$S$25,Ⅰ.構成メンバー名簿!$Q$25:$W$25,0),FALSE))","v":""},{"$f":"IF($A55=\"\",\"\",IF(VLOOKUP($A55,Ⅰ.構成メンバー名簿!$Q$26:$W$275,MATCH(Ⅰ.構成メンバー名簿!$T$25,Ⅰ.構成メンバー名簿!$Q$25:$W$25,0),FALSE)=\"\",\"\",VLOOKUP($A55,Ⅰ.構成メンバー名簿!$Q$26:$W$275,MATCH(Ⅰ.構成メンバー名簿!$T$25,Ⅰ.構成メンバー名簿!$Q$25:$W$25,0),FALSE)))","v":""},{"$f":"IF($A55=\"\",\"\",VLOOKUP($A55,Ⅰ.構成メンバー名簿!$Q$26:$W$275,MATCH(Ⅰ.構成メンバー名簿!$W$25,Ⅰ.構成メンバー名簿!$Q$25:$W$25,0),FALSE))","v":""},{"$f":"IF(AND(H55>0,SUM(H56:$H$290)=0),\"←ここまで値でコピー\",\"\")","v":""},null,null,0,null,{"$f":"IF(SUM($Q55:$Q$261)=0,\"\",J54+1)","v":""},{"$f":"IF(Ⅰ.構成メンバー名簿!S69<>\"\",Ⅰ.構成メンバー名簿!S69,\"\")","v":""},{"$f":"IF(Ⅰ.構成メンバー名簿!V69=\"\",\"\",Ⅰ.構成メンバー名簿!E69)","v":""},{"$f":"IF(Ⅰ.構成メンバー名簿!W69=\"\",\"\",Ⅰ.構成メンバー名簿!W69)","v":""},{"$f":"IF(AND(Q55>0,SUM($Q56:$Q$261)=0),\"←ここまで値でコピー\",\"\")","v":""},null,null,0]
[{"$f":"IF(MAX(Ⅰ.構成メンバー名簿!$Q$26:$Q$275)>A55,A55+1,\"\")","v":""},{"$f":"IF($A56=\"\",\"\",VLOOKUP($A56,Ⅰ.構成メンバー名簿!$Q$26:$W$275,MATCH(Ⅰ.構成メンバー名簿!$S$25,Ⅰ.構成メンバー名簿!$Q$25:$W$25,0),FALSE))","v":""},{"$f":"IF($A56=\"\",\"\",IF(VLOOKUP($A56,Ⅰ.構成メンバー名簿!$Q$26:$W$275,MATCH(Ⅰ.構成メンバー名簿!$T$25,Ⅰ.構成メンバー名簿!$Q$25:$W$25,0),FALSE)=\"\",\"\",VLOOKUP($A56,Ⅰ.構成メンバー名簿!$Q$26:$W$275,MATCH(Ⅰ.構成メンバー名簿!$T$25,Ⅰ.構成メンバー名簿!$Q$25:$W$25,0),FALSE)))","v":""},{"$f":"IF($A56=\"\",\"\",VLOOKUP($A56,Ⅰ.構成メンバー名簿!$Q$26:$W$275,MATCH(Ⅰ.構成メンバー名簿!$W$25,Ⅰ.構成メンバー名簿!$Q$25:$W$25,0),FALSE))","v":""},{"$f":"IF(AND(H56>0,SUM(H57:$H$290)=0),\"←ここまで値でコピー\",\"\")","v":""},null,null,0,null,{"$f":"IF(SUM($Q56:$Q$261)=0,\"\",J55+1)","v":""},{"$f":"IF(Ⅰ.構成メンバー名簿!S70<>\"\",Ⅰ.構成メンバー名簿!S70,\"\")","v":""},{"$f":"IF(Ⅰ.構成メンバー名簿!V70=\"\",\"\",Ⅰ.構成メンバー名簿!E70)","v":""},{"$f":"IF(Ⅰ.構成メンバー名簿!W70=\"\",\"\",Ⅰ.構成メンバー名簿!W70)","v":""},{"$f":"IF(AND(Q56>0,SUM($Q57:$Q$261)=0),\"←ここまで値でコピー\",\"\")","v":""},null,null,0]
[{"$f":"IF(MAX(Ⅰ.構成メンバー名簿!$Q$26:$Q$275)>A56,A56+1,\"\")","v":""},{"$f":"IF($A57=\"\",\"\",VLOOKUP($A57,Ⅰ.構成メンバー名簿!$Q$26:$W$275,MATCH(Ⅰ.構成メンバー名簿!$S$25,Ⅰ.構成メンバー名簿!$Q$25:$W$25,0),FALSE))","v":""},{"$f":"IF($A57=\"\",\"\",IF(VLOOKUP($A57,Ⅰ.構成メンバー名簿!$Q$26:$W$275,MATCH(Ⅰ.構成メンバー名簿!$T$25,Ⅰ.構成メンバー名簿!$Q$25:$W$25,0),FALSE)=\"\",\"\",VLOOKUP($A57,Ⅰ.構成メンバー名簿!$Q$26:$W$275,MATCH(Ⅰ.構成メンバー名簿!$T$25,Ⅰ.構成メンバー名簿!$Q$25:$W$25,0),FALSE)))","v":""},{"$f":"IF($A57=\"\",\"\",VLOOKUP($A57,Ⅰ.構成メンバー名簿!$Q$26:$W$275,MATCH(Ⅰ.構成メンバー名簿!$W$25,Ⅰ.構成メンバー名簿!$Q$25:$W$25,0),FALSE))","v":""},{"$f":"IF(AND(H57>0,SUM(H58:$H$290)=0),\"←ここまで値でコピー\",\"\")","v":""},null,null,0,null,{"$f":"IF(SUM($Q57:$Q$261)=0,\"\",J56+1)","v":""},{"$f":"IF(Ⅰ.構成メンバー名簿!S71<>\"\",Ⅰ.構成メンバー名簿!S71,\"\")","v":""},{"$f":"IF(Ⅰ.構成メンバー名簿!V71=\"\",\"\",Ⅰ.構成メンバー名簿!E71)","v":""},{"$f":"IF(Ⅰ.構成メンバー名簿!W71=\"\",\"\",Ⅰ.構成メンバー名簿!W71)","v":""},{"$f":"IF(AND(Q57>0,SUM($Q58:$Q$261)=0),\"←ここまで値でコピー\",\"\")","v":""},null,null,0]
[{"$f":"IF(MAX(Ⅰ.構成メンバー名簿!$Q$26:$Q$275)>A57,A57+1,\"\")","v":""},{"$f":"IF($A58=\"\",\"\",VLOOKUP($A58,Ⅰ.構成メンバー名簿!$Q$26:$W$275,MATCH(Ⅰ.構成メンバー名簿!$S$25,Ⅰ.構成メンバー名簿!$Q$25:$W$25,0),FALSE))","v":""},{"$f":"IF($A58=\"\",\"\",IF(VLOOKUP($A58,Ⅰ.構成メンバー名簿!$Q$26:$W$275,MATCH(Ⅰ.構成メンバー名簿!$T$25,Ⅰ.構成メンバー名簿!$Q$25:$W$25,0),FALSE)=\"\",\"\",VLOOKUP($A58,Ⅰ.構成メンバー名簿!$Q$26:$W$275,MATCH(Ⅰ.構成メンバー名簿!$T$25,Ⅰ.構成メンバー名簿!$Q$25:$W$25,0),FALSE)))","v":""},{"$f":"IF($A58=\"\",\"\",VLOOKUP($A58,Ⅰ.構成メンバー名簿!$Q$26:$W$275,MATCH(Ⅰ.構成メンバー名簿!$W$25,Ⅰ.構成メンバー名簿!$Q$25:$W$25,0),FALSE))","v":""},{"$f":"IF(AND(H58>0,SUM(H59:$H$290)=0),\"←ここまで値でコピー\",\"\")","v":""},null,null,0,null,{"$f":"IF(SUM($Q58:$Q$261)=0,\"\",J57+1)","v":""},{"$f":"IF(Ⅰ.構成メンバー名簿!S72<>\"\",Ⅰ.構成メンバー名簿!S72,\"\")","v":""},{"$f":"IF(Ⅰ.構成メンバー名簿!V72=\"\",\"\",Ⅰ.構成メンバー名簿!E72)","v":""},{"$f":"IF(Ⅰ.構成メンバー名簿!W72=\"\",\"\",Ⅰ.構成メンバー名簿!W72)","v":""},{"$f":"IF(AND(Q58>0,SUM($Q59:$Q$261)=0),\"←ここまで値でコピー\",\"\")","v":""},null,null,0]
[{"$f":"IF(MAX(Ⅰ.構成メンバー名簿!$Q$26:$Q$275)>A58,A58+1,\"\")","v":""},{"$f":"IF($A59=\"\",\"\",VLOOKUP($A59,Ⅰ.構成メンバー名簿!$Q$26:$W$275,MATCH(Ⅰ.構成メンバー名簿!$S$25,Ⅰ.構成メンバー名簿!$Q$25:$W$25,0),FALSE))","v":""},{"$f":"IF($A59=\"\",\"\",IF(VLOOKUP($A59,Ⅰ.構成メンバー名簿!$Q$26:$W$275,MATCH(Ⅰ.構成メンバー名簿!$T$25,Ⅰ.構成メンバー名簿!$Q$25:$W$25,0),FALSE)=\"\",\"\",VLOOKUP($A59,Ⅰ.構成メンバー名簿!$Q$26:$W$275,MATCH(Ⅰ.構成メンバー名簿!$T$25,Ⅰ.構成メンバー名簿!$Q$25:$W$25,0),FALSE)))","v":""},{"$f":"IF($A59=\"\",\"\",VLOOKUP($A59,Ⅰ.構成メンバー名簿!$Q$26:$W$275,MATCH(Ⅰ.構成メンバー名簿!$W$25,Ⅰ.構成メンバー名簿!$Q$25:$W$25,0),FALSE))","v":""},{"$f":"IF(AND(H59>0,SUM(H60:$H$290)=0),\"←ここまで値でコピー\",\"\")","v":""},null,null,0,null,{"$f":"IF(SUM($Q59:$Q$261)=0,\"\",J58+1)","v":""},{"$f":"IF(Ⅰ.構成メンバー名簿!S73<>\"\",Ⅰ.構成メンバー名簿!S73,\"\")","v":""},{"$f":"IF(Ⅰ.構成メンバー名簿!V73=\"\",\"\",Ⅰ.構成メンバー名簿!E73)","v":""},{"$f":"IF(Ⅰ.構成メンバー名簿!W73=\"\",\"\",Ⅰ.構成メンバー名簿!W73)","v":""},{"$f":"IF(AND(Q59>0,SUM($Q60:$Q$261)=0),\"←ここまで値でコピー\",\"\")","v":""},null,null,0]
[{"$f":"IF(MAX(Ⅰ.構成メンバー名簿!$Q$26:$Q$275)>A59,A59+1,\"\")","v":""},{"$f":"IF($A60=\"\",\"\",VLOOKUP($A60,Ⅰ.構成メンバー名簿!$Q$26:$W$275,MATCH(Ⅰ.構成メンバー名簿!$S$25,Ⅰ.構成メンバー名簿!$Q$25:$W$25,0),FALSE))","v":""},{"$f":"IF($A60=\"\",\"\",IF(VLOOKUP($A60,Ⅰ.構成メンバー名簿!$Q$26:$W$275,MATCH(Ⅰ.構成メンバー名簿!$T$25,Ⅰ.構成メンバー名簿!$Q$25:$W$25,0),FALSE)=\"\",\"\",VLOOKUP($A60,Ⅰ.構成メンバー名簿!$Q$26:$W$275,MATCH(Ⅰ.構成メンバー名簿!$T$25,Ⅰ.構成メンバー名簿!$Q$25:$W$25,0),FALSE)))","v":""},{"$f":"IF($A60=\"\",\"\",VLOOKUP($A60,Ⅰ.構成メンバー名簿!$Q$26:$W$275,MATCH(Ⅰ.構成メンバー名簿!$W$25,Ⅰ.構成メンバー名簿!$Q$25:$W$25,0),FALSE))","v":""},{"$f":"IF(AND(H60>0,SUM(H61:$H$290)=0),\"←ここまで値でコピー\",\"\")","v":""},null,null,0,null,{"$f":"IF(SUM($Q60:$Q$261)=0,\"\",J59+1)","v":""},{"$f":"IF(Ⅰ.構成メンバー名簿!S74<>\"\",Ⅰ.構成メンバー名簿!S74,\"\")","v":""},{"$f":"IF(Ⅰ.構成メンバー名簿!V74=\"\",\"\",Ⅰ.構成メンバー名簿!E74)","v":""},{"$f":"IF(Ⅰ.構成メンバー名簿!W74=\"\",\"\",Ⅰ.構成メンバー名簿!W74)","v":""},{"$f":"IF(AND(Q60>0,SUM($Q61:$Q$261)=0),\"←ここまで値でコピー\",\"\")","v":""},null,null,0]
[{"$f":"IF(MAX(Ⅰ.構成メンバー名簿!$Q$26:$Q$275)>A60,A60+1,\"\")","v":""},{"$f":"IF($A61=\"\",\"\",VLOOKUP($A61,Ⅰ.構成メンバー名簿!$Q$26:$W$275,MATCH(Ⅰ.構成メンバー名簿!$S$25,Ⅰ.構成メンバー名簿!$Q$25:$W$25,0),FALSE))","v":""},{"$f":"IF($A61=\"\",\"\",IF(VLOOKUP($A61,Ⅰ.構成メンバー名簿!$Q$26:$W$275,MATCH(Ⅰ.構成メンバー名簿!$T$25,Ⅰ.構成メンバー名簿!$Q$25:$W$25,0),FALSE)=\"\",\"\",VLOOKUP($A61,Ⅰ.構成メンバー名簿!$Q$26:$W$275,MATCH(Ⅰ.構成メンバー名簿!$T$25,Ⅰ.構成メンバー名簿!$Q$25:$W$25,0),FALSE)))","v":""},{"$f":"IF($A61=\"\",\"\",VLOOKUP($A61,Ⅰ.構成メンバー名簿!$Q$26:$W$275,MATCH(Ⅰ.構成メンバー名簿!$W$25,Ⅰ.構成メンバー名簿!$Q$25:$W$25,0),FALSE))","v":""},{"$f":"IF(AND(H61>0,SUM(H62:$H$290)=0),\"←ここまで値でコピー\",\"\")","v":""},null,null,0,null,{"$f":"IF(SUM($Q61:$Q$261)=0,\"\",J60+1)","v":""},{"$f":"IF(Ⅰ.構成メンバー名簿!S75<>\"\",Ⅰ.構成メンバー名簿!S75,\"\")","v":""},{"$f":"IF(Ⅰ.構成メンバー名簿!V75=\"\",\"\",Ⅰ.構成メンバー名簿!E75)","v":""},{"$f":"IF(Ⅰ.構成メンバー名簿!W75=\"\",\"\",Ⅰ.構成メンバー名簿!W75)","v":""},{"$f":"IF(AND(Q61>0,SUM($Q62:$Q$261)=0),\"←ここまで値でコピー\",\"\")","v":""},null,null,0]
[{"$f":"IF(MAX(Ⅰ.構成メンバー名簿!$Q$26:$Q$275)>A61,A61+1,\"\")","v":""},{"$f":"IF($A62=\"\",\"\",VLOOKUP($A62,Ⅰ.構成メンバー名簿!$Q$26:$W$275,MATCH(Ⅰ.構成メンバー名簿!$S$25,Ⅰ.構成メンバー名簿!$Q$25:$W$25,0),FALSE))","v":""},{"$f":"IF($A62=\"\",\"\",IF(VLOOKUP($A62,Ⅰ.構成メンバー名簿!$Q$26:$W$275,MATCH(Ⅰ.構成メンバー名簿!$T$25,Ⅰ.構成メンバー名簿!$Q$25:$W$25,0),FALSE)=\"\",\"\",VLOOKUP($A62,Ⅰ.構成メンバー名簿!$Q$26:$W$275,MATCH(Ⅰ.構成メンバー名簿!$T$25,Ⅰ.構成メンバー名簿!$Q$25:$W$25,0),FALSE)))","v":""},{"$f":"IF($A62=\"\",\"\",VLOOKUP($A62,Ⅰ.構成メンバー名簿!$Q$26:$W$275,MATCH(Ⅰ.構成メンバー名簿!$W$25,Ⅰ.構成メンバー名簿!$Q$25:$W$25,0),FALSE))","v":""},{"$f":"IF(AND(H62>0,SUM(H63:$H$290)=0),\"←ここまで値でコピー\",\"\")","v":""},null,null,0,null,{"$f":"IF(SUM($Q62:$Q$261)=0,\"\",J61+1)","v":""},{"$f":"IF(Ⅰ.構成メンバー名簿!S76<>\"\",Ⅰ.構成メンバー名簿!S76,\"\")","v":""},{"$f":"IF(Ⅰ.構成メンバー名簿!V76=\"\",\"\",Ⅰ.構成メンバー名簿!E76)","v":""},{"$f":"IF(Ⅰ.構成メンバー名簿!W76=\"\",\"\",Ⅰ.構成メンバー名簿!W76)","v":""},{"$f":"IF(AND(Q62>0,SUM($Q63:$Q$261)=0),\"←ここまで値でコピー\",\"\")","v":""},null,null,0]
[{"$f":"IF(MAX(Ⅰ.構成メンバー名簿!$Q$26:$Q$275)>A62,A62+1,\"\")","v":""},{"$f":"IF($A63=\"\",\"\",VLOOKUP($A63,Ⅰ.構成メンバー名簿!$Q$26:$W$275,MATCH(Ⅰ.構成メンバー名簿!$S$25,Ⅰ.構成メンバー名簿!$Q$25:$W$25,0),FALSE))","v":""},{"$f":"IF($A63=\"\",\"\",IF(VLOOKUP($A63,Ⅰ.構成メンバー名簿!$Q$26:$W$275,MATCH(Ⅰ.構成メンバー名簿!$T$25,Ⅰ.構成メンバー名簿!$Q$25:$W$25,0),FALSE)=\"\",\"\",VLOOKUP($A63,Ⅰ.構成メンバー名簿!$Q$26:$W$275,MATCH(Ⅰ.構成メンバー名簿!$T$25,Ⅰ.構成メンバー名簿!$Q$25:$W$25,0),FALSE)))","v":""},{"$f":"IF($A63=\"\",\"\",VLOOKUP($A63,Ⅰ.構成メンバー名簿!$Q$26:$W$275,MATCH(Ⅰ.構成メンバー名簿!$W$25,Ⅰ.構成メンバー名簿!$Q$25:$W$25,0),FALSE))","v":""},{"$f":"IF(AND(H63>0,SUM(H64:$H$290)=0),\"←ここまで値でコピー\",\"\")","v":""},null,null,0,null,{"$f":"IF(SUM($Q63:$Q$261)=0,\"\",J62+1)","v":""},{"$f":"IF(Ⅰ.構成メンバー名簿!S77<>\"\",Ⅰ.構成メンバー名簿!S77,\"\")","v":""},{"$f":"IF(Ⅰ.構成メンバー名簿!V77=\"\",\"\",Ⅰ.構成メンバー名簿!E77)","v":""},{"$f":"IF(Ⅰ.構成メンバー名簿!W77=\"\",\"\",Ⅰ.構成メンバー名簿!W77)","v":""},{"$f":"IF(AND(Q63>0,SUM($Q64:$Q$261)=0),\"←ここまで値でコピー\",\"\")","v":""},null,null,0]
[{"$f":"IF(MAX(Ⅰ.構成メンバー名簿!$Q$26:$Q$275)>A63,A63+1,\"\")","v":""},{"$f":"IF($A64=\"\",\"\",VLOOKUP($A64,Ⅰ.構成メンバー名簿!$Q$26:$W$275,MATCH(Ⅰ.構成メンバー名簿!$S$25,Ⅰ.構成メンバー名簿!$Q$25:$W$25,0),FALSE))","v":""},{"$f":"IF($A64=\"\",\"\",IF(VLOOKUP($A64,Ⅰ.構成メンバー名簿!$Q$26:$W$275,MATCH(Ⅰ.構成メンバー名簿!$T$25,Ⅰ.構成メンバー名簿!$Q$25:$W$25,0),FALSE)=\"\",\"\",VLOOKUP($A64,Ⅰ.構成メンバー名簿!$Q$26:$W$275,MATCH(Ⅰ.構成メンバー名簿!$T$25,Ⅰ.構成メンバー名簿!$Q$25:$W$25,0),FALSE)))","v":""},{"$f":"IF($A64=\"\",\"\",VLOOKUP($A64,Ⅰ.構成メンバー名簿!$Q$26:$W$275,MATCH(Ⅰ.構成メンバー名簿!$W$25,Ⅰ.構成メンバー名簿!$Q$25:$W$25,0),FALSE))","v":""},{"$f":"IF(AND(H64>0,SUM(H65:$H$290)=0),\"←ここまで値でコピー\",\"\")","v":""},null,null,0,null,{"$f":"IF(SUM($Q64:$Q$261)=0,\"\",J63+1)","v":""},{"$f":"IF(Ⅰ.構成メンバー名簿!S78<>\"\",Ⅰ.構成メンバー名簿!S78,\"\")","v":""},{"$f":"IF(Ⅰ.構成メンバー名簿!V78=\"\",\"\",Ⅰ.構成メンバー名簿!E78)","v":""},{"$f":"IF(Ⅰ.構成メンバー名簿!W78=\"\",\"\",Ⅰ.構成メンバー名簿!W78)","v":""},{"$f":"IF(AND(Q64>0,SUM($Q65:$Q$261)=0),\"←ここまで値でコピー\",\"\")","v":""},null,null,0]
[{"$f":"IF(MAX(Ⅰ.構成メンバー名簿!$Q$26:$Q$275)>A64,A64+1,\"\")","v":""},{"$f":"IF($A65=\"\",\"\",VLOOKUP($A65,Ⅰ.構成メンバー名簿!$Q$26:$W$275,MATCH(Ⅰ.構成メンバー名簿!$S$25,Ⅰ.構成メンバー名簿!$Q$25:$W$25,0),FALSE))","v":""},{"$f":"IF($A65=\"\",\"\",IF(VLOOKUP($A65,Ⅰ.構成メンバー名簿!$Q$26:$W$275,MATCH(Ⅰ.構成メンバー名簿!$T$25,Ⅰ.構成メンバー名簿!$Q$25:$W$25,0),FALSE)=\"\",\"\",VLOOKUP($A65,Ⅰ.構成メンバー名簿!$Q$26:$W$275,MATCH(Ⅰ.構成メンバー名簿!$T$25,Ⅰ.構成メンバー名簿!$Q$25:$W$25,0),FALSE)))","v":""},{"$f":"IF($A65=\"\",\"\",VLOOKUP($A65,Ⅰ.構成メンバー名簿!$Q$26:$W$275,MATCH(Ⅰ.構成メンバー名簿!$W$25,Ⅰ.構成メンバー名簿!$Q$25:$W$25,0),FALSE))","v":""},{"$f":"IF(AND(H65>0,SUM(H66:$H$290)=0),\"←ここまで値でコピー\",\"\")","v":""},null,null,0,null,{"$f":"IF(SUM($Q65:$Q$261)=0,\"\",J64+1)","v":""},{"$f":"IF(Ⅰ.構成メンバー名簿!S79<>\"\",Ⅰ.構成メンバー名簿!S79,\"\")","v":""},{"$f":"IF(Ⅰ.構成メンバー名簿!V79=\"\",\"\",Ⅰ.構成メンバー名簿!E79)","v":""},{"$f":"IF(Ⅰ.構成メンバー名簿!W79=\"\",\"\",Ⅰ.構成メンバー名簿!W79)","v":""},{"$f":"IF(AND(Q65>0,SUM($Q66:$Q$261)=0),\"←ここまで値でコピー\",\"\")","v":""},null,null,0]
[{"$f":"IF(MAX(Ⅰ.構成メンバー名簿!$Q$26:$Q$275)>A65,A65+1,\"\")","v":""},{"$f":"IF($A66=\"\",\"\",VLOOKUP($A66,Ⅰ.構成メンバー名簿!$Q$26:$W$275,MATCH(Ⅰ.構成メンバー名簿!$S$25,Ⅰ.構成メンバー名簿!$Q$25:$W$25,0),FALSE))","v":""},{"$f":"IF($A66=\"\",\"\",IF(VLOOKUP($A66,Ⅰ.構成メンバー名簿!$Q$26:$W$275,MATCH(Ⅰ.構成メンバー名簿!$T$25,Ⅰ.構成メンバー名簿!$Q$25:$W$25,0),FALSE)=\"\",\"\",VLOOKUP($A66,Ⅰ.構成メンバー名簿!$Q$26:$W$275,MATCH(Ⅰ.構成メンバー名簿!$T$25,Ⅰ.構成メンバー名簿!$Q$25:$W$25,0),FALSE)))","v":""},{"$f":"IF($A66=\"\",\"\",VLOOKUP($A66,Ⅰ.構成メンバー名簿!$Q$26:$W$275,MATCH(Ⅰ.構成メンバー名簿!$W$25,Ⅰ.構成メンバー名簿!$Q$25:$W$25,0),FALSE))","v":""},{"$f":"IF(AND(H66>0,SUM(H67:$H$290)=0),\"←ここまで値でコピー\",\"\")","v":""},null,null,0,null,{"$f":"IF(SUM($Q66:$Q$261)=0,\"\",J65+1)","v":""},{"$f":"IF(Ⅰ.構成メンバー名簿!S80<>\"\",Ⅰ.構成メンバー名簿!S80,\"\")","v":""},{"$f":"IF(Ⅰ.構成メンバー名簿!V80=\"\",\"\",Ⅰ.構成メンバー名簿!E80)","v":""},{"$f":"IF(Ⅰ.構成メンバー名簿!W80=\"\",\"\",Ⅰ.構成メンバー名簿!W80)","v":""},{"$f":"IF(AND(Q66>0,SUM($Q67:$Q$261)=0),\"←ここまで値でコピー\",\"\")","v":""},null,null,0]
[{"$f":"IF(MAX(Ⅰ.構成メンバー名簿!$Q$26:$Q$275)>A66,A66+1,\"\")","v":""},{"$f":"IF($A67=\"\",\"\",VLOOKUP($A67,Ⅰ.構成メンバー名簿!$Q$26:$W$275,MATCH(Ⅰ.構成メンバー名簿!$S$25,Ⅰ.構成メンバー名簿!$Q$25:$W$25,0),FALSE))","v":""},{"$f":"IF($A67=\"\",\"\",IF(VLOOKUP($A67,Ⅰ.構成メンバー名簿!$Q$26:$W$275,MATCH(Ⅰ.構成メンバー名簿!$T$25,Ⅰ.構成メンバー名簿!$Q$25:$W$25,0),FALSE)=\"\",\"\",VLOOKUP($A67,Ⅰ.構成メンバー名簿!$Q$26:$W$275,MATCH(Ⅰ.構成メンバー名簿!$T$25,Ⅰ.構成メンバー名簿!$Q$25:$W$25,0),FALSE)))","v":""},{"$f":"IF($A67=\"\",\"\",VLOOKUP($A67,Ⅰ.構成メンバー名簿!$Q$26:$W$275,MATCH(Ⅰ.構成メンバー名簿!$W$25,Ⅰ.構成メンバー名簿!$Q$25:$W$25,0),FALSE))","v":""},{"$f":"IF(AND(H67>0,SUM(H68:$H$290)=0),\"←ここまで値でコピー\",\"\")","v":""},null,null,0,null,{"$f":"IF(SUM($Q67:$Q$261)=0,\"\",J66+1)","v":""},{"$f":"IF(Ⅰ.構成メンバー名簿!S81<>\"\",Ⅰ.構成メンバー名簿!S81,\"\")","v":""},{"$f":"IF(Ⅰ.構成メンバー名簿!V81=\"\",\"\",Ⅰ.構成メンバー名簿!E81)","v":""},{"$f":"IF(Ⅰ.構成メンバー名簿!W81=\"\",\"\",Ⅰ.構成メンバー名簿!W81)","v":""},{"$f":"IF(AND(Q67>0,SUM($Q68:$Q$261)=0),\"←ここまで値でコピー\",\"\")","v":""},null,null,0]
[{"$f":"IF(MAX(Ⅰ.構成メンバー名簿!$Q$26:$Q$275)>A67,A67+1,\"\")","v":""},{"$f":"IF($A68=\"\",\"\",VLOOKUP($A68,Ⅰ.構成メンバー名簿!$Q$26:$W$275,MATCH(Ⅰ.構成メンバー名簿!$S$25,Ⅰ.構成メンバー名簿!$Q$25:$W$25,0),FALSE))","v":""},{"$f":"IF($A68=\"\",\"\",IF(VLOOKUP($A68,Ⅰ.構成メンバー名簿!$Q$26:$W$275,MATCH(Ⅰ.構成メンバー名簿!$T$25,Ⅰ.構成メンバー名簿!$Q$25:$W$25,0),FALSE)=\"\",\"\",VLOOKUP($A68,Ⅰ.構成メンバー名簿!$Q$26:$W$275,MATCH(Ⅰ.構成メンバー名簿!$T$25,Ⅰ.構成メンバー名簿!$Q$25:$W$25,0),FALSE)))","v":""},{"$f":"IF($A68=\"\",\"\",VLOOKUP($A68,Ⅰ.構成メンバー名簿!$Q$26:$W$275,MATCH(Ⅰ.構成メンバー名簿!$W$25,Ⅰ.構成メンバー名簿!$Q$25:$W$25,0),FALSE))","v":""},{"$f":"IF(AND(H68>0,SUM(H69:$H$290)=0),\"←ここまで値でコピー\",\"\")","v":""},null,null,0,null,{"$f":"IF(SUM($Q68:$Q$261)=0,\"\",J67+1)","v":""},{"$f":"IF(Ⅰ.構成メンバー名簿!S82<>\"\",Ⅰ.構成メンバー名簿!S82,\"\")","v":""},{"$f":"IF(Ⅰ.構成メンバー名簿!V82=\"\",\"\",Ⅰ.構成メンバー名簿!E82)","v":""},{"$f":"IF(Ⅰ.構成メンバー名簿!W82=\"\",\"\",Ⅰ.構成メンバー名簿!W82)","v":""},{"$f":"IF(AND(Q68>0,SUM($Q69:$Q$261)=0),\"←ここまで値でコピー\",\"\")","v":""},null,null,0]
[{"$f":"IF(MAX(Ⅰ.構成メンバー名簿!$Q$26:$Q$275)>A68,A68+1,\"\")","v":""},{"$f":"IF($A69=\"\",\"\",VLOOKUP($A69,Ⅰ.構成メンバー名簿!$Q$26:$W$275,MATCH(Ⅰ.構成メンバー名簿!$S$25,Ⅰ.構成メンバー名簿!$Q$25:$W$25,0),FALSE))","v":""},{"$f":"IF($A69=\"\",\"\",IF(VLOOKUP($A69,Ⅰ.構成メンバー名簿!$Q$26:$W$275,MATCH(Ⅰ.構成メンバー名簿!$T$25,Ⅰ.構成メンバー名簿!$Q$25:$W$25,0),FALSE)=\"\",\"\",VLOOKUP($A69,Ⅰ.構成メンバー名簿!$Q$26:$W$275,MATCH(Ⅰ.構成メンバー名簿!$T$25,Ⅰ.構成メンバー名簿!$Q$25:$W$25,0),FALSE)))","v":""},{"$f":"IF($A69=\"\",\"\",VLOOKUP($A69,Ⅰ.構成メンバー名簿!$Q$26:$W$275,MATCH(Ⅰ.構成メンバー名簿!$W$25,Ⅰ.構成メンバー名簿!$Q$25:$W$25,0),FALSE))","v":""},{"$f":"IF(AND(H69>0,SUM(H70:$H$290)=0),\"←ここまで値でコピー\",\"\")","v":""},null,null,0,null,{"$f":"IF(SUM($Q69:$Q$261)=0,\"\",J68+1)","v":""},{"$f":"IF(Ⅰ.構成メンバー名簿!S83<>\"\",Ⅰ.構成メンバー名簿!S83,\"\")","v":""},{"$f":"IF(Ⅰ.構成メンバー名簿!V83=\"\",\"\",Ⅰ.構成メンバー名簿!E83)","v":""},{"$f":"IF(Ⅰ.構成メンバー名簿!W83=\"\",\"\",Ⅰ.構成メンバー名簿!W83)","v":""},{"$f":"IF(AND(Q69>0,SUM($Q70:$Q$261)=0),\"←ここまで値でコピー\",\"\")","v":""},null,null,0]
[{"$f":"IF(MAX(Ⅰ.構成メンバー名簿!$Q$26:$Q$275)>A69,A69+1,\"\")","v":""},{"$f":"IF($A70=\"\",\"\",VLOOKUP($A70,Ⅰ.構成メンバー名簿!$Q$26:$W$275,MATCH(Ⅰ.構成メンバー名簿!$S$25,Ⅰ.構成メンバー名簿!$Q$25:$W$25,0),FALSE))","v":""},{"$f":"IF($A70=\"\",\"\",IF(VLOOKUP($A70,Ⅰ.構成メンバー名簿!$Q$26:$W$275,MATCH(Ⅰ.構成メンバー名簿!$T$25,Ⅰ.構成メンバー名簿!$Q$25:$W$25,0),FALSE)=\"\",\"\",VLOOKUP($A70,Ⅰ.構成メンバー名簿!$Q$26:$W$275,MATCH(Ⅰ.構成メンバー名簿!$T$25,Ⅰ.構成メンバー名簿!$Q$25:$W$25,0),FALSE)))","v":""},{"$f":"IF($A70=\"\",\"\",VLOOKUP($A70,Ⅰ.構成メンバー名簿!$Q$26:$W$275,MATCH(Ⅰ.構成メンバー名簿!$W$25,Ⅰ.構成メンバー名簿!$Q$25:$W$25,0),FALSE))","v":""},{"$f":"IF(AND(H70>0,SUM(H71:$H$290)=0),\"←ここまで値でコピー\",\"\")","v":""},null,null,0,null,{"$f":"IF(SUM($Q70:$Q$261)=0,\"\",J69+1)","v":""},{"$f":"IF(Ⅰ.構成メンバー名簿!S84<>\"\",Ⅰ.構成メンバー名簿!S84,\"\")","v":""},{"$f":"IF(Ⅰ.構成メンバー名簿!V84=\"\",\"\",Ⅰ.構成メンバー名簿!E84)","v":""},{"$f":"IF(Ⅰ.構成メンバー名簿!W84=\"\",\"\",Ⅰ.構成メンバー名簿!W84)","v":""},{"$f":"IF(AND(Q70>0,SUM($Q71:$Q$261)=0),\"←ここまで値でコピー\",\"\")","v":""},null,null,0]
[{"$f":"IF(MAX(Ⅰ.構成メンバー名簿!$Q$26:$Q$275)>A70,A70+1,\"\")","v":""},{"$f":"IF($A71=\"\",\"\",VLOOKUP($A71,Ⅰ.構成メンバー名簿!$Q$26:$W$275,MATCH(Ⅰ.構成メンバー名簿!$S$25,Ⅰ.構成メンバー名簿!$Q$25:$W$25,0),FALSE))","v":""},{"$f":"IF($A71=\"\",\"\",IF(VLOOKUP($A71,Ⅰ.構成メンバー名簿!$Q$26:$W$275,MATCH(Ⅰ.構成メンバー名簿!$T$25,Ⅰ.構成メンバー名簿!$Q$25:$W$25,0),FALSE)=\"\",\"\",VLOOKUP($A71,Ⅰ.構成メンバー名簿!$Q$26:$W$275,MATCH(Ⅰ.構成メンバー名簿!$T$25,Ⅰ.構成メンバー名簿!$Q$25:$W$25,0),FALSE)))","v":""},{"$f":"IF($A71=\"\",\"\",VLOOKUP($A71,Ⅰ.構成メンバー名簿!$Q$26:$W$275,MATCH(Ⅰ.構成メンバー名簿!$W$25,Ⅰ.構成メンバー名簿!$Q$25:$W$25,0),FALSE))","v":""},{"$f":"IF(AND(H71>0,SUM(H72:$H$290)=0),\"←ここまで値でコピー\",\"\")","v":""},null,null,0,null,{"$f":"IF(SUM($Q71:$Q$261)=0,\"\",J70+1)","v":""},{"$f":"IF(Ⅰ.構成メンバー名簿!S85<>\"\",Ⅰ.構成メンバー名簿!S85,\"\")","v":""},{"$f":"IF(Ⅰ.構成メンバー名簿!V85=\"\",\"\",Ⅰ.構成メンバー名簿!E85)","v":""},{"$f":"IF(Ⅰ.構成メンバー名簿!W85=\"\",\"\",Ⅰ.構成メンバー名簿!W85)","v":""},{"$f":"IF(AND(Q71>0,SUM($Q72:$Q$261)=0),\"←ここまで値でコピー\",\"\")","v":""},null,null,0]
[{"$f":"IF(MAX(Ⅰ.構成メンバー名簿!$Q$26:$Q$275)>A71,A71+1,\"\")","v":""},{"$f":"IF($A72=\"\",\"\",VLOOKUP($A72,Ⅰ.構成メンバー名簿!$Q$26:$W$275,MATCH(Ⅰ.構成メンバー名簿!$S$25,Ⅰ.構成メンバー名簿!$Q$25:$W$25,0),FALSE))","v":""},{"$f":"IF($A72=\"\",\"\",IF(VLOOKUP($A72,Ⅰ.構成メンバー名簿!$Q$26:$W$275,MATCH(Ⅰ.構成メンバー名簿!$T$25,Ⅰ.構成メンバー名簿!$Q$25:$W$25,0),FALSE)=\"\",\"\",VLOOKUP($A72,Ⅰ.構成メンバー名簿!$Q$26:$W$275,MATCH(Ⅰ.構成メンバー名簿!$T$25,Ⅰ.構成メンバー名簿!$Q$25:$W$25,0),FALSE)))","v":""},{"$f":"IF($A72=\"\",\"\",VLOOKUP($A72,Ⅰ.構成メンバー名簿!$Q$26:$W$275,MATCH(Ⅰ.構成メンバー名簿!$W$25,Ⅰ.構成メンバー名簿!$Q$25:$W$25,0),FALSE))","v":""},{"$f":"IF(AND(H72>0,SUM(H73:$H$290)=0),\"←ここまで値でコピー\",\"\")","v":""},null,null,0,null,{"$f":"IF(SUM($Q72:$Q$261)=0,\"\",J71+1)","v":""},{"$f":"IF(Ⅰ.構成メンバー名簿!S86<>\"\",Ⅰ.構成メンバー名簿!S86,\"\")","v":""},{"$f":"IF(Ⅰ.構成メンバー名簿!V86=\"\",\"\",Ⅰ.構成メンバー名簿!E86)","v":""},{"$f":"IF(Ⅰ.構成メンバー名簿!W86=\"\",\"\",Ⅰ.構成メンバー名簿!W86)","v":""},{"$f":"IF(AND(Q72>0,SUM($Q73:$Q$261)=0),\"←ここまで値でコピー\",\"\")","v":""},null,null,0]
[{"$f":"IF(MAX(Ⅰ.構成メンバー名簿!$Q$26:$Q$275)>A72,A72+1,\"\")","v":""},{"$f":"IF($A73=\"\",\"\",VLOOKUP($A73,Ⅰ.構成メンバー名簿!$Q$26:$W$275,MATCH(Ⅰ.構成メンバー名簿!$S$25,Ⅰ.構成メンバー名簿!$Q$25:$W$25,0),FALSE))","v":""},{"$f":"IF($A73=\"\",\"\",IF(VLOOKUP($A73,Ⅰ.構成メンバー名簿!$Q$26:$W$275,MATCH(Ⅰ.構成メンバー名簿!$T$25,Ⅰ.構成メンバー名簿!$Q$25:$W$25,0),FALSE)=\"\",\"\",VLOOKUP($A73,Ⅰ.構成メンバー名簿!$Q$26:$W$275,MATCH(Ⅰ.構成メンバー名簿!$T$25,Ⅰ.構成メンバー名簿!$Q$25:$W$25,0),FALSE)))","v":""},{"$f":"IF($A73=\"\",\"\",VLOOKUP($A73,Ⅰ.構成メンバー名簿!$Q$26:$W$275,MATCH(Ⅰ.構成メンバー名簿!$W$25,Ⅰ.構成メンバー名簿!$Q$25:$W$25,0),FALSE))","v":""},{"$f":"IF(AND(H73>0,SUM(H74:$H$290)=0),\"←ここまで値でコピー\",\"\")","v":""},null,null,0,null,{"$f":"IF(SUM($Q73:$Q$261)=0,\"\",J72+1)","v":""},{"$f":"IF(Ⅰ.構成メンバー名簿!S87<>\"\",Ⅰ.構成メンバー名簿!S87,\"\")","v":""},{"$f":"IF(Ⅰ.構成メンバー名簿!V87=\"\",\"\",Ⅰ.構成メンバー名簿!E87)","v":""},{"$f":"IF(Ⅰ.構成メンバー名簿!W87=\"\",\"\",Ⅰ.構成メンバー名簿!W87)","v":""},{"$f":"IF(AND(Q73>0,SUM($Q74:$Q$261)=0),\"←ここまで値でコピー\",\"\")","v":""},null,null,0]
[{"$f":"IF(MAX(Ⅰ.構成メンバー名簿!$Q$26:$Q$275)>A73,A73+1,\"\")","v":""},{"$f":"IF($A74=\"\",\"\",VLOOKUP($A74,Ⅰ.構成メンバー名簿!$Q$26:$W$275,MATCH(Ⅰ.構成メンバー名簿!$S$25,Ⅰ.構成メンバー名簿!$Q$25:$W$25,0),FALSE))","v":""},{"$f":"IF($A74=\"\",\"\",IF(VLOOKUP($A74,Ⅰ.構成メンバー名簿!$Q$26:$W$275,MATCH(Ⅰ.構成メンバー名簿!$T$25,Ⅰ.構成メンバー名簿!$Q$25:$W$25,0),FALSE)=\"\",\"\",VLOOKUP($A74,Ⅰ.構成メンバー名簿!$Q$26:$W$275,MATCH(Ⅰ.構成メンバー名簿!$T$25,Ⅰ.構成メンバー名簿!$Q$25:$W$25,0),FALSE)))","v":""},{"$f":"IF($A74=\"\",\"\",VLOOKUP($A74,Ⅰ.構成メンバー名簿!$Q$26:$W$275,MATCH(Ⅰ.構成メンバー名簿!$W$25,Ⅰ.構成メンバー名簿!$Q$25:$W$25,0),FALSE))","v":""},{"$f":"IF(AND(H74>0,SUM(H75:$H$290)=0),\"←ここまで値でコピー\",\"\")","v":""},null,null,0,null,{"$f":"IF(SUM($Q74:$Q$261)=0,\"\",J73+1)","v":""},{"$f":"IF(Ⅰ.構成メンバー名簿!S88<>\"\",Ⅰ.構成メンバー名簿!S88,\"\")","v":""},{"$f":"IF(Ⅰ.構成メンバー名簿!V88=\"\",\"\",Ⅰ.構成メンバー名簿!E88)","v":""},{"$f":"IF(Ⅰ.構成メンバー名簿!W88=\"\",\"\",Ⅰ.構成メンバー名簿!W88)","v":""},{"$f":"IF(AND(Q74>0,SUM($Q75:$Q$261)=0),\"←ここまで値でコピー\",\"\")","v":""},null,null,0]
[{"$f":"IF(MAX(Ⅰ.構成メンバー名簿!$Q$26:$Q$275)>A74,A74+1,\"\")","v":""},{"$f":"IF($A75=\"\",\"\",VLOOKUP($A75,Ⅰ.構成メンバー名簿!$Q$26:$W$275,MATCH(Ⅰ.構成メンバー名簿!$S$25,Ⅰ.構成メンバー名簿!$Q$25:$W$25,0),FALSE))","v":""},{"$f":"IF($A75=\"\",\"\",IF(VLOOKUP($A75,Ⅰ.構成メンバー名簿!$Q$26:$W$275,MATCH(Ⅰ.構成メンバー名簿!$T$25,Ⅰ.構成メンバー名簿!$Q$25:$W$25,0),FALSE)=\"\",\"\",VLOOKUP($A75,Ⅰ.構成メンバー名簿!$Q$26:$W$275,MATCH(Ⅰ.構成メンバー名簿!$T$25,Ⅰ.構成メンバー名簿!$Q$25:$W$25,0),FALSE)))","v":""},{"$f":"IF($A75=\"\",\"\",VLOOKUP($A75,Ⅰ.構成メンバー名簿!$Q$26:$W$275,MATCH(Ⅰ.構成メンバー名簿!$W$25,Ⅰ.構成メンバー名簿!$Q$25:$W$25,0),FALSE))","v":""},{"$f":"IF(AND(H75>0,SUM(H76:$H$290)=0),\"←ここまで値でコピー\",\"\")","v":""},null,null,0,null,{"$f":"IF(SUM($Q75:$Q$261)=0,\"\",J74+1)","v":""},{"$f":"IF(Ⅰ.構成メンバー名簿!S89<>\"\",Ⅰ.構成メンバー名簿!S89,\"\")","v":""},{"$f":"IF(Ⅰ.構成メンバー名簿!V89=\"\",\"\",Ⅰ.構成メンバー名簿!E89)","v":""},{"$f":"IF(Ⅰ.構成メンバー名簿!W89=\"\",\"\",Ⅰ.構成メンバー名簿!W89)","v":""},{"$f":"IF(AND(Q75>0,SUM($Q76:$Q$261)=0),\"←ここまで値でコピー\",\"\")","v":""},null,null,0]
[{"$f":"IF(MAX(Ⅰ.構成メンバー名簿!$Q$26:$Q$275)>A75,A75+1,\"\")","v":""},{"$f":"IF($A76=\"\",\"\",VLOOKUP($A76,Ⅰ.構成メンバー名簿!$Q$26:$W$275,MATCH(Ⅰ.構成メンバー名簿!$S$25,Ⅰ.構成メンバー名簿!$Q$25:$W$25,0),FALSE))","v":""},{"$f":"IF($A76=\"\",\"\",IF(VLOOKUP($A76,Ⅰ.構成メンバー名簿!$Q$26:$W$275,MATCH(Ⅰ.構成メンバー名簿!$T$25,Ⅰ.構成メンバー名簿!$Q$25:$W$25,0),FALSE)=\"\",\"\",VLOOKUP($A76,Ⅰ.構成メンバー名簿!$Q$26:$W$275,MATCH(Ⅰ.構成メンバー名簿!$T$25,Ⅰ.構成メンバー名簿!$Q$25:$W$25,0),FALSE)))","v":""},{"$f":"IF($A76=\"\",\"\",VLOOKUP($A76,Ⅰ.構成メンバー名簿!$Q$26:$W$275,MATCH(Ⅰ.構成メンバー名簿!$W$25,Ⅰ.構成メンバー名簿!$Q$25:$W$25,0),FALSE))","v":""},{"$f":"IF(AND(H76>0,SUM(H77:$H$290)=0),\"←ここまで値でコピー\",\"\")","v":""},null,null,0,null,{"$f":"IF(SUM($Q76:$Q$261)=0,\"\",J75+1)","v":""},{"$f":"IF(Ⅰ.構成メンバー名簿!S90<>\"\",Ⅰ.構成メンバー名簿!S90,\"\")","v":""},{"$f":"IF(Ⅰ.構成メンバー名簿!V90=\"\",\"\",Ⅰ.構成メンバー名簿!E90)","v":""},{"$f":"IF(Ⅰ.構成メンバー名簿!W90=\"\",\"\",Ⅰ.構成メンバー名簿!W90)","v":""},{"$f":"IF(AND(Q76>0,SUM($Q77:$Q$261)=0),\"←ここまで値でコピー\",\"\")","v":""},null,null,0]
[{"$f":"IF(MAX(Ⅰ.構成メンバー名簿!$Q$26:$Q$275)>A76,A76+1,\"\")","v":""},{"$f":"IF($A77=\"\",\"\",VLOOKUP($A77,Ⅰ.構成メンバー名簿!$Q$26:$W$275,MATCH(Ⅰ.構成メンバー名簿!$S$25,Ⅰ.構成メンバー名簿!$Q$25:$W$25,0),FALSE))","v":""},{"$f":"IF($A77=\"\",\"\",IF(VLOOKUP($A77,Ⅰ.構成メンバー名簿!$Q$26:$W$275,MATCH(Ⅰ.構成メンバー名簿!$T$25,Ⅰ.構成メンバー名簿!$Q$25:$W$25,0),FALSE)=\"\",\"\",VLOOKUP($A77,Ⅰ.構成メンバー名簿!$Q$26:$W$275,MATCH(Ⅰ.構成メンバー名簿!$T$25,Ⅰ.構成メンバー名簿!$Q$25:$W$25,0),FALSE)))","v":""},{"$f":"IF($A77=\"\",\"\",VLOOKUP($A77,Ⅰ.構成メンバー名簿!$Q$26:$W$275,MATCH(Ⅰ.構成メンバー名簿!$W$25,Ⅰ.構成メンバー名簿!$Q$25:$W$25,0),FALSE))","v":""},{"$f":"IF(AND(H77>0,SUM(H78:$H$290)=0),\"←ここまで値でコピー\",\"\")","v":""},null,null,0,null,{"$f":"IF(SUM($Q77:$Q$261)=0,\"\",J76+1)","v":""},{"$f":"IF(Ⅰ.構成メンバー名簿!S91<>\"\",Ⅰ.構成メンバー名簿!S91,\"\")","v":""},{"$f":"IF(Ⅰ.構成メンバー名簿!V91=\"\",\"\",Ⅰ.構成メンバー名簿!E91)","v":""},{"$f":"IF(Ⅰ.構成メンバー名簿!W91=\"\",\"\",Ⅰ.構成メンバー名簿!W91)","v":""},{"$f":"IF(AND(Q77>0,SUM($Q78:$Q$261)=0),\"←ここまで値でコピー\",\"\")","v":""},null,null,{"$f":"IF(COUNTBLANK(K77:M77)=3,0,1)","v":0}]
[{"$f":"IF(MAX(Ⅰ.構成メンバー名簿!$Q$26:$Q$275)>A77,A77+1,\"\")","v":""},{"$f":"IF($A78=\"\",\"\",VLOOKUP($A78,Ⅰ.構成メンバー名簿!$Q$26:$W$275,MATCH(Ⅰ.構成メンバー名簿!$S$25,Ⅰ.構成メンバー名簿!$Q$25:$W$25,0),FALSE))","v":""},{"$f":"IF($A78=\"\",\"\",IF(VLOOKUP($A78,Ⅰ.構成メンバー名簿!$Q$26:$W$275,MATCH(Ⅰ.構成メンバー名簿!$T$25,Ⅰ.構成メンバー名簿!$Q$25:$W$25,0),FALSE)=\"\",\"\",VLOOKUP($A78,Ⅰ.構成メンバー名簿!$Q$26:$W$275,MATCH(Ⅰ.構成メンバー名簿!$T$25,Ⅰ.構成メンバー名簿!$Q$25:$W$25,0),FALSE)))","v":""},{"$f":"IF($A78=\"\",\"\",VLOOKUP($A78,Ⅰ.構成メンバー名簿!$Q$26:$W$275,MATCH(Ⅰ.構成メンバー名簿!$W$25,Ⅰ.構成メンバー名簿!$Q$25:$W$25,0),FALSE))","v":""},{"$f":"IF(AND(H78>0,SUM(H79:$H$290)=0),\"←ここまで値でコピー\",\"\")","v":""},null,null,0,null,{"$f":"IF(SUM($Q78:$Q$261)=0,\"\",J77+1)","v":""},{"$f":"IF(Ⅰ.構成メンバー名簿!S92<>\"\",Ⅰ.構成メンバー名簿!S92,\"\")","v":""},{"$f":"IF(Ⅰ.構成メンバー名簿!V92=\"\",\"\",Ⅰ.構成メンバー名簿!E92)","v":""},{"$f":"IF(Ⅰ.構成メンバー名簿!W92=\"\",\"\",Ⅰ.構成メンバー名簿!W92)","v":""},{"$f":"IF(AND(Q78>0,SUM($Q79:$Q$261)=0),\"←ここまで値でコピー\",\"\")","v":""},null,null,0]
[{"$f":"IF(MAX(Ⅰ.構成メンバー名簿!$Q$26:$Q$275)>A78,A78+1,\"\")","v":""},{"$f":"IF($A79=\"\",\"\",VLOOKUP($A79,Ⅰ.構成メンバー名簿!$Q$26:$W$275,MATCH(Ⅰ.構成メンバー名簿!$S$25,Ⅰ.構成メンバー名簿!$Q$25:$W$25,0),FALSE))","v":""},{"$f":"IF($A79=\"\",\"\",IF(VLOOKUP($A79,Ⅰ.構成メンバー名簿!$Q$26:$W$275,MATCH(Ⅰ.構成メンバー名簿!$T$25,Ⅰ.構成メンバー名簿!$Q$25:$W$25,0),FALSE)=\"\",\"\",VLOOKUP($A79,Ⅰ.構成メンバー名簿!$Q$26:$W$275,MATCH(Ⅰ.構成メンバー名簿!$T$25,Ⅰ.構成メンバー名簿!$Q$25:$W$25,0),FALSE)))","v":""},{"$f":"IF($A79=\"\",\"\",VLOOKUP($A79,Ⅰ.構成メンバー名簿!$Q$26:$W$275,MATCH(Ⅰ.構成メンバー名簿!$W$25,Ⅰ.構成メンバー名簿!$Q$25:$W$25,0),FALSE))","v":""},{"$f":"IF(AND(H79>0,SUM(H80:$H$290)=0),\"←ここまで値でコピー\",\"\")","v":""},null,null,0,null,{"$f":"IF(SUM($Q79:$Q$261)=0,\"\",J78+1)","v":""},{"$f":"IF(Ⅰ.構成メンバー名簿!S93<>\"\",Ⅰ.構成メンバー名簿!S93,\"\")","v":""},{"$f":"IF(Ⅰ.構成メンバー名簿!V93=\"\",\"\",Ⅰ.構成メンバー名簿!E93)","v":""},{"$f":"IF(Ⅰ.構成メンバー名簿!W93=\"\",\"\",Ⅰ.構成メンバー名簿!W93)","v":""},{"$f":"IF(AND(Q79>0,SUM($Q80:$Q$261)=0),\"←ここまで値でコピー\",\"\")","v":""},null,null,0]
[{"$f":"IF(MAX(Ⅰ.構成メンバー名簿!$Q$26:$Q$275)>A79,A79+1,\"\")","v":""},{"$f":"IF($A80=\"\",\"\",VLOOKUP($A80,Ⅰ.構成メンバー名簿!$Q$26:$W$275,MATCH(Ⅰ.構成メンバー名簿!$S$25,Ⅰ.構成メンバー名簿!$Q$25:$W$25,0),FALSE))","v":""},{"$f":"IF($A80=\"\",\"\",IF(VLOOKUP($A80,Ⅰ.構成メンバー名簿!$Q$26:$W$275,MATCH(Ⅰ.構成メンバー名簿!$T$25,Ⅰ.構成メンバー名簿!$Q$25:$W$25,0),FALSE)=\"\",\"\",VLOOKUP($A80,Ⅰ.構成メンバー名簿!$Q$26:$W$275,MATCH(Ⅰ.構成メンバー名簿!$T$25,Ⅰ.構成メンバー名簿!$Q$25:$W$25,0),FALSE)))","v":""},{"$f":"IF($A80=\"\",\"\",VLOOKUP($A80,Ⅰ.構成メンバー名簿!$Q$26:$W$275,MATCH(Ⅰ.構成メンバー名簿!$W$25,Ⅰ.構成メンバー名簿!$Q$25:$W$25,0),FALSE))","v":""},{"$f":"IF(AND(H80>0,SUM(H81:$H$290)=0),\"←ここまで値でコピー\",\"\")","v":""},null,null,0,null,{"$f":"IF(SUM($Q80:$Q$261)=0,\"\",J79+1)","v":""},{"$f":"IF(Ⅰ.構成メンバー名簿!S94<>\"\",Ⅰ.構成メンバー名簿!S94,\"\")","v":""},{"$f":"IF(Ⅰ.構成メンバー名簿!V94=\"\",\"\",Ⅰ.構成メンバー名簿!E94)","v":""},{"$f":"IF(Ⅰ.構成メンバー名簿!W94=\"\",\"\",Ⅰ.構成メンバー名簿!W94)","v":""},{"$f":"IF(AND(Q80>0,SUM($Q81:$Q$261)=0),\"←ここまで値でコピー\",\"\")","v":""},null,null,0]
[{"$f":"IF(MAX(Ⅰ.構成メンバー名簿!$Q$26:$Q$275)>A80,A80+1,\"\")","v":""},{"$f":"IF($A81=\"\",\"\",VLOOKUP($A81,Ⅰ.構成メンバー名簿!$Q$26:$W$275,MATCH(Ⅰ.構成メンバー名簿!$S$25,Ⅰ.構成メンバー名簿!$Q$25:$W$25,0),FALSE))","v":""},{"$f":"IF($A81=\"\",\"\",IF(VLOOKUP($A81,Ⅰ.構成メンバー名簿!$Q$26:$W$275,MATCH(Ⅰ.構成メンバー名簿!$T$25,Ⅰ.構成メンバー名簿!$Q$25:$W$25,0),FALSE)=\"\",\"\",VLOOKUP($A81,Ⅰ.構成メンバー名簿!$Q$26:$W$275,MATCH(Ⅰ.構成メンバー名簿!$T$25,Ⅰ.構成メンバー名簿!$Q$25:$W$25,0),FALSE)))","v":""},{"$f":"IF($A81=\"\",\"\",VLOOKUP($A81,Ⅰ.構成メンバー名簿!$Q$26:$W$275,MATCH(Ⅰ.構成メンバー名簿!$W$25,Ⅰ.構成メンバー名簿!$Q$25:$W$25,0),FALSE))","v":""},{"$f":"IF(AND(H81>0,SUM(H82:$H$290)=0),\"←ここまで値でコピー\",\"\")","v":""},null,null,0,null,{"$f":"IF(SUM($Q81:$Q$261)=0,\"\",J80+1)","v":""},{"$f":"IF(Ⅰ.構成メンバー名簿!S95<>\"\",Ⅰ.構成メンバー名簿!S95,\"\")","v":""},{"$f":"IF(Ⅰ.構成メンバー名簿!V95=\"\",\"\",Ⅰ.構成メンバー名簿!E95)","v":""},{"$f":"IF(Ⅰ.構成メンバー名簿!W95=\"\",\"\",Ⅰ.構成メンバー名簿!W95)","v":""},{"$f":"IF(AND(Q81>0,SUM($Q82:$Q$261)=0),\"←ここまで値でコピー\",\"\")","v":""},null,null,0]
[{"$f":"IF(MAX(Ⅰ.構成メンバー名簿!$Q$26:$Q$275)>A81,A81+1,\"\")","v":""},{"$f":"IF($A82=\"\",\"\",VLOOKUP($A82,Ⅰ.構成メンバー名簿!$Q$26:$W$275,MATCH(Ⅰ.構成メンバー名簿!$S$25,Ⅰ.構成メンバー名簿!$Q$25:$W$25,0),FALSE))","v":""},{"$f":"IF($A82=\"\",\"\",IF(VLOOKUP($A82,Ⅰ.構成メンバー名簿!$Q$26:$W$275,MATCH(Ⅰ.構成メンバー名簿!$T$25,Ⅰ.構成メンバー名簿!$Q$25:$W$25,0),FALSE)=\"\",\"\",VLOOKUP($A82,Ⅰ.構成メンバー名簿!$Q$26:$W$275,MATCH(Ⅰ.構成メンバー名簿!$T$25,Ⅰ.構成メンバー名簿!$Q$25:$W$25,0),FALSE)))","v":""},{"$f":"IF($A82=\"\",\"\",VLOOKUP($A82,Ⅰ.構成メンバー名簿!$Q$26:$W$275,MATCH(Ⅰ.構成メンバー名簿!$W$25,Ⅰ.構成メンバー名簿!$Q$25:$W$25,0),FALSE))","v":""},{"$f":"IF(AND(H82>0,SUM(H83:$H$290)=0),\"←ここまで値でコピー\",\"\")","v":""},null,null,0,null,{"$f":"IF(SUM($Q82:$Q$261)=0,\"\",J81+1)","v":""},{"$f":"IF(Ⅰ.構成メンバー名簿!S96<>\"\",Ⅰ.構成メンバー名簿!S96,\"\")","v":""},{"$f":"IF(Ⅰ.構成メンバー名簿!V96=\"\",\"\",Ⅰ.構成メンバー名簿!E96)","v":""},{"$f":"IF(Ⅰ.構成メンバー名簿!W96=\"\",\"\",Ⅰ.構成メンバー名簿!W96)","v":""},{"$f":"IF(AND(Q82>0,SUM($Q83:$Q$261)=0),\"←ここまで値でコピー\",\"\")","v":""},null,null,0]
[{"$f":"IF(MAX(Ⅰ.構成メンバー名簿!$Q$26:$Q$275)>A82,A82+1,\"\")","v":""},{"$f":"IF($A83=\"\",\"\",VLOOKUP($A83,Ⅰ.構成メンバー名簿!$Q$26:$W$275,MATCH(Ⅰ.構成メンバー名簿!$S$25,Ⅰ.構成メンバー名簿!$Q$25:$W$25,0),FALSE))","v":""},{"$f":"IF($A83=\"\",\"\",IF(VLOOKUP($A83,Ⅰ.構成メンバー名簿!$Q$26:$W$275,MATCH(Ⅰ.構成メンバー名簿!$T$25,Ⅰ.構成メンバー名簿!$Q$25:$W$25,0),FALSE)=\"\",\"\",VLOOKUP($A83,Ⅰ.構成メンバー名簿!$Q$26:$W$275,MATCH(Ⅰ.構成メンバー名簿!$T$25,Ⅰ.構成メンバー名簿!$Q$25:$W$25,0),FALSE)))","v":""},{"$f":"IF($A83=\"\",\"\",VLOOKUP($A83,Ⅰ.構成メンバー名簿!$Q$26:$W$275,MATCH(Ⅰ.構成メンバー名簿!$W$25,Ⅰ.構成メンバー名簿!$Q$25:$W$25,0),FALSE))","v":""},{"$f":"IF(AND(H83>0,SUM(H84:$H$290)=0),\"←ここまで値でコピー\",\"\")","v":""},null,null,0,null,{"$f":"IF(SUM($Q83:$Q$261)=0,\"\",J82+1)","v":""},{"$f":"IF(Ⅰ.構成メンバー名簿!S97<>\"\",Ⅰ.構成メンバー名簿!S97,\"\")","v":""},{"$f":"IF(Ⅰ.構成メンバー名簿!V97=\"\",\"\",Ⅰ.構成メンバー名簿!E97)","v":""},{"$f":"IF(Ⅰ.構成メンバー名簿!W97=\"\",\"\",Ⅰ.構成メンバー名簿!W97)","v":""},{"$f":"IF(AND(Q83>0,SUM($Q84:$Q$261)=0),\"←ここまで値でコピー\",\"\")","v":""},null,null,0]
[{"$f":"IF(MAX(Ⅰ.構成メンバー名簿!$Q$26:$Q$275)>A83,A83+1,\"\")","v":""},{"$f":"IF($A84=\"\",\"\",VLOOKUP($A84,Ⅰ.構成メンバー名簿!$Q$26:$W$275,MATCH(Ⅰ.構成メンバー名簿!$S$25,Ⅰ.構成メンバー名簿!$Q$25:$W$25,0),FALSE))","v":""},{"$f":"IF($A84=\"\",\"\",IF(VLOOKUP($A84,Ⅰ.構成メンバー名簿!$Q$26:$W$275,MATCH(Ⅰ.構成メンバー名簿!$T$25,Ⅰ.構成メンバー名簿!$Q$25:$W$25,0),FALSE)=\"\",\"\",VLOOKUP($A84,Ⅰ.構成メンバー名簿!$Q$26:$W$275,MATCH(Ⅰ.構成メンバー名簿!$T$25,Ⅰ.構成メンバー名簿!$Q$25:$W$25,0),FALSE)))","v":""},{"$f":"IF($A84=\"\",\"\",VLOOKUP($A84,Ⅰ.構成メンバー名簿!$Q$26:$W$275,MATCH(Ⅰ.構成メンバー名簿!$W$25,Ⅰ.構成メンバー名簿!$Q$25:$W$25,0),FALSE))","v":""},{"$f":"IF(AND(H84>0,SUM(H85:$H$290)=0),\"←ここまで値でコピー\",\"\")","v":""},null,null,0,null,{"$f":"IF(SUM($Q84:$Q$261)=0,\"\",J83+1)","v":""},{"$f":"IF(Ⅰ.構成メンバー名簿!S98<>\"\",Ⅰ.構成メンバー名簿!S98,\"\")","v":""},{"$f":"IF(Ⅰ.構成メンバー名簿!V98=\"\",\"\",Ⅰ.構成メンバー名簿!E98)","v":""},{"$f":"IF(Ⅰ.構成メンバー名簿!W98=\"\",\"\",Ⅰ.構成メンバー名簿!W98)","v":""},{"$f":"IF(AND(Q84>0,SUM($Q85:$Q$261)=0),\"←ここまで値でコピー\",\"\")","v":""},null,null,0]
[{"$f":"IF(MAX(Ⅰ.構成メンバー名簿!$Q$26:$Q$275)>A84,A84+1,\"\")","v":""},{"$f":"IF($A85=\"\",\"\",VLOOKUP($A85,Ⅰ.構成メンバー名簿!$Q$26:$W$275,MATCH(Ⅰ.構成メンバー名簿!$S$25,Ⅰ.構成メンバー名簿!$Q$25:$W$25,0),FALSE))","v":""},{"$f":"IF($A85=\"\",\"\",IF(VLOOKUP($A85,Ⅰ.構成メンバー名簿!$Q$26:$W$275,MATCH(Ⅰ.構成メンバー名簿!$T$25,Ⅰ.構成メンバー名簿!$Q$25:$W$25,0),FALSE)=\"\",\"\",VLOOKUP($A85,Ⅰ.構成メンバー名簿!$Q$26:$W$275,MATCH(Ⅰ.構成メンバー名簿!$T$25,Ⅰ.構成メンバー名簿!$Q$25:$W$25,0),FALSE)))","v":""},{"$f":"IF($A85=\"\",\"\",VLOOKUP($A85,Ⅰ.構成メンバー名簿!$Q$26:$W$275,MATCH(Ⅰ.構成メンバー名簿!$W$25,Ⅰ.構成メンバー名簿!$Q$25:$W$25,0),FALSE))","v":""},{"$f":"IF(AND(H85>0,SUM(H86:$H$290)=0),\"←ここまで値でコピー\",\"\")","v":""},null,null,0,null,{"$f":"IF(SUM($Q85:$Q$261)=0,\"\",J84+1)","v":""},{"$f":"IF(Ⅰ.構成メンバー名簿!S99<>\"\",Ⅰ.構成メンバー名簿!S99,\"\")","v":""},{"$f":"IF(Ⅰ.構成メンバー名簿!V99=\"\",\"\",Ⅰ.構成メンバー名簿!E99)","v":""},{"$f":"IF(Ⅰ.構成メンバー名簿!W99=\"\",\"\",Ⅰ.構成メンバー名簿!W99)","v":""},{"$f":"IF(AND(Q85>0,SUM($Q86:$Q$261)=0),\"←ここまで値でコピー\",\"\")","v":""},null,null,0]
[{"$f":"IF(MAX(Ⅰ.構成メンバー名簿!$Q$26:$Q$275)>A85,A85+1,\"\")","v":""},{"$f":"IF($A86=\"\",\"\",VLOOKUP($A86,Ⅰ.構成メンバー名簿!$Q$26:$W$275,MATCH(Ⅰ.構成メンバー名簿!$S$25,Ⅰ.構成メンバー名簿!$Q$25:$W$25,0),FALSE))","v":""},{"$f":"IF($A86=\"\",\"\",IF(VLOOKUP($A86,Ⅰ.構成メンバー名簿!$Q$26:$W$275,MATCH(Ⅰ.構成メンバー名簿!$T$25,Ⅰ.構成メンバー名簿!$Q$25:$W$25,0),FALSE)=\"\",\"\",VLOOKUP($A86,Ⅰ.構成メンバー名簿!$Q$26:$W$275,MATCH(Ⅰ.構成メンバー名簿!$T$25,Ⅰ.構成メンバー名簿!$Q$25:$W$25,0),FALSE)))","v":""},{"$f":"IF($A86=\"\",\"\",VLOOKUP($A86,Ⅰ.構成メンバー名簿!$Q$26:$W$275,MATCH(Ⅰ.構成メンバー名簿!$W$25,Ⅰ.構成メンバー名簿!$Q$25:$W$25,0),FALSE))","v":""},{"$f":"IF(AND(H86>0,SUM(H87:$H$290)=0),\"←ここまで値でコピー\",\"\")","v":""},null,null,0,null,{"$f":"IF(SUM($Q86:$Q$261)=0,\"\",J85+1)","v":""},{"$f":"IF(Ⅰ.構成メンバー名簿!S100<>\"\",Ⅰ.構成メンバー名簿!S100,\"\")","v":""},{"$f":"IF(Ⅰ.構成メンバー名簿!V100=\"\",\"\",Ⅰ.構成メンバー名簿!E100)","v":""},{"$f":"IF(Ⅰ.構成メンバー名簿!W100=\"\",\"\",Ⅰ.構成メンバー名簿!W100)","v":""},{"$f":"IF(AND(Q86>0,SUM($Q87:$Q$261)=0),\"←ここまで値でコピー\",\"\")","v":""},null,null,0]
[{"$f":"IF(MAX(Ⅰ.構成メンバー名簿!$Q$26:$Q$275)>A86,A86+1,\"\")","v":""},{"$f":"IF($A87=\"\",\"\",VLOOKUP($A87,Ⅰ.構成メンバー名簿!$Q$26:$W$275,MATCH(Ⅰ.構成メンバー名簿!$S$25,Ⅰ.構成メンバー名簿!$Q$25:$W$25,0),FALSE))","v":""},{"$f":"IF($A87=\"\",\"\",IF(VLOOKUP($A87,Ⅰ.構成メンバー名簿!$Q$26:$W$275,MATCH(Ⅰ.構成メンバー名簿!$T$25,Ⅰ.構成メンバー名簿!$Q$25:$W$25,0),FALSE)=\"\",\"\",VLOOKUP($A87,Ⅰ.構成メンバー名簿!$Q$26:$W$275,MATCH(Ⅰ.構成メンバー名簿!$T$25,Ⅰ.構成メンバー名簿!$Q$25:$W$25,0),FALSE)))","v":""},{"$f":"IF($A87=\"\",\"\",VLOOKUP($A87,Ⅰ.構成メンバー名簿!$Q$26:$W$275,MATCH(Ⅰ.構成メンバー名簿!$W$25,Ⅰ.構成メンバー名簿!$Q$25:$W$25,0),FALSE))","v":""},{"$f":"IF(AND(H87>0,SUM(H88:$H$290)=0),\"←ここまで値でコピー\",\"\")","v":""},null,null,0,null,{"$f":"IF(SUM($Q87:$Q$261)=0,\"\",J86+1)","v":""},{"$f":"IF(Ⅰ.構成メンバー名簿!S101<>\"\",Ⅰ.構成メンバー名簿!S101,\"\")","v":""},{"$f":"IF(Ⅰ.構成メンバー名簿!V101=\"\",\"\",Ⅰ.構成メンバー名簿!E101)","v":""},{"$f":"IF(Ⅰ.構成メンバー名簿!W101=\"\",\"\",Ⅰ.構成メンバー名簿!W101)","v":""},{"$f":"IF(AND(Q87>0,SUM($Q88:$Q$261)=0),\"←ここまで値でコピー\",\"\")","v":""},null,null,0]
[{"$f":"IF(MAX(Ⅰ.構成メンバー名簿!$Q$26:$Q$275)>A87,A87+1,\"\")","v":""},{"$f":"IF($A88=\"\",\"\",VLOOKUP($A88,Ⅰ.構成メンバー名簿!$Q$26:$W$275,MATCH(Ⅰ.構成メンバー名簿!$S$25,Ⅰ.構成メンバー名簿!$Q$25:$W$25,0),FALSE))","v":""},{"$f":"IF($A88=\"\",\"\",IF(VLOOKUP($A88,Ⅰ.構成メンバー名簿!$Q$26:$W$275,MATCH(Ⅰ.構成メンバー名簿!$T$25,Ⅰ.構成メンバー名簿!$Q$25:$W$25,0),FALSE)=\"\",\"\",VLOOKUP($A88,Ⅰ.構成メンバー名簿!$Q$26:$W$275,MATCH(Ⅰ.構成メンバー名簿!$T$25,Ⅰ.構成メンバー名簿!$Q$25:$W$25,0),FALSE)))","v":""},{"$f":"IF($A88=\"\",\"\",VLOOKUP($A88,Ⅰ.構成メンバー名簿!$Q$26:$W$275,MATCH(Ⅰ.構成メンバー名簿!$W$25,Ⅰ.構成メンバー名簿!$Q$25:$W$25,0),FALSE))","v":""},{"$f":"IF(AND(H88>0,SUM(H89:$H$290)=0),\"←ここまで値でコピー\",\"\")","v":""},null,null,0,null,{"$f":"IF(SUM($Q88:$Q$261)=0,\"\",J87+1)","v":""},{"$f":"IF(Ⅰ.構成メンバー名簿!S102<>\"\",Ⅰ.構成メンバー名簿!S102,\"\")","v":""},{"$f":"IF(Ⅰ.構成メンバー名簿!V102=\"\",\"\",Ⅰ.構成メンバー名簿!E102)","v":""},{"$f":"IF(Ⅰ.構成メンバー名簿!W102=\"\",\"\",Ⅰ.構成メンバー名簿!W102)","v":""},{"$f":"IF(AND(Q88>0,SUM($Q89:$Q$261)=0),\"←ここまで値でコピー\",\"\")","v":""},null,null,0]
[{"$f":"IF(MAX(Ⅰ.構成メンバー名簿!$Q$26:$Q$275)>A88,A88+1,\"\")","v":""},{"$f":"IF($A89=\"\",\"\",VLOOKUP($A89,Ⅰ.構成メンバー名簿!$Q$26:$W$275,MATCH(Ⅰ.構成メンバー名簿!$S$25,Ⅰ.構成メンバー名簿!$Q$25:$W$25,0),FALSE))","v":""},{"$f":"IF($A89=\"\",\"\",IF(VLOOKUP($A89,Ⅰ.構成メンバー名簿!$Q$26:$W$275,MATCH(Ⅰ.構成メンバー名簿!$T$25,Ⅰ.構成メンバー名簿!$Q$25:$W$25,0),FALSE)=\"\",\"\",VLOOKUP($A89,Ⅰ.構成メンバー名簿!$Q$26:$W$275,MATCH(Ⅰ.構成メンバー名簿!$T$25,Ⅰ.構成メンバー名簿!$Q$25:$W$25,0),FALSE)))","v":""},{"$f":"IF($A89=\"\",\"\",VLOOKUP($A89,Ⅰ.構成メンバー名簿!$Q$26:$W$275,MATCH(Ⅰ.構成メンバー名簿!$W$25,Ⅰ.構成メンバー名簿!$Q$25:$W$25,0),FALSE))","v":""},{"$f":"IF(AND(H89>0,SUM(H90:$H$290)=0),\"←ここまで値でコピー\",\"\")","v":""},null,null,0,null,{"$f":"IF(SUM($Q89:$Q$261)=0,\"\",J88+1)","v":""},{"$f":"IF(Ⅰ.構成メンバー名簿!S103<>\"\",Ⅰ.構成メンバー名簿!S103,\"\")","v":""},{"$f":"IF(Ⅰ.構成メンバー名簿!V103=\"\",\"\",Ⅰ.構成メンバー名簿!E103)","v":""},{"$f":"IF(Ⅰ.構成メンバー名簿!W103=\"\",\"\",Ⅰ.構成メンバー名簿!W103)","v":""},{"$f":"IF(AND(Q89>0,SUM($Q90:$Q$261)=0),\"←ここまで値でコピー\",\"\")","v":""},null,null,0]
[{"$f":"IF(MAX(Ⅰ.構成メンバー名簿!$Q$26:$Q$275)>A89,A89+1,\"\")","v":""},{"$f":"IF($A90=\"\",\"\",VLOOKUP($A90,Ⅰ.構成メンバー名簿!$Q$26:$W$275,MATCH(Ⅰ.構成メンバー名簿!$S$25,Ⅰ.構成メンバー名簿!$Q$25:$W$25,0),FALSE))","v":""},{"$f":"IF($A90=\"\",\"\",IF(VLOOKUP($A90,Ⅰ.構成メンバー名簿!$Q$26:$W$275,MATCH(Ⅰ.構成メンバー名簿!$T$25,Ⅰ.構成メンバー名簿!$Q$25:$W$25,0),FALSE)=\"\",\"\",VLOOKUP($A90,Ⅰ.構成メンバー名簿!$Q$26:$W$275,MATCH(Ⅰ.構成メンバー名簿!$T$25,Ⅰ.構成メンバー名簿!$Q$25:$W$25,0),FALSE)))","v":""},{"$f":"IF($A90=\"\",\"\",VLOOKUP($A90,Ⅰ.構成メンバー名簿!$Q$26:$W$275,MATCH(Ⅰ.構成メンバー名簿!$W$25,Ⅰ.構成メンバー名簿!$Q$25:$W$25,0),FALSE))","v":""},{"$f":"IF(AND(H90>0,SUM(H91:$H$290)=0),\"←ここまで値でコピー\",\"\")","v":""},null,null,0,null,{"$f":"IF(SUM($Q90:$Q$261)=0,\"\",J89+1)","v":""},{"$f":"IF(Ⅰ.構成メンバー名簿!S104<>\"\",Ⅰ.構成メンバー名簿!S104,\"\")","v":""},{"$f":"IF(Ⅰ.構成メンバー名簿!V104=\"\",\"\",Ⅰ.構成メンバー名簿!E104)","v":""},{"$f":"IF(Ⅰ.構成メンバー名簿!W104=\"\",\"\",Ⅰ.構成メンバー名簿!W104)","v":""},{"$f":"IF(AND(Q90>0,SUM($Q91:$Q$261)=0),\"←ここまで値でコピー\",\"\")","v":""},null,null,0]
[{"$f":"IF(MAX(Ⅰ.構成メンバー名簿!$Q$26:$Q$275)>A90,A90+1,\"\")","v":""},{"$f":"IF($A91=\"\",\"\",VLOOKUP($A91,Ⅰ.構成メンバー名簿!$Q$26:$W$275,MATCH(Ⅰ.構成メンバー名簿!$S$25,Ⅰ.構成メンバー名簿!$Q$25:$W$25,0),FALSE))","v":""},{"$f":"IF($A91=\"\",\"\",IF(VLOOKUP($A91,Ⅰ.構成メンバー名簿!$Q$26:$W$275,MATCH(Ⅰ.構成メンバー名簿!$T$25,Ⅰ.構成メンバー名簿!$Q$25:$W$25,0),FALSE)=\"\",\"\",VLOOKUP($A91,Ⅰ.構成メンバー名簿!$Q$26:$W$275,MATCH(Ⅰ.構成メンバー名簿!$T$25,Ⅰ.構成メンバー名簿!$Q$25:$W$25,0),FALSE)))","v":""},{"$f":"IF($A91=\"\",\"\",VLOOKUP($A91,Ⅰ.構成メンバー名簿!$Q$26:$W$275,MATCH(Ⅰ.構成メンバー名簿!$W$25,Ⅰ.構成メンバー名簿!$Q$25:$W$25,0),FALSE))","v":""},{"$f":"IF(AND(H91>0,SUM(H92:$H$290)=0),\"←ここまで値でコピー\",\"\")","v":""},null,null,0,null,{"$f":"IF(SUM($Q91:$Q$261)=0,\"\",J90+1)","v":""},{"$f":"IF(Ⅰ.構成メンバー名簿!S105<>\"\",Ⅰ.構成メンバー名簿!S105,\"\")","v":""},{"$f":"IF(Ⅰ.構成メンバー名簿!V105=\"\",\"\",Ⅰ.構成メンバー名簿!E105)","v":""},{"$f":"IF(Ⅰ.構成メンバー名簿!W105=\"\",\"\",Ⅰ.構成メンバー名簿!W105)","v":""},{"$f":"IF(AND(Q91>0,SUM($Q92:$Q$261)=0),\"←ここまで値でコピー\",\"\")","v":""},null,null,0]
[{"$f":"IF(MAX(Ⅰ.構成メンバー名簿!$Q$26:$Q$275)>A91,A91+1,\"\")","v":""},{"$f":"IF($A92=\"\",\"\",VLOOKUP($A92,Ⅰ.構成メンバー名簿!$Q$26:$W$275,MATCH(Ⅰ.構成メンバー名簿!$S$25,Ⅰ.構成メンバー名簿!$Q$25:$W$25,0),FALSE))","v":""},{"$f":"IF($A92=\"\",\"\",IF(VLOOKUP($A92,Ⅰ.構成メンバー名簿!$Q$26:$W$275,MATCH(Ⅰ.構成メンバー名簿!$T$25,Ⅰ.構成メンバー名簿!$Q$25:$W$25,0),FALSE)=\"\",\"\",VLOOKUP($A92,Ⅰ.構成メンバー名簿!$Q$26:$W$275,MATCH(Ⅰ.構成メンバー名簿!$T$25,Ⅰ.構成メンバー名簿!$Q$25:$W$25,0),FALSE)))","v":""},{"$f":"IF($A92=\"\",\"\",VLOOKUP($A92,Ⅰ.構成メンバー名簿!$Q$26:$W$275,MATCH(Ⅰ.構成メンバー名簿!$W$25,Ⅰ.構成メンバー名簿!$Q$25:$W$25,0),FALSE))","v":""},{"$f":"IF(AND(H92>0,SUM(H93:$H$290)=0),\"←ここまで値でコピー\",\"\")","v":""},null,null,0,null,{"$f":"IF(SUM($Q92:$Q$261)=0,\"\",J91+1)","v":""},{"$f":"IF(Ⅰ.構成メンバー名簿!S106<>\"\",Ⅰ.構成メンバー名簿!S106,\"\")","v":""},{"$f":"IF(Ⅰ.構成メンバー名簿!V106=\"\",\"\",Ⅰ.構成メンバー名簿!E106)","v":""},{"$f":"IF(Ⅰ.構成メンバー名簿!W106=\"\",\"\",Ⅰ.構成メンバー名簿!W106)","v":""},{"$f":"IF(AND(Q92>0,SUM($Q93:$Q$261)=0),\"←ここまで値でコピー\",\"\")","v":""},null,null,0]
[{"$f":"IF(MAX(Ⅰ.構成メンバー名簿!$Q$26:$Q$275)>A92,A92+1,\"\")","v":""},{"$f":"IF($A93=\"\",\"\",VLOOKUP($A93,Ⅰ.構成メンバー名簿!$Q$26:$W$275,MATCH(Ⅰ.構成メンバー名簿!$S$25,Ⅰ.構成メンバー名簿!$Q$25:$W$25,0),FALSE))","v":""},{"$f":"IF($A93=\"\",\"\",IF(VLOOKUP($A93,Ⅰ.構成メンバー名簿!$Q$26:$W$275,MATCH(Ⅰ.構成メンバー名簿!$T$25,Ⅰ.構成メンバー名簿!$Q$25:$W$25,0),FALSE)=\"\",\"\",VLOOKUP($A93,Ⅰ.構成メンバー名簿!$Q$26:$W$275,MATCH(Ⅰ.構成メンバー名簿!$T$25,Ⅰ.構成メンバー名簿!$Q$25:$W$25,0),FALSE)))","v":""},{"$f":"IF($A93=\"\",\"\",VLOOKUP($A93,Ⅰ.構成メンバー名簿!$Q$26:$W$275,MATCH(Ⅰ.構成メンバー名簿!$W$25,Ⅰ.構成メンバー名簿!$Q$25:$W$25,0),FALSE))","v":""},{"$f":"IF(AND(H93>0,SUM(H94:$H$290)=0),\"←ここまで値でコピー\",\"\")","v":""},null,null,0,null,{"$f":"IF(SUM($Q93:$Q$261)=0,\"\",J92+1)","v":""},{"$f":"IF(Ⅰ.構成メンバー名簿!S107<>\"\",Ⅰ.構成メンバー名簿!S107,\"\")","v":""},{"$f":"IF(Ⅰ.構成メンバー名簿!V107=\"\",\"\",Ⅰ.構成メンバー名簿!E107)","v":""},{"$f":"IF(Ⅰ.構成メンバー名簿!W107=\"\",\"\",Ⅰ.構成メンバー名簿!W107)","v":""},{"$f":"IF(AND(Q93>0,SUM($Q94:$Q$261)=0),\"←ここまで値でコピー\",\"\")","v":""},null,null,0]
[{"$f":"IF(MAX(Ⅰ.構成メンバー名簿!$Q$26:$Q$275)>A93,A93+1,\"\")","v":""},{"$f":"IF($A94=\"\",\"\",VLOOKUP($A94,Ⅰ.構成メンバー名簿!$Q$26:$W$275,MATCH(Ⅰ.構成メンバー名簿!$S$25,Ⅰ.構成メンバー名簿!$Q$25:$W$25,0),FALSE))","v":""},{"$f":"IF($A94=\"\",\"\",IF(VLOOKUP($A94,Ⅰ.構成メンバー名簿!$Q$26:$W$275,MATCH(Ⅰ.構成メンバー名簿!$T$25,Ⅰ.構成メンバー名簿!$Q$25:$W$25,0),FALSE)=\"\",\"\",VLOOKUP($A94,Ⅰ.構成メンバー名簿!$Q$26:$W$275,MATCH(Ⅰ.構成メンバー名簿!$T$25,Ⅰ.構成メンバー名簿!$Q$25:$W$25,0),FALSE)))","v":""},{"$f":"IF($A94=\"\",\"\",VLOOKUP($A94,Ⅰ.構成メンバー名簿!$Q$26:$W$275,MATCH(Ⅰ.構成メンバー名簿!$W$25,Ⅰ.構成メンバー名簿!$Q$25:$W$25,0),FALSE))","v":""},{"$f":"IF(AND(H94>0,SUM(H95:$H$290)=0),\"←ここまで値でコピー\",\"\")","v":""},null,null,0,null,{"$f":"IF(SUM($Q94:$Q$261)=0,\"\",J93+1)","v":""},{"$f":"IF(Ⅰ.構成メンバー名簿!S108<>\"\",Ⅰ.構成メンバー名簿!S108,\"\")","v":""},{"$f":"IF(Ⅰ.構成メンバー名簿!V108=\"\",\"\",Ⅰ.構成メンバー名簿!E108)","v":""},{"$f":"IF(Ⅰ.構成メンバー名簿!W108=\"\",\"\",Ⅰ.構成メンバー名簿!W108)","v":""},{"$f":"IF(AND(Q94>0,SUM($Q95:$Q$261)=0),\"←ここまで値でコピー\",\"\")","v":""},null,null,0]
[{"$f":"IF(MAX(Ⅰ.構成メンバー名簿!$Q$26:$Q$275)>A94,A94+1,\"\")","v":""},{"$f":"IF($A95=\"\",\"\",VLOOKUP($A95,Ⅰ.構成メンバー名簿!$Q$26:$W$275,MATCH(Ⅰ.構成メンバー名簿!$S$25,Ⅰ.構成メンバー名簿!$Q$25:$W$25,0),FALSE))","v":""},{"$f":"IF($A95=\"\",\"\",IF(VLOOKUP($A95,Ⅰ.構成メンバー名簿!$Q$26:$W$275,MATCH(Ⅰ.構成メンバー名簿!$T$25,Ⅰ.構成メンバー名簿!$Q$25:$W$25,0),FALSE)=\"\",\"\",VLOOKUP($A95,Ⅰ.構成メンバー名簿!$Q$26:$W$275,MATCH(Ⅰ.構成メンバー名簿!$T$25,Ⅰ.構成メンバー名簿!$Q$25:$W$25,0),FALSE)))","v":""},{"$f":"IF($A95=\"\",\"\",VLOOKUP($A95,Ⅰ.構成メンバー名簿!$Q$26:$W$275,MATCH(Ⅰ.構成メンバー名簿!$W$25,Ⅰ.構成メンバー名簿!$Q$25:$W$25,0),FALSE))","v":""},{"$f":"IF(AND(H95>0,SUM(H96:$H$290)=0),\"←ここまで値でコピー\",\"\")","v":""},null,null,0,null,{"$f":"IF(SUM($Q95:$Q$261)=0,\"\",J94+1)","v":""},{"$f":"IF(Ⅰ.構成メンバー名簿!S109<>\"\",Ⅰ.構成メンバー名簿!S109,\"\")","v":""},{"$f":"IF(Ⅰ.構成メンバー名簿!V109=\"\",\"\",Ⅰ.構成メンバー名簿!E109)","v":""},{"$f":"IF(Ⅰ.構成メンバー名簿!W109=\"\",\"\",Ⅰ.構成メンバー名簿!W109)","v":""},{"$f":"IF(AND(Q95>0,SUM($Q96:$Q$261)=0),\"←ここまで値でコピー\",\"\")","v":""},null,null,0]
[{"$f":"IF(MAX(Ⅰ.構成メンバー名簿!$Q$26:$Q$275)>A95,A95+1,\"\")","v":""},{"$f":"IF($A96=\"\",\"\",VLOOKUP($A96,Ⅰ.構成メンバー名簿!$Q$26:$W$275,MATCH(Ⅰ.構成メンバー名簿!$S$25,Ⅰ.構成メンバー名簿!$Q$25:$W$25,0),FALSE))","v":""},{"$f":"IF($A96=\"\",\"\",IF(VLOOKUP($A96,Ⅰ.構成メンバー名簿!$Q$26:$W$275,MATCH(Ⅰ.構成メンバー名簿!$T$25,Ⅰ.構成メンバー名簿!$Q$25:$W$25,0),FALSE)=\"\",\"\",VLOOKUP($A96,Ⅰ.構成メンバー名簿!$Q$26:$W$275,MATCH(Ⅰ.構成メンバー名簿!$T$25,Ⅰ.構成メンバー名簿!$Q$25:$W$25,0),FALSE)))","v":""},{"$f":"IF($A96=\"\",\"\",VLOOKUP($A96,Ⅰ.構成メンバー名簿!$Q$26:$W$275,MATCH(Ⅰ.構成メンバー名簿!$W$25,Ⅰ.構成メンバー名簿!$Q$25:$W$25,0),FALSE))","v":""},{"$f":"IF(AND(H96>0,SUM(H97:$H$290)=0),\"←ここまで値でコピー\",\"\")","v":""},null,null,0,null,{"$f":"IF(SUM($Q96:$Q$261)=0,\"\",J95+1)","v":""},{"$f":"IF(Ⅰ.構成メンバー名簿!S110<>\"\",Ⅰ.構成メンバー名簿!S110,\"\")","v":""},{"$f":"IF(Ⅰ.構成メンバー名簿!V110=\"\",\"\",Ⅰ.構成メンバー名簿!E110)","v":""},{"$f":"IF(Ⅰ.構成メンバー名簿!W110=\"\",\"\",Ⅰ.構成メンバー名簿!W110)","v":""},{"$f":"IF(AND(Q96>0,SUM($Q97:$Q$261)=0),\"←ここまで値でコピー\",\"\")","v":""},null,null,0]
[{"$f":"IF(MAX(Ⅰ.構成メンバー名簿!$Q$26:$Q$275)>A96,A96+1,\"\")","v":""},{"$f":"IF($A97=\"\",\"\",VLOOKUP($A97,Ⅰ.構成メンバー名簿!$Q$26:$W$275,MATCH(Ⅰ.構成メンバー名簿!$S$25,Ⅰ.構成メンバー名簿!$Q$25:$W$25,0),FALSE))","v":""},{"$f":"IF($A97=\"\",\"\",IF(VLOOKUP($A97,Ⅰ.構成メンバー名簿!$Q$26:$W$275,MATCH(Ⅰ.構成メンバー名簿!$T$25,Ⅰ.構成メンバー名簿!$Q$25:$W$25,0),FALSE)=\"\",\"\",VLOOKUP($A97,Ⅰ.構成メンバー名簿!$Q$26:$W$275,MATCH(Ⅰ.構成メンバー名簿!$T$25,Ⅰ.構成メンバー名簿!$Q$25:$W$25,0),FALSE)))","v":""},{"$f":"IF($A97=\"\",\"\",VLOOKUP($A97,Ⅰ.構成メンバー名簿!$Q$26:$W$275,MATCH(Ⅰ.構成メンバー名簿!$W$25,Ⅰ.構成メンバー名簿!$Q$25:$W$25,0),FALSE))","v":""},{"$f":"IF(AND(H97>0,SUM(H98:$H$290)=0),\"←ここまで値でコピー\",\"\")","v":""},null,null,0,null,{"$f":"IF(SUM($Q97:$Q$261)=0,\"\",J96+1)","v":""},{"$f":"IF(Ⅰ.構成メンバー名簿!S111<>\"\",Ⅰ.構成メンバー名簿!S111,\"\")","v":""},{"$f":"IF(Ⅰ.構成メンバー名簿!V111=\"\",\"\",Ⅰ.構成メンバー名簿!E111)","v":""},{"$f":"IF(Ⅰ.構成メンバー名簿!W111=\"\",\"\",Ⅰ.構成メンバー名簿!W111)","v":""},{"$f":"IF(AND(Q97>0,SUM($Q98:$Q$261)=0),\"←ここまで値でコピー\",\"\")","v":""},null,null,0]
[{"$f":"IF(MAX(Ⅰ.構成メンバー名簿!$Q$26:$Q$275)>A97,A97+1,\"\")","v":""},{"$f":"IF($A98=\"\",\"\",VLOOKUP($A98,Ⅰ.構成メンバー名簿!$Q$26:$W$275,MATCH(Ⅰ.構成メンバー名簿!$S$25,Ⅰ.構成メンバー名簿!$Q$25:$W$25,0),FALSE))","v":""},{"$f":"IF($A98=\"\",\"\",IF(VLOOKUP($A98,Ⅰ.構成メンバー名簿!$Q$26:$W$275,MATCH(Ⅰ.構成メンバー名簿!$T$25,Ⅰ.構成メンバー名簿!$Q$25:$W$25,0),FALSE)=\"\",\"\",VLOOKUP($A98,Ⅰ.構成メンバー名簿!$Q$26:$W$275,MATCH(Ⅰ.構成メンバー名簿!$T$25,Ⅰ.構成メンバー名簿!$Q$25:$W$25,0),FALSE)))","v":""},{"$f":"IF($A98=\"\",\"\",VLOOKUP($A98,Ⅰ.構成メンバー名簿!$Q$26:$W$275,MATCH(Ⅰ.構成メンバー名簿!$W$25,Ⅰ.構成メンバー名簿!$Q$25:$W$25,0),FALSE))","v":""},{"$f":"IF(AND(H98>0,SUM(H99:$H$290)=0),\"←ここまで値でコピー\",\"\")","v":""},null,null,0,null,{"$f":"IF(SUM($Q98:$Q$261)=0,\"\",J97+1)","v":""},{"$f":"IF(Ⅰ.構成メンバー名簿!S112<>\"\",Ⅰ.構成メンバー名簿!S112,\"\")","v":""},{"$f":"IF(Ⅰ.構成メンバー名簿!V112=\"\",\"\",Ⅰ.構成メンバー名簿!E112)","v":""},{"$f":"IF(Ⅰ.構成メンバー名簿!W112=\"\",\"\",Ⅰ.構成メンバー名簿!W112)","v":""},{"$f":"IF(AND(Q98>0,SUM($Q99:$Q$261)=0),\"←ここまで値でコピー\",\"\")","v":""},null,null,0]
[{"$f":"IF(MAX(Ⅰ.構成メンバー名簿!$Q$26:$Q$275)>A98,A98+1,\"\")","v":""},{"$f":"IF($A99=\"\",\"\",VLOOKUP($A99,Ⅰ.構成メンバー名簿!$Q$26:$W$275,MATCH(Ⅰ.構成メンバー名簿!$S$25,Ⅰ.構成メンバー名簿!$Q$25:$W$25,0),FALSE))","v":""},{"$f":"IF($A99=\"\",\"\",IF(VLOOKUP($A99,Ⅰ.構成メンバー名簿!$Q$26:$W$275,MATCH(Ⅰ.構成メンバー名簿!$T$25,Ⅰ.構成メンバー名簿!$Q$25:$W$25,0),FALSE)=\"\",\"\",VLOOKUP($A99,Ⅰ.構成メンバー名簿!$Q$26:$W$275,MATCH(Ⅰ.構成メンバー名簿!$T$25,Ⅰ.構成メンバー名簿!$Q$25:$W$25,0),FALSE)))","v":""},{"$f":"IF($A99=\"\",\"\",VLOOKUP($A99,Ⅰ.構成メンバー名簿!$Q$26:$W$275,MATCH(Ⅰ.構成メンバー名簿!$W$25,Ⅰ.構成メンバー名簿!$Q$25:$W$25,0),FALSE))","v":""},{"$f":"IF(AND(H99>0,SUM(H100:$H$290)=0),\"←ここまで値でコピー\",\"\")","v":""},null,null,0,null,{"$f":"IF(SUM($Q99:$Q$261)=0,\"\",J98+1)","v":""},{"$f":"IF(Ⅰ.構成メンバー名簿!S113<>\"\",Ⅰ.構成メンバー名簿!S113,\"\")","v":""},{"$f":"IF(Ⅰ.構成メンバー名簿!V113=\"\",\"\",Ⅰ.構成メンバー名簿!E113)","v":""},{"$f":"IF(Ⅰ.構成メンバー名簿!W113=\"\",\"\",Ⅰ.構成メンバー名簿!W113)","v":""},{"$f":"IF(AND(Q99>0,SUM($Q100:$Q$261)=0),\"←ここまで値でコピー\",\"\")","v":""},null,null,0]
[{"$f":"IF(MAX(Ⅰ.構成メンバー名簿!$Q$26:$Q$275)>A99,A99+1,\"\")","v":""},{"$f":"IF($A100=\"\",\"\",VLOOKUP($A100,Ⅰ.構成メンバー名簿!$Q$26:$W$275,MATCH(Ⅰ.構成メンバー名簿!$S$25,Ⅰ.構成メンバー名簿!$Q$25:$W$25,0),FALSE))","v":""},{"$f":"IF($A100=\"\",\"\",IF(VLOOKUP($A100,Ⅰ.構成メンバー名簿!$Q$26:$W$275,MATCH(Ⅰ.構成メンバー名簿!$T$25,Ⅰ.構成メンバー名簿!$Q$25:$W$25,0),FALSE)=\"\",\"\",VLOOKUP($A100,Ⅰ.構成メンバー名簿!$Q$26:$W$275,MATCH(Ⅰ.構成メンバー名簿!$T$25,Ⅰ.構成メンバー名簿!$Q$25:$W$25,0),FALSE)))","v":""},{"$f":"IF($A100=\"\",\"\",VLOOKUP($A100,Ⅰ.構成メンバー名簿!$Q$26:$W$275,MATCH(Ⅰ.構成メンバー名簿!$W$25,Ⅰ.構成メンバー名簿!$Q$25:$W$25,0),FALSE))","v":""},{"$f":"IF(AND(H100>0,SUM(H101:$H$290)=0),\"←ここまで値でコピー\",\"\")","v":""},null,null,0,null,{"$f":"IF(SUM($Q100:$Q$261)=0,\"\",J99+1)","v":""},{"$f":"IF(Ⅰ.構成メンバー名簿!S114<>\"\",Ⅰ.構成メンバー名簿!S114,\"\")","v":""},{"$f":"IF(Ⅰ.構成メンバー名簿!V114=\"\",\"\",Ⅰ.構成メンバー名簿!E114)","v":""},{"$f":"IF(Ⅰ.構成メンバー名簿!W114=\"\",\"\",Ⅰ.構成メンバー名簿!W114)","v":""},{"$f":"IF(AND(Q100>0,SUM($Q101:$Q$261)=0),\"←ここまで値でコピー\",\"\")","v":""},null,null,0]
[{"$f":"IF(MAX(Ⅰ.構成メンバー名簿!$Q$26:$Q$275)>A100,A100+1,\"\")","v":""},{"$f":"IF($A101=\"\",\"\",VLOOKUP($A101,Ⅰ.構成メンバー名簿!$Q$26:$W$275,MATCH(Ⅰ.構成メンバー名簿!$S$25,Ⅰ.構成メンバー名簿!$Q$25:$W$25,0),FALSE))","v":""},{"$f":"IF($A101=\"\",\"\",IF(VLOOKUP($A101,Ⅰ.構成メンバー名簿!$Q$26:$W$275,MATCH(Ⅰ.構成メンバー名簿!$T$25,Ⅰ.構成メンバー名簿!$Q$25:$W$25,0),FALSE)=\"\",\"\",VLOOKUP($A101,Ⅰ.構成メンバー名簿!$Q$26:$W$275,MATCH(Ⅰ.構成メンバー名簿!$T$25,Ⅰ.構成メンバー名簿!$Q$25:$W$25,0),FALSE)))","v":""},{"$f":"IF($A101=\"\",\"\",VLOOKUP($A101,Ⅰ.構成メンバー名簿!$Q$26:$W$275,MATCH(Ⅰ.構成メンバー名簿!$W$25,Ⅰ.構成メンバー名簿!$Q$25:$W$25,0),FALSE))","v":""},{"$f":"IF(AND(H101>0,SUM(H102:$H$290)=0),\"←ここまで値でコピー\",\"\")","v":""},null,null,0,null,{"$f":"IF(SUM($Q101:$Q$261)=0,\"\",J100+1)","v":""},{"$f":"IF(Ⅰ.構成メンバー名簿!S115<>\"\",Ⅰ.構成メンバー名簿!S115,\"\")","v":""},{"$f":"IF(Ⅰ.構成メンバー名簿!V115=\"\",\"\",Ⅰ.構成メンバー名簿!E115)","v":""},{"$f":"IF(Ⅰ.構成メンバー名簿!W115=\"\",\"\",Ⅰ.構成メンバー名簿!W115)","v":""},{"$f":"IF(AND(Q101>0,SUM($Q102:$Q$261)=0),\"←ここまで値でコピー\",\"\")","v":""},null,null,0]
[{"$f":"IF(MAX(Ⅰ.構成メンバー名簿!$Q$26:$Q$275)>A101,A101+1,\"\")","v":""},{"$f":"IF($A102=\"\",\"\",VLOOKUP($A102,Ⅰ.構成メンバー名簿!$Q$26:$W$275,MATCH(Ⅰ.構成メンバー名簿!$S$25,Ⅰ.構成メンバー名簿!$Q$25:$W$25,0),FALSE))","v":""},{"$f":"IF($A102=\"\",\"\",IF(VLOOKUP($A102,Ⅰ.構成メンバー名簿!$Q$26:$W$275,MATCH(Ⅰ.構成メンバー名簿!$T$25,Ⅰ.構成メンバー名簿!$Q$25:$W$25,0),FALSE)=\"\",\"\",VLOOKUP($A102,Ⅰ.構成メンバー名簿!$Q$26:$W$275,MATCH(Ⅰ.構成メンバー名簿!$T$25,Ⅰ.構成メンバー名簿!$Q$25:$W$25,0),FALSE)))","v":""},{"$f":"IF($A102=\"\",\"\",VLOOKUP($A102,Ⅰ.構成メンバー名簿!$Q$26:$W$275,MATCH(Ⅰ.構成メンバー名簿!$W$25,Ⅰ.構成メンバー名簿!$Q$25:$W$25,0),FALSE))","v":""},{"$f":"IF(AND(H102>0,SUM(H103:$H$290)=0),\"←ここまで値でコピー\",\"\")","v":""},null,null,0,null,{"$f":"IF(SUM($Q102:$Q$261)=0,\"\",J101+1)","v":""},{"$f":"IF(Ⅰ.構成メンバー名簿!S116<>\"\",Ⅰ.構成メンバー名簿!S116,\"\")","v":""},{"$f":"IF(Ⅰ.構成メンバー名簿!V116=\"\",\"\",Ⅰ.構成メンバー名簿!E116)","v":""},{"$f":"IF(Ⅰ.構成メンバー名簿!W116=\"\",\"\",Ⅰ.構成メンバー名簿!W116)","v":""},{"$f":"IF(AND(Q102>0,SUM($Q103:$Q$261)=0),\"←ここまで値でコピー\",\"\")","v":""},null,null,0]
[{"$f":"IF(MAX(Ⅰ.構成メンバー名簿!$Q$26:$Q$275)>A102,A102+1,\"\")","v":""},{"$f":"IF($A103=\"\",\"\",VLOOKUP($A103,Ⅰ.構成メンバー名簿!$Q$26:$W$275,MATCH(Ⅰ.構成メンバー名簿!$S$25,Ⅰ.構成メンバー名簿!$Q$25:$W$25,0),FALSE))","v":""},{"$f":"IF($A103=\"\",\"\",IF(VLOOKUP($A103,Ⅰ.構成メンバー名簿!$Q$26:$W$275,MATCH(Ⅰ.構成メンバー名簿!$T$25,Ⅰ.構成メンバー名簿!$Q$25:$W$25,0),FALSE)=\"\",\"\",VLOOKUP($A103,Ⅰ.構成メンバー名簿!$Q$26:$W$275,MATCH(Ⅰ.構成メンバー名簿!$T$25,Ⅰ.構成メンバー名簿!$Q$25:$W$25,0),FALSE)))","v":""},{"$f":"IF($A103=\"\",\"\",VLOOKUP($A103,Ⅰ.構成メンバー名簿!$Q$26:$W$275,MATCH(Ⅰ.構成メンバー名簿!$W$25,Ⅰ.構成メンバー名簿!$Q$25:$W$25,0),FALSE))","v":""},{"$f":"IF(AND(H103>0,SUM(H104:$H$290)=0),\"←ここまで値でコピー\",\"\")","v":""},null,null,0,null,{"$f":"IF(SUM($Q103:$Q$261)=0,\"\",J102+1)","v":""},{"$f":"IF(Ⅰ.構成メンバー名簿!S117<>\"\",Ⅰ.構成メンバー名簿!S117,\"\")","v":""},{"$f":"IF(Ⅰ.構成メンバー名簿!V117=\"\",\"\",Ⅰ.構成メンバー名簿!E117)","v":""},{"$f":"IF(Ⅰ.構成メンバー名簿!W117=\"\",\"\",Ⅰ.構成メンバー名簿!W117)","v":""},{"$f":"IF(AND(Q103>0,SUM($Q104:$Q$261)=0),\"←ここまで値でコピー\",\"\")","v":""},null,null,0]
[{"$f":"IF(MAX(Ⅰ.構成メンバー名簿!$Q$26:$Q$275)>A103,A103+1,\"\")","v":""},{"$f":"IF($A104=\"\",\"\",VLOOKUP($A104,Ⅰ.構成メンバー名簿!$Q$26:$W$275,MATCH(Ⅰ.構成メンバー名簿!$S$25,Ⅰ.構成メンバー名簿!$Q$25:$W$25,0),FALSE))","v":""},{"$f":"IF($A104=\"\",\"\",IF(VLOOKUP($A104,Ⅰ.構成メンバー名簿!$Q$26:$W$275,MATCH(Ⅰ.構成メンバー名簿!$T$25,Ⅰ.構成メンバー名簿!$Q$25:$W$25,0),FALSE)=\"\",\"\",VLOOKUP($A104,Ⅰ.構成メンバー名簿!$Q$26:$W$275,MATCH(Ⅰ.構成メンバー名簿!$T$25,Ⅰ.構成メンバー名簿!$Q$25:$W$25,0),FALSE)))","v":""},{"$f":"IF($A104=\"\",\"\",VLOOKUP($A104,Ⅰ.構成メンバー名簿!$Q$26:$W$275,MATCH(Ⅰ.構成メンバー名簿!$W$25,Ⅰ.構成メンバー名簿!$Q$25:$W$25,0),FALSE))","v":""},{"$f":"IF(AND(H104>0,SUM(H105:$H$290)=0),\"←ここまで値でコピー\",\"\")","v":""},null,null,0,null,{"$f":"IF(SUM($Q104:$Q$261)=0,\"\",J103+1)","v":""},{"$f":"IF(Ⅰ.構成メンバー名簿!S118<>\"\",Ⅰ.構成メンバー名簿!S118,\"\")","v":""},{"$f":"IF(Ⅰ.構成メンバー名簿!V118=\"\",\"\",Ⅰ.構成メンバー名簿!E118)","v":""},{"$f":"IF(Ⅰ.構成メンバー名簿!W118=\"\",\"\",Ⅰ.構成メンバー名簿!W118)","v":""},{"$f":"IF(AND(Q104>0,SUM($Q105:$Q$261)=0),\"←ここまで値でコピー\",\"\")","v":""},null,null,0]
[{"$f":"IF(MAX(Ⅰ.構成メンバー名簿!$Q$26:$Q$275)>A104,A104+1,\"\")","v":""},{"$f":"IF($A105=\"\",\"\",VLOOKUP($A105,Ⅰ.構成メンバー名簿!$Q$26:$W$275,MATCH(Ⅰ.構成メンバー名簿!$S$25,Ⅰ.構成メンバー名簿!$Q$25:$W$25,0),FALSE))","v":""},{"$f":"IF($A105=\"\",\"\",IF(VLOOKUP($A105,Ⅰ.構成メンバー名簿!$Q$26:$W$275,MATCH(Ⅰ.構成メンバー名簿!$T$25,Ⅰ.構成メンバー名簿!$Q$25:$W$25,0),FALSE)=\"\",\"\",VLOOKUP($A105,Ⅰ.構成メンバー名簿!$Q$26:$W$275,MATCH(Ⅰ.構成メンバー名簿!$T$25,Ⅰ.構成メンバー名簿!$Q$25:$W$25,0),FALSE)))","v":""},{"$f":"IF($A105=\"\",\"\",VLOOKUP($A105,Ⅰ.構成メンバー名簿!$Q$26:$W$275,MATCH(Ⅰ.構成メンバー名簿!$W$25,Ⅰ.構成メンバー名簿!$Q$25:$W$25,0),FALSE))","v":""},{"$f":"IF(AND(H105>0,SUM(H106:$H$290)=0),\"←ここまで値でコピー\",\"\")","v":""},null,null,0,null,{"$f":"IF(SUM($Q105:$Q$261)=0,\"\",J104+1)","v":""},{"$f":"IF(Ⅰ.構成メンバー名簿!S119<>\"\",Ⅰ.構成メンバー名簿!S119,\"\")","v":""},{"$f":"IF(Ⅰ.構成メンバー名簿!V119=\"\",\"\",Ⅰ.構成メンバー名簿!E119)","v":""},{"$f":"IF(Ⅰ.構成メンバー名簿!W119=\"\",\"\",Ⅰ.構成メンバー名簿!W119)","v":""},{"$f":"IF(AND(Q105>0,SUM($Q106:$Q$261)=0),\"←ここまで値でコピー\",\"\")","v":""},null,null,0]
[{"$f":"IF(MAX(Ⅰ.構成メンバー名簿!$Q$26:$Q$275)>A105,A105+1,\"\")","v":""},{"$f":"IF($A106=\"\",\"\",VLOOKUP($A106,Ⅰ.構成メンバー名簿!$Q$26:$W$275,MATCH(Ⅰ.構成メンバー名簿!$S$25,Ⅰ.構成メンバー名簿!$Q$25:$W$25,0),FALSE))","v":""},{"$f":"IF($A106=\"\",\"\",IF(VLOOKUP($A106,Ⅰ.構成メンバー名簿!$Q$26:$W$275,MATCH(Ⅰ.構成メンバー名簿!$T$25,Ⅰ.構成メンバー名簿!$Q$25:$W$25,0),FALSE)=\"\",\"\",VLOOKUP($A106,Ⅰ.構成メンバー名簿!$Q$26:$W$275,MATCH(Ⅰ.構成メンバー名簿!$T$25,Ⅰ.構成メンバー名簿!$Q$25:$W$25,0),FALSE)))","v":""},{"$f":"IF($A106=\"\",\"\",VLOOKUP($A106,Ⅰ.構成メンバー名簿!$Q$26:$W$275,MATCH(Ⅰ.構成メンバー名簿!$W$25,Ⅰ.構成メンバー名簿!$Q$25:$W$25,0),FALSE))","v":""},{"$f":"IF(AND(H106>0,SUM(H107:$H$290)=0),\"←ここまで値でコピー\",\"\")","v":""},null,null,{"$f":"IF(COUNTBLANK(B106:D106)=3,0,1)","v":0},null,{"$f":"IF(SUM($Q106:$Q$261)=0,\"\",J105+1)","v":""},{"$f":"IF(Ⅰ.構成メンバー名簿!S120<>\"\",Ⅰ.構成メンバー名簿!S120,\"\")","v":""},{"$f":"IF(Ⅰ.構成メンバー名簿!V120=\"\",\"\",Ⅰ.構成メンバー名簿!E120)","v":""},{"$f":"IF(Ⅰ.構成メンバー名簿!W120=\"\",\"\",Ⅰ.構成メンバー名簿!W120)","v":""},{"$f":"IF(AND(Q106>0,SUM($Q107:$Q$261)=0),\"←ここまで値でコピー\",\"\")","v":""},null,null,0]
[{"$f":"IF(MAX(Ⅰ.構成メンバー名簿!$Q$26:$Q$275)>A106,A106+1,\"\")","v":""},{"$f":"IF($A107=\"\",\"\",VLOOKUP($A107,Ⅰ.構成メンバー名簿!$Q$26:$W$275,MATCH(Ⅰ.構成メンバー名簿!$S$25,Ⅰ.構成メンバー名簿!$Q$25:$W$25,0),FALSE))","v":""},{"$f":"IF($A107=\"\",\"\",IF(VLOOKUP($A107,Ⅰ.構成メンバー名簿!$Q$26:$W$275,MATCH(Ⅰ.構成メンバー名簿!$T$25,Ⅰ.構成メンバー名簿!$Q$25:$W$25,0),FALSE)=\"\",\"\",VLOOKUP($A107,Ⅰ.構成メンバー名簿!$Q$26:$W$275,MATCH(Ⅰ.構成メンバー名簿!$T$25,Ⅰ.構成メンバー名簿!$Q$25:$W$25,0),FALSE)))","v":""},{"$f":"IF($A107=\"\",\"\",VLOOKUP($A107,Ⅰ.構成メンバー名簿!$Q$26:$W$275,MATCH(Ⅰ.構成メンバー名簿!$W$25,Ⅰ.構成メンバー名簿!$Q$25:$W$25,0),FALSE))","v":""},{"$f":"IF(AND(H107>0,SUM(H108:$H$290)=0),\"←ここまで値でコピー\",\"\")","v":""},null,null,0,null,{"$f":"IF(SUM($Q107:$Q$261)=0,\"\",J106+1)","v":""},{"$f":"IF(Ⅰ.構成メンバー名簿!S121<>\"\",Ⅰ.構成メンバー名簿!S121,\"\")","v":""},{"$f":"IF(Ⅰ.構成メンバー名簿!V121=\"\",\"\",Ⅰ.構成メンバー名簿!E121)","v":""},{"$f":"IF(Ⅰ.構成メンバー名簿!W121=\"\",\"\",Ⅰ.構成メンバー名簿!W121)","v":""},{"$f":"IF(AND(Q107>0,SUM($Q108:$Q$261)=0),\"←ここまで値でコピー\",\"\")","v":""},null,null,0]
[{"$f":"IF(MAX(Ⅰ.構成メンバー名簿!$Q$26:$Q$275)>A107,A107+1,\"\")","v":""},{"$f":"IF($A108=\"\",\"\",VLOOKUP($A108,Ⅰ.構成メンバー名簿!$Q$26:$W$275,MATCH(Ⅰ.構成メンバー名簿!$S$25,Ⅰ.構成メンバー名簿!$Q$25:$W$25,0),FALSE))","v":""},{"$f":"IF($A108=\"\",\"\",IF(VLOOKUP($A108,Ⅰ.構成メンバー名簿!$Q$26:$W$275,MATCH(Ⅰ.構成メンバー名簿!$T$25,Ⅰ.構成メンバー名簿!$Q$25:$W$25,0),FALSE)=\"\",\"\",VLOOKUP($A108,Ⅰ.構成メンバー名簿!$Q$26:$W$275,MATCH(Ⅰ.構成メンバー名簿!$T$25,Ⅰ.構成メンバー名簿!$Q$25:$W$25,0),FALSE)))","v":""},{"$f":"IF($A108=\"\",\"\",VLOOKUP($A108,Ⅰ.構成メンバー名簿!$Q$26:$W$275,MATCH(Ⅰ.構成メンバー名簿!$W$25,Ⅰ.構成メンバー名簿!$Q$25:$W$25,0),FALSE))","v":""},{"$f":"IF(AND(H108>0,SUM(H109:$H$290)=0),\"←ここまで値でコピー\",\"\")","v":""},null,null,0,null,{"$f":"IF(SUM($Q108:$Q$261)=0,\"\",J107+1)","v":""},{"$f":"IF(Ⅰ.構成メンバー名簿!S122<>\"\",Ⅰ.構成メンバー名簿!S122,\"\")","v":""},{"$f":"IF(Ⅰ.構成メンバー名簿!V122=\"\",\"\",Ⅰ.構成メンバー名簿!E122)","v":""},{"$f":"IF(Ⅰ.構成メンバー名簿!W122=\"\",\"\",Ⅰ.構成メンバー名簿!W122)","v":""},{"$f":"IF(AND(Q108>0,SUM($Q109:$Q$261)=0),\"←ここまで値でコピー\",\"\")","v":""},null,null,0]
[{"$f":"IF(MAX(Ⅰ.構成メンバー名簿!$Q$26:$Q$275)>A108,A108+1,\"\")","v":""},{"$f":"IF($A109=\"\",\"\",VLOOKUP($A109,Ⅰ.構成メンバー名簿!$Q$26:$W$275,MATCH(Ⅰ.構成メンバー名簿!$S$25,Ⅰ.構成メンバー名簿!$Q$25:$W$25,0),FALSE))","v":""},{"$f":"IF($A109=\"\",\"\",IF(VLOOKUP($A109,Ⅰ.構成メンバー名簿!$Q$26:$W$275,MATCH(Ⅰ.構成メンバー名簿!$T$25,Ⅰ.構成メンバー名簿!$Q$25:$W$25,0),FALSE)=\"\",\"\",VLOOKUP($A109,Ⅰ.構成メンバー名簿!$Q$26:$W$275,MATCH(Ⅰ.構成メンバー名簿!$T$25,Ⅰ.構成メンバー名簿!$Q$25:$W$25,0),FALSE)))","v":""},{"$f":"IF($A109=\"\",\"\",VLOOKUP($A109,Ⅰ.構成メンバー名簿!$Q$26:$W$275,MATCH(Ⅰ.構成メンバー名簿!$W$25,Ⅰ.構成メンバー名簿!$Q$25:$W$25,0),FALSE))","v":""},{"$f":"IF(AND(H109>0,SUM(H110:$H$290)=0),\"←ここまで値でコピー\",\"\")","v":""},null,null,0,null,{"$f":"IF(SUM($Q109:$Q$261)=0,\"\",J108+1)","v":""},{"$f":"IF(Ⅰ.構成メンバー名簿!S123<>\"\",Ⅰ.構成メンバー名簿!S123,\"\")","v":""},{"$f":"IF(Ⅰ.構成メンバー名簿!V123=\"\",\"\",Ⅰ.構成メンバー名簿!E123)","v":""},{"$f":"IF(Ⅰ.構成メンバー名簿!W123=\"\",\"\",Ⅰ.構成メンバー名簿!W123)","v":""},{"$f":"IF(AND(Q109>0,SUM($Q110:$Q$261)=0),\"←ここまで値でコピー\",\"\")","v":""},null,null,0]
[{"$f":"IF(MAX(Ⅰ.構成メンバー名簿!$Q$26:$Q$275)>A109,A109+1,\"\")","v":""},{"$f":"IF($A110=\"\",\"\",VLOOKUP($A110,Ⅰ.構成メンバー名簿!$Q$26:$W$275,MATCH(Ⅰ.構成メンバー名簿!$S$25,Ⅰ.構成メンバー名簿!$Q$25:$W$25,0),FALSE))","v":""},{"$f":"IF($A110=\"\",\"\",IF(VLOOKUP($A110,Ⅰ.構成メンバー名簿!$Q$26:$W$275,MATCH(Ⅰ.構成メンバー名簿!$T$25,Ⅰ.構成メンバー名簿!$Q$25:$W$25,0),FALSE)=\"\",\"\",VLOOKUP($A110,Ⅰ.構成メンバー名簿!$Q$26:$W$275,MATCH(Ⅰ.構成メンバー名簿!$T$25,Ⅰ.構成メンバー名簿!$Q$25:$W$25,0),FALSE)))","v":""},{"$f":"IF($A110=\"\",\"\",VLOOKUP($A110,Ⅰ.構成メンバー名簿!$Q$26:$W$275,MATCH(Ⅰ.構成メンバー名簿!$W$25,Ⅰ.構成メンバー名簿!$Q$25:$W$25,0),FALSE))","v":""},{"$f":"IF(AND(H110>0,SUM(H111:$H$290)=0),\"←ここまで値でコピー\",\"\")","v":""},null,null,0,null,{"$f":"IF(SUM($Q110:$Q$261)=0,\"\",J109+1)","v":""},{"$f":"IF(Ⅰ.構成メンバー名簿!S124<>\"\",Ⅰ.構成メンバー名簿!S124,\"\")","v":""},{"$f":"IF(Ⅰ.構成メンバー名簿!V124=\"\",\"\",Ⅰ.構成メンバー名簿!E124)","v":""},{"$f":"IF(Ⅰ.構成メンバー名簿!W124=\"\",\"\",Ⅰ.構成メンバー名簿!W124)","v":""},{"$f":"IF(AND(Q110>0,SUM($Q111:$Q$261)=0),\"←ここまで値でコピー\",\"\")","v":""},null,null,0]
[{"$f":"IF(MAX(Ⅰ.構成メンバー名簿!$Q$26:$Q$275)>A110,A110+1,\"\")","v":""},{"$f":"IF($A111=\"\",\"\",VLOOKUP($A111,Ⅰ.構成メンバー名簿!$Q$26:$W$275,MATCH(Ⅰ.構成メンバー名簿!$S$25,Ⅰ.構成メンバー名簿!$Q$25:$W$25,0),FALSE))","v":""},{"$f":"IF($A111=\"\",\"\",IF(VLOOKUP($A111,Ⅰ.構成メンバー名簿!$Q$26:$W$275,MATCH(Ⅰ.構成メンバー名簿!$T$25,Ⅰ.構成メンバー名簿!$Q$25:$W$25,0),FALSE)=\"\",\"\",VLOOKUP($A111,Ⅰ.構成メンバー名簿!$Q$26:$W$275,MATCH(Ⅰ.構成メンバー名簿!$T$25,Ⅰ.構成メンバー名簿!$Q$25:$W$25,0),FALSE)))","v":""},{"$f":"IF($A111=\"\",\"\",VLOOKUP($A111,Ⅰ.構成メンバー名簿!$Q$26:$W$275,MATCH(Ⅰ.構成メンバー名簿!$W$25,Ⅰ.構成メンバー名簿!$Q$25:$W$25,0),FALSE))","v":""},{"$f":"IF(AND(H111>0,SUM(H112:$H$290)=0),\"←ここまで値でコピー\",\"\")","v":""},null,null,0,null,{"$f":"IF(SUM($Q111:$Q$261)=0,\"\",J110+1)","v":""},{"$f":"IF(Ⅰ.構成メンバー名簿!S125<>\"\",Ⅰ.構成メンバー名簿!S125,\"\")","v":""},{"$f":"IF(Ⅰ.構成メンバー名簿!V125=\"\",\"\",Ⅰ.構成メンバー名簿!E125)","v":""},{"$f":"IF(Ⅰ.構成メンバー名簿!W125=\"\",\"\",Ⅰ.構成メンバー名簿!W125)","v":""},{"$f":"IF(AND(Q111>0,SUM($Q112:$Q$261)=0),\"←ここまで値でコピー\",\"\")","v":""},null,null,0]
[{"$f":"IF(MAX(Ⅰ.構成メンバー名簿!$Q$26:$Q$275)>A111,A111+1,\"\")","v":""},{"$f":"IF($A112=\"\",\"\",VLOOKUP($A112,Ⅰ.構成メンバー名簿!$Q$26:$W$275,MATCH(Ⅰ.構成メンバー名簿!$S$25,Ⅰ.構成メンバー名簿!$Q$25:$W$25,0),FALSE))","v":""},{"$f":"IF($A112=\"\",\"\",IF(VLOOKUP($A112,Ⅰ.構成メンバー名簿!$Q$26:$W$275,MATCH(Ⅰ.構成メンバー名簿!$T$25,Ⅰ.構成メンバー名簿!$Q$25:$W$25,0),FALSE)=\"\",\"\",VLOOKUP($A112,Ⅰ.構成メンバー名簿!$Q$26:$W$275,MATCH(Ⅰ.構成メンバー名簿!$T$25,Ⅰ.構成メンバー名簿!$Q$25:$W$25,0),FALSE)))","v":""},{"$f":"IF($A112=\"\",\"\",VLOOKUP($A112,Ⅰ.構成メンバー名簿!$Q$26:$W$275,MATCH(Ⅰ.構成メンバー名簿!$W$25,Ⅰ.構成メンバー名簿!$Q$25:$W$25,0),FALSE))","v":""},{"$f":"IF(AND(H112>0,SUM(H113:$H$290)=0),\"←ここまで値でコピー\",\"\")","v":""},null,null,0,null,{"$f":"IF(SUM($Q112:$Q$261)=0,\"\",J111+1)","v":""},{"$f":"IF(Ⅰ.構成メンバー名簿!S126<>\"\",Ⅰ.構成メンバー名簿!S126,\"\")","v":""},{"$f":"IF(Ⅰ.構成メンバー名簿!V126=\"\",\"\",Ⅰ.構成メンバー名簿!E126)","v":""},{"$f":"IF(Ⅰ.構成メンバー名簿!W126=\"\",\"\",Ⅰ.構成メンバー名簿!W126)","v":""},{"$f":"IF(AND(Q112>0,SUM($Q113:$Q$261)=0),\"←ここまで値でコピー\",\"\")","v":""},null,null,0]
[{"$f":"IF(MAX(Ⅰ.構成メンバー名簿!$Q$26:$Q$275)>A112,A112+1,\"\")","v":""},{"$f":"IF($A113=\"\",\"\",VLOOKUP($A113,Ⅰ.構成メンバー名簿!$Q$26:$W$275,MATCH(Ⅰ.構成メンバー名簿!$S$25,Ⅰ.構成メンバー名簿!$Q$25:$W$25,0),FALSE))","v":""},{"$f":"IF($A113=\"\",\"\",IF(VLOOKUP($A113,Ⅰ.構成メンバー名簿!$Q$26:$W$275,MATCH(Ⅰ.構成メンバー名簿!$T$25,Ⅰ.構成メンバー名簿!$Q$25:$W$25,0),FALSE)=\"\",\"\",VLOOKUP($A113,Ⅰ.構成メンバー名簿!$Q$26:$W$275,MATCH(Ⅰ.構成メンバー名簿!$T$25,Ⅰ.構成メンバー名簿!$Q$25:$W$25,0),FALSE)))","v":""},{"$f":"IF($A113=\"\",\"\",VLOOKUP($A113,Ⅰ.構成メンバー名簿!$Q$26:$W$275,MATCH(Ⅰ.構成メンバー名簿!$W$25,Ⅰ.構成メンバー名簿!$Q$25:$W$25,0),FALSE))","v":""},{"$f":"IF(AND(H113>0,SUM(H114:$H$290)=0),\"←ここまで値でコピー\",\"\")","v":""},null,null,0,null,{"$f":"IF(SUM($Q113:$Q$261)=0,\"\",J112+1)","v":""},{"$f":"IF(Ⅰ.構成メンバー名簿!S127<>\"\",Ⅰ.構成メンバー名簿!S127,\"\")","v":""},{"$f":"IF(Ⅰ.構成メンバー名簿!V127=\"\",\"\",Ⅰ.構成メンバー名簿!E127)","v":""},{"$f":"IF(Ⅰ.構成メンバー名簿!W127=\"\",\"\",Ⅰ.構成メンバー名簿!W127)","v":""},{"$f":"IF(AND(Q113>0,SUM($Q114:$Q$261)=0),\"←ここまで値でコピー\",\"\")","v":""},null,null,0]
[{"$f":"IF(MAX(Ⅰ.構成メンバー名簿!$Q$26:$Q$275)>A113,A113+1,\"\")","v":""},{"$f":"IF($A114=\"\",\"\",VLOOKUP($A114,Ⅰ.構成メンバー名簿!$Q$26:$W$275,MATCH(Ⅰ.構成メンバー名簿!$S$25,Ⅰ.構成メンバー名簿!$Q$25:$W$25,0),FALSE))","v":""},{"$f":"IF($A114=\"\",\"\",IF(VLOOKUP($A114,Ⅰ.構成メンバー名簿!$Q$26:$W$275,MATCH(Ⅰ.構成メンバー名簿!$T$25,Ⅰ.構成メンバー名簿!$Q$25:$W$25,0),FALSE)=\"\",\"\",VLOOKUP($A114,Ⅰ.構成メンバー名簿!$Q$26:$W$275,MATCH(Ⅰ.構成メンバー名簿!$T$25,Ⅰ.構成メンバー名簿!$Q$25:$W$25,0),FALSE)))","v":""},{"$f":"IF($A114=\"\",\"\",VLOOKUP($A114,Ⅰ.構成メンバー名簿!$Q$26:$W$275,MATCH(Ⅰ.構成メンバー名簿!$W$25,Ⅰ.構成メンバー名簿!$Q$25:$W$25,0),FALSE))","v":""},{"$f":"IF(AND(H114>0,SUM(H115:$H$290)=0),\"←ここまで値でコピー\",\"\")","v":""},null,null,0,null,{"$f":"IF(SUM($Q114:$Q$261)=0,\"\",J113+1)","v":""},{"$f":"IF(Ⅰ.構成メンバー名簿!S128<>\"\",Ⅰ.構成メンバー名簿!S128,\"\")","v":""},{"$f":"IF(Ⅰ.構成メンバー名簿!V128=\"\",\"\",Ⅰ.構成メンバー名簿!E128)","v":""},{"$f":"IF(Ⅰ.構成メンバー名簿!W128=\"\",\"\",Ⅰ.構成メンバー名簿!W128)","v":""},{"$f":"IF(AND(Q114>0,SUM($Q115:$Q$261)=0),\"←ここまで値でコピー\",\"\")","v":""},null,null,0]
[{"$f":"IF(MAX(Ⅰ.構成メンバー名簿!$Q$26:$Q$275)>A114,A114+1,\"\")","v":""},{"$f":"IF($A115=\"\",\"\",VLOOKUP($A115,Ⅰ.構成メンバー名簿!$Q$26:$W$275,MATCH(Ⅰ.構成メンバー名簿!$S$25,Ⅰ.構成メンバー名簿!$Q$25:$W$25,0),FALSE))","v":""},{"$f":"IF($A115=\"\",\"\",IF(VLOOKUP($A115,Ⅰ.構成メンバー名簿!$Q$26:$W$275,MATCH(Ⅰ.構成メンバー名簿!$T$25,Ⅰ.構成メンバー名簿!$Q$25:$W$25,0),FALSE)=\"\",\"\",VLOOKUP($A115,Ⅰ.構成メンバー名簿!$Q$26:$W$275,MATCH(Ⅰ.構成メンバー名簿!$T$25,Ⅰ.構成メンバー名簿!$Q$25:$W$25,0),FALSE)))","v":""},{"$f":"IF($A115=\"\",\"\",VLOOKUP($A115,Ⅰ.構成メンバー名簿!$Q$26:$W$275,MATCH(Ⅰ.構成メンバー名簿!$W$25,Ⅰ.構成メンバー名簿!$Q$25:$W$25,0),FALSE))","v":""},{"$f":"IF(AND(H115>0,SUM(H116:$H$290)=0),\"←ここまで値でコピー\",\"\")","v":""},null,null,0,null,{"$f":"IF(SUM($Q115:$Q$261)=0,\"\",J114+1)","v":""},{"$f":"IF(Ⅰ.構成メンバー名簿!S129<>\"\",Ⅰ.構成メンバー名簿!S129,\"\")","v":""},{"$f":"IF(Ⅰ.構成メンバー名簿!V129=\"\",\"\",Ⅰ.構成メンバー名簿!E129)","v":""},{"$f":"IF(Ⅰ.構成メンバー名簿!W129=\"\",\"\",Ⅰ.構成メンバー名簿!W129)","v":""},{"$f":"IF(AND(Q115>0,SUM($Q116:$Q$261)=0),\"←ここまで値でコピー\",\"\")","v":""},null,null,0]
[{"$f":"IF(MAX(Ⅰ.構成メンバー名簿!$Q$26:$Q$275)>A115,A115+1,\"\")","v":""},{"$f":"IF($A116=\"\",\"\",VLOOKUP($A116,Ⅰ.構成メンバー名簿!$Q$26:$W$275,MATCH(Ⅰ.構成メンバー名簿!$S$25,Ⅰ.構成メンバー名簿!$Q$25:$W$25,0),FALSE))","v":""},{"$f":"IF($A116=\"\",\"\",IF(VLOOKUP($A116,Ⅰ.構成メンバー名簿!$Q$26:$W$275,MATCH(Ⅰ.構成メンバー名簿!$T$25,Ⅰ.構成メンバー名簿!$Q$25:$W$25,0),FALSE)=\"\",\"\",VLOOKUP($A116,Ⅰ.構成メンバー名簿!$Q$26:$W$275,MATCH(Ⅰ.構成メンバー名簿!$T$25,Ⅰ.構成メンバー名簿!$Q$25:$W$25,0),FALSE)))","v":""},{"$f":"IF($A116=\"\",\"\",VLOOKUP($A116,Ⅰ.構成メンバー名簿!$Q$26:$W$275,MATCH(Ⅰ.構成メンバー名簿!$W$25,Ⅰ.構成メンバー名簿!$Q$25:$W$25,0),FALSE))","v":""},{"$f":"IF(AND(H116>0,SUM(H117:$H$290)=0),\"←ここまで値でコピー\",\"\")","v":""},null,null,0,null,{"$f":"IF(SUM($Q116:$Q$261)=0,\"\",J115+1)","v":""},{"$f":"IF(Ⅰ.構成メンバー名簿!S130<>\"\",Ⅰ.構成メンバー名簿!S130,\"\")","v":""},{"$f":"IF(Ⅰ.構成メンバー名簿!V130=\"\",\"\",Ⅰ.構成メンバー名簿!E130)","v":""},{"$f":"IF(Ⅰ.構成メンバー名簿!W130=\"\",\"\",Ⅰ.構成メンバー名簿!W130)","v":""},{"$f":"IF(AND(Q116>0,SUM($Q117:$Q$261)=0),\"←ここまで値でコピー\",\"\")","v":""},null,null,0]
[{"$f":"IF(MAX(Ⅰ.構成メンバー名簿!$Q$26:$Q$275)>A116,A116+1,\"\")","v":""},{"$f":"IF($A117=\"\",\"\",VLOOKUP($A117,Ⅰ.構成メンバー名簿!$Q$26:$W$275,MATCH(Ⅰ.構成メンバー名簿!$S$25,Ⅰ.構成メンバー名簿!$Q$25:$W$25,0),FALSE))","v":""},{"$f":"IF($A117=\"\",\"\",IF(VLOOKUP($A117,Ⅰ.構成メンバー名簿!$Q$26:$W$275,MATCH(Ⅰ.構成メンバー名簿!$T$25,Ⅰ.構成メンバー名簿!$Q$25:$W$25,0),FALSE)=\"\",\"\",VLOOKUP($A117,Ⅰ.構成メンバー名簿!$Q$26:$W$275,MATCH(Ⅰ.構成メンバー名簿!$T$25,Ⅰ.構成メンバー名簿!$Q$25:$W$25,0),FALSE)))","v":""},{"$f":"IF($A117=\"\",\"\",VLOOKUP($A117,Ⅰ.構成メンバー名簿!$Q$26:$W$275,MATCH(Ⅰ.構成メンバー名簿!$W$25,Ⅰ.構成メンバー名簿!$Q$25:$W$25,0),FALSE))","v":""},{"$f":"IF(AND(H117>0,SUM(H118:$H$290)=0),\"←ここまで値でコピー\",\"\")","v":""},null,null,0,null,{"$f":"IF(SUM($Q117:$Q$261)=0,\"\",J116+1)","v":""},{"$f":"IF(Ⅰ.構成メンバー名簿!S131<>\"\",Ⅰ.構成メンバー名簿!S131,\"\")","v":""},{"$f":"IF(Ⅰ.構成メンバー名簿!V131=\"\",\"\",Ⅰ.構成メンバー名簿!E131)","v":""},{"$f":"IF(Ⅰ.構成メンバー名簿!W131=\"\",\"\",Ⅰ.構成メンバー名簿!W131)","v":""},{"$f":"IF(AND(Q117>0,SUM($Q118:$Q$261)=0),\"←ここまで値でコピー\",\"\")","v":""},null,null,0]
[{"$f":"IF(MAX(Ⅰ.構成メンバー名簿!$Q$26:$Q$275)>A117,A117+1,\"\")","v":""},{"$f":"IF($A118=\"\",\"\",VLOOKUP($A118,Ⅰ.構成メンバー名簿!$Q$26:$W$275,MATCH(Ⅰ.構成メンバー名簿!$S$25,Ⅰ.構成メンバー名簿!$Q$25:$W$25,0),FALSE))","v":""},{"$f":"IF($A118=\"\",\"\",IF(VLOOKUP($A118,Ⅰ.構成メンバー名簿!$Q$26:$W$275,MATCH(Ⅰ.構成メンバー名簿!$T$25,Ⅰ.構成メンバー名簿!$Q$25:$W$25,0),FALSE)=\"\",\"\",VLOOKUP($A118,Ⅰ.構成メンバー名簿!$Q$26:$W$275,MATCH(Ⅰ.構成メンバー名簿!$T$25,Ⅰ.構成メンバー名簿!$Q$25:$W$25,0),FALSE)))","v":""},{"$f":"IF($A118=\"\",\"\",VLOOKUP($A118,Ⅰ.構成メンバー名簿!$Q$26:$W$275,MATCH(Ⅰ.構成メンバー名簿!$W$25,Ⅰ.構成メンバー名簿!$Q$25:$W$25,0),FALSE))","v":""},{"$f":"IF(AND(H118>0,SUM(H119:$H$290)=0),\"←ここまで値でコピー\",\"\")","v":""},null,null,0,null,{"$f":"IF(SUM($Q118:$Q$261)=0,\"\",J117+1)","v":""},{"$f":"IF(Ⅰ.構成メンバー名簿!S132<>\"\",Ⅰ.構成メンバー名簿!S132,\"\")","v":""},{"$f":"IF(Ⅰ.構成メンバー名簿!V132=\"\",\"\",Ⅰ.構成メンバー名簿!E132)","v":""},{"$f":"IF(Ⅰ.構成メンバー名簿!W132=\"\",\"\",Ⅰ.構成メンバー名簿!W132)","v":""},{"$f":"IF(AND(Q118>0,SUM($Q119:$Q$261)=0),\"←ここまで値でコピー\",\"\")","v":""},null,null,0]
[{"$f":"IF(MAX(Ⅰ.構成メンバー名簿!$Q$26:$Q$275)>A118,A118+1,\"\")","v":""},{"$f":"IF($A119=\"\",\"\",VLOOKUP($A119,Ⅰ.構成メンバー名簿!$Q$26:$W$275,MATCH(Ⅰ.構成メンバー名簿!$S$25,Ⅰ.構成メンバー名簿!$Q$25:$W$25,0),FALSE))","v":""},{"$f":"IF($A119=\"\",\"\",IF(VLOOKUP($A119,Ⅰ.構成メンバー名簿!$Q$26:$W$275,MATCH(Ⅰ.構成メンバー名簿!$T$25,Ⅰ.構成メンバー名簿!$Q$25:$W$25,0),FALSE)=\"\",\"\",VLOOKUP($A119,Ⅰ.構成メンバー名簿!$Q$26:$W$275,MATCH(Ⅰ.構成メンバー名簿!$T$25,Ⅰ.構成メンバー名簿!$Q$25:$W$25,0),FALSE)))","v":""},{"$f":"IF($A119=\"\",\"\",VLOOKUP($A119,Ⅰ.構成メンバー名簿!$Q$26:$W$275,MATCH(Ⅰ.構成メンバー名簿!$W$25,Ⅰ.構成メンバー名簿!$Q$25:$W$25,0),FALSE))","v":""},{"$f":"IF(AND(H119>0,SUM(H120:$H$290)=0),\"←ここまで値でコピー\",\"\")","v":""},null,null,0,null,{"$f":"IF(SUM($Q119:$Q$261)=0,\"\",J118+1)","v":""},{"$f":"IF(Ⅰ.構成メンバー名簿!S133<>\"\",Ⅰ.構成メンバー名簿!S133,\"\")","v":""},{"$f":"IF(Ⅰ.構成メンバー名簿!V133=\"\",\"\",Ⅰ.構成メンバー名簿!E133)","v":""},{"$f":"IF(Ⅰ.構成メンバー名簿!W133=\"\",\"\",Ⅰ.構成メンバー名簿!W133)","v":""},{"$f":"IF(AND(Q119>0,SUM($Q120:$Q$261)=0),\"←ここまで値でコピー\",\"\")","v":""},null,null,0]
[{"$f":"IF(MAX(Ⅰ.構成メンバー名簿!$Q$26:$Q$275)>A119,A119+1,\"\")","v":""},{"$f":"IF($A120=\"\",\"\",VLOOKUP($A120,Ⅰ.構成メンバー名簿!$Q$26:$W$275,MATCH(Ⅰ.構成メンバー名簿!$S$25,Ⅰ.構成メンバー名簿!$Q$25:$W$25,0),FALSE))","v":""},{"$f":"IF($A120=\"\",\"\",IF(VLOOKUP($A120,Ⅰ.構成メンバー名簿!$Q$26:$W$275,MATCH(Ⅰ.構成メンバー名簿!$T$25,Ⅰ.構成メンバー名簿!$Q$25:$W$25,0),FALSE)=\"\",\"\",VLOOKUP($A120,Ⅰ.構成メンバー名簿!$Q$26:$W$275,MATCH(Ⅰ.構成メンバー名簿!$T$25,Ⅰ.構成メンバー名簿!$Q$25:$W$25,0),FALSE)))","v":""},{"$f":"IF($A120=\"\",\"\",VLOOKUP($A120,Ⅰ.構成メンバー名簿!$Q$26:$W$275,MATCH(Ⅰ.構成メンバー名簿!$W$25,Ⅰ.構成メンバー名簿!$Q$25:$W$25,0),FALSE))","v":""},{"$f":"IF(AND(H120>0,SUM(H121:$H$290)=0),\"←ここまで値でコピー\",\"\")","v":""},null,null,0,null,{"$f":"IF(SUM($Q120:$Q$261)=0,\"\",J119+1)","v":""},{"$f":"IF(Ⅰ.構成メンバー名簿!S134<>\"\",Ⅰ.構成メンバー名簿!S134,\"\")","v":""},{"$f":"IF(Ⅰ.構成メンバー名簿!V134=\"\",\"\",Ⅰ.構成メンバー名簿!E134)","v":""},{"$f":"IF(Ⅰ.構成メンバー名簿!W134=\"\",\"\",Ⅰ.構成メンバー名簿!W134)","v":""},{"$f":"IF(AND(Q120>0,SUM($Q121:$Q$261)=0),\"←ここまで値でコピー\",\"\")","v":""},null,null,0]
[{"$f":"IF(MAX(Ⅰ.構成メンバー名簿!$Q$26:$Q$275)>A120,A120+1,\"\")","v":""},{"$f":"IF($A121=\"\",\"\",VLOOKUP($A121,Ⅰ.構成メンバー名簿!$Q$26:$W$275,MATCH(Ⅰ.構成メンバー名簿!$S$25,Ⅰ.構成メンバー名簿!$Q$25:$W$25,0),FALSE))","v":""},{"$f":"IF($A121=\"\",\"\",IF(VLOOKUP($A121,Ⅰ.構成メンバー名簿!$Q$26:$W$275,MATCH(Ⅰ.構成メンバー名簿!$T$25,Ⅰ.構成メンバー名簿!$Q$25:$W$25,0),FALSE)=\"\",\"\",VLOOKUP($A121,Ⅰ.構成メンバー名簿!$Q$26:$W$275,MATCH(Ⅰ.構成メンバー名簿!$T$25,Ⅰ.構成メンバー名簿!$Q$25:$W$25,0),FALSE)))","v":""},{"$f":"IF($A121=\"\",\"\",VLOOKUP($A121,Ⅰ.構成メンバー名簿!$Q$26:$W$275,MATCH(Ⅰ.構成メンバー名簿!$W$25,Ⅰ.構成メンバー名簿!$Q$25:$W$25,0),FALSE))","v":""},{"$f":"IF(AND(H121>0,SUM(H122:$H$290)=0),\"←ここまで値でコピー\",\"\")","v":""},null,null,0,null,{"$f":"IF(SUM($Q121:$Q$261)=0,\"\",J120+1)","v":""},{"$f":"IF(Ⅰ.構成メンバー名簿!S135<>\"\",Ⅰ.構成メンバー名簿!S135,\"\")","v":""},{"$f":"IF(Ⅰ.構成メンバー名簿!V135=\"\",\"\",Ⅰ.構成メンバー名簿!E135)","v":""},{"$f":"IF(Ⅰ.構成メンバー名簿!W135=\"\",\"\",Ⅰ.構成メンバー名簿!W135)","v":""},{"$f":"IF(AND(Q121>0,SUM($Q122:$Q$261)=0),\"←ここまで値でコピー\",\"\")","v":""},null,null,0]
[{"$f":"IF(MAX(Ⅰ.構成メンバー名簿!$Q$26:$Q$275)>A121,A121+1,\"\")","v":""},{"$f":"IF($A122=\"\",\"\",VLOOKUP($A122,Ⅰ.構成メンバー名簿!$Q$26:$W$275,MATCH(Ⅰ.構成メンバー名簿!$S$25,Ⅰ.構成メンバー名簿!$Q$25:$W$25,0),FALSE))","v":""},{"$f":"IF($A122=\"\",\"\",IF(VLOOKUP($A122,Ⅰ.構成メンバー名簿!$Q$26:$W$275,MATCH(Ⅰ.構成メンバー名簿!$T$25,Ⅰ.構成メンバー名簿!$Q$25:$W$25,0),FALSE)=\"\",\"\",VLOOKUP($A122,Ⅰ.構成メンバー名簿!$Q$26:$W$275,MATCH(Ⅰ.構成メンバー名簿!$T$25,Ⅰ.構成メンバー名簿!$Q$25:$W$25,0),FALSE)))","v":""},{"$f":"IF($A122=\"\",\"\",VLOOKUP($A122,Ⅰ.構成メンバー名簿!$Q$26:$W$275,MATCH(Ⅰ.構成メンバー名簿!$W$25,Ⅰ.構成メンバー名簿!$Q$25:$W$25,0),FALSE))","v":""},{"$f":"IF(AND(H122>0,SUM(H123:$H$290)=0),\"←ここまで値でコピー\",\"\")","v":""},null,null,0,null,{"$f":"IF(SUM($Q122:$Q$261)=0,\"\",J121+1)","v":""},{"$f":"IF(Ⅰ.構成メンバー名簿!S136<>\"\",Ⅰ.構成メンバー名簿!S136,\"\")","v":""},{"$f":"IF(Ⅰ.構成メンバー名簿!V136=\"\",\"\",Ⅰ.構成メンバー名簿!E136)","v":""},{"$f":"IF(Ⅰ.構成メンバー名簿!W136=\"\",\"\",Ⅰ.構成メンバー名簿!W136)","v":""},{"$f":"IF(AND(Q122>0,SUM($Q123:$Q$261)=0),\"←ここまで値でコピー\",\"\")","v":""},null,null,0]
[{"$f":"IF(MAX(Ⅰ.構成メンバー名簿!$Q$26:$Q$275)>A122,A122+1,\"\")","v":""},{"$f":"IF($A123=\"\",\"\",VLOOKUP($A123,Ⅰ.構成メンバー名簿!$Q$26:$W$275,MATCH(Ⅰ.構成メンバー名簿!$S$25,Ⅰ.構成メンバー名簿!$Q$25:$W$25,0),FALSE))","v":""},{"$f":"IF($A123=\"\",\"\",IF(VLOOKUP($A123,Ⅰ.構成メンバー名簿!$Q$26:$W$275,MATCH(Ⅰ.構成メンバー名簿!$T$25,Ⅰ.構成メンバー名簿!$Q$25:$W$25,0),FALSE)=\"\",\"\",VLOOKUP($A123,Ⅰ.構成メンバー名簿!$Q$26:$W$275,MATCH(Ⅰ.構成メンバー名簿!$T$25,Ⅰ.構成メンバー名簿!$Q$25:$W$25,0),FALSE)))","v":""},{"$f":"IF($A123=\"\",\"\",VLOOKUP($A123,Ⅰ.構成メンバー名簿!$Q$26:$W$275,MATCH(Ⅰ.構成メンバー名簿!$W$25,Ⅰ.構成メンバー名簿!$Q$25:$W$25,0),FALSE))","v":""},{"$f":"IF(AND(H123>0,SUM(H124:$H$290)=0),\"←ここまで値でコピー\",\"\")","v":""},null,null,0,null,{"$f":"IF(SUM($Q123:$Q$261)=0,\"\",J122+1)","v":""},{"$f":"IF(Ⅰ.構成メンバー名簿!S137<>\"\",Ⅰ.構成メンバー名簿!S137,\"\")","v":""},{"$f":"IF(Ⅰ.構成メンバー名簿!V137=\"\",\"\",Ⅰ.構成メンバー名簿!E137)","v":""},{"$f":"IF(Ⅰ.構成メンバー名簿!W137=\"\",\"\",Ⅰ.構成メンバー名簿!W137)","v":""},{"$f":"IF(AND(Q123>0,SUM($Q124:$Q$261)=0),\"←ここまで値でコピー\",\"\")","v":""},null,null,0]
[{"$f":"IF(MAX(Ⅰ.構成メンバー名簿!$Q$26:$Q$275)>A123,A123+1,\"\")","v":""},{"$f":"IF($A124=\"\",\"\",VLOOKUP($A124,Ⅰ.構成メンバー名簿!$Q$26:$W$275,MATCH(Ⅰ.構成メンバー名簿!$S$25,Ⅰ.構成メンバー名簿!$Q$25:$W$25,0),FALSE))","v":""},{"$f":"IF($A124=\"\",\"\",IF(VLOOKUP($A124,Ⅰ.構成メンバー名簿!$Q$26:$W$275,MATCH(Ⅰ.構成メンバー名簿!$T$25,Ⅰ.構成メンバー名簿!$Q$25:$W$25,0),FALSE)=\"\",\"\",VLOOKUP($A124,Ⅰ.構成メンバー名簿!$Q$26:$W$275,MATCH(Ⅰ.構成メンバー名簿!$T$25,Ⅰ.構成メンバー名簿!$Q$25:$W$25,0),FALSE)))","v":""},{"$f":"IF($A124=\"\",\"\",VLOOKUP($A124,Ⅰ.構成メンバー名簿!$Q$26:$W$275,MATCH(Ⅰ.構成メンバー名簿!$W$25,Ⅰ.構成メンバー名簿!$Q$25:$W$25,0),FALSE))","v":""},{"$f":"IF(AND(H124>0,SUM(H125:$H$290)=0),\"←ここまで値でコピー\",\"\")","v":""},null,null,0,null,{"$f":"IF(SUM($Q124:$Q$261)=0,\"\",J123+1)","v":""},{"$f":"IF(Ⅰ.構成メンバー名簿!S138<>\"\",Ⅰ.構成メンバー名簿!S138,\"\")","v":""},{"$f":"IF(Ⅰ.構成メンバー名簿!V138=\"\",\"\",Ⅰ.構成メンバー名簿!E138)","v":""},{"$f":"IF(Ⅰ.構成メンバー名簿!W138=\"\",\"\",Ⅰ.構成メンバー名簿!W138)","v":""},{"$f":"IF(AND(Q124>0,SUM($Q125:$Q$261)=0),\"←ここまで値でコピー\",\"\")","v":""},null,null,0]
[{"$f":"IF(MAX(Ⅰ.構成メンバー名簿!$Q$26:$Q$275)>A124,A124+1,\"\")","v":""},{"$f":"IF($A125=\"\",\"\",VLOOKUP($A125,Ⅰ.構成メンバー名簿!$Q$26:$W$275,MATCH(Ⅰ.構成メンバー名簿!$S$25,Ⅰ.構成メンバー名簿!$Q$25:$W$25,0),FALSE))","v":""},{"$f":"IF($A125=\"\",\"\",IF(VLOOKUP($A125,Ⅰ.構成メンバー名簿!$Q$26:$W$275,MATCH(Ⅰ.構成メンバー名簿!$T$25,Ⅰ.構成メンバー名簿!$Q$25:$W$25,0),FALSE)=\"\",\"\",VLOOKUP($A125,Ⅰ.構成メンバー名簿!$Q$26:$W$275,MATCH(Ⅰ.構成メンバー名簿!$T$25,Ⅰ.構成メンバー名簿!$Q$25:$W$25,0),FALSE)))","v":""},{"$f":"IF($A125=\"\",\"\",VLOOKUP($A125,Ⅰ.構成メンバー名簿!$Q$26:$W$275,MATCH(Ⅰ.構成メンバー名簿!$W$25,Ⅰ.構成メンバー名簿!$Q$25:$W$25,0),FALSE))","v":""},{"$f":"IF(AND(H125>0,SUM(H126:$H$290)=0),\"←ここまで値でコピー\",\"\")","v":""},null,null,0,null,{"$f":"IF(SUM($Q125:$Q$261)=0,\"\",J124+1)","v":""},{"$f":"IF(Ⅰ.構成メンバー名簿!S139<>\"\",Ⅰ.構成メンバー名簿!S139,\"\")","v":""},{"$f":"IF(Ⅰ.構成メンバー名簿!V139=\"\",\"\",Ⅰ.構成メンバー名簿!E139)","v":""},{"$f":"IF(Ⅰ.構成メンバー名簿!W139=\"\",\"\",Ⅰ.構成メンバー名簿!W139)","v":""},{"$f":"IF(AND(Q125>0,SUM($Q126:$Q$261)=0),\"←ここまで値でコピー\",\"\")","v":""},null,null,0]
[{"$f":"IF(MAX(Ⅰ.構成メンバー名簿!$Q$26:$Q$275)>A125,A125+1,\"\")","v":""},{"$f":"IF($A126=\"\",\"\",VLOOKUP($A126,Ⅰ.構成メンバー名簿!$Q$26:$W$275,MATCH(Ⅰ.構成メンバー名簿!$S$25,Ⅰ.構成メンバー名簿!$Q$25:$W$25,0),FALSE))","v":""},{"$f":"IF($A126=\"\",\"\",IF(VLOOKUP($A126,Ⅰ.構成メンバー名簿!$Q$26:$W$275,MATCH(Ⅰ.構成メンバー名簿!$T$25,Ⅰ.構成メンバー名簿!$Q$25:$W$25,0),FALSE)=\"\",\"\",VLOOKUP($A126,Ⅰ.構成メンバー名簿!$Q$26:$W$275,MATCH(Ⅰ.構成メンバー名簿!$T$25,Ⅰ.構成メンバー名簿!$Q$25:$W$25,0),FALSE)))","v":""},{"$f":"IF($A126=\"\",\"\",VLOOKUP($A126,Ⅰ.構成メンバー名簿!$Q$26:$W$275,MATCH(Ⅰ.構成メンバー名簿!$W$25,Ⅰ.構成メンバー名簿!$Q$25:$W$25,0),FALSE))","v":""},{"$f":"IF(AND(H126>0,SUM(H127:$H$290)=0),\"←ここまで値でコピー\",\"\")","v":""},null,null,0,null,{"$f":"IF(SUM($Q126:$Q$261)=0,\"\",J125+1)","v":""},{"$f":"IF(Ⅰ.構成メンバー名簿!S140<>\"\",Ⅰ.構成メンバー名簿!S140,\"\")","v":""},{"$f":"IF(Ⅰ.構成メンバー名簿!V140=\"\",\"\",Ⅰ.構成メンバー名簿!E140)","v":""},{"$f":"IF(Ⅰ.構成メンバー名簿!W140=\"\",\"\",Ⅰ.構成メンバー名簿!W140)","v":""},{"$f":"IF(AND(Q126>0,SUM($Q127:$Q$261)=0),\"←ここまで値でコピー\",\"\")","v":""},null,null,0]
[{"$f":"IF(MAX(Ⅰ.構成メンバー名簿!$Q$26:$Q$275)>A126,A126+1,\"\")","v":""},{"$f":"IF($A127=\"\",\"\",VLOOKUP($A127,Ⅰ.構成メンバー名簿!$Q$26:$W$275,MATCH(Ⅰ.構成メンバー名簿!$S$25,Ⅰ.構成メンバー名簿!$Q$25:$W$25,0),FALSE))","v":""},{"$f":"IF($A127=\"\",\"\",IF(VLOOKUP($A127,Ⅰ.構成メンバー名簿!$Q$26:$W$275,MATCH(Ⅰ.構成メンバー名簿!$T$25,Ⅰ.構成メンバー名簿!$Q$25:$W$25,0),FALSE)=\"\",\"\",VLOOKUP($A127,Ⅰ.構成メンバー名簿!$Q$26:$W$275,MATCH(Ⅰ.構成メンバー名簿!$T$25,Ⅰ.構成メンバー名簿!$Q$25:$W$25,0),FALSE)))","v":""},{"$f":"IF($A127=\"\",\"\",VLOOKUP($A127,Ⅰ.構成メンバー名簿!$Q$26:$W$275,MATCH(Ⅰ.構成メンバー名簿!$W$25,Ⅰ.構成メンバー名簿!$Q$25:$W$25,0),FALSE))","v":""},{"$f":"IF(AND(H127>0,SUM(H128:$H$290)=0),\"←ここまで値でコピー\",\"\")","v":""},null,null,0,null,{"$f":"IF(SUM($Q127:$Q$261)=0,\"\",J126+1)","v":""},{"$f":"IF(Ⅰ.構成メンバー名簿!S141<>\"\",Ⅰ.構成メンバー名簿!S141,\"\")","v":""},{"$f":"IF(Ⅰ.構成メンバー名簿!V141=\"\",\"\",Ⅰ.構成メンバー名簿!E141)","v":""},{"$f":"IF(Ⅰ.構成メンバー名簿!W141=\"\",\"\",Ⅰ.構成メンバー名簿!W141)","v":""},{"$f":"IF(AND(Q127>0,SUM($Q128:$Q$261)=0),\"←ここまで値でコピー\",\"\")","v":""},null,null,0]
[{"$f":"IF(MAX(Ⅰ.構成メンバー名簿!$Q$26:$Q$275)>A127,A127+1,\"\")","v":""},{"$f":"IF($A128=\"\",\"\",VLOOKUP($A128,Ⅰ.構成メンバー名簿!$Q$26:$W$275,MATCH(Ⅰ.構成メンバー名簿!$S$25,Ⅰ.構成メンバー名簿!$Q$25:$W$25,0),FALSE))","v":""},{"$f":"IF($A128=\"\",\"\",IF(VLOOKUP($A128,Ⅰ.構成メンバー名簿!$Q$26:$W$275,MATCH(Ⅰ.構成メンバー名簿!$T$25,Ⅰ.構成メンバー名簿!$Q$25:$W$25,0),FALSE)=\"\",\"\",VLOOKUP($A128,Ⅰ.構成メンバー名簿!$Q$26:$W$275,MATCH(Ⅰ.構成メンバー名簿!$T$25,Ⅰ.構成メンバー名簿!$Q$25:$W$25,0),FALSE)))","v":""},{"$f":"IF($A128=\"\",\"\",VLOOKUP($A128,Ⅰ.構成メンバー名簿!$Q$26:$W$275,MATCH(Ⅰ.構成メンバー名簿!$W$25,Ⅰ.構成メンバー名簿!$Q$25:$W$25,0),FALSE))","v":""},{"$f":"IF(AND(H128>0,SUM(H129:$H$290)=0),\"←ここまで値でコピー\",\"\")","v":""},null,null,0,null,{"$f":"IF(SUM($Q128:$Q$261)=0,\"\",J127+1)","v":""},{"$f":"IF(Ⅰ.構成メンバー名簿!S142<>\"\",Ⅰ.構成メンバー名簿!S142,\"\")","v":""},{"$f":"IF(Ⅰ.構成メンバー名簿!V142=\"\",\"\",Ⅰ.構成メンバー名簿!E142)","v":""},{"$f":"IF(Ⅰ.構成メンバー名簿!W142=\"\",\"\",Ⅰ.構成メンバー名簿!W142)","v":""},{"$f":"IF(AND(Q128>0,SUM($Q129:$Q$261)=0),\"←ここまで値でコピー\",\"\")","v":""},null,null,0]
[{"$f":"IF(MAX(Ⅰ.構成メンバー名簿!$Q$26:$Q$275)>A128,A128+1,\"\")","v":""},{"$f":"IF($A129=\"\",\"\",VLOOKUP($A129,Ⅰ.構成メンバー名簿!$Q$26:$W$275,MATCH(Ⅰ.構成メンバー名簿!$S$25,Ⅰ.構成メンバー名簿!$Q$25:$W$25,0),FALSE))","v":""},{"$f":"IF($A129=\"\",\"\",IF(VLOOKUP($A129,Ⅰ.構成メンバー名簿!$Q$26:$W$275,MATCH(Ⅰ.構成メンバー名簿!$T$25,Ⅰ.構成メンバー名簿!$Q$25:$W$25,0),FALSE)=\"\",\"\",VLOOKUP($A129,Ⅰ.構成メンバー名簿!$Q$26:$W$275,MATCH(Ⅰ.構成メンバー名簿!$T$25,Ⅰ.構成メンバー名簿!$Q$25:$W$25,0),FALSE)))","v":""},{"$f":"IF($A129=\"\",\"\",VLOOKUP($A129,Ⅰ.構成メンバー名簿!$Q$26:$W$275,MATCH(Ⅰ.構成メンバー名簿!$W$25,Ⅰ.構成メンバー名簿!$Q$25:$W$25,0),FALSE))","v":""},{"$f":"IF(AND(H129>0,SUM(H130:$H$290)=0),\"←ここまで値でコピー\",\"\")","v":""},null,null,0,null,{"$f":"IF(SUM($Q129:$Q$261)=0,\"\",J128+1)","v":""},{"$f":"IF(Ⅰ.構成メンバー名簿!S143<>\"\",Ⅰ.構成メンバー名簿!S143,\"\")","v":""},{"$f":"IF(Ⅰ.構成メンバー名簿!V143=\"\",\"\",Ⅰ.構成メンバー名簿!E143)","v":""},{"$f":"IF(Ⅰ.構成メンバー名簿!W143=\"\",\"\",Ⅰ.構成メンバー名簿!W143)","v":""},{"$f":"IF(AND(Q129>0,SUM($Q130:$Q$261)=0),\"←ここまで値でコピー\",\"\")","v":""},null,null,0]
[{"$f":"IF(MAX(Ⅰ.構成メンバー名簿!$Q$26:$Q$275)>A129,A129+1,\"\")","v":""},{"$f":"IF($A130=\"\",\"\",VLOOKUP($A130,Ⅰ.構成メンバー名簿!$Q$26:$W$275,MATCH(Ⅰ.構成メンバー名簿!$S$25,Ⅰ.構成メンバー名簿!$Q$25:$W$25,0),FALSE))","v":""},{"$f":"IF($A130=\"\",\"\",IF(VLOOKUP($A130,Ⅰ.構成メンバー名簿!$Q$26:$W$275,MATCH(Ⅰ.構成メンバー名簿!$T$25,Ⅰ.構成メンバー名簿!$Q$25:$W$25,0),FALSE)=\"\",\"\",VLOOKUP($A130,Ⅰ.構成メンバー名簿!$Q$26:$W$275,MATCH(Ⅰ.構成メンバー名簿!$T$25,Ⅰ.構成メンバー名簿!$Q$25:$W$25,0),FALSE)))","v":""},{"$f":"IF($A130=\"\",\"\",VLOOKUP($A130,Ⅰ.構成メンバー名簿!$Q$26:$W$275,MATCH(Ⅰ.構成メンバー名簿!$W$25,Ⅰ.構成メンバー名簿!$Q$25:$W$25,0),FALSE))","v":""},{"$f":"IF(AND(H130>0,SUM(H131:$H$290)=0),\"←ここまで値でコピー\",\"\")","v":""},null,null,0,null,{"$f":"IF(SUM($Q130:$Q$261)=0,\"\",J129+1)","v":""},{"$f":"IF(Ⅰ.構成メンバー名簿!S144<>\"\",Ⅰ.構成メンバー名簿!S144,\"\")","v":""},{"$f":"IF(Ⅰ.構成メンバー名簿!V144=\"\",\"\",Ⅰ.構成メンバー名簿!E144)","v":""},{"$f":"IF(Ⅰ.構成メンバー名簿!W144=\"\",\"\",Ⅰ.構成メンバー名簿!W144)","v":""},{"$f":"IF(AND(Q130>0,SUM($Q131:$Q$261)=0),\"←ここまで値でコピー\",\"\")","v":""},null,null,0]
[{"$f":"IF(MAX(Ⅰ.構成メンバー名簿!$Q$26:$Q$275)>A130,A130+1,\"\")","v":""},{"$f":"IF($A131=\"\",\"\",VLOOKUP($A131,Ⅰ.構成メンバー名簿!$Q$26:$W$275,MATCH(Ⅰ.構成メンバー名簿!$S$25,Ⅰ.構成メンバー名簿!$Q$25:$W$25,0),FALSE))","v":""},{"$f":"IF($A131=\"\",\"\",IF(VLOOKUP($A131,Ⅰ.構成メンバー名簿!$Q$26:$W$275,MATCH(Ⅰ.構成メンバー名簿!$T$25,Ⅰ.構成メンバー名簿!$Q$25:$W$25,0),FALSE)=\"\",\"\",VLOOKUP($A131,Ⅰ.構成メンバー名簿!$Q$26:$W$275,MATCH(Ⅰ.構成メンバー名簿!$T$25,Ⅰ.構成メンバー名簿!$Q$25:$W$25,0),FALSE)))","v":""},{"$f":"IF($A131=\"\",\"\",VLOOKUP($A131,Ⅰ.構成メンバー名簿!$Q$26:$W$275,MATCH(Ⅰ.構成メンバー名簿!$W$25,Ⅰ.構成メンバー名簿!$Q$25:$W$25,0),FALSE))","v":""},{"$f":"IF(AND(H131>0,SUM(H132:$H$290)=0),\"←ここまで値でコピー\",\"\")","v":""},null,null,0,null,{"$f":"IF(SUM($Q131:$Q$261)=0,\"\",J130+1)","v":""},{"$f":"IF(Ⅰ.構成メンバー名簿!S145<>\"\",Ⅰ.構成メンバー名簿!S145,\"\")","v":""},{"$f":"IF(Ⅰ.構成メンバー名簿!V145=\"\",\"\",Ⅰ.構成メンバー名簿!E145)","v":""},{"$f":"IF(Ⅰ.構成メンバー名簿!W145=\"\",\"\",Ⅰ.構成メンバー名簿!W145)","v":""},{"$f":"IF(AND(Q131>0,SUM($Q132:$Q$261)=0),\"←ここまで値でコピー\",\"\")","v":""},null,null,0]
[{"$f":"IF(MAX(Ⅰ.構成メンバー名簿!$Q$26:$Q$275)>A131,A131+1,\"\")","v":""},{"$f":"IF($A132=\"\",\"\",VLOOKUP($A132,Ⅰ.構成メンバー名簿!$Q$26:$W$275,MATCH(Ⅰ.構成メンバー名簿!$S$25,Ⅰ.構成メンバー名簿!$Q$25:$W$25,0),FALSE))","v":""},{"$f":"IF($A132=\"\",\"\",IF(VLOOKUP($A132,Ⅰ.構成メンバー名簿!$Q$26:$W$275,MATCH(Ⅰ.構成メンバー名簿!$T$25,Ⅰ.構成メンバー名簿!$Q$25:$W$25,0),FALSE)=\"\",\"\",VLOOKUP($A132,Ⅰ.構成メンバー名簿!$Q$26:$W$275,MATCH(Ⅰ.構成メンバー名簿!$T$25,Ⅰ.構成メンバー名簿!$Q$25:$W$25,0),FALSE)))","v":""},{"$f":"IF($A132=\"\",\"\",VLOOKUP($A132,Ⅰ.構成メンバー名簿!$Q$26:$W$275,MATCH(Ⅰ.構成メンバー名簿!$W$25,Ⅰ.構成メンバー名簿!$Q$25:$W$25,0),FALSE))","v":""},{"$f":"IF(AND(H132>0,SUM(H133:$H$290)=0),\"←ここまで値でコピー\",\"\")","v":""},null,null,0,null,{"$f":"IF(SUM($Q132:$Q$261)=0,\"\",J131+1)","v":""},{"$f":"IF(Ⅰ.構成メンバー名簿!S146<>\"\",Ⅰ.構成メンバー名簿!S146,\"\")","v":""},{"$f":"IF(Ⅰ.構成メンバー名簿!V146=\"\",\"\",Ⅰ.構成メンバー名簿!E146)","v":""},{"$f":"IF(Ⅰ.構成メンバー名簿!W146=\"\",\"\",Ⅰ.構成メンバー名簿!W146)","v":""},{"$f":"IF(AND(Q132>0,SUM($Q133:$Q$261)=0),\"←ここまで値でコピー\",\"\")","v":""},null,null,0]
[{"$f":"IF(MAX(Ⅰ.構成メンバー名簿!$Q$26:$Q$275)>A132,A132+1,\"\")","v":""},{"$f":"IF($A133=\"\",\"\",VLOOKUP($A133,Ⅰ.構成メンバー名簿!$Q$26:$W$275,MATCH(Ⅰ.構成メンバー名簿!$S$25,Ⅰ.構成メンバー名簿!$Q$25:$W$25,0),FALSE))","v":""},{"$f":"IF($A133=\"\",\"\",IF(VLOOKUP($A133,Ⅰ.構成メンバー名簿!$Q$26:$W$275,MATCH(Ⅰ.構成メンバー名簿!$T$25,Ⅰ.構成メンバー名簿!$Q$25:$W$25,0),FALSE)=\"\",\"\",VLOOKUP($A133,Ⅰ.構成メンバー名簿!$Q$26:$W$275,MATCH(Ⅰ.構成メンバー名簿!$T$25,Ⅰ.構成メンバー名簿!$Q$25:$W$25,0),FALSE)))","v":""},{"$f":"IF($A133=\"\",\"\",VLOOKUP($A133,Ⅰ.構成メンバー名簿!$Q$26:$W$275,MATCH(Ⅰ.構成メンバー名簿!$W$25,Ⅰ.構成メンバー名簿!$Q$25:$W$25,0),FALSE))","v":""},{"$f":"IF(AND(H133>0,SUM(H134:$H$290)=0),\"←ここまで値でコピー\",\"\")","v":""},null,null,0,null,{"$f":"IF(SUM($Q133:$Q$261)=0,\"\",J132+1)","v":""},{"$f":"IF(Ⅰ.構成メンバー名簿!S147<>\"\",Ⅰ.構成メンバー名簿!S147,\"\")","v":""},{"$f":"IF(Ⅰ.構成メンバー名簿!V147=\"\",\"\",Ⅰ.構成メンバー名簿!E147)","v":""},{"$f":"IF(Ⅰ.構成メンバー名簿!W147=\"\",\"\",Ⅰ.構成メンバー名簿!W147)","v":""},{"$f":"IF(AND(Q133>0,SUM($Q134:$Q$261)=0),\"←ここまで値でコピー\",\"\")","v":""},null,null,0]
[{"$f":"IF(MAX(Ⅰ.構成メンバー名簿!$Q$26:$Q$275)>A133,A133+1,\"\")","v":""},{"$f":"IF($A134=\"\",\"\",VLOOKUP($A134,Ⅰ.構成メンバー名簿!$Q$26:$W$275,MATCH(Ⅰ.構成メンバー名簿!$S$25,Ⅰ.構成メンバー名簿!$Q$25:$W$25,0),FALSE))","v":""},{"$f":"IF($A134=\"\",\"\",IF(VLOOKUP($A134,Ⅰ.構成メンバー名簿!$Q$26:$W$275,MATCH(Ⅰ.構成メンバー名簿!$T$25,Ⅰ.構成メンバー名簿!$Q$25:$W$25,0),FALSE)=\"\",\"\",VLOOKUP($A134,Ⅰ.構成メンバー名簿!$Q$26:$W$275,MATCH(Ⅰ.構成メンバー名簿!$T$25,Ⅰ.構成メンバー名簿!$Q$25:$W$25,0),FALSE)))","v":""},{"$f":"IF($A134=\"\",\"\",VLOOKUP($A134,Ⅰ.構成メンバー名簿!$Q$26:$W$275,MATCH(Ⅰ.構成メンバー名簿!$W$25,Ⅰ.構成メンバー名簿!$Q$25:$W$25,0),FALSE))","v":""},{"$f":"IF(AND(H134>0,SUM(H135:$H$290)=0),\"←ここまで値でコピー\",\"\")","v":""},null,null,0,null,{"$f":"IF(SUM($Q134:$Q$261)=0,\"\",J133+1)","v":""},{"$f":"IF(Ⅰ.構成メンバー名簿!S148<>\"\",Ⅰ.構成メンバー名簿!S148,\"\")","v":""},{"$f":"IF(Ⅰ.構成メンバー名簿!V148=\"\",\"\",Ⅰ.構成メンバー名簿!E148)","v":""},{"$f":"IF(Ⅰ.構成メンバー名簿!W148=\"\",\"\",Ⅰ.構成メンバー名簿!W148)","v":""},{"$f":"IF(AND(Q134>0,SUM($Q135:$Q$261)=0),\"←ここまで値でコピー\",\"\")","v":""},null,null,0]
[{"$f":"IF(MAX(Ⅰ.構成メンバー名簿!$Q$26:$Q$275)>A134,A134+1,\"\")","v":""},{"$f":"IF($A135=\"\",\"\",VLOOKUP($A135,Ⅰ.構成メンバー名簿!$Q$26:$W$275,MATCH(Ⅰ.構成メンバー名簿!$S$25,Ⅰ.構成メンバー名簿!$Q$25:$W$25,0),FALSE))","v":""},{"$f":"IF($A135=\"\",\"\",IF(VLOOKUP($A135,Ⅰ.構成メンバー名簿!$Q$26:$W$275,MATCH(Ⅰ.構成メンバー名簿!$T$25,Ⅰ.構成メンバー名簿!$Q$25:$W$25,0),FALSE)=\"\",\"\",VLOOKUP($A135,Ⅰ.構成メンバー名簿!$Q$26:$W$275,MATCH(Ⅰ.構成メンバー名簿!$T$25,Ⅰ.構成メンバー名簿!$Q$25:$W$25,0),FALSE)))","v":""},{"$f":"IF($A135=\"\",\"\",VLOOKUP($A135,Ⅰ.構成メンバー名簿!$Q$26:$W$275,MATCH(Ⅰ.構成メンバー名簿!$W$25,Ⅰ.構成メンバー名簿!$Q$25:$W$25,0),FALSE))","v":""},{"$f":"IF(AND(H135>0,SUM(H136:$H$290)=0),\"←ここまで値でコピー\",\"\")","v":""},null,null,0,null,{"$f":"IF(SUM($Q135:$Q$261)=0,\"\",J134+1)","v":""},{"$f":"IF(Ⅰ.構成メンバー名簿!S149<>\"\",Ⅰ.構成メンバー名簿!S149,\"\")","v":""},{"$f":"IF(Ⅰ.構成メンバー名簿!V149=\"\",\"\",Ⅰ.構成メンバー名簿!E149)","v":""},{"$f":"IF(Ⅰ.構成メンバー名簿!W149=\"\",\"\",Ⅰ.構成メンバー名簿!W149)","v":""},{"$f":"IF(AND(Q135>0,SUM($Q136:$Q$261)=0),\"←ここまで値でコピー\",\"\")","v":""},null,null,0]
[{"$f":"IF(MAX(Ⅰ.構成メンバー名簿!$Q$26:$Q$275)>A135,A135+1,\"\")","v":""},{"$f":"IF($A136=\"\",\"\",VLOOKUP($A136,Ⅰ.構成メンバー名簿!$Q$26:$W$275,MATCH(Ⅰ.構成メンバー名簿!$S$25,Ⅰ.構成メンバー名簿!$Q$25:$W$25,0),FALSE))","v":""},{"$f":"IF($A136=\"\",\"\",IF(VLOOKUP($A136,Ⅰ.構成メンバー名簿!$Q$26:$W$275,MATCH(Ⅰ.構成メンバー名簿!$T$25,Ⅰ.構成メンバー名簿!$Q$25:$W$25,0),FALSE)=\"\",\"\",VLOOKUP($A136,Ⅰ.構成メンバー名簿!$Q$26:$W$275,MATCH(Ⅰ.構成メンバー名簿!$T$25,Ⅰ.構成メンバー名簿!$Q$25:$W$25,0),FALSE)))","v":""},{"$f":"IF($A136=\"\",\"\",VLOOKUP($A136,Ⅰ.構成メンバー名簿!$Q$26:$W$275,MATCH(Ⅰ.構成メンバー名簿!$W$25,Ⅰ.構成メンバー名簿!$Q$25:$W$25,0),FALSE))","v":""},{"$f":"IF(AND(H136>0,SUM(H137:$H$290)=0),\"←ここまで値でコピー\",\"\")","v":""},null,null,0,null,{"$f":"IF(SUM($Q136:$Q$261)=0,\"\",J135+1)","v":""},{"$f":"IF(Ⅰ.構成メンバー名簿!S150<>\"\",Ⅰ.構成メンバー名簿!S150,\"\")","v":""},{"$f":"IF(Ⅰ.構成メンバー名簿!V150=\"\",\"\",Ⅰ.構成メンバー名簿!E150)","v":""},{"$f":"IF(Ⅰ.構成メンバー名簿!W150=\"\",\"\",Ⅰ.構成メンバー名簿!W150)","v":""},{"$f":"IF(AND(Q136>0,SUM($Q137:$Q$261)=0),\"←ここまで値でコピー\",\"\")","v":""},null,null,0]
[{"$f":"IF(MAX(Ⅰ.構成メンバー名簿!$Q$26:$Q$275)>A136,A136+1,\"\")","v":""},{"$f":"IF($A137=\"\",\"\",VLOOKUP($A137,Ⅰ.構成メンバー名簿!$Q$26:$W$275,MATCH(Ⅰ.構成メンバー名簿!$S$25,Ⅰ.構成メンバー名簿!$Q$25:$W$25,0),FALSE))","v":""},{"$f":"IF($A137=\"\",\"\",IF(VLOOKUP($A137,Ⅰ.構成メンバー名簿!$Q$26:$W$275,MATCH(Ⅰ.構成メンバー名簿!$T$25,Ⅰ.構成メンバー名簿!$Q$25:$W$25,0),FALSE)=\"\",\"\",VLOOKUP($A137,Ⅰ.構成メンバー名簿!$Q$26:$W$275,MATCH(Ⅰ.構成メンバー名簿!$T$25,Ⅰ.構成メンバー名簿!$Q$25:$W$25,0),FALSE)))","v":""},{"$f":"IF($A137=\"\",\"\",VLOOKUP($A137,Ⅰ.構成メンバー名簿!$Q$26:$W$275,MATCH(Ⅰ.構成メンバー名簿!$W$25,Ⅰ.構成メンバー名簿!$Q$25:$W$25,0),FALSE))","v":""},{"$f":"IF(AND(H137>0,SUM(H138:$H$290)=0),\"←ここまで値でコピー\",\"\")","v":""},null,null,0,null,{"$f":"IF(SUM($Q137:$Q$261)=0,\"\",J136+1)","v":""},{"$f":"IF(Ⅰ.構成メンバー名簿!S151<>\"\",Ⅰ.構成メンバー名簿!S151,\"\")","v":""},{"$f":"IF(Ⅰ.構成メンバー名簿!V151=\"\",\"\",Ⅰ.構成メンバー名簿!E151)","v":""},{"$f":"IF(Ⅰ.構成メンバー名簿!W151=\"\",\"\",Ⅰ.構成メンバー名簿!W151)","v":""},{"$f":"IF(AND(Q137>0,SUM($Q138:$Q$261)=0),\"←ここまで値でコピー\",\"\")","v":""},null,null,0]
[{"$f":"IF(MAX(Ⅰ.構成メンバー名簿!$Q$26:$Q$275)>A137,A137+1,\"\")","v":""},{"$f":"IF($A138=\"\",\"\",VLOOKUP($A138,Ⅰ.構成メンバー名簿!$Q$26:$W$275,MATCH(Ⅰ.構成メンバー名簿!$S$25,Ⅰ.構成メンバー名簿!$Q$25:$W$25,0),FALSE))","v":""},{"$f":"IF($A138=\"\",\"\",IF(VLOOKUP($A138,Ⅰ.構成メンバー名簿!$Q$26:$W$275,MATCH(Ⅰ.構成メンバー名簿!$T$25,Ⅰ.構成メンバー名簿!$Q$25:$W$25,0),FALSE)=\"\",\"\",VLOOKUP($A138,Ⅰ.構成メンバー名簿!$Q$26:$W$275,MATCH(Ⅰ.構成メンバー名簿!$T$25,Ⅰ.構成メンバー名簿!$Q$25:$W$25,0),FALSE)))","v":""},{"$f":"IF($A138=\"\",\"\",VLOOKUP($A138,Ⅰ.構成メンバー名簿!$Q$26:$W$275,MATCH(Ⅰ.構成メンバー名簿!$W$25,Ⅰ.構成メンバー名簿!$Q$25:$W$25,0),FALSE))","v":""},{"$f":"IF(AND(H138>0,SUM(H139:$H$290)=0),\"←ここまで値でコピー\",\"\")","v":""},null,null,0,null,{"$f":"IF(SUM($Q138:$Q$261)=0,\"\",J137+1)","v":""},{"$f":"IF(Ⅰ.構成メンバー名簿!S152<>\"\",Ⅰ.構成メンバー名簿!S152,\"\")","v":""},{"$f":"IF(Ⅰ.構成メンバー名簿!V152=\"\",\"\",Ⅰ.構成メンバー名簿!E152)","v":""},{"$f":"IF(Ⅰ.構成メンバー名簿!W152=\"\",\"\",Ⅰ.構成メンバー名簿!W152)","v":""},{"$f":"IF(AND(Q138>0,SUM($Q139:$Q$261)=0),\"←ここまで値でコピー\",\"\")","v":""},null,null,0]
[{"$f":"IF(MAX(Ⅰ.構成メンバー名簿!$Q$26:$Q$275)>A138,A138+1,\"\")","v":""},{"$f":"IF($A139=\"\",\"\",VLOOKUP($A139,Ⅰ.構成メンバー名簿!$Q$26:$W$275,MATCH(Ⅰ.構成メンバー名簿!$S$25,Ⅰ.構成メンバー名簿!$Q$25:$W$25,0),FALSE))","v":""},{"$f":"IF($A139=\"\",\"\",IF(VLOOKUP($A139,Ⅰ.構成メンバー名簿!$Q$26:$W$275,MATCH(Ⅰ.構成メンバー名簿!$T$25,Ⅰ.構成メンバー名簿!$Q$25:$W$25,0),FALSE)=\"\",\"\",VLOOKUP($A139,Ⅰ.構成メンバー名簿!$Q$26:$W$275,MATCH(Ⅰ.構成メンバー名簿!$T$25,Ⅰ.構成メンバー名簿!$Q$25:$W$25,0),FALSE)))","v":""},{"$f":"IF($A139=\"\",\"\",VLOOKUP($A139,Ⅰ.構成メンバー名簿!$Q$26:$W$275,MATCH(Ⅰ.構成メンバー名簿!$W$25,Ⅰ.構成メンバー名簿!$Q$25:$W$25,0),FALSE))","v":""},{"$f":"IF(AND(H139>0,SUM(H140:$H$290)=0),\"←ここまで値でコピー\",\"\")","v":""},null,null,0,null,{"$f":"IF(SUM($Q139:$Q$261)=0,\"\",J138+1)","v":""},{"$f":"IF(Ⅰ.構成メンバー名簿!S153<>\"\",Ⅰ.構成メンバー名簿!S153,\"\")","v":""},{"$f":"IF(Ⅰ.構成メンバー名簿!V153=\"\",\"\",Ⅰ.構成メンバー名簿!E153)","v":""},{"$f":"IF(Ⅰ.構成メンバー名簿!W153=\"\",\"\",Ⅰ.構成メンバー名簿!W153)","v":""},{"$f":"IF(AND(Q139>0,SUM($Q140:$Q$261)=0),\"←ここまで値でコピー\",\"\")","v":""},null,null,0]
[{"$f":"IF(MAX(Ⅰ.構成メンバー名簿!$Q$26:$Q$275)>A139,A139+1,\"\")","v":""},{"$f":"IF($A140=\"\",\"\",VLOOKUP($A140,Ⅰ.構成メンバー名簿!$Q$26:$W$275,MATCH(Ⅰ.構成メンバー名簿!$S$25,Ⅰ.構成メンバー名簿!$Q$25:$W$25,0),FALSE))","v":""},{"$f":"IF($A140=\"\",\"\",IF(VLOOKUP($A140,Ⅰ.構成メンバー名簿!$Q$26:$W$275,MATCH(Ⅰ.構成メンバー名簿!$T$25,Ⅰ.構成メンバー名簿!$Q$25:$W$25,0),FALSE)=\"\",\"\",VLOOKUP($A140,Ⅰ.構成メンバー名簿!$Q$26:$W$275,MATCH(Ⅰ.構成メンバー名簿!$T$25,Ⅰ.構成メンバー名簿!$Q$25:$W$25,0),FALSE)))","v":""},{"$f":"IF($A140=\"\",\"\",VLOOKUP($A140,Ⅰ.構成メンバー名簿!$Q$26:$W$275,MATCH(Ⅰ.構成メンバー名簿!$W$25,Ⅰ.構成メンバー名簿!$Q$25:$W$25,0),FALSE))","v":""},{"$f":"IF(AND(H140>0,SUM(H141:$H$290)=0),\"←ここまで値でコピー\",\"\")","v":""},null,null,0,null,{"$f":"IF(SUM($Q140:$Q$261)=0,\"\",J139+1)","v":""},{"$f":"IF(Ⅰ.構成メンバー名簿!S154<>\"\",Ⅰ.構成メンバー名簿!S154,\"\")","v":""},{"$f":"IF(Ⅰ.構成メンバー名簿!V154=\"\",\"\",Ⅰ.構成メンバー名簿!E154)","v":""},{"$f":"IF(Ⅰ.構成メンバー名簿!W154=\"\",\"\",Ⅰ.構成メンバー名簿!W154)","v":""},{"$f":"IF(AND(Q140>0,SUM($Q141:$Q$261)=0),\"←ここまで値でコピー\",\"\")","v":""},null,null,0]
[{"$f":"IF(MAX(Ⅰ.構成メンバー名簿!$Q$26:$Q$275)>A140,A140+1,\"\")","v":""},{"$f":"IF($A141=\"\",\"\",VLOOKUP($A141,Ⅰ.構成メンバー名簿!$Q$26:$W$275,MATCH(Ⅰ.構成メンバー名簿!$S$25,Ⅰ.構成メンバー名簿!$Q$25:$W$25,0),FALSE))","v":""},{"$f":"IF($A141=\"\",\"\",IF(VLOOKUP($A141,Ⅰ.構成メンバー名簿!$Q$26:$W$275,MATCH(Ⅰ.構成メンバー名簿!$T$25,Ⅰ.構成メンバー名簿!$Q$25:$W$25,0),FALSE)=\"\",\"\",VLOOKUP($A141,Ⅰ.構成メンバー名簿!$Q$26:$W$275,MATCH(Ⅰ.構成メンバー名簿!$T$25,Ⅰ.構成メンバー名簿!$Q$25:$W$25,0),FALSE)))","v":""},{"$f":"IF($A141=\"\",\"\",VLOOKUP($A141,Ⅰ.構成メンバー名簿!$Q$26:$W$275,MATCH(Ⅰ.構成メンバー名簿!$W$25,Ⅰ.構成メンバー名簿!$Q$25:$W$25,0),FALSE))","v":""},{"$f":"IF(AND(H141>0,SUM(H142:$H$290)=0),\"←ここまで値でコピー\",\"\")","v":""},null,null,0,null,{"$f":"IF(SUM($Q141:$Q$261)=0,\"\",J140+1)","v":""},{"$f":"IF(Ⅰ.構成メンバー名簿!S155<>\"\",Ⅰ.構成メンバー名簿!S155,\"\")","v":""},{"$f":"IF(Ⅰ.構成メンバー名簿!V155=\"\",\"\",Ⅰ.構成メンバー名簿!E155)","v":""},{"$f":"IF(Ⅰ.構成メンバー名簿!W155=\"\",\"\",Ⅰ.構成メンバー名簿!W155)","v":""},{"$f":"IF(AND(Q141>0,SUM($Q142:$Q$261)=0),\"←ここまで値でコピー\",\"\")","v":""},null,null,{"$f":"IF(COUNTBLANK(K141:M141)=3,0,1)","v":0}]
[{"$f":"IF(MAX(Ⅰ.構成メンバー名簿!$Q$26:$Q$275)>A141,A141+1,\"\")","v":""},{"$f":"IF($A142=\"\",\"\",VLOOKUP($A142,Ⅰ.構成メンバー名簿!$Q$26:$W$275,MATCH(Ⅰ.構成メンバー名簿!$S$25,Ⅰ.構成メンバー名簿!$Q$25:$W$25,0),FALSE))","v":""},{"$f":"IF($A142=\"\",\"\",IF(VLOOKUP($A142,Ⅰ.構成メンバー名簿!$Q$26:$W$275,MATCH(Ⅰ.構成メンバー名簿!$T$25,Ⅰ.構成メンバー名簿!$Q$25:$W$25,0),FALSE)=\"\",\"\",VLOOKUP($A142,Ⅰ.構成メンバー名簿!$Q$26:$W$275,MATCH(Ⅰ.構成メンバー名簿!$T$25,Ⅰ.構成メンバー名簿!$Q$25:$W$25,0),FALSE)))","v":""},{"$f":"IF($A142=\"\",\"\",VLOOKUP($A142,Ⅰ.構成メンバー名簿!$Q$26:$W$275,MATCH(Ⅰ.構成メンバー名簿!$W$25,Ⅰ.構成メンバー名簿!$Q$25:$W$25,0),FALSE))","v":""},{"$f":"IF(AND(H142>0,SUM(H143:$H$290)=0),\"←ここまで値でコピー\",\"\")","v":""},null,null,0,null,{"$f":"IF(SUM($Q142:$Q$261)=0,\"\",J141+1)","v":""},{"$f":"IF(Ⅰ.構成メンバー名簿!S156<>\"\",Ⅰ.構成メンバー名簿!S156,\"\")","v":""},{"$f":"IF(Ⅰ.構成メンバー名簿!V156=\"\",\"\",Ⅰ.構成メンバー名簿!E156)","v":""},{"$f":"IF(Ⅰ.構成メンバー名簿!W156=\"\",\"\",Ⅰ.構成メンバー名簿!W156)","v":""},{"$f":"IF(AND(Q142>0,SUM($Q143:$Q$261)=0),\"←ここまで値でコピー\",\"\")","v":""},null,null,0]
[{"$f":"IF(MAX(Ⅰ.構成メンバー名簿!$Q$26:$Q$275)>A142,A142+1,\"\")","v":""},{"$f":"IF($A143=\"\",\"\",VLOOKUP($A143,Ⅰ.構成メンバー名簿!$Q$26:$W$275,MATCH(Ⅰ.構成メンバー名簿!$S$25,Ⅰ.構成メンバー名簿!$Q$25:$W$25,0),FALSE))","v":""},{"$f":"IF($A143=\"\",\"\",IF(VLOOKUP($A143,Ⅰ.構成メンバー名簿!$Q$26:$W$275,MATCH(Ⅰ.構成メンバー名簿!$T$25,Ⅰ.構成メンバー名簿!$Q$25:$W$25,0),FALSE)=\"\",\"\",VLOOKUP($A143,Ⅰ.構成メンバー名簿!$Q$26:$W$275,MATCH(Ⅰ.構成メンバー名簿!$T$25,Ⅰ.構成メンバー名簿!$Q$25:$W$25,0),FALSE)))","v":""},{"$f":"IF($A143=\"\",\"\",VLOOKUP($A143,Ⅰ.構成メンバー名簿!$Q$26:$W$275,MATCH(Ⅰ.構成メンバー名簿!$W$25,Ⅰ.構成メンバー名簿!$Q$25:$W$25,0),FALSE))","v":""},{"$f":"IF(AND(H143>0,SUM(H144:$H$290)=0),\"←ここまで値でコピー\",\"\")","v":""},null,null,0,null,{"$f":"IF(SUM($Q143:$Q$261)=0,\"\",J142+1)","v":""},{"$f":"IF(Ⅰ.構成メンバー名簿!S157<>\"\",Ⅰ.構成メンバー名簿!S157,\"\")","v":""},{"$f":"IF(Ⅰ.構成メンバー名簿!V157=\"\",\"\",Ⅰ.構成メンバー名簿!E157)","v":""},{"$f":"IF(Ⅰ.構成メンバー名簿!W157=\"\",\"\",Ⅰ.構成メンバー名簿!W157)","v":""},{"$f":"IF(AND(Q143>0,SUM($Q144:$Q$261)=0),\"←ここまで値でコピー\",\"\")","v":""},null,null,0]
[{"$f":"IF(MAX(Ⅰ.構成メンバー名簿!$Q$26:$Q$275)>A143,A143+1,\"\")","v":""},{"$f":"IF($A144=\"\",\"\",VLOOKUP($A144,Ⅰ.構成メンバー名簿!$Q$26:$W$275,MATCH(Ⅰ.構成メンバー名簿!$S$25,Ⅰ.構成メンバー名簿!$Q$25:$W$25,0),FALSE))","v":""},{"$f":"IF($A144=\"\",\"\",IF(VLOOKUP($A144,Ⅰ.構成メンバー名簿!$Q$26:$W$275,MATCH(Ⅰ.構成メンバー名簿!$T$25,Ⅰ.構成メンバー名簿!$Q$25:$W$25,0),FALSE)=\"\",\"\",VLOOKUP($A144,Ⅰ.構成メンバー名簿!$Q$26:$W$275,MATCH(Ⅰ.構成メンバー名簿!$T$25,Ⅰ.構成メンバー名簿!$Q$25:$W$25,0),FALSE)))","v":""},{"$f":"IF($A144=\"\",\"\",VLOOKUP($A144,Ⅰ.構成メンバー名簿!$Q$26:$W$275,MATCH(Ⅰ.構成メンバー名簿!$W$25,Ⅰ.構成メンバー名簿!$Q$25:$W$25,0),FALSE))","v":""},{"$f":"IF(AND(H144>0,SUM(H145:$H$290)=0),\"←ここまで値でコピー\",\"\")","v":""},null,null,0,null,{"$f":"IF(SUM($Q144:$Q$261)=0,\"\",J143+1)","v":""},{"$f":"IF(Ⅰ.構成メンバー名簿!S158<>\"\",Ⅰ.構成メンバー名簿!S158,\"\")","v":""},{"$f":"IF(Ⅰ.構成メンバー名簿!V158=\"\",\"\",Ⅰ.構成メンバー名簿!E158)","v":""},{"$f":"IF(Ⅰ.構成メンバー名簿!W158=\"\",\"\",Ⅰ.構成メンバー名簿!W158)","v":""},{"$f":"IF(AND(Q144>0,SUM($Q145:$Q$261)=0),\"←ここまで値でコピー\",\"\")","v":""},null,null,0]
[{"$f":"IF(MAX(Ⅰ.構成メンバー名簿!$Q$26:$Q$275)>A144,A144+1,\"\")","v":""},{"$f":"IF($A145=\"\",\"\",VLOOKUP($A145,Ⅰ.構成メンバー名簿!$Q$26:$W$275,MATCH(Ⅰ.構成メンバー名簿!$S$25,Ⅰ.構成メンバー名簿!$Q$25:$W$25,0),FALSE))","v":""},{"$f":"IF($A145=\"\",\"\",IF(VLOOKUP($A145,Ⅰ.構成メンバー名簿!$Q$26:$W$275,MATCH(Ⅰ.構成メンバー名簿!$T$25,Ⅰ.構成メンバー名簿!$Q$25:$W$25,0),FALSE)=\"\",\"\",VLOOKUP($A145,Ⅰ.構成メンバー名簿!$Q$26:$W$275,MATCH(Ⅰ.構成メンバー名簿!$T$25,Ⅰ.構成メンバー名簿!$Q$25:$W$25,0),FALSE)))","v":""},{"$f":"IF($A145=\"\",\"\",VLOOKUP($A145,Ⅰ.構成メンバー名簿!$Q$26:$W$275,MATCH(Ⅰ.構成メンバー名簿!$W$25,Ⅰ.構成メンバー名簿!$Q$25:$W$25,0),FALSE))","v":""},{"$f":"IF(AND(H145>0,SUM(H146:$H$290)=0),\"←ここまで値でコピー\",\"\")","v":""},null,null,0,null,{"$f":"IF(SUM($Q145:$Q$261)=0,\"\",J144+1)","v":""},{"$f":"IF(Ⅰ.構成メンバー名簿!S159<>\"\",Ⅰ.構成メンバー名簿!S159,\"\")","v":""},{"$f":"IF(Ⅰ.構成メンバー名簿!V159=\"\",\"\",Ⅰ.構成メンバー名簿!E159)","v":""},{"$f":"IF(Ⅰ.構成メンバー名簿!W159=\"\",\"\",Ⅰ.構成メンバー名簿!W159)","v":""},{"$f":"IF(AND(Q145>0,SUM($Q146:$Q$261)=0),\"←ここまで値でコピー\",\"\")","v":""},null,null,0]
[{"$f":"IF(MAX(Ⅰ.構成メンバー名簿!$Q$26:$Q$275)>A145,A145+1,\"\")","v":""},{"$f":"IF($A146=\"\",\"\",VLOOKUP($A146,Ⅰ.構成メンバー名簿!$Q$26:$W$275,MATCH(Ⅰ.構成メンバー名簿!$S$25,Ⅰ.構成メンバー名簿!$Q$25:$W$25,0),FALSE))","v":""},{"$f":"IF($A146=\"\",\"\",IF(VLOOKUP($A146,Ⅰ.構成メンバー名簿!$Q$26:$W$275,MATCH(Ⅰ.構成メンバー名簿!$T$25,Ⅰ.構成メンバー名簿!$Q$25:$W$25,0),FALSE)=\"\",\"\",VLOOKUP($A146,Ⅰ.構成メンバー名簿!$Q$26:$W$275,MATCH(Ⅰ.構成メンバー名簿!$T$25,Ⅰ.構成メンバー名簿!$Q$25:$W$25,0),FALSE)))","v":""},{"$f":"IF($A146=\"\",\"\",VLOOKUP($A146,Ⅰ.構成メンバー名簿!$Q$26:$W$275,MATCH(Ⅰ.構成メンバー名簿!$W$25,Ⅰ.構成メンバー名簿!$Q$25:$W$25,0),FALSE))","v":""},{"$f":"IF(AND(H146>0,SUM(H147:$H$290)=0),\"←ここまで値でコピー\",\"\")","v":""},null,null,0,null,{"$f":"IF(SUM($Q146:$Q$261)=0,\"\",J145+1)","v":""},{"$f":"IF(Ⅰ.構成メンバー名簿!S160<>\"\",Ⅰ.構成メンバー名簿!S160,\"\")","v":""},{"$f":"IF(Ⅰ.構成メンバー名簿!V160=\"\",\"\",Ⅰ.構成メンバー名簿!E160)","v":""},{"$f":"IF(Ⅰ.構成メンバー名簿!W160=\"\",\"\",Ⅰ.構成メンバー名簿!W160)","v":""},{"$f":"IF(AND(Q146>0,SUM($Q147:$Q$261)=0),\"←ここまで値でコピー\",\"\")","v":""},null,null,0]
[{"$f":"IF(MAX(Ⅰ.構成メンバー名簿!$Q$26:$Q$275)>A146,A146+1,\"\")","v":""},{"$f":"IF($A147=\"\",\"\",VLOOKUP($A147,Ⅰ.構成メンバー名簿!$Q$26:$W$275,MATCH(Ⅰ.構成メンバー名簿!$S$25,Ⅰ.構成メンバー名簿!$Q$25:$W$25,0),FALSE))","v":""},{"$f":"IF($A147=\"\",\"\",IF(VLOOKUP($A147,Ⅰ.構成メンバー名簿!$Q$26:$W$275,MATCH(Ⅰ.構成メンバー名簿!$T$25,Ⅰ.構成メンバー名簿!$Q$25:$W$25,0),FALSE)=\"\",\"\",VLOOKUP($A147,Ⅰ.構成メンバー名簿!$Q$26:$W$275,MATCH(Ⅰ.構成メンバー名簿!$T$25,Ⅰ.構成メンバー名簿!$Q$25:$W$25,0),FALSE)))","v":""},{"$f":"IF($A147=\"\",\"\",VLOOKUP($A147,Ⅰ.構成メンバー名簿!$Q$26:$W$275,MATCH(Ⅰ.構成メンバー名簿!$W$25,Ⅰ.構成メンバー名簿!$Q$25:$W$25,0),FALSE))","v":""},{"$f":"IF(AND(H147>0,SUM(H148:$H$290)=0),\"←ここまで値でコピー\",\"\")","v":""},null,null,0,null,{"$f":"IF(SUM($Q147:$Q$261)=0,\"\",J146+1)","v":""},{"$f":"IF(Ⅰ.構成メンバー名簿!S161<>\"\",Ⅰ.構成メンバー名簿!S161,\"\")","v":""},{"$f":"IF(Ⅰ.構成メンバー名簿!V161=\"\",\"\",Ⅰ.構成メンバー名簿!E161)","v":""},{"$f":"IF(Ⅰ.構成メンバー名簿!W161=\"\",\"\",Ⅰ.構成メンバー名簿!W161)","v":""},{"$f":"IF(AND(Q147>0,SUM($Q148:$Q$261)=0),\"←ここまで値でコピー\",\"\")","v":""},null,null,0]
[{"$f":"IF(MAX(Ⅰ.構成メンバー名簿!$Q$26:$Q$275)>A147,A147+1,\"\")","v":""},{"$f":"IF($A148=\"\",\"\",VLOOKUP($A148,Ⅰ.構成メンバー名簿!$Q$26:$W$275,MATCH(Ⅰ.構成メンバー名簿!$S$25,Ⅰ.構成メンバー名簿!$Q$25:$W$25,0),FALSE))","v":""},{"$f":"IF($A148=\"\",\"\",IF(VLOOKUP($A148,Ⅰ.構成メンバー名簿!$Q$26:$W$275,MATCH(Ⅰ.構成メンバー名簿!$T$25,Ⅰ.構成メンバー名簿!$Q$25:$W$25,0),FALSE)=\"\",\"\",VLOOKUP($A148,Ⅰ.構成メンバー名簿!$Q$26:$W$275,MATCH(Ⅰ.構成メンバー名簿!$T$25,Ⅰ.構成メンバー名簿!$Q$25:$W$25,0),FALSE)))","v":""},{"$f":"IF($A148=\"\",\"\",VLOOKUP($A148,Ⅰ.構成メンバー名簿!$Q$26:$W$275,MATCH(Ⅰ.構成メンバー名簿!$W$25,Ⅰ.構成メンバー名簿!$Q$25:$W$25,0),FALSE))","v":""},{"$f":"IF(AND(H148>0,SUM(H149:$H$290)=0),\"←ここまで値でコピー\",\"\")","v":""},null,null,0,null,{"$f":"IF(SUM($Q148:$Q$261)=0,\"\",J147+1)","v":""},{"$f":"IF(Ⅰ.構成メンバー名簿!S162<>\"\",Ⅰ.構成メンバー名簿!S162,\"\")","v":""},{"$f":"IF(Ⅰ.構成メンバー名簿!V162=\"\",\"\",Ⅰ.構成メンバー名簿!E162)","v":""},{"$f":"IF(Ⅰ.構成メンバー名簿!W162=\"\",\"\",Ⅰ.構成メンバー名簿!W162)","v":""},{"$f":"IF(AND(Q148>0,SUM($Q149:$Q$261)=0),\"←ここまで値でコピー\",\"\")","v":""},null,null,0]
[{"$f":"IF(MAX(Ⅰ.構成メンバー名簿!$Q$26:$Q$275)>A148,A148+1,\"\")","v":""},{"$f":"IF($A149=\"\",\"\",VLOOKUP($A149,Ⅰ.構成メンバー名簿!$Q$26:$W$275,MATCH(Ⅰ.構成メンバー名簿!$S$25,Ⅰ.構成メンバー名簿!$Q$25:$W$25,0),FALSE))","v":""},{"$f":"IF($A149=\"\",\"\",IF(VLOOKUP($A149,Ⅰ.構成メンバー名簿!$Q$26:$W$275,MATCH(Ⅰ.構成メンバー名簿!$T$25,Ⅰ.構成メンバー名簿!$Q$25:$W$25,0),FALSE)=\"\",\"\",VLOOKUP($A149,Ⅰ.構成メンバー名簿!$Q$26:$W$275,MATCH(Ⅰ.構成メンバー名簿!$T$25,Ⅰ.構成メンバー名簿!$Q$25:$W$25,0),FALSE)))","v":""},{"$f":"IF($A149=\"\",\"\",VLOOKUP($A149,Ⅰ.構成メンバー名簿!$Q$26:$W$275,MATCH(Ⅰ.構成メンバー名簿!$W$25,Ⅰ.構成メンバー名簿!$Q$25:$W$25,0),FALSE))","v":""},{"$f":"IF(AND(H149>0,SUM(H150:$H$290)=0),\"←ここまで値でコピー\",\"\")","v":""},null,null,0,null,{"$f":"IF(SUM($Q149:$Q$261)=0,\"\",J148+1)","v":""},{"$f":"IF(Ⅰ.構成メンバー名簿!S163<>\"\",Ⅰ.構成メンバー名簿!S163,\"\")","v":""},{"$f":"IF(Ⅰ.構成メンバー名簿!V163=\"\",\"\",Ⅰ.構成メンバー名簿!E163)","v":""},{"$f":"IF(Ⅰ.構成メンバー名簿!W163=\"\",\"\",Ⅰ.構成メンバー名簿!W163)","v":""},{"$f":"IF(AND(Q149>0,SUM($Q150:$Q$261)=0),\"←ここまで値でコピー\",\"\")","v":""},null,null,0]
[{"$f":"IF(MAX(Ⅰ.構成メンバー名簿!$Q$26:$Q$275)>A149,A149+1,\"\")","v":""},{"$f":"IF($A150=\"\",\"\",VLOOKUP($A150,Ⅰ.構成メンバー名簿!$Q$26:$W$275,MATCH(Ⅰ.構成メンバー名簿!$S$25,Ⅰ.構成メンバー名簿!$Q$25:$W$25,0),FALSE))","v":""},{"$f":"IF($A150=\"\",\"\",IF(VLOOKUP($A150,Ⅰ.構成メンバー名簿!$Q$26:$W$275,MATCH(Ⅰ.構成メンバー名簿!$T$25,Ⅰ.構成メンバー名簿!$Q$25:$W$25,0),FALSE)=\"\",\"\",VLOOKUP($A150,Ⅰ.構成メンバー名簿!$Q$26:$W$275,MATCH(Ⅰ.構成メンバー名簿!$T$25,Ⅰ.構成メンバー名簿!$Q$25:$W$25,0),FALSE)))","v":""},{"$f":"IF($A150=\"\",\"\",VLOOKUP($A150,Ⅰ.構成メンバー名簿!$Q$26:$W$275,MATCH(Ⅰ.構成メンバー名簿!$W$25,Ⅰ.構成メンバー名簿!$Q$25:$W$25,0),FALSE))","v":""},{"$f":"IF(AND(H150>0,SUM(H151:$H$290)=0),\"←ここまで値でコピー\",\"\")","v":""},null,null,0,null,{"$f":"IF(SUM($Q150:$Q$261)=0,\"\",J149+1)","v":""},{"$f":"IF(Ⅰ.構成メンバー名簿!S164<>\"\",Ⅰ.構成メンバー名簿!S164,\"\")","v":""},{"$f":"IF(Ⅰ.構成メンバー名簿!V164=\"\",\"\",Ⅰ.構成メンバー名簿!E164)","v":""},{"$f":"IF(Ⅰ.構成メンバー名簿!W164=\"\",\"\",Ⅰ.構成メンバー名簿!W164)","v":""},{"$f":"IF(AND(Q150>0,SUM($Q151:$Q$261)=0),\"←ここまで値でコピー\",\"\")","v":""},null,null,0]
[{"$f":"IF(MAX(Ⅰ.構成メンバー名簿!$Q$26:$Q$275)>A150,A150+1,\"\")","v":""},{"$f":"IF($A151=\"\",\"\",VLOOKUP($A151,Ⅰ.構成メンバー名簿!$Q$26:$W$275,MATCH(Ⅰ.構成メンバー名簿!$S$25,Ⅰ.構成メンバー名簿!$Q$25:$W$25,0),FALSE))","v":""},{"$f":"IF($A151=\"\",\"\",IF(VLOOKUP($A151,Ⅰ.構成メンバー名簿!$Q$26:$W$275,MATCH(Ⅰ.構成メンバー名簿!$T$25,Ⅰ.構成メンバー名簿!$Q$25:$W$25,0),FALSE)=\"\",\"\",VLOOKUP($A151,Ⅰ.構成メンバー名簿!$Q$26:$W$275,MATCH(Ⅰ.構成メンバー名簿!$T$25,Ⅰ.構成メンバー名簿!$Q$25:$W$25,0),FALSE)))","v":""},{"$f":"IF($A151=\"\",\"\",VLOOKUP($A151,Ⅰ.構成メンバー名簿!$Q$26:$W$275,MATCH(Ⅰ.構成メンバー名簿!$W$25,Ⅰ.構成メンバー名簿!$Q$25:$W$25,0),FALSE))","v":""},{"$f":"IF(AND(H151>0,SUM(H152:$H$290)=0),\"←ここまで値でコピー\",\"\")","v":""},null,null,0,null,{"$f":"IF(SUM($Q151:$Q$261)=0,\"\",J150+1)","v":""},{"$f":"IF(Ⅰ.構成メンバー名簿!S165<>\"\",Ⅰ.構成メンバー名簿!S165,\"\")","v":""},{"$f":"IF(Ⅰ.構成メンバー名簿!V165=\"\",\"\",Ⅰ.構成メンバー名簿!E165)","v":""},{"$f":"IF(Ⅰ.構成メンバー名簿!W165=\"\",\"\",Ⅰ.構成メンバー名簿!W165)","v":""},{"$f":"IF(AND(Q151>0,SUM($Q152:$Q$261)=0),\"←ここまで値でコピー\",\"\")","v":""},null,null,0]
[{"$f":"IF(MAX(Ⅰ.構成メンバー名簿!$Q$26:$Q$275)>A151,A151+1,\"\")","v":""},{"$f":"IF($A152=\"\",\"\",VLOOKUP($A152,Ⅰ.構成メンバー名簿!$Q$26:$W$275,MATCH(Ⅰ.構成メンバー名簿!$S$25,Ⅰ.構成メンバー名簿!$Q$25:$W$25,0),FALSE))","v":""},{"$f":"IF($A152=\"\",\"\",IF(VLOOKUP($A152,Ⅰ.構成メンバー名簿!$Q$26:$W$275,MATCH(Ⅰ.構成メンバー名簿!$T$25,Ⅰ.構成メンバー名簿!$Q$25:$W$25,0),FALSE)=\"\",\"\",VLOOKUP($A152,Ⅰ.構成メンバー名簿!$Q$26:$W$275,MATCH(Ⅰ.構成メンバー名簿!$T$25,Ⅰ.構成メンバー名簿!$Q$25:$W$25,0),FALSE)))","v":""},{"$f":"IF($A152=\"\",\"\",VLOOKUP($A152,Ⅰ.構成メンバー名簿!$Q$26:$W$275,MATCH(Ⅰ.構成メンバー名簿!$W$25,Ⅰ.構成メンバー名簿!$Q$25:$W$25,0),FALSE))","v":""},{"$f":"IF(AND(H152>0,SUM(H153:$H$290)=0),\"←ここまで値でコピー\",\"\")","v":""},null,null,0,null,{"$f":"IF(SUM($Q152:$Q$261)=0,\"\",J151+1)","v":""},{"$f":"IF(Ⅰ.構成メンバー名簿!S166<>\"\",Ⅰ.構成メンバー名簿!S166,\"\")","v":""},{"$f":"IF(Ⅰ.構成メンバー名簿!V166=\"\",\"\",Ⅰ.構成メンバー名簿!E166)","v":""},{"$f":"IF(Ⅰ.構成メンバー名簿!W166=\"\",\"\",Ⅰ.構成メンバー名簿!W166)","v":""},{"$f":"IF(AND(Q152>0,SUM($Q153:$Q$261)=0),\"←ここまで値でコピー\",\"\")","v":""},null,null,0]
[{"$f":"IF(MAX(Ⅰ.構成メンバー名簿!$Q$26:$Q$275)>A152,A152+1,\"\")","v":""},{"$f":"IF($A153=\"\",\"\",VLOOKUP($A153,Ⅰ.構成メンバー名簿!$Q$26:$W$275,MATCH(Ⅰ.構成メンバー名簿!$S$25,Ⅰ.構成メンバー名簿!$Q$25:$W$25,0),FALSE))","v":""},{"$f":"IF($A153=\"\",\"\",IF(VLOOKUP($A153,Ⅰ.構成メンバー名簿!$Q$26:$W$275,MATCH(Ⅰ.構成メンバー名簿!$T$25,Ⅰ.構成メンバー名簿!$Q$25:$W$25,0),FALSE)=\"\",\"\",VLOOKUP($A153,Ⅰ.構成メンバー名簿!$Q$26:$W$275,MATCH(Ⅰ.構成メンバー名簿!$T$25,Ⅰ.構成メンバー名簿!$Q$25:$W$25,0),FALSE)))","v":""},{"$f":"IF($A153=\"\",\"\",VLOOKUP($A153,Ⅰ.構成メンバー名簿!$Q$26:$W$275,MATCH(Ⅰ.構成メンバー名簿!$W$25,Ⅰ.構成メンバー名簿!$Q$25:$W$25,0),FALSE))","v":""},{"$f":"IF(AND(H153>0,SUM(H154:$H$290)=0),\"←ここまで値でコピー\",\"\")","v":""},null,null,0,null,{"$f":"IF(SUM($Q153:$Q$261)=0,\"\",J152+1)","v":""},{"$f":"IF(Ⅰ.構成メンバー名簿!S167<>\"\",Ⅰ.構成メンバー名簿!S167,\"\")","v":""},{"$f":"IF(Ⅰ.構成メンバー名簿!V167=\"\",\"\",Ⅰ.構成メンバー名簿!E167)","v":""},{"$f":"IF(Ⅰ.構成メンバー名簿!W167=\"\",\"\",Ⅰ.構成メンバー名簿!W167)","v":""},{"$f":"IF(AND(Q153>0,SUM($Q154:$Q$261)=0),\"←ここまで値でコピー\",\"\")","v":""},null,null,0]
[{"$f":"IF(MAX(Ⅰ.構成メンバー名簿!$Q$26:$Q$275)>A153,A153+1,\"\")","v":""},{"$f":"IF($A154=\"\",\"\",VLOOKUP($A154,Ⅰ.構成メンバー名簿!$Q$26:$W$275,MATCH(Ⅰ.構成メンバー名簿!$S$25,Ⅰ.構成メンバー名簿!$Q$25:$W$25,0),FALSE))","v":""},{"$f":"IF($A154=\"\",\"\",IF(VLOOKUP($A154,Ⅰ.構成メンバー名簿!$Q$26:$W$275,MATCH(Ⅰ.構成メンバー名簿!$T$25,Ⅰ.構成メンバー名簿!$Q$25:$W$25,0),FALSE)=\"\",\"\",VLOOKUP($A154,Ⅰ.構成メンバー名簿!$Q$26:$W$275,MATCH(Ⅰ.構成メンバー名簿!$T$25,Ⅰ.構成メンバー名簿!$Q$25:$W$25,0),FALSE)))","v":""},{"$f":"IF($A154=\"\",\"\",VLOOKUP($A154,Ⅰ.構成メンバー名簿!$Q$26:$W$275,MATCH(Ⅰ.構成メンバー名簿!$W$25,Ⅰ.構成メンバー名簿!$Q$25:$W$25,0),FALSE))","v":""},{"$f":"IF(AND(H154>0,SUM(H155:$H$290)=0),\"←ここまで値でコピー\",\"\")","v":""},null,null,0,null,{"$f":"IF(SUM($Q154:$Q$261)=0,\"\",J153+1)","v":""},{"$f":"IF(Ⅰ.構成メンバー名簿!S168<>\"\",Ⅰ.構成メンバー名簿!S168,\"\")","v":""},{"$f":"IF(Ⅰ.構成メンバー名簿!V168=\"\",\"\",Ⅰ.構成メンバー名簿!E168)","v":""},{"$f":"IF(Ⅰ.構成メンバー名簿!W168=\"\",\"\",Ⅰ.構成メンバー名簿!W168)","v":""},{"$f":"IF(AND(Q154>0,SUM($Q155:$Q$261)=0),\"←ここまで値でコピー\",\"\")","v":""},null,null,0]
[{"$f":"IF(MAX(Ⅰ.構成メンバー名簿!$Q$26:$Q$275)>A154,A154+1,\"\")","v":""},{"$f":"IF($A155=\"\",\"\",VLOOKUP($A155,Ⅰ.構成メンバー名簿!$Q$26:$W$275,MATCH(Ⅰ.構成メンバー名簿!$S$25,Ⅰ.構成メンバー名簿!$Q$25:$W$25,0),FALSE))","v":""},{"$f":"IF($A155=\"\",\"\",IF(VLOOKUP($A155,Ⅰ.構成メンバー名簿!$Q$26:$W$275,MATCH(Ⅰ.構成メンバー名簿!$T$25,Ⅰ.構成メンバー名簿!$Q$25:$W$25,0),FALSE)=\"\",\"\",VLOOKUP($A155,Ⅰ.構成メンバー名簿!$Q$26:$W$275,MATCH(Ⅰ.構成メンバー名簿!$T$25,Ⅰ.構成メンバー名簿!$Q$25:$W$25,0),FALSE)))","v":""},{"$f":"IF($A155=\"\",\"\",VLOOKUP($A155,Ⅰ.構成メンバー名簿!$Q$26:$W$275,MATCH(Ⅰ.構成メンバー名簿!$W$25,Ⅰ.構成メンバー名簿!$Q$25:$W$25,0),FALSE))","v":""},{"$f":"IF(AND(H155>0,SUM(H156:$H$290)=0),\"←ここまで値でコピー\",\"\")","v":""},null,null,0,null,{"$f":"IF(SUM($Q155:$Q$261)=0,\"\",J154+1)","v":""},{"$f":"IF(Ⅰ.構成メンバー名簿!S169<>\"\",Ⅰ.構成メンバー名簿!S169,\"\")","v":""},{"$f":"IF(Ⅰ.構成メンバー名簿!V169=\"\",\"\",Ⅰ.構成メンバー名簿!E169)","v":""},{"$f":"IF(Ⅰ.構成メンバー名簿!W169=\"\",\"\",Ⅰ.構成メンバー名簿!W169)","v":""},{"$f":"IF(AND(Q155>0,SUM($Q156:$Q$261)=0),\"←ここまで値でコピー\",\"\")","v":""},null,null,0]
[{"$f":"IF(MAX(Ⅰ.構成メンバー名簿!$Q$26:$Q$275)>A155,A155+1,\"\")","v":""},{"$f":"IF($A156=\"\",\"\",VLOOKUP($A156,Ⅰ.構成メンバー名簿!$Q$26:$W$275,MATCH(Ⅰ.構成メンバー名簿!$S$25,Ⅰ.構成メンバー名簿!$Q$25:$W$25,0),FALSE))","v":""},{"$f":"IF($A156=\"\",\"\",IF(VLOOKUP($A156,Ⅰ.構成メンバー名簿!$Q$26:$W$275,MATCH(Ⅰ.構成メンバー名簿!$T$25,Ⅰ.構成メンバー名簿!$Q$25:$W$25,0),FALSE)=\"\",\"\",VLOOKUP($A156,Ⅰ.構成メンバー名簿!$Q$26:$W$275,MATCH(Ⅰ.構成メンバー名簿!$T$25,Ⅰ.構成メンバー名簿!$Q$25:$W$25,0),FALSE)))","v":""},{"$f":"IF($A156=\"\",\"\",VLOOKUP($A156,Ⅰ.構成メンバー名簿!$Q$26:$W$275,MATCH(Ⅰ.構成メンバー名簿!$W$25,Ⅰ.構成メンバー名簿!$Q$25:$W$25,0),FALSE))","v":""},{"$f":"IF(AND(H156>0,SUM(H157:$H$290)=0),\"←ここまで値でコピー\",\"\")","v":""},null,null,0,null,{"$f":"IF(SUM($Q156:$Q$261)=0,\"\",J155+1)","v":""},{"$f":"IF(Ⅰ.構成メンバー名簿!S170<>\"\",Ⅰ.構成メンバー名簿!S170,\"\")","v":""},{"$f":"IF(Ⅰ.構成メンバー名簿!V170=\"\",\"\",Ⅰ.構成メンバー名簿!E170)","v":""},{"$f":"IF(Ⅰ.構成メンバー名簿!W170=\"\",\"\",Ⅰ.構成メンバー名簿!W170)","v":""},{"$f":"IF(AND(Q156>0,SUM($Q157:$Q$261)=0),\"←ここまで値でコピー\",\"\")","v":""},null,null,0]
[{"$f":"IF(MAX(Ⅰ.構成メンバー名簿!$Q$26:$Q$275)>A156,A156+1,\"\")","v":""},{"$f":"IF($A157=\"\",\"\",VLOOKUP($A157,Ⅰ.構成メンバー名簿!$Q$26:$W$275,MATCH(Ⅰ.構成メンバー名簿!$S$25,Ⅰ.構成メンバー名簿!$Q$25:$W$25,0),FALSE))","v":""},{"$f":"IF($A157=\"\",\"\",IF(VLOOKUP($A157,Ⅰ.構成メンバー名簿!$Q$26:$W$275,MATCH(Ⅰ.構成メンバー名簿!$T$25,Ⅰ.構成メンバー名簿!$Q$25:$W$25,0),FALSE)=\"\",\"\",VLOOKUP($A157,Ⅰ.構成メンバー名簿!$Q$26:$W$275,MATCH(Ⅰ.構成メンバー名簿!$T$25,Ⅰ.構成メンバー名簿!$Q$25:$W$25,0),FALSE)))","v":""},{"$f":"IF($A157=\"\",\"\",VLOOKUP($A157,Ⅰ.構成メンバー名簿!$Q$26:$W$275,MATCH(Ⅰ.構成メンバー名簿!$W$25,Ⅰ.構成メンバー名簿!$Q$25:$W$25,0),FALSE))","v":""},{"$f":"IF(AND(H157>0,SUM(H158:$H$290)=0),\"←ここまで値でコピー\",\"\")","v":""},null,null,0,null,{"$f":"IF(SUM($Q157:$Q$261)=0,\"\",J156+1)","v":""},{"$f":"IF(Ⅰ.構成メンバー名簿!S171<>\"\",Ⅰ.構成メンバー名簿!S171,\"\")","v":""},{"$f":"IF(Ⅰ.構成メンバー名簿!V171=\"\",\"\",Ⅰ.構成メンバー名簿!E171)","v":""},{"$f":"IF(Ⅰ.構成メンバー名簿!W171=\"\",\"\",Ⅰ.構成メンバー名簿!W171)","v":""},{"$f":"IF(AND(Q157>0,SUM($Q158:$Q$261)=0),\"←ここまで値でコピー\",\"\")","v":""},null,null,0]
[{"$f":"IF(MAX(Ⅰ.構成メンバー名簿!$Q$26:$Q$275)>A157,A157+1,\"\")","v":""},{"$f":"IF($A158=\"\",\"\",VLOOKUP($A158,Ⅰ.構成メンバー名簿!$Q$26:$W$275,MATCH(Ⅰ.構成メンバー名簿!$S$25,Ⅰ.構成メンバー名簿!$Q$25:$W$25,0),FALSE))","v":""},{"$f":"IF($A158=\"\",\"\",IF(VLOOKUP($A158,Ⅰ.構成メンバー名簿!$Q$26:$W$275,MATCH(Ⅰ.構成メンバー名簿!$T$25,Ⅰ.構成メンバー名簿!$Q$25:$W$25,0),FALSE)=\"\",\"\",VLOOKUP($A158,Ⅰ.構成メンバー名簿!$Q$26:$W$275,MATCH(Ⅰ.構成メンバー名簿!$T$25,Ⅰ.構成メンバー名簿!$Q$25:$W$25,0),FALSE)))","v":""},{"$f":"IF($A158=\"\",\"\",VLOOKUP($A158,Ⅰ.構成メンバー名簿!$Q$26:$W$275,MATCH(Ⅰ.構成メンバー名簿!$W$25,Ⅰ.構成メンバー名簿!$Q$25:$W$25,0),FALSE))","v":""},{"$f":"IF(AND(H158>0,SUM(H159:$H$290)=0),\"←ここまで値でコピー\",\"\")","v":""},null,null,0,null,{"$f":"IF(SUM($Q158:$Q$261)=0,\"\",J157+1)","v":""},{"$f":"IF(Ⅰ.構成メンバー名簿!S172<>\"\",Ⅰ.構成メンバー名簿!S172,\"\")","v":""},{"$f":"IF(Ⅰ.構成メンバー名簿!V172=\"\",\"\",Ⅰ.構成メンバー名簿!E172)","v":""},{"$f":"IF(Ⅰ.構成メンバー名簿!W172=\"\",\"\",Ⅰ.構成メンバー名簿!W172)","v":""},{"$f":"IF(AND(Q158>0,SUM($Q159:$Q$261)=0),\"←ここまで値でコピー\",\"\")","v":""},null,null,0]
[{"$f":"IF(MAX(Ⅰ.構成メンバー名簿!$Q$26:$Q$275)>A158,A158+1,\"\")","v":""},{"$f":"IF($A159=\"\",\"\",VLOOKUP($A159,Ⅰ.構成メンバー名簿!$Q$26:$W$275,MATCH(Ⅰ.構成メンバー名簿!$S$25,Ⅰ.構成メンバー名簿!$Q$25:$W$25,0),FALSE))","v":""},{"$f":"IF($A159=\"\",\"\",IF(VLOOKUP($A159,Ⅰ.構成メンバー名簿!$Q$26:$W$275,MATCH(Ⅰ.構成メンバー名簿!$T$25,Ⅰ.構成メンバー名簿!$Q$25:$W$25,0),FALSE)=\"\",\"\",VLOOKUP($A159,Ⅰ.構成メンバー名簿!$Q$26:$W$275,MATCH(Ⅰ.構成メンバー名簿!$T$25,Ⅰ.構成メンバー名簿!$Q$25:$W$25,0),FALSE)))","v":""},{"$f":"IF($A159=\"\",\"\",VLOOKUP($A159,Ⅰ.構成メンバー名簿!$Q$26:$W$275,MATCH(Ⅰ.構成メンバー名簿!$W$25,Ⅰ.構成メンバー名簿!$Q$25:$W$25,0),FALSE))","v":""},{"$f":"IF(AND(H159>0,SUM(H160:$H$290)=0),\"←ここまで値でコピー\",\"\")","v":""},null,null,0,null,{"$f":"IF(SUM($Q159:$Q$261)=0,\"\",J158+1)","v":""},{"$f":"IF(Ⅰ.構成メンバー名簿!S173<>\"\",Ⅰ.構成メンバー名簿!S173,\"\")","v":""},{"$f":"IF(Ⅰ.構成メンバー名簿!V173=\"\",\"\",Ⅰ.構成メンバー名簿!E173)","v":""},{"$f":"IF(Ⅰ.構成メンバー名簿!W173=\"\",\"\",Ⅰ.構成メンバー名簿!W173)","v":""},{"$f":"IF(AND(Q159>0,SUM($Q160:$Q$261)=0),\"←ここまで値でコピー\",\"\")","v":""},null,null,0]
[{"$f":"IF(MAX(Ⅰ.構成メンバー名簿!$Q$26:$Q$275)>A159,A159+1,\"\")","v":""},{"$f":"IF($A160=\"\",\"\",VLOOKUP($A160,Ⅰ.構成メンバー名簿!$Q$26:$W$275,MATCH(Ⅰ.構成メンバー名簿!$S$25,Ⅰ.構成メンバー名簿!$Q$25:$W$25,0),FALSE))","v":""},{"$f":"IF($A160=\"\",\"\",IF(VLOOKUP($A160,Ⅰ.構成メンバー名簿!$Q$26:$W$275,MATCH(Ⅰ.構成メンバー名簿!$T$25,Ⅰ.構成メンバー名簿!$Q$25:$W$25,0),FALSE)=\"\",\"\",VLOOKUP($A160,Ⅰ.構成メンバー名簿!$Q$26:$W$275,MATCH(Ⅰ.構成メンバー名簿!$T$25,Ⅰ.構成メンバー名簿!$Q$25:$W$25,0),FALSE)))","v":""},{"$f":"IF($A160=\"\",\"\",VLOOKUP($A160,Ⅰ.構成メンバー名簿!$Q$26:$W$275,MATCH(Ⅰ.構成メンバー名簿!$W$25,Ⅰ.構成メンバー名簿!$Q$25:$W$25,0),FALSE))","v":""},{"$f":"IF(AND(H160>0,SUM(H161:$H$290)=0),\"←ここまで値でコピー\",\"\")","v":""},null,null,0,null,{"$f":"IF(SUM($Q160:$Q$261)=0,\"\",J159+1)","v":""},{"$f":"IF(Ⅰ.構成メンバー名簿!S174<>\"\",Ⅰ.構成メンバー名簿!S174,\"\")","v":""},{"$f":"IF(Ⅰ.構成メンバー名簿!V174=\"\",\"\",Ⅰ.構成メンバー名簿!E174)","v":""},{"$f":"IF(Ⅰ.構成メンバー名簿!W174=\"\",\"\",Ⅰ.構成メンバー名簿!W174)","v":""},{"$f":"IF(AND(Q160>0,SUM($Q161:$Q$261)=0),\"←ここまで値でコピー\",\"\")","v":""},null,null,0]
[{"$f":"IF(MAX(Ⅰ.構成メンバー名簿!$Q$26:$Q$275)>A160,A160+1,\"\")","v":""},{"$f":"IF($A161=\"\",\"\",VLOOKUP($A161,Ⅰ.構成メンバー名簿!$Q$26:$W$275,MATCH(Ⅰ.構成メンバー名簿!$S$25,Ⅰ.構成メンバー名簿!$Q$25:$W$25,0),FALSE))","v":""},{"$f":"IF($A161=\"\",\"\",IF(VLOOKUP($A161,Ⅰ.構成メンバー名簿!$Q$26:$W$275,MATCH(Ⅰ.構成メンバー名簿!$T$25,Ⅰ.構成メンバー名簿!$Q$25:$W$25,0),FALSE)=\"\",\"\",VLOOKUP($A161,Ⅰ.構成メンバー名簿!$Q$26:$W$275,MATCH(Ⅰ.構成メンバー名簿!$T$25,Ⅰ.構成メンバー名簿!$Q$25:$W$25,0),FALSE)))","v":""},{"$f":"IF($A161=\"\",\"\",VLOOKUP($A161,Ⅰ.構成メンバー名簿!$Q$26:$W$275,MATCH(Ⅰ.構成メンバー名簿!$W$25,Ⅰ.構成メンバー名簿!$Q$25:$W$25,0),FALSE))","v":""},{"$f":"IF(AND(H161>0,SUM(H162:$H$290)=0),\"←ここまで値でコピー\",\"\")","v":""},null,null,0,null,{"$f":"IF(SUM($Q161:$Q$261)=0,\"\",J160+1)","v":""},{"$f":"IF(Ⅰ.構成メンバー名簿!S175<>\"\",Ⅰ.構成メンバー名簿!S175,\"\")","v":""},{"$f":"IF(Ⅰ.構成メンバー名簿!V175=\"\",\"\",Ⅰ.構成メンバー名簿!E175)","v":""},{"$f":"IF(Ⅰ.構成メンバー名簿!W175=\"\",\"\",Ⅰ.構成メンバー名簿!W175)","v":""},{"$f":"IF(AND(Q161>0,SUM($Q162:$Q$261)=0),\"←ここまで値でコピー\",\"\")","v":""},null,null,0]
[{"$f":"IF(MAX(Ⅰ.構成メンバー名簿!$Q$26:$Q$275)>A161,A161+1,\"\")","v":""},{"$f":"IF($A162=\"\",\"\",VLOOKUP($A162,Ⅰ.構成メンバー名簿!$Q$26:$W$275,MATCH(Ⅰ.構成メンバー名簿!$S$25,Ⅰ.構成メンバー名簿!$Q$25:$W$25,0),FALSE))","v":""},{"$f":"IF($A162=\"\",\"\",IF(VLOOKUP($A162,Ⅰ.構成メンバー名簿!$Q$26:$W$275,MATCH(Ⅰ.構成メンバー名簿!$T$25,Ⅰ.構成メンバー名簿!$Q$25:$W$25,0),FALSE)=\"\",\"\",VLOOKUP($A162,Ⅰ.構成メンバー名簿!$Q$26:$W$275,MATCH(Ⅰ.構成メンバー名簿!$T$25,Ⅰ.構成メンバー名簿!$Q$25:$W$25,0),FALSE)))","v":""},{"$f":"IF($A162=\"\",\"\",VLOOKUP($A162,Ⅰ.構成メンバー名簿!$Q$26:$W$275,MATCH(Ⅰ.構成メンバー名簿!$W$25,Ⅰ.構成メンバー名簿!$Q$25:$W$25,0),FALSE))","v":""},{"$f":"IF(AND(H162>0,SUM(H163:$H$290)=0),\"←ここまで値でコピー\",\"\")","v":""},null,null,0,null,{"$f":"IF(SUM($Q162:$Q$261)=0,\"\",J161+1)","v":""},{"$f":"IF(Ⅰ.構成メンバー名簿!S176<>\"\",Ⅰ.構成メンバー名簿!S176,\"\")","v":""},{"$f":"IF(Ⅰ.構成メンバー名簿!V176=\"\",\"\",Ⅰ.構成メンバー名簿!E176)","v":""},{"$f":"IF(Ⅰ.構成メンバー名簿!W176=\"\",\"\",Ⅰ.構成メンバー名簿!W176)","v":""},{"$f":"IF(AND(Q162>0,SUM($Q163:$Q$261)=0),\"←ここまで値でコピー\",\"\")","v":""},null,null,0]
[{"$f":"IF(MAX(Ⅰ.構成メンバー名簿!$Q$26:$Q$275)>A162,A162+1,\"\")","v":""},{"$f":"IF($A163=\"\",\"\",VLOOKUP($A163,Ⅰ.構成メンバー名簿!$Q$26:$W$275,MATCH(Ⅰ.構成メンバー名簿!$S$25,Ⅰ.構成メンバー名簿!$Q$25:$W$25,0),FALSE))","v":""},{"$f":"IF($A163=\"\",\"\",IF(VLOOKUP($A163,Ⅰ.構成メンバー名簿!$Q$26:$W$275,MATCH(Ⅰ.構成メンバー名簿!$T$25,Ⅰ.構成メンバー名簿!$Q$25:$W$25,0),FALSE)=\"\",\"\",VLOOKUP($A163,Ⅰ.構成メンバー名簿!$Q$26:$W$275,MATCH(Ⅰ.構成メンバー名簿!$T$25,Ⅰ.構成メンバー名簿!$Q$25:$W$25,0),FALSE)))","v":""},{"$f":"IF($A163=\"\",\"\",VLOOKUP($A163,Ⅰ.構成メンバー名簿!$Q$26:$W$275,MATCH(Ⅰ.構成メンバー名簿!$W$25,Ⅰ.構成メンバー名簿!$Q$25:$W$25,0),FALSE))","v":""},{"$f":"IF(AND(H163>0,SUM(H164:$H$290)=0),\"←ここまで値でコピー\",\"\")","v":""},null,null,0,null,{"$f":"IF(SUM($Q163:$Q$261)=0,\"\",J162+1)","v":""},{"$f":"IF(Ⅰ.構成メンバー名簿!S177<>\"\",Ⅰ.構成メンバー名簿!S177,\"\")","v":""},{"$f":"IF(Ⅰ.構成メンバー名簿!V177=\"\",\"\",Ⅰ.構成メンバー名簿!E177)","v":""},{"$f":"IF(Ⅰ.構成メンバー名簿!W177=\"\",\"\",Ⅰ.構成メンバー名簿!W177)","v":""},{"$f":"IF(AND(Q163>0,SUM($Q164:$Q$261)=0),\"←ここまで値でコピー\",\"\")","v":""},null,null,0]
[{"$f":"IF(MAX(Ⅰ.構成メンバー名簿!$Q$26:$Q$275)>A163,A163+1,\"\")","v":""},{"$f":"IF($A164=\"\",\"\",VLOOKUP($A164,Ⅰ.構成メンバー名簿!$Q$26:$W$275,MATCH(Ⅰ.構成メンバー名簿!$S$25,Ⅰ.構成メンバー名簿!$Q$25:$W$25,0),FALSE))","v":""},{"$f":"IF($A164=\"\",\"\",IF(VLOOKUP($A164,Ⅰ.構成メンバー名簿!$Q$26:$W$275,MATCH(Ⅰ.構成メンバー名簿!$T$25,Ⅰ.構成メンバー名簿!$Q$25:$W$25,0),FALSE)=\"\",\"\",VLOOKUP($A164,Ⅰ.構成メンバー名簿!$Q$26:$W$275,MATCH(Ⅰ.構成メンバー名簿!$T$25,Ⅰ.構成メンバー名簿!$Q$25:$W$25,0),FALSE)))","v":""},{"$f":"IF($A164=\"\",\"\",VLOOKUP($A164,Ⅰ.構成メンバー名簿!$Q$26:$W$275,MATCH(Ⅰ.構成メンバー名簿!$W$25,Ⅰ.構成メンバー名簿!$Q$25:$W$25,0),FALSE))","v":""},{"$f":"IF(AND(H164>0,SUM(H165:$H$290)=0),\"←ここまで値でコピー\",\"\")","v":""},null,null,0,null,{"$f":"IF(SUM($Q164:$Q$261)=0,\"\",J163+1)","v":""},{"$f":"IF(Ⅰ.構成メンバー名簿!S178<>\"\",Ⅰ.構成メンバー名簿!S178,\"\")","v":""},{"$f":"IF(Ⅰ.構成メンバー名簿!V178=\"\",\"\",Ⅰ.構成メンバー名簿!E178)","v":""},{"$f":"IF(Ⅰ.構成メンバー名簿!W178=\"\",\"\",Ⅰ.構成メンバー名簿!W178)","v":""},{"$f":"IF(AND(Q164>0,SUM($Q165:$Q$261)=0),\"←ここまで値でコピー\",\"\")","v":""},null,null,0]
[{"$f":"IF(MAX(Ⅰ.構成メンバー名簿!$Q$26:$Q$275)>A164,A164+1,\"\")","v":""},{"$f":"IF($A165=\"\",\"\",VLOOKUP($A165,Ⅰ.構成メンバー名簿!$Q$26:$W$275,MATCH(Ⅰ.構成メンバー名簿!$S$25,Ⅰ.構成メンバー名簿!$Q$25:$W$25,0),FALSE))","v":""},{"$f":"IF($A165=\"\",\"\",IF(VLOOKUP($A165,Ⅰ.構成メンバー名簿!$Q$26:$W$275,MATCH(Ⅰ.構成メンバー名簿!$T$25,Ⅰ.構成メンバー名簿!$Q$25:$W$25,0),FALSE)=\"\",\"\",VLOOKUP($A165,Ⅰ.構成メンバー名簿!$Q$26:$W$275,MATCH(Ⅰ.構成メンバー名簿!$T$25,Ⅰ.構成メンバー名簿!$Q$25:$W$25,0),FALSE)))","v":""},{"$f":"IF($A165=\"\",\"\",VLOOKUP($A165,Ⅰ.構成メンバー名簿!$Q$26:$W$275,MATCH(Ⅰ.構成メンバー名簿!$W$25,Ⅰ.構成メンバー名簿!$Q$25:$W$25,0),FALSE))","v":""},{"$f":"IF(AND(H165>0,SUM(H166:$H$290)=0),\"←ここまで値でコピー\",\"\")","v":""},null,null,0,null,{"$f":"IF(SUM($Q165:$Q$261)=0,\"\",J164+1)","v":""},{"$f":"IF(Ⅰ.構成メンバー名簿!S179<>\"\",Ⅰ.構成メンバー名簿!S179,\"\")","v":""},{"$f":"IF(Ⅰ.構成メンバー名簿!V179=\"\",\"\",Ⅰ.構成メンバー名簿!E179)","v":""},{"$f":"IF(Ⅰ.構成メンバー名簿!W179=\"\",\"\",Ⅰ.構成メンバー名簿!W179)","v":""},{"$f":"IF(AND(Q165>0,SUM($Q166:$Q$261)=0),\"←ここまで値でコピー\",\"\")","v":""},null,null,0]
[{"$f":"IF(MAX(Ⅰ.構成メンバー名簿!$Q$26:$Q$275)>A165,A165+1,\"\")","v":""},{"$f":"IF($A166=\"\",\"\",VLOOKUP($A166,Ⅰ.構成メンバー名簿!$Q$26:$W$275,MATCH(Ⅰ.構成メンバー名簿!$S$25,Ⅰ.構成メンバー名簿!$Q$25:$W$25,0),FALSE))","v":""},{"$f":"IF($A166=\"\",\"\",IF(VLOOKUP($A166,Ⅰ.構成メンバー名簿!$Q$26:$W$275,MATCH(Ⅰ.構成メンバー名簿!$T$25,Ⅰ.構成メンバー名簿!$Q$25:$W$25,0),FALSE)=\"\",\"\",VLOOKUP($A166,Ⅰ.構成メンバー名簿!$Q$26:$W$275,MATCH(Ⅰ.構成メンバー名簿!$T$25,Ⅰ.構成メンバー名簿!$Q$25:$W$25,0),FALSE)))","v":""},{"$f":"IF($A166=\"\",\"\",VLOOKUP($A166,Ⅰ.構成メンバー名簿!$Q$26:$W$275,MATCH(Ⅰ.構成メンバー名簿!$W$25,Ⅰ.構成メンバー名簿!$Q$25:$W$25,0),FALSE))","v":""},{"$f":"IF(AND(H166>0,SUM(H167:$H$290)=0),\"←ここまで値でコピー\",\"\")","v":""},null,null,0,null,{"$f":"IF(SUM($Q166:$Q$261)=0,\"\",J165+1)","v":""},{"$f":"IF(Ⅰ.構成メンバー名簿!S180<>\"\",Ⅰ.構成メンバー名簿!S180,\"\")","v":""},{"$f":"IF(Ⅰ.構成メンバー名簿!V180=\"\",\"\",Ⅰ.構成メンバー名簿!E180)","v":""},{"$f":"IF(Ⅰ.構成メンバー名簿!W180=\"\",\"\",Ⅰ.構成メンバー名簿!W180)","v":""},{"$f":"IF(AND(Q166>0,SUM($Q167:$Q$261)=0),\"←ここまで値でコピー\",\"\")","v":""},null,null,0]
[{"$f":"IF(MAX(Ⅰ.構成メンバー名簿!$Q$26:$Q$275)>A166,A166+1,\"\")","v":""},{"$f":"IF($A167=\"\",\"\",VLOOKUP($A167,Ⅰ.構成メンバー名簿!$Q$26:$W$275,MATCH(Ⅰ.構成メンバー名簿!$S$25,Ⅰ.構成メンバー名簿!$Q$25:$W$25,0),FALSE))","v":""},{"$f":"IF($A167=\"\",\"\",IF(VLOOKUP($A167,Ⅰ.構成メンバー名簿!$Q$26:$W$275,MATCH(Ⅰ.構成メンバー名簿!$T$25,Ⅰ.構成メンバー名簿!$Q$25:$W$25,0),FALSE)=\"\",\"\",VLOOKUP($A167,Ⅰ.構成メンバー名簿!$Q$26:$W$275,MATCH(Ⅰ.構成メンバー名簿!$T$25,Ⅰ.構成メンバー名簿!$Q$25:$W$25,0),FALSE)))","v":""},{"$f":"IF($A167=\"\",\"\",VLOOKUP($A167,Ⅰ.構成メンバー名簿!$Q$26:$W$275,MATCH(Ⅰ.構成メンバー名簿!$W$25,Ⅰ.構成メンバー名簿!$Q$25:$W$25,0),FALSE))","v":""},{"$f":"IF(AND(H167>0,SUM(H168:$H$290)=0),\"←ここまで値でコピー\",\"\")","v":""},null,null,0,null,{"$f":"IF(SUM($Q167:$Q$261)=0,\"\",J166+1)","v":""},{"$f":"IF(Ⅰ.構成メンバー名簿!S181<>\"\",Ⅰ.構成メンバー名簿!S181,\"\")","v":""},{"$f":"IF(Ⅰ.構成メンバー名簿!V181=\"\",\"\",Ⅰ.構成メンバー名簿!E181)","v":""},{"$f":"IF(Ⅰ.構成メンバー名簿!W181=\"\",\"\",Ⅰ.構成メンバー名簿!W181)","v":""},{"$f":"IF(AND(Q167>0,SUM($Q168:$Q$261)=0),\"←ここまで値でコピー\",\"\")","v":""},null,null,0]
[{"$f":"IF(MAX(Ⅰ.構成メンバー名簿!$Q$26:$Q$275)>A167,A167+1,\"\")","v":""},{"$f":"IF($A168=\"\",\"\",VLOOKUP($A168,Ⅰ.構成メンバー名簿!$Q$26:$W$275,MATCH(Ⅰ.構成メンバー名簿!$S$25,Ⅰ.構成メンバー名簿!$Q$25:$W$25,0),FALSE))","v":""},{"$f":"IF($A168=\"\",\"\",IF(VLOOKUP($A168,Ⅰ.構成メンバー名簿!$Q$26:$W$275,MATCH(Ⅰ.構成メンバー名簿!$T$25,Ⅰ.構成メンバー名簿!$Q$25:$W$25,0),FALSE)=\"\",\"\",VLOOKUP($A168,Ⅰ.構成メンバー名簿!$Q$26:$W$275,MATCH(Ⅰ.構成メンバー名簿!$T$25,Ⅰ.構成メンバー名簿!$Q$25:$W$25,0),FALSE)))","v":""},{"$f":"IF($A168=\"\",\"\",VLOOKUP($A168,Ⅰ.構成メンバー名簿!$Q$26:$W$275,MATCH(Ⅰ.構成メンバー名簿!$W$25,Ⅰ.構成メンバー名簿!$Q$25:$W$25,0),FALSE))","v":""},{"$f":"IF(AND(H168>0,SUM(H169:$H$290)=0),\"←ここまで値でコピー\",\"\")","v":""},null,null,0,null,{"$f":"IF(SUM($Q168:$Q$261)=0,\"\",J167+1)","v":""},{"$f":"IF(Ⅰ.構成メンバー名簿!S182<>\"\",Ⅰ.構成メンバー名簿!S182,\"\")","v":""},{"$f":"IF(Ⅰ.構成メンバー名簿!V182=\"\",\"\",Ⅰ.構成メンバー名簿!E182)","v":""},{"$f":"IF(Ⅰ.構成メンバー名簿!W182=\"\",\"\",Ⅰ.構成メンバー名簿!W182)","v":""},{"$f":"IF(AND(Q168>0,SUM($Q169:$Q$261)=0),\"←ここまで値でコピー\",\"\")","v":""},null,null,0]
[{"$f":"IF(MAX(Ⅰ.構成メンバー名簿!$Q$26:$Q$275)>A168,A168+1,\"\")","v":""},{"$f":"IF($A169=\"\",\"\",VLOOKUP($A169,Ⅰ.構成メンバー名簿!$Q$26:$W$275,MATCH(Ⅰ.構成メンバー名簿!$S$25,Ⅰ.構成メンバー名簿!$Q$25:$W$25,0),FALSE))","v":""},{"$f":"IF($A169=\"\",\"\",IF(VLOOKUP($A169,Ⅰ.構成メンバー名簿!$Q$26:$W$275,MATCH(Ⅰ.構成メンバー名簿!$T$25,Ⅰ.構成メンバー名簿!$Q$25:$W$25,0),FALSE)=\"\",\"\",VLOOKUP($A169,Ⅰ.構成メンバー名簿!$Q$26:$W$275,MATCH(Ⅰ.構成メンバー名簿!$T$25,Ⅰ.構成メンバー名簿!$Q$25:$W$25,0),FALSE)))","v":""},{"$f":"IF($A169=\"\",\"\",VLOOKUP($A169,Ⅰ.構成メンバー名簿!$Q$26:$W$275,MATCH(Ⅰ.構成メンバー名簿!$W$25,Ⅰ.構成メンバー名簿!$Q$25:$W$25,0),FALSE))","v":""},{"$f":"IF(AND(H169>0,SUM(H170:$H$290)=0),\"←ここまで値でコピー\",\"\")","v":""},null,null,0,null,{"$f":"IF(SUM($Q169:$Q$261)=0,\"\",J168+1)","v":""},{"$f":"IF(Ⅰ.構成メンバー名簿!S183<>\"\",Ⅰ.構成メンバー名簿!S183,\"\")","v":""},{"$f":"IF(Ⅰ.構成メンバー名簿!V183=\"\",\"\",Ⅰ.構成メンバー名簿!E183)","v":""},{"$f":"IF(Ⅰ.構成メンバー名簿!W183=\"\",\"\",Ⅰ.構成メンバー名簿!W183)","v":""},{"$f":"IF(AND(Q169>0,SUM($Q170:$Q$261)=0),\"←ここまで値でコピー\",\"\")","v":""},null,null,0]
[{"$f":"IF(MAX(Ⅰ.構成メンバー名簿!$Q$26:$Q$275)>A169,A169+1,\"\")","v":""},{"$f":"IF($A170=\"\",\"\",VLOOKUP($A170,Ⅰ.構成メンバー名簿!$Q$26:$W$275,MATCH(Ⅰ.構成メンバー名簿!$S$25,Ⅰ.構成メンバー名簿!$Q$25:$W$25,0),FALSE))","v":""},{"$f":"IF($A170=\"\",\"\",IF(VLOOKUP($A170,Ⅰ.構成メンバー名簿!$Q$26:$W$275,MATCH(Ⅰ.構成メンバー名簿!$T$25,Ⅰ.構成メンバー名簿!$Q$25:$W$25,0),FALSE)=\"\",\"\",VLOOKUP($A170,Ⅰ.構成メンバー名簿!$Q$26:$W$275,MATCH(Ⅰ.構成メンバー名簿!$T$25,Ⅰ.構成メンバー名簿!$Q$25:$W$25,0),FALSE)))","v":""},{"$f":"IF($A170=\"\",\"\",VLOOKUP($A170,Ⅰ.構成メンバー名簿!$Q$26:$W$275,MATCH(Ⅰ.構成メンバー名簿!$W$25,Ⅰ.構成メンバー名簿!$Q$25:$W$25,0),FALSE))","v":""},{"$f":"IF(AND(H170>0,SUM(H171:$H$290)=0),\"←ここまで値でコピー\",\"\")","v":""},null,null,{"$f":"IF(COUNTBLANK(B170:D170)=3,0,1)","v":0},null,{"$f":"IF(SUM($Q170:$Q$261)=0,\"\",J169+1)","v":""},{"$f":"IF(Ⅰ.構成メンバー名簿!S184<>\"\",Ⅰ.構成メンバー名簿!S184,\"\")","v":""},{"$f":"IF(Ⅰ.構成メンバー名簿!V184=\"\",\"\",Ⅰ.構成メンバー名簿!E184)","v":""},{"$f":"IF(Ⅰ.構成メンバー名簿!W184=\"\",\"\",Ⅰ.構成メンバー名簿!W184)","v":""},{"$f":"IF(AND(Q170>0,SUM($Q171:$Q$261)=0),\"←ここまで値でコピー\",\"\")","v":""},null,null,0]
[{"$f":"IF(MAX(Ⅰ.構成メンバー名簿!$Q$26:$Q$275)>A170,A170+1,\"\")","v":""},{"$f":"IF($A171=\"\",\"\",VLOOKUP($A171,Ⅰ.構成メンバー名簿!$Q$26:$W$275,MATCH(Ⅰ.構成メンバー名簿!$S$25,Ⅰ.構成メンバー名簿!$Q$25:$W$25,0),FALSE))","v":""},{"$f":"IF($A171=\"\",\"\",IF(VLOOKUP($A171,Ⅰ.構成メンバー名簿!$Q$26:$W$275,MATCH(Ⅰ.構成メンバー名簿!$T$25,Ⅰ.構成メンバー名簿!$Q$25:$W$25,0),FALSE)=\"\",\"\",VLOOKUP($A171,Ⅰ.構成メンバー名簿!$Q$26:$W$275,MATCH(Ⅰ.構成メンバー名簿!$T$25,Ⅰ.構成メンバー名簿!$Q$25:$W$25,0),FALSE)))","v":""},{"$f":"IF($A171=\"\",\"\",VLOOKUP($A171,Ⅰ.構成メンバー名簿!$Q$26:$W$275,MATCH(Ⅰ.構成メンバー名簿!$W$25,Ⅰ.構成メンバー名簿!$Q$25:$W$25,0),FALSE))","v":""},{"$f":"IF(AND(H171>0,SUM(H172:$H$290)=0),\"←ここまで値でコピー\",\"\")","v":""},null,null,0,null,{"$f":"IF(SUM($Q171:$Q$261)=0,\"\",J170+1)","v":""},{"$f":"IF(Ⅰ.構成メンバー名簿!S185<>\"\",Ⅰ.構成メンバー名簿!S185,\"\")","v":""},{"$f":"IF(Ⅰ.構成メンバー名簿!V185=\"\",\"\",Ⅰ.構成メンバー名簿!E185)","v":""},{"$f":"IF(Ⅰ.構成メンバー名簿!W185=\"\",\"\",Ⅰ.構成メンバー名簿!W185)","v":""},{"$f":"IF(AND(Q171>0,SUM($Q172:$Q$261)=0),\"←ここまで値でコピー\",\"\")","v":""},null,null,0]
[{"$f":"IF(MAX(Ⅰ.構成メンバー名簿!$Q$26:$Q$275)>A171,A171+1,\"\")","v":""},{"$f":"IF($A172=\"\",\"\",VLOOKUP($A172,Ⅰ.構成メンバー名簿!$Q$26:$W$275,MATCH(Ⅰ.構成メンバー名簿!$S$25,Ⅰ.構成メンバー名簿!$Q$25:$W$25,0),FALSE))","v":""},{"$f":"IF($A172=\"\",\"\",IF(VLOOKUP($A172,Ⅰ.構成メンバー名簿!$Q$26:$W$275,MATCH(Ⅰ.構成メンバー名簿!$T$25,Ⅰ.構成メンバー名簿!$Q$25:$W$25,0),FALSE)=\"\",\"\",VLOOKUP($A172,Ⅰ.構成メンバー名簿!$Q$26:$W$275,MATCH(Ⅰ.構成メンバー名簿!$T$25,Ⅰ.構成メンバー名簿!$Q$25:$W$25,0),FALSE)))","v":""},{"$f":"IF($A172=\"\",\"\",VLOOKUP($A172,Ⅰ.構成メンバー名簿!$Q$26:$W$275,MATCH(Ⅰ.構成メンバー名簿!$W$25,Ⅰ.構成メンバー名簿!$Q$25:$W$25,0),FALSE))","v":""},{"$f":"IF(AND(H172>0,SUM(H173:$H$290)=0),\"←ここまで値でコピー\",\"\")","v":""},null,null,0,null,{"$f":"IF(SUM($Q172:$Q$261)=0,\"\",J171+1)","v":""},{"$f":"IF(Ⅰ.構成メンバー名簿!S186<>\"\",Ⅰ.構成メンバー名簿!S186,\"\")","v":""},{"$f":"IF(Ⅰ.構成メンバー名簿!V186=\"\",\"\",Ⅰ.構成メンバー名簿!E186)","v":""},{"$f":"IF(Ⅰ.構成メンバー名簿!W186=\"\",\"\",Ⅰ.構成メンバー名簿!W186)","v":""},{"$f":"IF(AND(Q172>0,SUM($Q173:$Q$261)=0),\"←ここまで値でコピー\",\"\")","v":""},null,null,0]
[{"$f":"IF(MAX(Ⅰ.構成メンバー名簿!$Q$26:$Q$275)>A172,A172+1,\"\")","v":""},{"$f":"IF($A173=\"\",\"\",VLOOKUP($A173,Ⅰ.構成メンバー名簿!$Q$26:$W$275,MATCH(Ⅰ.構成メンバー名簿!$S$25,Ⅰ.構成メンバー名簿!$Q$25:$W$25,0),FALSE))","v":""},{"$f":"IF($A173=\"\",\"\",IF(VLOOKUP($A173,Ⅰ.構成メンバー名簿!$Q$26:$W$275,MATCH(Ⅰ.構成メンバー名簿!$T$25,Ⅰ.構成メンバー名簿!$Q$25:$W$25,0),FALSE)=\"\",\"\",VLOOKUP($A173,Ⅰ.構成メンバー名簿!$Q$26:$W$275,MATCH(Ⅰ.構成メンバー名簿!$T$25,Ⅰ.構成メンバー名簿!$Q$25:$W$25,0),FALSE)))","v":""},{"$f":"IF($A173=\"\",\"\",VLOOKUP($A173,Ⅰ.構成メンバー名簿!$Q$26:$W$275,MATCH(Ⅰ.構成メンバー名簿!$W$25,Ⅰ.構成メンバー名簿!$Q$25:$W$25,0),FALSE))","v":""},{"$f":"IF(AND(H173>0,SUM(H174:$H$290)=0),\"←ここまで値でコピー\",\"\")","v":""},null,null,0,null,{"$f":"IF(SUM($Q173:$Q$261)=0,\"\",J172+1)","v":""},{"$f":"IF(Ⅰ.構成メンバー名簿!S187<>\"\",Ⅰ.構成メンバー名簿!S187,\"\")","v":""},{"$f":"IF(Ⅰ.構成メンバー名簿!V187=\"\",\"\",Ⅰ.構成メンバー名簿!E187)","v":""},{"$f":"IF(Ⅰ.構成メンバー名簿!W187=\"\",\"\",Ⅰ.構成メンバー名簿!W187)","v":""},{"$f":"IF(AND(Q173>0,SUM($Q174:$Q$261)=0),\"←ここまで値でコピー\",\"\")","v":""},null,null,0]
[{"$f":"IF(MAX(Ⅰ.構成メンバー名簿!$Q$26:$Q$275)>A173,A173+1,\"\")","v":""},{"$f":"IF($A174=\"\",\"\",VLOOKUP($A174,Ⅰ.構成メンバー名簿!$Q$26:$W$275,MATCH(Ⅰ.構成メンバー名簿!$S$25,Ⅰ.構成メンバー名簿!$Q$25:$W$25,0),FALSE))","v":""},{"$f":"IF($A174=\"\",\"\",IF(VLOOKUP($A174,Ⅰ.構成メンバー名簿!$Q$26:$W$275,MATCH(Ⅰ.構成メンバー名簿!$T$25,Ⅰ.構成メンバー名簿!$Q$25:$W$25,0),FALSE)=\"\",\"\",VLOOKUP($A174,Ⅰ.構成メンバー名簿!$Q$26:$W$275,MATCH(Ⅰ.構成メンバー名簿!$T$25,Ⅰ.構成メンバー名簿!$Q$25:$W$25,0),FALSE)))","v":""},{"$f":"IF($A174=\"\",\"\",VLOOKUP($A174,Ⅰ.構成メンバー名簿!$Q$26:$W$275,MATCH(Ⅰ.構成メンバー名簿!$W$25,Ⅰ.構成メンバー名簿!$Q$25:$W$25,0),FALSE))","v":""},{"$f":"IF(AND(H174>0,SUM(H175:$H$290)=0),\"←ここまで値でコピー\",\"\")","v":""},null,null,0,null,{"$f":"IF(SUM($Q174:$Q$261)=0,\"\",J173+1)","v":""},{"$f":"IF(Ⅰ.構成メンバー名簿!S188<>\"\",Ⅰ.構成メンバー名簿!S188,\"\")","v":""},{"$f":"IF(Ⅰ.構成メンバー名簿!V188=\"\",\"\",Ⅰ.構成メンバー名簿!E188)","v":""},{"$f":"IF(Ⅰ.構成メンバー名簿!W188=\"\",\"\",Ⅰ.構成メンバー名簿!W188)","v":""},{"$f":"IF(AND(Q174>0,SUM($Q175:$Q$261)=0),\"←ここまで値でコピー\",\"\")","v":""},null,null,0]
[{"$f":"IF(MAX(Ⅰ.構成メンバー名簿!$Q$26:$Q$275)>A174,A174+1,\"\")","v":""},{"$f":"IF($A175=\"\",\"\",VLOOKUP($A175,Ⅰ.構成メンバー名簿!$Q$26:$W$275,MATCH(Ⅰ.構成メンバー名簿!$S$25,Ⅰ.構成メンバー名簿!$Q$25:$W$25,0),FALSE))","v":""},{"$f":"IF($A175=\"\",\"\",IF(VLOOKUP($A175,Ⅰ.構成メンバー名簿!$Q$26:$W$275,MATCH(Ⅰ.構成メンバー名簿!$T$25,Ⅰ.構成メンバー名簿!$Q$25:$W$25,0),FALSE)=\"\",\"\",VLOOKUP($A175,Ⅰ.構成メンバー名簿!$Q$26:$W$275,MATCH(Ⅰ.構成メンバー名簿!$T$25,Ⅰ.構成メンバー名簿!$Q$25:$W$25,0),FALSE)))","v":""},{"$f":"IF($A175=\"\",\"\",VLOOKUP($A175,Ⅰ.構成メンバー名簿!$Q$26:$W$275,MATCH(Ⅰ.構成メンバー名簿!$W$25,Ⅰ.構成メンバー名簿!$Q$25:$W$25,0),FALSE))","v":""},{"$f":"IF(AND(H175>0,SUM(H176:$H$290)=0),\"←ここまで値でコピー\",\"\")","v":""},null,null,0,null,{"$f":"IF(SUM($Q175:$Q$261)=0,\"\",J174+1)","v":""},{"$f":"IF(Ⅰ.構成メンバー名簿!S189<>\"\",Ⅰ.構成メンバー名簿!S189,\"\")","v":""},{"$f":"IF(Ⅰ.構成メンバー名簿!V189=\"\",\"\",Ⅰ.構成メンバー名簿!E189)","v":""},{"$f":"IF(Ⅰ.構成メンバー名簿!W189=\"\",\"\",Ⅰ.構成メンバー名簿!W189)","v":""},{"$f":"IF(AND(Q175>0,SUM($Q176:$Q$261)=0),\"←ここまで値でコピー\",\"\")","v":""},null,null,0]
[{"$f":"IF(MAX(Ⅰ.構成メンバー名簿!$Q$26:$Q$275)>A175,A175+1,\"\")","v":""},{"$f":"IF($A176=\"\",\"\",VLOOKUP($A176,Ⅰ.構成メンバー名簿!$Q$26:$W$275,MATCH(Ⅰ.構成メンバー名簿!$S$25,Ⅰ.構成メンバー名簿!$Q$25:$W$25,0),FALSE))","v":""},{"$f":"IF($A176=\"\",\"\",IF(VLOOKUP($A176,Ⅰ.構成メンバー名簿!$Q$26:$W$275,MATCH(Ⅰ.構成メンバー名簿!$T$25,Ⅰ.構成メンバー名簿!$Q$25:$W$25,0),FALSE)=\"\",\"\",VLOOKUP($A176,Ⅰ.構成メンバー名簿!$Q$26:$W$275,MATCH(Ⅰ.構成メンバー名簿!$T$25,Ⅰ.構成メンバー名簿!$Q$25:$W$25,0),FALSE)))","v":""},{"$f":"IF($A176=\"\",\"\",VLOOKUP($A176,Ⅰ.構成メンバー名簿!$Q$26:$W$275,MATCH(Ⅰ.構成メンバー名簿!$W$25,Ⅰ.構成メンバー名簿!$Q$25:$W$25,0),FALSE))","v":""},{"$f":"IF(AND(H176>0,SUM(H177:$H$290)=0),\"←ここまで値でコピー\",\"\")","v":""},null,null,0,null,{"$f":"IF(SUM($Q176:$Q$261)=0,\"\",J175+1)","v":""},{"$f":"IF(Ⅰ.構成メンバー名簿!S190<>\"\",Ⅰ.構成メンバー名簿!S190,\"\")","v":""},{"$f":"IF(Ⅰ.構成メンバー名簿!V190=\"\",\"\",Ⅰ.構成メンバー名簿!E190)","v":""},{"$f":"IF(Ⅰ.構成メンバー名簿!W190=\"\",\"\",Ⅰ.構成メンバー名簿!W190)","v":""},{"$f":"IF(AND(Q176>0,SUM($Q177:$Q$261)=0),\"←ここまで値でコピー\",\"\")","v":""},null,null,0]
[{"$f":"IF(MAX(Ⅰ.構成メンバー名簿!$Q$26:$Q$275)>A176,A176+1,\"\")","v":""},{"$f":"IF($A177=\"\",\"\",VLOOKUP($A177,Ⅰ.構成メンバー名簿!$Q$26:$W$275,MATCH(Ⅰ.構成メンバー名簿!$S$25,Ⅰ.構成メンバー名簿!$Q$25:$W$25,0),FALSE))","v":""},{"$f":"IF($A177=\"\",\"\",IF(VLOOKUP($A177,Ⅰ.構成メンバー名簿!$Q$26:$W$275,MATCH(Ⅰ.構成メンバー名簿!$T$25,Ⅰ.構成メンバー名簿!$Q$25:$W$25,0),FALSE)=\"\",\"\",VLOOKUP($A177,Ⅰ.構成メンバー名簿!$Q$26:$W$275,MATCH(Ⅰ.構成メンバー名簿!$T$25,Ⅰ.構成メンバー名簿!$Q$25:$W$25,0),FALSE)))","v":""},{"$f":"IF($A177=\"\",\"\",VLOOKUP($A177,Ⅰ.構成メンバー名簿!$Q$26:$W$275,MATCH(Ⅰ.構成メンバー名簿!$W$25,Ⅰ.構成メンバー名簿!$Q$25:$W$25,0),FALSE))","v":""},{"$f":"IF(AND(H177>0,SUM(H178:$H$290)=0),\"←ここまで値でコピー\",\"\")","v":""},null,null,0,null,{"$f":"IF(SUM($Q177:$Q$261)=0,\"\",J176+1)","v":""},{"$f":"IF(Ⅰ.構成メンバー名簿!S191<>\"\",Ⅰ.構成メンバー名簿!S191,\"\")","v":""},{"$f":"IF(Ⅰ.構成メンバー名簿!V191=\"\",\"\",Ⅰ.構成メンバー名簿!E191)","v":""},{"$f":"IF(Ⅰ.構成メンバー名簿!W191=\"\",\"\",Ⅰ.構成メンバー名簿!W191)","v":""},{"$f":"IF(AND(Q177>0,SUM($Q178:$Q$261)=0),\"←ここまで値でコピー\",\"\")","v":""},null,null,0]
[{"$f":"IF(MAX(Ⅰ.構成メンバー名簿!$Q$26:$Q$275)>A177,A177+1,\"\")","v":""},{"$f":"IF($A178=\"\",\"\",VLOOKUP($A178,Ⅰ.構成メンバー名簿!$Q$26:$W$275,MATCH(Ⅰ.構成メンバー名簿!$S$25,Ⅰ.構成メンバー名簿!$Q$25:$W$25,0),FALSE))","v":""},{"$f":"IF($A178=\"\",\"\",IF(VLOOKUP($A178,Ⅰ.構成メンバー名簿!$Q$26:$W$275,MATCH(Ⅰ.構成メンバー名簿!$T$25,Ⅰ.構成メンバー名簿!$Q$25:$W$25,0),FALSE)=\"\",\"\",VLOOKUP($A178,Ⅰ.構成メンバー名簿!$Q$26:$W$275,MATCH(Ⅰ.構成メンバー名簿!$T$25,Ⅰ.構成メンバー名簿!$Q$25:$W$25,0),FALSE)))","v":""},{"$f":"IF($A178=\"\",\"\",VLOOKUP($A178,Ⅰ.構成メンバー名簿!$Q$26:$W$275,MATCH(Ⅰ.構成メンバー名簿!$W$25,Ⅰ.構成メンバー名簿!$Q$25:$W$25,0),FALSE))","v":""},{"$f":"IF(AND(H178>0,SUM(H179:$H$290)=0),\"←ここまで値でコピー\",\"\")","v":""},null,null,0,null,{"$f":"IF(SUM($Q178:$Q$261)=0,\"\",J177+1)","v":""},{"$f":"IF(Ⅰ.構成メンバー名簿!S192<>\"\",Ⅰ.構成メンバー名簿!S192,\"\")","v":""},{"$f":"IF(Ⅰ.構成メンバー名簿!V192=\"\",\"\",Ⅰ.構成メンバー名簿!E192)","v":""},{"$f":"IF(Ⅰ.構成メンバー名簿!W192=\"\",\"\",Ⅰ.構成メンバー名簿!W192)","v":""},{"$f":"IF(AND(Q178>0,SUM($Q179:$Q$261)=0),\"←ここまで値でコピー\",\"\")","v":""},null,null,0]
[{"$f":"IF(MAX(Ⅰ.構成メンバー名簿!$Q$26:$Q$275)>A178,A178+1,\"\")","v":""},{"$f":"IF($A179=\"\",\"\",VLOOKUP($A179,Ⅰ.構成メンバー名簿!$Q$26:$W$275,MATCH(Ⅰ.構成メンバー名簿!$S$25,Ⅰ.構成メンバー名簿!$Q$25:$W$25,0),FALSE))","v":""},{"$f":"IF($A179=\"\",\"\",IF(VLOOKUP($A179,Ⅰ.構成メンバー名簿!$Q$26:$W$275,MATCH(Ⅰ.構成メンバー名簿!$T$25,Ⅰ.構成メンバー名簿!$Q$25:$W$25,0),FALSE)=\"\",\"\",VLOOKUP($A179,Ⅰ.構成メンバー名簿!$Q$26:$W$275,MATCH(Ⅰ.構成メンバー名簿!$T$25,Ⅰ.構成メンバー名簿!$Q$25:$W$25,0),FALSE)))","v":""},{"$f":"IF($A179=\"\",\"\",VLOOKUP($A179,Ⅰ.構成メンバー名簿!$Q$26:$W$275,MATCH(Ⅰ.構成メンバー名簿!$W$25,Ⅰ.構成メンバー名簿!$Q$25:$W$25,0),FALSE))","v":""},{"$f":"IF(AND(H179>0,SUM(H180:$H$290)=0),\"←ここまで値でコピー\",\"\")","v":""},null,null,0,null,{"$f":"IF(SUM($Q179:$Q$261)=0,\"\",J178+1)","v":""},{"$f":"IF(Ⅰ.構成メンバー名簿!S193<>\"\",Ⅰ.構成メンバー名簿!S193,\"\")","v":""},{"$f":"IF(Ⅰ.構成メンバー名簿!V193=\"\",\"\",Ⅰ.構成メンバー名簿!E193)","v":""},{"$f":"IF(Ⅰ.構成メンバー名簿!W193=\"\",\"\",Ⅰ.構成メンバー名簿!W193)","v":""},{"$f":"IF(AND(Q179>0,SUM($Q180:$Q$261)=0),\"←ここまで値でコピー\",\"\")","v":""},null,null,0]
[{"$f":"IF(MAX(Ⅰ.構成メンバー名簿!$Q$26:$Q$275)>A179,A179+1,\"\")","v":""},{"$f":"IF($A180=\"\",\"\",VLOOKUP($A180,Ⅰ.構成メンバー名簿!$Q$26:$W$275,MATCH(Ⅰ.構成メンバー名簿!$S$25,Ⅰ.構成メンバー名簿!$Q$25:$W$25,0),FALSE))","v":""},{"$f":"IF($A180=\"\",\"\",IF(VLOOKUP($A180,Ⅰ.構成メンバー名簿!$Q$26:$W$275,MATCH(Ⅰ.構成メンバー名簿!$T$25,Ⅰ.構成メンバー名簿!$Q$25:$W$25,0),FALSE)=\"\",\"\",VLOOKUP($A180,Ⅰ.構成メンバー名簿!$Q$26:$W$275,MATCH(Ⅰ.構成メンバー名簿!$T$25,Ⅰ.構成メンバー名簿!$Q$25:$W$25,0),FALSE)))","v":""},{"$f":"IF($A180=\"\",\"\",VLOOKUP($A180,Ⅰ.構成メンバー名簿!$Q$26:$W$275,MATCH(Ⅰ.構成メンバー名簿!$W$25,Ⅰ.構成メンバー名簿!$Q$25:$W$25,0),FALSE))","v":""},{"$f":"IF(AND(H180>0,SUM(H181:$H$290)=0),\"←ここまで値でコピー\",\"\")","v":""},null,null,0,null,{"$f":"IF(SUM($Q180:$Q$261)=0,\"\",J179+1)","v":""},{"$f":"IF(Ⅰ.構成メンバー名簿!S194<>\"\",Ⅰ.構成メンバー名簿!S194,\"\")","v":""},{"$f":"IF(Ⅰ.構成メンバー名簿!V194=\"\",\"\",Ⅰ.構成メンバー名簿!E194)","v":""},{"$f":"IF(Ⅰ.構成メンバー名簿!W194=\"\",\"\",Ⅰ.構成メンバー名簿!W194)","v":""},{"$f":"IF(AND(Q180>0,SUM($Q181:$Q$261)=0),\"←ここまで値でコピー\",\"\")","v":""},null,null,0]
[{"$f":"IF(MAX(Ⅰ.構成メンバー名簿!$Q$26:$Q$275)>A180,A180+1,\"\")","v":""},{"$f":"IF($A181=\"\",\"\",VLOOKUP($A181,Ⅰ.構成メンバー名簿!$Q$26:$W$275,MATCH(Ⅰ.構成メンバー名簿!$S$25,Ⅰ.構成メンバー名簿!$Q$25:$W$25,0),FALSE))","v":""},{"$f":"IF($A181=\"\",\"\",IF(VLOOKUP($A181,Ⅰ.構成メンバー名簿!$Q$26:$W$275,MATCH(Ⅰ.構成メンバー名簿!$T$25,Ⅰ.構成メンバー名簿!$Q$25:$W$25,0),FALSE)=\"\",\"\",VLOOKUP($A181,Ⅰ.構成メンバー名簿!$Q$26:$W$275,MATCH(Ⅰ.構成メンバー名簿!$T$25,Ⅰ.構成メンバー名簿!$Q$25:$W$25,0),FALSE)))","v":""},{"$f":"IF($A181=\"\",\"\",VLOOKUP($A181,Ⅰ.構成メンバー名簿!$Q$26:$W$275,MATCH(Ⅰ.構成メンバー名簿!$W$25,Ⅰ.構成メンバー名簿!$Q$25:$W$25,0),FALSE))","v":""},{"$f":"IF(AND(H181>0,SUM(H182:$H$290)=0),\"←ここまで値でコピー\",\"\")","v":""},null,null,0,null,{"$f":"IF(SUM($Q181:$Q$261)=0,\"\",J180+1)","v":""},{"$f":"IF(Ⅰ.構成メンバー名簿!S195<>\"\",Ⅰ.構成メンバー名簿!S195,\"\")","v":""},{"$f":"IF(Ⅰ.構成メンバー名簿!V195=\"\",\"\",Ⅰ.構成メンバー名簿!E195)","v":""},{"$f":"IF(Ⅰ.構成メンバー名簿!W195=\"\",\"\",Ⅰ.構成メンバー名簿!W195)","v":""},{"$f":"IF(AND(Q181>0,SUM($Q182:$Q$261)=0),\"←ここまで値でコピー\",\"\")","v":""},null,null,0]
[{"$f":"IF(MAX(Ⅰ.構成メンバー名簿!$Q$26:$Q$275)>A181,A181+1,\"\")","v":""},{"$f":"IF($A182=\"\",\"\",VLOOKUP($A182,Ⅰ.構成メンバー名簿!$Q$26:$W$275,MATCH(Ⅰ.構成メンバー名簿!$S$25,Ⅰ.構成メンバー名簿!$Q$25:$W$25,0),FALSE))","v":""},{"$f":"IF($A182=\"\",\"\",IF(VLOOKUP($A182,Ⅰ.構成メンバー名簿!$Q$26:$W$275,MATCH(Ⅰ.構成メンバー名簿!$T$25,Ⅰ.構成メンバー名簿!$Q$25:$W$25,0),FALSE)=\"\",\"\",VLOOKUP($A182,Ⅰ.構成メンバー名簿!$Q$26:$W$275,MATCH(Ⅰ.構成メンバー名簿!$T$25,Ⅰ.構成メンバー名簿!$Q$25:$W$25,0),FALSE)))","v":""},{"$f":"IF($A182=\"\",\"\",VLOOKUP($A182,Ⅰ.構成メンバー名簿!$Q$26:$W$275,MATCH(Ⅰ.構成メンバー名簿!$W$25,Ⅰ.構成メンバー名簿!$Q$25:$W$25,0),FALSE))","v":""},{"$f":"IF(AND(H182>0,SUM(H183:$H$290)=0),\"←ここまで値でコピー\",\"\")","v":""},null,null,0,null,{"$f":"IF(SUM($Q182:$Q$261)=0,\"\",J181+1)","v":""},{"$f":"IF(Ⅰ.構成メンバー名簿!S196<>\"\",Ⅰ.構成メンバー名簿!S196,\"\")","v":""},{"$f":"IF(Ⅰ.構成メンバー名簿!V196=\"\",\"\",Ⅰ.構成メンバー名簿!E196)","v":""},{"$f":"IF(Ⅰ.構成メンバー名簿!W196=\"\",\"\",Ⅰ.構成メンバー名簿!W196)","v":""},{"$f":"IF(AND(Q182>0,SUM($Q183:$Q$261)=0),\"←ここまで値でコピー\",\"\")","v":""},null,null,0]
[{"$f":"IF(MAX(Ⅰ.構成メンバー名簿!$Q$26:$Q$275)>A182,A182+1,\"\")","v":""},{"$f":"IF($A183=\"\",\"\",VLOOKUP($A183,Ⅰ.構成メンバー名簿!$Q$26:$W$275,MATCH(Ⅰ.構成メンバー名簿!$S$25,Ⅰ.構成メンバー名簿!$Q$25:$W$25,0),FALSE))","v":""},{"$f":"IF($A183=\"\",\"\",IF(VLOOKUP($A183,Ⅰ.構成メンバー名簿!$Q$26:$W$275,MATCH(Ⅰ.構成メンバー名簿!$T$25,Ⅰ.構成メンバー名簿!$Q$25:$W$25,0),FALSE)=\"\",\"\",VLOOKUP($A183,Ⅰ.構成メンバー名簿!$Q$26:$W$275,MATCH(Ⅰ.構成メンバー名簿!$T$25,Ⅰ.構成メンバー名簿!$Q$25:$W$25,0),FALSE)))","v":""},{"$f":"IF($A183=\"\",\"\",VLOOKUP($A183,Ⅰ.構成メンバー名簿!$Q$26:$W$275,MATCH(Ⅰ.構成メンバー名簿!$W$25,Ⅰ.構成メンバー名簿!$Q$25:$W$25,0),FALSE))","v":""},{"$f":"IF(AND(H183>0,SUM(H184:$H$290)=0),\"←ここまで値でコピー\",\"\")","v":""},null,null,0,null,{"$f":"IF(SUM($Q183:$Q$261)=0,\"\",J182+1)","v":""},{"$f":"IF(Ⅰ.構成メンバー名簿!S197<>\"\",Ⅰ.構成メンバー名簿!S197,\"\")","v":""},{"$f":"IF(Ⅰ.構成メンバー名簿!V197=\"\",\"\",Ⅰ.構成メンバー名簿!E197)","v":""},{"$f":"IF(Ⅰ.構成メンバー名簿!W197=\"\",\"\",Ⅰ.構成メンバー名簿!W197)","v":""},{"$f":"IF(AND(Q183>0,SUM($Q184:$Q$261)=0),\"←ここまで値でコピー\",\"\")","v":""},null,null,0]
[{"$f":"IF(MAX(Ⅰ.構成メンバー名簿!$Q$26:$Q$275)>A183,A183+1,\"\")","v":""},{"$f":"IF($A184=\"\",\"\",VLOOKUP($A184,Ⅰ.構成メンバー名簿!$Q$26:$W$275,MATCH(Ⅰ.構成メンバー名簿!$S$25,Ⅰ.構成メンバー名簿!$Q$25:$W$25,0),FALSE))","v":""},{"$f":"IF($A184=\"\",\"\",IF(VLOOKUP($A184,Ⅰ.構成メンバー名簿!$Q$26:$W$275,MATCH(Ⅰ.構成メンバー名簿!$T$25,Ⅰ.構成メンバー名簿!$Q$25:$W$25,0),FALSE)=\"\",\"\",VLOOKUP($A184,Ⅰ.構成メンバー名簿!$Q$26:$W$275,MATCH(Ⅰ.構成メンバー名簿!$T$25,Ⅰ.構成メンバー名簿!$Q$25:$W$25,0),FALSE)))","v":""},{"$f":"IF($A184=\"\",\"\",VLOOKUP($A184,Ⅰ.構成メンバー名簿!$Q$26:$W$275,MATCH(Ⅰ.構成メンバー名簿!$W$25,Ⅰ.構成メンバー名簿!$Q$25:$W$25,0),FALSE))","v":""},{"$f":"IF(AND(H184>0,SUM(H185:$H$290)=0),\"←ここまで値でコピー\",\"\")","v":""},null,null,0,null,{"$f":"IF(SUM($Q184:$Q$261)=0,\"\",J183+1)","v":""},{"$f":"IF(Ⅰ.構成メンバー名簿!S198<>\"\",Ⅰ.構成メンバー名簿!S198,\"\")","v":""},{"$f":"IF(Ⅰ.構成メンバー名簿!V198=\"\",\"\",Ⅰ.構成メンバー名簿!E198)","v":""},{"$f":"IF(Ⅰ.構成メンバー名簿!W198=\"\",\"\",Ⅰ.構成メンバー名簿!W198)","v":""},{"$f":"IF(AND(Q184>0,SUM($Q185:$Q$261)=0),\"←ここまで値でコピー\",\"\")","v":""},null,null,0]
[{"$f":"IF(MAX(Ⅰ.構成メンバー名簿!$Q$26:$Q$275)>A184,A184+1,\"\")","v":""},{"$f":"IF($A185=\"\",\"\",VLOOKUP($A185,Ⅰ.構成メンバー名簿!$Q$26:$W$275,MATCH(Ⅰ.構成メンバー名簿!$S$25,Ⅰ.構成メンバー名簿!$Q$25:$W$25,0),FALSE))","v":""},{"$f":"IF($A185=\"\",\"\",IF(VLOOKUP($A185,Ⅰ.構成メンバー名簿!$Q$26:$W$275,MATCH(Ⅰ.構成メンバー名簿!$T$25,Ⅰ.構成メンバー名簿!$Q$25:$W$25,0),FALSE)=\"\",\"\",VLOOKUP($A185,Ⅰ.構成メンバー名簿!$Q$26:$W$275,MATCH(Ⅰ.構成メンバー名簿!$T$25,Ⅰ.構成メンバー名簿!$Q$25:$W$25,0),FALSE)))","v":""},{"$f":"IF($A185=\"\",\"\",VLOOKUP($A185,Ⅰ.構成メンバー名簿!$Q$26:$W$275,MATCH(Ⅰ.構成メンバー名簿!$W$25,Ⅰ.構成メンバー名簿!$Q$25:$W$25,0),FALSE))","v":""},{"$f":"IF(AND(H185>0,SUM(H186:$H$290)=0),\"←ここまで値でコピー\",\"\")","v":""},null,null,0,null,{"$f":"IF(SUM($Q185:$Q$261)=0,\"\",J184+1)","v":""},{"$f":"IF(Ⅰ.構成メンバー名簿!S199<>\"\",Ⅰ.構成メンバー名簿!S199,\"\")","v":""},{"$f":"IF(Ⅰ.構成メンバー名簿!V199=\"\",\"\",Ⅰ.構成メンバー名簿!E199)","v":""},{"$f":"IF(Ⅰ.構成メンバー名簿!W199=\"\",\"\",Ⅰ.構成メンバー名簿!W199)","v":""},{"$f":"IF(AND(Q185>0,SUM($Q186:$Q$261)=0),\"←ここまで値でコピー\",\"\")","v":""},null,null,0]
[{"$f":"IF(MAX(Ⅰ.構成メンバー名簿!$Q$26:$Q$275)>A185,A185+1,\"\")","v":""},{"$f":"IF($A186=\"\",\"\",VLOOKUP($A186,Ⅰ.構成メンバー名簿!$Q$26:$W$275,MATCH(Ⅰ.構成メンバー名簿!$S$25,Ⅰ.構成メンバー名簿!$Q$25:$W$25,0),FALSE))","v":""},{"$f":"IF($A186=\"\",\"\",IF(VLOOKUP($A186,Ⅰ.構成メンバー名簿!$Q$26:$W$275,MATCH(Ⅰ.構成メンバー名簿!$T$25,Ⅰ.構成メンバー名簿!$Q$25:$W$25,0),FALSE)=\"\",\"\",VLOOKUP($A186,Ⅰ.構成メンバー名簿!$Q$26:$W$275,MATCH(Ⅰ.構成メンバー名簿!$T$25,Ⅰ.構成メンバー名簿!$Q$25:$W$25,0),FALSE)))","v":""},{"$f":"IF($A186=\"\",\"\",VLOOKUP($A186,Ⅰ.構成メンバー名簿!$Q$26:$W$275,MATCH(Ⅰ.構成メンバー名簿!$W$25,Ⅰ.構成メンバー名簿!$Q$25:$W$25,0),FALSE))","v":""},{"$f":"IF(AND(H186>0,SUM(H187:$H$290)=0),\"←ここまで値でコピー\",\"\")","v":""},null,null,0,null,{"$f":"IF(SUM($Q186:$Q$261)=0,\"\",J185+1)","v":""},{"$f":"IF(Ⅰ.構成メンバー名簿!S200<>\"\",Ⅰ.構成メンバー名簿!S200,\"\")","v":""},{"$f":"IF(Ⅰ.構成メンバー名簿!V200=\"\",\"\",Ⅰ.構成メンバー名簿!E200)","v":""},{"$f":"IF(Ⅰ.構成メンバー名簿!W200=\"\",\"\",Ⅰ.構成メンバー名簿!W200)","v":""},{"$f":"IF(AND(Q186>0,SUM($Q187:$Q$261)=0),\"←ここまで値でコピー\",\"\")","v":""},null,null,0]
[{"$f":"IF(MAX(Ⅰ.構成メンバー名簿!$Q$26:$Q$275)>A186,A186+1,\"\")","v":""},{"$f":"IF($A187=\"\",\"\",VLOOKUP($A187,Ⅰ.構成メンバー名簿!$Q$26:$W$275,MATCH(Ⅰ.構成メンバー名簿!$S$25,Ⅰ.構成メンバー名簿!$Q$25:$W$25,0),FALSE))","v":""},{"$f":"IF($A187=\"\",\"\",IF(VLOOKUP($A187,Ⅰ.構成メンバー名簿!$Q$26:$W$275,MATCH(Ⅰ.構成メンバー名簿!$T$25,Ⅰ.構成メンバー名簿!$Q$25:$W$25,0),FALSE)=\"\",\"\",VLOOKUP($A187,Ⅰ.構成メンバー名簿!$Q$26:$W$275,MATCH(Ⅰ.構成メンバー名簿!$T$25,Ⅰ.構成メンバー名簿!$Q$25:$W$25,0),FALSE)))","v":""},{"$f":"IF($A187=\"\",\"\",VLOOKUP($A187,Ⅰ.構成メンバー名簿!$Q$26:$W$275,MATCH(Ⅰ.構成メンバー名簿!$W$25,Ⅰ.構成メンバー名簿!$Q$25:$W$25,0),FALSE))","v":""},{"$f":"IF(AND(H187>0,SUM(H188:$H$290)=0),\"←ここまで値でコピー\",\"\")","v":""},null,null,0,null,{"$f":"IF(SUM($Q187:$Q$261)=0,\"\",J186+1)","v":""},{"$f":"IF(Ⅰ.構成メンバー名簿!S201<>\"\",Ⅰ.構成メンバー名簿!S201,\"\")","v":""},{"$f":"IF(Ⅰ.構成メンバー名簿!V201=\"\",\"\",Ⅰ.構成メンバー名簿!E201)","v":""},{"$f":"IF(Ⅰ.構成メンバー名簿!W201=\"\",\"\",Ⅰ.構成メンバー名簿!W201)","v":""},{"$f":"IF(AND(Q187>0,SUM($Q188:$Q$261)=0),\"←ここまで値でコピー\",\"\")","v":""},null,null,0]
[{"$f":"IF(MAX(Ⅰ.構成メンバー名簿!$Q$26:$Q$275)>A187,A187+1,\"\")","v":""},{"$f":"IF($A188=\"\",\"\",VLOOKUP($A188,Ⅰ.構成メンバー名簿!$Q$26:$W$275,MATCH(Ⅰ.構成メンバー名簿!$S$25,Ⅰ.構成メンバー名簿!$Q$25:$W$25,0),FALSE))","v":""},{"$f":"IF($A188=\"\",\"\",IF(VLOOKUP($A188,Ⅰ.構成メンバー名簿!$Q$26:$W$275,MATCH(Ⅰ.構成メンバー名簿!$T$25,Ⅰ.構成メンバー名簿!$Q$25:$W$25,0),FALSE)=\"\",\"\",VLOOKUP($A188,Ⅰ.構成メンバー名簿!$Q$26:$W$275,MATCH(Ⅰ.構成メンバー名簿!$T$25,Ⅰ.構成メンバー名簿!$Q$25:$W$25,0),FALSE)))","v":""},{"$f":"IF($A188=\"\",\"\",VLOOKUP($A188,Ⅰ.構成メンバー名簿!$Q$26:$W$275,MATCH(Ⅰ.構成メンバー名簿!$W$25,Ⅰ.構成メンバー名簿!$Q$25:$W$25,0),FALSE))","v":""},{"$f":"IF(AND(H188>0,SUM(H189:$H$290)=0),\"←ここまで値でコピー\",\"\")","v":""},null,null,0,null,{"$f":"IF(SUM($Q188:$Q$261)=0,\"\",J187+1)","v":""},{"$f":"IF(Ⅰ.構成メンバー名簿!S202<>\"\",Ⅰ.構成メンバー名簿!S202,\"\")","v":""},{"$f":"IF(Ⅰ.構成メンバー名簿!V202=\"\",\"\",Ⅰ.構成メンバー名簿!E202)","v":""},{"$f":"IF(Ⅰ.構成メンバー名簿!W202=\"\",\"\",Ⅰ.構成メンバー名簿!W202)","v":""},{"$f":"IF(AND(Q188>0,SUM($Q189:$Q$261)=0),\"←ここまで値でコピー\",\"\")","v":""},null,null,0]
[{"$f":"IF(MAX(Ⅰ.構成メンバー名簿!$Q$26:$Q$275)>A188,A188+1,\"\")","v":""},{"$f":"IF($A189=\"\",\"\",VLOOKUP($A189,Ⅰ.構成メンバー名簿!$Q$26:$W$275,MATCH(Ⅰ.構成メンバー名簿!$S$25,Ⅰ.構成メンバー名簿!$Q$25:$W$25,0),FALSE))","v":""},{"$f":"IF($A189=\"\",\"\",IF(VLOOKUP($A189,Ⅰ.構成メンバー名簿!$Q$26:$W$275,MATCH(Ⅰ.構成メンバー名簿!$T$25,Ⅰ.構成メンバー名簿!$Q$25:$W$25,0),FALSE)=\"\",\"\",VLOOKUP($A189,Ⅰ.構成メンバー名簿!$Q$26:$W$275,MATCH(Ⅰ.構成メンバー名簿!$T$25,Ⅰ.構成メンバー名簿!$Q$25:$W$25,0),FALSE)))","v":""},{"$f":"IF($A189=\"\",\"\",VLOOKUP($A189,Ⅰ.構成メンバー名簿!$Q$26:$W$275,MATCH(Ⅰ.構成メンバー名簿!$W$25,Ⅰ.構成メンバー名簿!$Q$25:$W$25,0),FALSE))","v":""},{"$f":"IF(AND(H189>0,SUM(H190:$H$290)=0),\"←ここまで値でコピー\",\"\")","v":""},null,null,0,null,{"$f":"IF(SUM($Q189:$Q$261)=0,\"\",J188+1)","v":""},{"$f":"IF(Ⅰ.構成メンバー名簿!S203<>\"\",Ⅰ.構成メンバー名簿!S203,\"\")","v":""},{"$f":"IF(Ⅰ.構成メンバー名簿!V203=\"\",\"\",Ⅰ.構成メンバー名簿!E203)","v":""},{"$f":"IF(Ⅰ.構成メンバー名簿!W203=\"\",\"\",Ⅰ.構成メンバー名簿!W203)","v":""},{"$f":"IF(AND(Q189>0,SUM($Q190:$Q$261)=0),\"←ここまで値でコピー\",\"\")","v":""},null,null,0]
[{"$f":"IF(MAX(Ⅰ.構成メンバー名簿!$Q$26:$Q$275)>A189,A189+1,\"\")","v":""},{"$f":"IF($A190=\"\",\"\",VLOOKUP($A190,Ⅰ.構成メンバー名簿!$Q$26:$W$275,MATCH(Ⅰ.構成メンバー名簿!$S$25,Ⅰ.構成メンバー名簿!$Q$25:$W$25,0),FALSE))","v":""},{"$f":"IF($A190=\"\",\"\",IF(VLOOKUP($A190,Ⅰ.構成メンバー名簿!$Q$26:$W$275,MATCH(Ⅰ.構成メンバー名簿!$T$25,Ⅰ.構成メンバー名簿!$Q$25:$W$25,0),FALSE)=\"\",\"\",VLOOKUP($A190,Ⅰ.構成メンバー名簿!$Q$26:$W$275,MATCH(Ⅰ.構成メンバー名簿!$T$25,Ⅰ.構成メンバー名簿!$Q$25:$W$25,0),FALSE)))","v":""},{"$f":"IF($A190=\"\",\"\",VLOOKUP($A190,Ⅰ.構成メンバー名簿!$Q$26:$W$275,MATCH(Ⅰ.構成メンバー名簿!$W$25,Ⅰ.構成メンバー名簿!$Q$25:$W$25,0),FALSE))","v":""},{"$f":"IF(AND(H190>0,SUM(H191:$H$290)=0),\"←ここまで値でコピー\",\"\")","v":""},null,null,0,null,{"$f":"IF(SUM($Q190:$Q$261)=0,\"\",J189+1)","v":""},{"$f":"IF(Ⅰ.構成メンバー名簿!S204<>\"\",Ⅰ.構成メンバー名簿!S204,\"\")","v":""},{"$f":"IF(Ⅰ.構成メンバー名簿!V204=\"\",\"\",Ⅰ.構成メンバー名簿!E204)","v":""},{"$f":"IF(Ⅰ.構成メンバー名簿!W204=\"\",\"\",Ⅰ.構成メンバー名簿!W204)","v":""},{"$f":"IF(AND(Q190>0,SUM($Q191:$Q$261)=0),\"←ここまで値でコピー\",\"\")","v":""},null,null,0]
[{"$f":"IF(MAX(Ⅰ.構成メンバー名簿!$Q$26:$Q$275)>A190,A190+1,\"\")","v":""},{"$f":"IF($A191=\"\",\"\",VLOOKUP($A191,Ⅰ.構成メンバー名簿!$Q$26:$W$275,MATCH(Ⅰ.構成メンバー名簿!$S$25,Ⅰ.構成メンバー名簿!$Q$25:$W$25,0),FALSE))","v":""},{"$f":"IF($A191=\"\",\"\",IF(VLOOKUP($A191,Ⅰ.構成メンバー名簿!$Q$26:$W$275,MATCH(Ⅰ.構成メンバー名簿!$T$25,Ⅰ.構成メンバー名簿!$Q$25:$W$25,0),FALSE)=\"\",\"\",VLOOKUP($A191,Ⅰ.構成メンバー名簿!$Q$26:$W$275,MATCH(Ⅰ.構成メンバー名簿!$T$25,Ⅰ.構成メンバー名簿!$Q$25:$W$25,0),FALSE)))","v":""},{"$f":"IF($A191=\"\",\"\",VLOOKUP($A191,Ⅰ.構成メンバー名簿!$Q$26:$W$275,MATCH(Ⅰ.構成メンバー名簿!$W$25,Ⅰ.構成メンバー名簿!$Q$25:$W$25,0),FALSE))","v":""},{"$f":"IF(AND(H191>0,SUM(H192:$H$290)=0),\"←ここまで値でコピー\",\"\")","v":""},null,null,0,null,{"$f":"IF(SUM($Q191:$Q$261)=0,\"\",J190+1)","v":""},{"$f":"IF(Ⅰ.構成メンバー名簿!S205<>\"\",Ⅰ.構成メンバー名簿!S205,\"\")","v":""},{"$f":"IF(Ⅰ.構成メンバー名簿!V205=\"\",\"\",Ⅰ.構成メンバー名簿!E205)","v":""},{"$f":"IF(Ⅰ.構成メンバー名簿!W205=\"\",\"\",Ⅰ.構成メンバー名簿!W205)","v":""},{"$f":"IF(AND(Q191>0,SUM($Q192:$Q$261)=0),\"←ここまで値でコピー\",\"\")","v":""},null,null,0]
[{"$f":"IF(MAX(Ⅰ.構成メンバー名簿!$Q$26:$Q$275)>A191,A191+1,\"\")","v":""},{"$f":"IF($A192=\"\",\"\",VLOOKUP($A192,Ⅰ.構成メンバー名簿!$Q$26:$W$275,MATCH(Ⅰ.構成メンバー名簿!$S$25,Ⅰ.構成メンバー名簿!$Q$25:$W$25,0),FALSE))","v":""},{"$f":"IF($A192=\"\",\"\",IF(VLOOKUP($A192,Ⅰ.構成メンバー名簿!$Q$26:$W$275,MATCH(Ⅰ.構成メンバー名簿!$T$25,Ⅰ.構成メンバー名簿!$Q$25:$W$25,0),FALSE)=\"\",\"\",VLOOKUP($A192,Ⅰ.構成メンバー名簿!$Q$26:$W$275,MATCH(Ⅰ.構成メンバー名簿!$T$25,Ⅰ.構成メンバー名簿!$Q$25:$W$25,0),FALSE)))","v":""},{"$f":"IF($A192=\"\",\"\",VLOOKUP($A192,Ⅰ.構成メンバー名簿!$Q$26:$W$275,MATCH(Ⅰ.構成メンバー名簿!$W$25,Ⅰ.構成メンバー名簿!$Q$25:$W$25,0),FALSE))","v":""},{"$f":"IF(AND(H192>0,SUM(H193:$H$290)=0),\"←ここまで値でコピー\",\"\")","v":""},null,null,0,null,{"$f":"IF(SUM($Q192:$Q$261)=0,\"\",J191+1)","v":""},{"$f":"IF(Ⅰ.構成メンバー名簿!S206<>\"\",Ⅰ.構成メンバー名簿!S206,\"\")","v":""},{"$f":"IF(Ⅰ.構成メンバー名簿!V206=\"\",\"\",Ⅰ.構成メンバー名簿!E206)","v":""},{"$f":"IF(Ⅰ.構成メンバー名簿!W206=\"\",\"\",Ⅰ.構成メンバー名簿!W206)","v":""},{"$f":"IF(AND(Q192>0,SUM($Q193:$Q$261)=0),\"←ここまで値でコピー\",\"\")","v":""},null,null,0]
[{"$f":"IF(MAX(Ⅰ.構成メンバー名簿!$Q$26:$Q$275)>A192,A192+1,\"\")","v":""},{"$f":"IF($A193=\"\",\"\",VLOOKUP($A193,Ⅰ.構成メンバー名簿!$Q$26:$W$275,MATCH(Ⅰ.構成メンバー名簿!$S$25,Ⅰ.構成メンバー名簿!$Q$25:$W$25,0),FALSE))","v":""},{"$f":"IF($A193=\"\",\"\",IF(VLOOKUP($A193,Ⅰ.構成メンバー名簿!$Q$26:$W$275,MATCH(Ⅰ.構成メンバー名簿!$T$25,Ⅰ.構成メンバー名簿!$Q$25:$W$25,0),FALSE)=\"\",\"\",VLOOKUP($A193,Ⅰ.構成メンバー名簿!$Q$26:$W$275,MATCH(Ⅰ.構成メンバー名簿!$T$25,Ⅰ.構成メンバー名簿!$Q$25:$W$25,0),FALSE)))","v":""},{"$f":"IF($A193=\"\",\"\",VLOOKUP($A193,Ⅰ.構成メンバー名簿!$Q$26:$W$275,MATCH(Ⅰ.構成メンバー名簿!$W$25,Ⅰ.構成メンバー名簿!$Q$25:$W$25,0),FALSE))","v":""},{"$f":"IF(AND(H193>0,SUM(H194:$H$290)=0),\"←ここまで値でコピー\",\"\")","v":""},null,null,0,null,{"$f":"IF(SUM($Q193:$Q$261)=0,\"\",J192+1)","v":""},{"$f":"IF(Ⅰ.構成メンバー名簿!S207<>\"\",Ⅰ.構成メンバー名簿!S207,\"\")","v":""},{"$f":"IF(Ⅰ.構成メンバー名簿!V207=\"\",\"\",Ⅰ.構成メンバー名簿!E207)","v":""},{"$f":"IF(Ⅰ.構成メンバー名簿!W207=\"\",\"\",Ⅰ.構成メンバー名簿!W207)","v":""},{"$f":"IF(AND(Q193>0,SUM($Q194:$Q$261)=0),\"←ここまで値でコピー\",\"\")","v":""},null,null,0]
[{"$f":"IF(MAX(Ⅰ.構成メンバー名簿!$Q$26:$Q$275)>A193,A193+1,\"\")","v":""},{"$f":"IF($A194=\"\",\"\",VLOOKUP($A194,Ⅰ.構成メンバー名簿!$Q$26:$W$275,MATCH(Ⅰ.構成メンバー名簿!$S$25,Ⅰ.構成メンバー名簿!$Q$25:$W$25,0),FALSE))","v":""},{"$f":"IF($A194=\"\",\"\",IF(VLOOKUP($A194,Ⅰ.構成メンバー名簿!$Q$26:$W$275,MATCH(Ⅰ.構成メンバー名簿!$T$25,Ⅰ.構成メンバー名簿!$Q$25:$W$25,0),FALSE)=\"\",\"\",VLOOKUP($A194,Ⅰ.構成メンバー名簿!$Q$26:$W$275,MATCH(Ⅰ.構成メンバー名簿!$T$25,Ⅰ.構成メンバー名簿!$Q$25:$W$25,0),FALSE)))","v":""},{"$f":"IF($A194=\"\",\"\",VLOOKUP($A194,Ⅰ.構成メンバー名簿!$Q$26:$W$275,MATCH(Ⅰ.構成メンバー名簿!$W$25,Ⅰ.構成メンバー名簿!$Q$25:$W$25,0),FALSE))","v":""},{"$f":"IF(AND(H194>0,SUM(H195:$H$290)=0),\"←ここまで値でコピー\",\"\")","v":""},null,null,0,null,{"$f":"IF(SUM($Q194:$Q$261)=0,\"\",J193+1)","v":""},{"$f":"IF(Ⅰ.構成メンバー名簿!S208<>\"\",Ⅰ.構成メンバー名簿!S208,\"\")","v":""},{"$f":"IF(Ⅰ.構成メンバー名簿!V208=\"\",\"\",Ⅰ.構成メンバー名簿!E208)","v":""},{"$f":"IF(Ⅰ.構成メンバー名簿!W208=\"\",\"\",Ⅰ.構成メンバー名簿!W208)","v":""},{"$f":"IF(AND(Q194>0,SUM($Q195:$Q$261)=0),\"←ここまで値でコピー\",\"\")","v":""},null,null,0]
[{"$f":"IF(MAX(Ⅰ.構成メンバー名簿!$Q$26:$Q$275)>A194,A194+1,\"\")","v":""},{"$f":"IF($A195=\"\",\"\",VLOOKUP($A195,Ⅰ.構成メンバー名簿!$Q$26:$W$275,MATCH(Ⅰ.構成メンバー名簿!$S$25,Ⅰ.構成メンバー名簿!$Q$25:$W$25,0),FALSE))","v":""},{"$f":"IF($A195=\"\",\"\",IF(VLOOKUP($A195,Ⅰ.構成メンバー名簿!$Q$26:$W$275,MATCH(Ⅰ.構成メンバー名簿!$T$25,Ⅰ.構成メンバー名簿!$Q$25:$W$25,0),FALSE)=\"\",\"\",VLOOKUP($A195,Ⅰ.構成メンバー名簿!$Q$26:$W$275,MATCH(Ⅰ.構成メンバー名簿!$T$25,Ⅰ.構成メンバー名簿!$Q$25:$W$25,0),FALSE)))","v":""},{"$f":"IF($A195=\"\",\"\",VLOOKUP($A195,Ⅰ.構成メンバー名簿!$Q$26:$W$275,MATCH(Ⅰ.構成メンバー名簿!$W$25,Ⅰ.構成メンバー名簿!$Q$25:$W$25,0),FALSE))","v":""},{"$f":"IF(AND(H195>0,SUM(H196:$H$290)=0),\"←ここまで値でコピー\",\"\")","v":""},null,null,0,null,{"$f":"IF(SUM($Q195:$Q$261)=0,\"\",J194+1)","v":""},{"$f":"IF(Ⅰ.構成メンバー名簿!S209<>\"\",Ⅰ.構成メンバー名簿!S209,\"\")","v":""},{"$f":"IF(Ⅰ.構成メンバー名簿!V209=\"\",\"\",Ⅰ.構成メンバー名簿!E209)","v":""},{"$f":"IF(Ⅰ.構成メンバー名簿!W209=\"\",\"\",Ⅰ.構成メンバー名簿!W209)","v":""},{"$f":"IF(AND(Q195>0,SUM($Q196:$Q$261)=0),\"←ここまで値でコピー\",\"\")","v":""},null,null,0]
[{"$f":"IF(MAX(Ⅰ.構成メンバー名簿!$Q$26:$Q$275)>A195,A195+1,\"\")","v":""},{"$f":"IF($A196=\"\",\"\",VLOOKUP($A196,Ⅰ.構成メンバー名簿!$Q$26:$W$275,MATCH(Ⅰ.構成メンバー名簿!$S$25,Ⅰ.構成メンバー名簿!$Q$25:$W$25,0),FALSE))","v":""},{"$f":"IF($A196=\"\",\"\",IF(VLOOKUP($A196,Ⅰ.構成メンバー名簿!$Q$26:$W$275,MATCH(Ⅰ.構成メンバー名簿!$T$25,Ⅰ.構成メンバー名簿!$Q$25:$W$25,0),FALSE)=\"\",\"\",VLOOKUP($A196,Ⅰ.構成メンバー名簿!$Q$26:$W$275,MATCH(Ⅰ.構成メンバー名簿!$T$25,Ⅰ.構成メンバー名簿!$Q$25:$W$25,0),FALSE)))","v":""},{"$f":"IF($A196=\"\",\"\",VLOOKUP($A196,Ⅰ.構成メンバー名簿!$Q$26:$W$275,MATCH(Ⅰ.構成メンバー名簿!$W$25,Ⅰ.構成メンバー名簿!$Q$25:$W$25,0),FALSE))","v":""},{"$f":"IF(AND(H196>0,SUM(H197:$H$290)=0),\"←ここまで値でコピー\",\"\")","v":""},null,null,0,null,{"$f":"IF(SUM($Q196:$Q$261)=0,\"\",J195+1)","v":""},{"$f":"IF(Ⅰ.構成メンバー名簿!S210<>\"\",Ⅰ.構成メンバー名簿!S210,\"\")","v":""},{"$f":"IF(Ⅰ.構成メンバー名簿!V210=\"\",\"\",Ⅰ.構成メンバー名簿!E210)","v":""},{"$f":"IF(Ⅰ.構成メンバー名簿!W210=\"\",\"\",Ⅰ.構成メンバー名簿!W210)","v":""},{"$f":"IF(AND(Q196>0,SUM($Q197:$Q$261)=0),\"←ここまで値でコピー\",\"\")","v":""},null,null,0]
[{"$f":"IF(MAX(Ⅰ.構成メンバー名簿!$Q$26:$Q$275)>A196,A196+1,\"\")","v":""},{"$f":"IF($A197=\"\",\"\",VLOOKUP($A197,Ⅰ.構成メンバー名簿!$Q$26:$W$275,MATCH(Ⅰ.構成メンバー名簿!$S$25,Ⅰ.構成メンバー名簿!$Q$25:$W$25,0),FALSE))","v":""},{"$f":"IF($A197=\"\",\"\",IF(VLOOKUP($A197,Ⅰ.構成メンバー名簿!$Q$26:$W$275,MATCH(Ⅰ.構成メンバー名簿!$T$25,Ⅰ.構成メンバー名簿!$Q$25:$W$25,0),FALSE)=\"\",\"\",VLOOKUP($A197,Ⅰ.構成メンバー名簿!$Q$26:$W$275,MATCH(Ⅰ.構成メンバー名簿!$T$25,Ⅰ.構成メンバー名簿!$Q$25:$W$25,0),FALSE)))","v":""},{"$f":"IF($A197=\"\",\"\",VLOOKUP($A197,Ⅰ.構成メンバー名簿!$Q$26:$W$275,MATCH(Ⅰ.構成メンバー名簿!$W$25,Ⅰ.構成メンバー名簿!$Q$25:$W$25,0),FALSE))","v":""},{"$f":"IF(AND(H197>0,SUM(H198:$H$290)=0),\"←ここまで値でコピー\",\"\")","v":""},null,null,0,null,{"$f":"IF(SUM($Q197:$Q$261)=0,\"\",J196+1)","v":""},{"$f":"IF(Ⅰ.構成メンバー名簿!S211<>\"\",Ⅰ.構成メンバー名簿!S211,\"\")","v":""},{"$f":"IF(Ⅰ.構成メンバー名簿!V211=\"\",\"\",Ⅰ.構成メンバー名簿!E211)","v":""},{"$f":"IF(Ⅰ.構成メンバー名簿!W211=\"\",\"\",Ⅰ.構成メンバー名簿!W211)","v":""},{"$f":"IF(AND(Q197>0,SUM($Q198:$Q$261)=0),\"←ここまで値でコピー\",\"\")","v":""},null,null,0]
[{"$f":"IF(MAX(Ⅰ.構成メンバー名簿!$Q$26:$Q$275)>A197,A197+1,\"\")","v":""},{"$f":"IF($A198=\"\",\"\",VLOOKUP($A198,Ⅰ.構成メンバー名簿!$Q$26:$W$275,MATCH(Ⅰ.構成メンバー名簿!$S$25,Ⅰ.構成メンバー名簿!$Q$25:$W$25,0),FALSE))","v":""},{"$f":"IF($A198=\"\",\"\",IF(VLOOKUP($A198,Ⅰ.構成メンバー名簿!$Q$26:$W$275,MATCH(Ⅰ.構成メンバー名簿!$T$25,Ⅰ.構成メンバー名簿!$Q$25:$W$25,0),FALSE)=\"\",\"\",VLOOKUP($A198,Ⅰ.構成メンバー名簿!$Q$26:$W$275,MATCH(Ⅰ.構成メンバー名簿!$T$25,Ⅰ.構成メンバー名簿!$Q$25:$W$25,0),FALSE)))","v":""},{"$f":"IF($A198=\"\",\"\",VLOOKUP($A198,Ⅰ.構成メンバー名簿!$Q$26:$W$275,MATCH(Ⅰ.構成メンバー名簿!$W$25,Ⅰ.構成メンバー名簿!$Q$25:$W$25,0),FALSE))","v":""},{"$f":"IF(AND(H198>0,SUM(H199:$H$290)=0),\"←ここまで値でコピー\",\"\")","v":""},null,null,0,null,{"$f":"IF(SUM($Q198:$Q$261)=0,\"\",J197+1)","v":""},{"$f":"IF(Ⅰ.構成メンバー名簿!S212<>\"\",Ⅰ.構成メンバー名簿!S212,\"\")","v":""},{"$f":"IF(Ⅰ.構成メンバー名簿!V212=\"\",\"\",Ⅰ.構成メンバー名簿!E212)","v":""},{"$f":"IF(Ⅰ.構成メンバー名簿!W212=\"\",\"\",Ⅰ.構成メンバー名簿!W212)","v":""},{"$f":"IF(AND(Q198>0,SUM($Q199:$Q$261)=0),\"←ここまで値でコピー\",\"\")","v":""},null,null,0]
[{"$f":"IF(MAX(Ⅰ.構成メンバー名簿!$Q$26:$Q$275)>A198,A198+1,\"\")","v":""},{"$f":"IF($A199=\"\",\"\",VLOOKUP($A199,Ⅰ.構成メンバー名簿!$Q$26:$W$275,MATCH(Ⅰ.構成メンバー名簿!$S$25,Ⅰ.構成メンバー名簿!$Q$25:$W$25,0),FALSE))","v":""},{"$f":"IF($A199=\"\",\"\",IF(VLOOKUP($A199,Ⅰ.構成メンバー名簿!$Q$26:$W$275,MATCH(Ⅰ.構成メンバー名簿!$T$25,Ⅰ.構成メンバー名簿!$Q$25:$W$25,0),FALSE)=\"\",\"\",VLOOKUP($A199,Ⅰ.構成メンバー名簿!$Q$26:$W$275,MATCH(Ⅰ.構成メンバー名簿!$T$25,Ⅰ.構成メンバー名簿!$Q$25:$W$25,0),FALSE)))","v":""},{"$f":"IF($A199=\"\",\"\",VLOOKUP($A199,Ⅰ.構成メンバー名簿!$Q$26:$W$275,MATCH(Ⅰ.構成メンバー名簿!$W$25,Ⅰ.構成メンバー名簿!$Q$25:$W$25,0),FALSE))","v":""},{"$f":"IF(AND(H199>0,SUM(H200:$H$290)=0),\"←ここまで値でコピー\",\"\")","v":""},null,null,0,null,{"$f":"IF(SUM($Q199:$Q$261)=0,\"\",J198+1)","v":""},{"$f":"IF(Ⅰ.構成メンバー名簿!S213<>\"\",Ⅰ.構成メンバー名簿!S213,\"\")","v":""},{"$f":"IF(Ⅰ.構成メンバー名簿!V213=\"\",\"\",Ⅰ.構成メンバー名簿!E213)","v":""},{"$f":"IF(Ⅰ.構成メンバー名簿!W213=\"\",\"\",Ⅰ.構成メンバー名簿!W213)","v":""},{"$f":"IF(AND(Q199>0,SUM($Q200:$Q$261)=0),\"←ここまで値でコピー\",\"\")","v":""},null,null,0]
[{"$f":"IF(MAX(Ⅰ.構成メンバー名簿!$Q$26:$Q$275)>A199,A199+1,\"\")","v":""},{"$f":"IF($A200=\"\",\"\",VLOOKUP($A200,Ⅰ.構成メンバー名簿!$Q$26:$W$275,MATCH(Ⅰ.構成メンバー名簿!$S$25,Ⅰ.構成メンバー名簿!$Q$25:$W$25,0),FALSE))","v":""},{"$f":"IF($A200=\"\",\"\",IF(VLOOKUP($A200,Ⅰ.構成メンバー名簿!$Q$26:$W$275,MATCH(Ⅰ.構成メンバー名簿!$T$25,Ⅰ.構成メンバー名簿!$Q$25:$W$25,0),FALSE)=\"\",\"\",VLOOKUP($A200,Ⅰ.構成メンバー名簿!$Q$26:$W$275,MATCH(Ⅰ.構成メンバー名簿!$T$25,Ⅰ.構成メンバー名簿!$Q$25:$W$25,0),FALSE)))","v":""},{"$f":"IF($A200=\"\",\"\",VLOOKUP($A200,Ⅰ.構成メンバー名簿!$Q$26:$W$275,MATCH(Ⅰ.構成メンバー名簿!$W$25,Ⅰ.構成メンバー名簿!$Q$25:$W$25,0),FALSE))","v":""},{"$f":"IF(AND(H200>0,SUM(H201:$H$290)=0),\"←ここまで値でコピー\",\"\")","v":""},null,null,0,null,{"$f":"IF(SUM($Q200:$Q$261)=0,\"\",J199+1)","v":""},{"$f":"IF(Ⅰ.構成メンバー名簿!S214<>\"\",Ⅰ.構成メンバー名簿!S214,\"\")","v":""},{"$f":"IF(Ⅰ.構成メンバー名簿!V214=\"\",\"\",Ⅰ.構成メンバー名簿!E214)","v":""},{"$f":"IF(Ⅰ.構成メンバー名簿!W214=\"\",\"\",Ⅰ.構成メンバー名簿!W214)","v":""},{"$f":"IF(AND(Q200>0,SUM($Q201:$Q$261)=0),\"←ここまで値でコピー\",\"\")","v":""},null,null,0]
[{"$f":"IF(MAX(Ⅰ.構成メンバー名簿!$Q$26:$Q$275)>A200,A200+1,\"\")","v":""},{"$f":"IF($A201=\"\",\"\",VLOOKUP($A201,Ⅰ.構成メンバー名簿!$Q$26:$W$275,MATCH(Ⅰ.構成メンバー名簿!$S$25,Ⅰ.構成メンバー名簿!$Q$25:$W$25,0),FALSE))","v":""},{"$f":"IF($A201=\"\",\"\",IF(VLOOKUP($A201,Ⅰ.構成メンバー名簿!$Q$26:$W$275,MATCH(Ⅰ.構成メンバー名簿!$T$25,Ⅰ.構成メンバー名簿!$Q$25:$W$25,0),FALSE)=\"\",\"\",VLOOKUP($A201,Ⅰ.構成メンバー名簿!$Q$26:$W$275,MATCH(Ⅰ.構成メンバー名簿!$T$25,Ⅰ.構成メンバー名簿!$Q$25:$W$25,0),FALSE)))","v":""},{"$f":"IF($A201=\"\",\"\",VLOOKUP($A201,Ⅰ.構成メンバー名簿!$Q$26:$W$275,MATCH(Ⅰ.構成メンバー名簿!$W$25,Ⅰ.構成メンバー名簿!$Q$25:$W$25,0),FALSE))","v":""},{"$f":"IF(AND(H201>0,SUM(H202:$H$290)=0),\"←ここまで値でコピー\",\"\")","v":""},null,null,0,null,{"$f":"IF(SUM($Q201:$Q$261)=0,\"\",J200+1)","v":""},{"$f":"IF(Ⅰ.構成メンバー名簿!S215<>\"\",Ⅰ.構成メンバー名簿!S215,\"\")","v":""},{"$f":"IF(Ⅰ.構成メンバー名簿!V215=\"\",\"\",Ⅰ.構成メンバー名簿!E215)","v":""},{"$f":"IF(Ⅰ.構成メンバー名簿!W215=\"\",\"\",Ⅰ.構成メンバー名簿!W215)","v":""},{"$f":"IF(AND(Q201>0,SUM($Q202:$Q$261)=0),\"←ここまで値でコピー\",\"\")","v":""},null,null,0]
[{"$f":"IF(MAX(Ⅰ.構成メンバー名簿!$Q$26:$Q$275)>A201,A201+1,\"\")","v":""},{"$f":"IF($A202=\"\",\"\",VLOOKUP($A202,Ⅰ.構成メンバー名簿!$Q$26:$W$275,MATCH(Ⅰ.構成メンバー名簿!$S$25,Ⅰ.構成メンバー名簿!$Q$25:$W$25,0),FALSE))","v":""},{"$f":"IF($A202=\"\",\"\",IF(VLOOKUP($A202,Ⅰ.構成メンバー名簿!$Q$26:$W$275,MATCH(Ⅰ.構成メンバー名簿!$T$25,Ⅰ.構成メンバー名簿!$Q$25:$W$25,0),FALSE)=\"\",\"\",VLOOKUP($A202,Ⅰ.構成メンバー名簿!$Q$26:$W$275,MATCH(Ⅰ.構成メンバー名簿!$T$25,Ⅰ.構成メンバー名簿!$Q$25:$W$25,0),FALSE)))","v":""},{"$f":"IF($A202=\"\",\"\",VLOOKUP($A202,Ⅰ.構成メンバー名簿!$Q$26:$W$275,MATCH(Ⅰ.構成メンバー名簿!$W$25,Ⅰ.構成メンバー名簿!$Q$25:$W$25,0),FALSE))","v":""},{"$f":"IF(AND(H202>0,SUM(H203:$H$290)=0),\"←ここまで値でコピー\",\"\")","v":""},null,null,0,null,{"$f":"IF(SUM($Q202:$Q$261)=0,\"\",J201+1)","v":""},{"$f":"IF(Ⅰ.構成メンバー名簿!S216<>\"\",Ⅰ.構成メンバー名簿!S216,\"\")","v":""},{"$f":"IF(Ⅰ.構成メンバー名簿!V216=\"\",\"\",Ⅰ.構成メンバー名簿!E216)","v":""},{"$f":"IF(Ⅰ.構成メンバー名簿!W216=\"\",\"\",Ⅰ.構成メンバー名簿!W216)","v":""},{"$f":"IF(AND(Q202>0,SUM($Q203:$Q$261)=0),\"←ここまで値でコピー\",\"\")","v":""},null,null,0]
[{"$f":"IF(MAX(Ⅰ.構成メンバー名簿!$Q$26:$Q$275)>A202,A202+1,\"\")","v":""},{"$f":"IF($A203=\"\",\"\",VLOOKUP($A203,Ⅰ.構成メンバー名簿!$Q$26:$W$275,MATCH(Ⅰ.構成メンバー名簿!$S$25,Ⅰ.構成メンバー名簿!$Q$25:$W$25,0),FALSE))","v":""},{"$f":"IF($A203=\"\",\"\",IF(VLOOKUP($A203,Ⅰ.構成メンバー名簿!$Q$26:$W$275,MATCH(Ⅰ.構成メンバー名簿!$T$25,Ⅰ.構成メンバー名簿!$Q$25:$W$25,0),FALSE)=\"\",\"\",VLOOKUP($A203,Ⅰ.構成メンバー名簿!$Q$26:$W$275,MATCH(Ⅰ.構成メンバー名簿!$T$25,Ⅰ.構成メンバー名簿!$Q$25:$W$25,0),FALSE)))","v":""},{"$f":"IF($A203=\"\",\"\",VLOOKUP($A203,Ⅰ.構成メンバー名簿!$Q$26:$W$275,MATCH(Ⅰ.構成メンバー名簿!$W$25,Ⅰ.構成メンバー名簿!$Q$25:$W$25,0),FALSE))","v":""},{"$f":"IF(AND(H203>0,SUM(H204:$H$290)=0),\"←ここまで値でコピー\",\"\")","v":""},null,null,0,null,{"$f":"IF(SUM($Q203:$Q$261)=0,\"\",J202+1)","v":""},{"$f":"IF(Ⅰ.構成メンバー名簿!S217<>\"\",Ⅰ.構成メンバー名簿!S217,\"\")","v":""},{"$f":"IF(Ⅰ.構成メンバー名簿!V217=\"\",\"\",Ⅰ.構成メンバー名簿!E217)","v":""},{"$f":"IF(Ⅰ.構成メンバー名簿!W217=\"\",\"\",Ⅰ.構成メンバー名簿!W217)","v":""},{"$f":"IF(AND(Q203>0,SUM($Q204:$Q$261)=0),\"←ここまで値でコピー\",\"\")","v":""},null,null,0]
[{"$f":"IF(MAX(Ⅰ.構成メンバー名簿!$Q$26:$Q$275)>A203,A203+1,\"\")","v":""},{"$f":"IF($A204=\"\",\"\",VLOOKUP($A204,Ⅰ.構成メンバー名簿!$Q$26:$W$275,MATCH(Ⅰ.構成メンバー名簿!$S$25,Ⅰ.構成メンバー名簿!$Q$25:$W$25,0),FALSE))","v":""},{"$f":"IF($A204=\"\",\"\",IF(VLOOKUP($A204,Ⅰ.構成メンバー名簿!$Q$26:$W$275,MATCH(Ⅰ.構成メンバー名簿!$T$25,Ⅰ.構成メンバー名簿!$Q$25:$W$25,0),FALSE)=\"\",\"\",VLOOKUP($A204,Ⅰ.構成メンバー名簿!$Q$26:$W$275,MATCH(Ⅰ.構成メンバー名簿!$T$25,Ⅰ.構成メンバー名簿!$Q$25:$W$25,0),FALSE)))","v":""},{"$f":"IF($A204=\"\",\"\",VLOOKUP($A204,Ⅰ.構成メンバー名簿!$Q$26:$W$275,MATCH(Ⅰ.構成メンバー名簿!$W$25,Ⅰ.構成メンバー名簿!$Q$25:$W$25,0),FALSE))","v":""},{"$f":"IF(AND(H204>0,SUM(H205:$H$290)=0),\"←ここまで値でコピー\",\"\")","v":""},null,null,0,null,{"$f":"IF(SUM($Q204:$Q$261)=0,\"\",J203+1)","v":""},{"$f":"IF(Ⅰ.構成メンバー名簿!S218<>\"\",Ⅰ.構成メンバー名簿!S218,\"\")","v":""},{"$f":"IF(Ⅰ.構成メンバー名簿!V218=\"\",\"\",Ⅰ.構成メンバー名簿!E218)","v":""},{"$f":"IF(Ⅰ.構成メンバー名簿!W218=\"\",\"\",Ⅰ.構成メンバー名簿!W218)","v":""},{"$f":"IF(AND(Q204>0,SUM($Q205:$Q$261)=0),\"←ここまで値でコピー\",\"\")","v":""},null,null,0]
[{"$f":"IF(MAX(Ⅰ.構成メンバー名簿!$Q$26:$Q$275)>A204,A204+1,\"\")","v":""},{"$f":"IF($A205=\"\",\"\",VLOOKUP($A205,Ⅰ.構成メンバー名簿!$Q$26:$W$275,MATCH(Ⅰ.構成メンバー名簿!$S$25,Ⅰ.構成メンバー名簿!$Q$25:$W$25,0),FALSE))","v":""},{"$f":"IF($A205=\"\",\"\",IF(VLOOKUP($A205,Ⅰ.構成メンバー名簿!$Q$26:$W$275,MATCH(Ⅰ.構成メンバー名簿!$T$25,Ⅰ.構成メンバー名簿!$Q$25:$W$25,0),FALSE)=\"\",\"\",VLOOKUP($A205,Ⅰ.構成メンバー名簿!$Q$26:$W$275,MATCH(Ⅰ.構成メンバー名簿!$T$25,Ⅰ.構成メンバー名簿!$Q$25:$W$25,0),FALSE)))","v":""},{"$f":"IF($A205=\"\",\"\",VLOOKUP($A205,Ⅰ.構成メンバー名簿!$Q$26:$W$275,MATCH(Ⅰ.構成メンバー名簿!$W$25,Ⅰ.構成メンバー名簿!$Q$25:$W$25,0),FALSE))","v":""},{"$f":"IF(AND(H205>0,SUM(H206:$H$290)=0),\"←ここまで値でコピー\",\"\")","v":""},null,null,0,null,{"$f":"IF(SUM($Q205:$Q$261)=0,\"\",J204+1)","v":""},{"$f":"IF(Ⅰ.構成メンバー名簿!S219<>\"\",Ⅰ.構成メンバー名簿!S219,\"\")","v":""},{"$f":"IF(Ⅰ.構成メンバー名簿!V219=\"\",\"\",Ⅰ.構成メンバー名簿!E219)","v":""},{"$f":"IF(Ⅰ.構成メンバー名簿!W219=\"\",\"\",Ⅰ.構成メンバー名簿!W219)","v":""},{"$f":"IF(AND(Q205>0,SUM($Q206:$Q$261)=0),\"←ここまで値でコピー\",\"\")","v":""},null,null,{"$f":"IF(COUNTBLANK(K205:M205)=3,0,1)","v":0}]
[{"$f":"IF(MAX(Ⅰ.構成メンバー名簿!$Q$26:$Q$275)>A205,A205+1,\"\")","v":""},{"$f":"IF($A206=\"\",\"\",VLOOKUP($A206,Ⅰ.構成メンバー名簿!$Q$26:$W$275,MATCH(Ⅰ.構成メンバー名簿!$S$25,Ⅰ.構成メンバー名簿!$Q$25:$W$25,0),FALSE))","v":""},{"$f":"IF($A206=\"\",\"\",IF(VLOOKUP($A206,Ⅰ.構成メンバー名簿!$Q$26:$W$275,MATCH(Ⅰ.構成メンバー名簿!$T$25,Ⅰ.構成メンバー名簿!$Q$25:$W$25,0),FALSE)=\"\",\"\",VLOOKUP($A206,Ⅰ.構成メンバー名簿!$Q$26:$W$275,MATCH(Ⅰ.構成メンバー名簿!$T$25,Ⅰ.構成メンバー名簿!$Q$25:$W$25,0),FALSE)))","v":""},{"$f":"IF($A206=\"\",\"\",VLOOKUP($A206,Ⅰ.構成メンバー名簿!$Q$26:$W$275,MATCH(Ⅰ.構成メンバー名簿!$W$25,Ⅰ.構成メンバー名簿!$Q$25:$W$25,0),FALSE))","v":""},{"$f":"IF(AND(H206>0,SUM(H207:$H$290)=0),\"←ここまで値でコピー\",\"\")","v":""},null,null,0,null,{"$f":"IF(SUM($Q206:$Q$261)=0,\"\",J205+1)","v":""},{"$f":"IF(Ⅰ.構成メンバー名簿!S220<>\"\",Ⅰ.構成メンバー名簿!S220,\"\")","v":""},{"$f":"IF(Ⅰ.構成メンバー名簿!V220=\"\",\"\",Ⅰ.構成メンバー名簿!E220)","v":""},{"$f":"IF(Ⅰ.構成メンバー名簿!W220=\"\",\"\",Ⅰ.構成メンバー名簿!W220)","v":""},{"$f":"IF(AND(Q206>0,SUM($Q207:$Q$261)=0),\"←ここまで値でコピー\",\"\")","v":""},null,null,0]
[{"$f":"IF(MAX(Ⅰ.構成メンバー名簿!$Q$26:$Q$275)>A206,A206+1,\"\")","v":""},{"$f":"IF($A207=\"\",\"\",VLOOKUP($A207,Ⅰ.構成メンバー名簿!$Q$26:$W$275,MATCH(Ⅰ.構成メンバー名簿!$S$25,Ⅰ.構成メンバー名簿!$Q$25:$W$25,0),FALSE))","v":""},{"$f":"IF($A207=\"\",\"\",IF(VLOOKUP($A207,Ⅰ.構成メンバー名簿!$Q$26:$W$275,MATCH(Ⅰ.構成メンバー名簿!$T$25,Ⅰ.構成メンバー名簿!$Q$25:$W$25,0),FALSE)=\"\",\"\",VLOOKUP($A207,Ⅰ.構成メンバー名簿!$Q$26:$W$275,MATCH(Ⅰ.構成メンバー名簿!$T$25,Ⅰ.構成メンバー名簿!$Q$25:$W$25,0),FALSE)))","v":""},{"$f":"IF($A207=\"\",\"\",VLOOKUP($A207,Ⅰ.構成メンバー名簿!$Q$26:$W$275,MATCH(Ⅰ.構成メンバー名簿!$W$25,Ⅰ.構成メンバー名簿!$Q$25:$W$25,0),FALSE))","v":""},{"$f":"IF(AND(H207>0,SUM(H208:$H$290)=0),\"←ここまで値でコピー\",\"\")","v":""},null,null,0,null,{"$f":"IF(SUM($Q207:$Q$261)=0,\"\",J206+1)","v":""},{"$f":"IF(Ⅰ.構成メンバー名簿!S221<>\"\",Ⅰ.構成メンバー名簿!S221,\"\")","v":""},{"$f":"IF(Ⅰ.構成メンバー名簿!V221=\"\",\"\",Ⅰ.構成メンバー名簿!E221)","v":""},{"$f":"IF(Ⅰ.構成メンバー名簿!W221=\"\",\"\",Ⅰ.構成メンバー名簿!W221)","v":""},{"$f":"IF(AND(Q207>0,SUM($Q208:$Q$261)=0),\"←ここまで値でコピー\",\"\")","v":""},null,null,0]
[{"$f":"IF(MAX(Ⅰ.構成メンバー名簿!$Q$26:$Q$275)>A207,A207+1,\"\")","v":""},{"$f":"IF($A208=\"\",\"\",VLOOKUP($A208,Ⅰ.構成メンバー名簿!$Q$26:$W$275,MATCH(Ⅰ.構成メンバー名簿!$S$25,Ⅰ.構成メンバー名簿!$Q$25:$W$25,0),FALSE))","v":""},{"$f":"IF($A208=\"\",\"\",IF(VLOOKUP($A208,Ⅰ.構成メンバー名簿!$Q$26:$W$275,MATCH(Ⅰ.構成メンバー名簿!$T$25,Ⅰ.構成メンバー名簿!$Q$25:$W$25,0),FALSE)=\"\",\"\",VLOOKUP($A208,Ⅰ.構成メンバー名簿!$Q$26:$W$275,MATCH(Ⅰ.構成メンバー名簿!$T$25,Ⅰ.構成メンバー名簿!$Q$25:$W$25,0),FALSE)))","v":""},{"$f":"IF($A208=\"\",\"\",VLOOKUP($A208,Ⅰ.構成メンバー名簿!$Q$26:$W$275,MATCH(Ⅰ.構成メンバー名簿!$W$25,Ⅰ.構成メンバー名簿!$Q$25:$W$25,0),FALSE))","v":""},{"$f":"IF(AND(H208>0,SUM(H209:$H$290)=0),\"←ここまで値でコピー\",\"\")","v":""},null,null,0,null,{"$f":"IF(SUM($Q208:$Q$261)=0,\"\",J207+1)","v":""},{"$f":"IF(Ⅰ.構成メンバー名簿!S222<>\"\",Ⅰ.構成メンバー名簿!S222,\"\")","v":""},{"$f":"IF(Ⅰ.構成メンバー名簿!V222=\"\",\"\",Ⅰ.構成メンバー名簿!E222)","v":""},{"$f":"IF(Ⅰ.構成メンバー名簿!W222=\"\",\"\",Ⅰ.構成メンバー名簿!W222)","v":""},{"$f":"IF(AND(Q208>0,SUM($Q209:$Q$261)=0),\"←ここまで値でコピー\",\"\")","v":""},null,null,0]
[{"$f":"IF(MAX(Ⅰ.構成メンバー名簿!$Q$26:$Q$275)>A208,A208+1,\"\")","v":""},{"$f":"IF($A209=\"\",\"\",VLOOKUP($A209,Ⅰ.構成メンバー名簿!$Q$26:$W$275,MATCH(Ⅰ.構成メンバー名簿!$S$25,Ⅰ.構成メンバー名簿!$Q$25:$W$25,0),FALSE))","v":""},{"$f":"IF($A209=\"\",\"\",IF(VLOOKUP($A209,Ⅰ.構成メンバー名簿!$Q$26:$W$275,MATCH(Ⅰ.構成メンバー名簿!$T$25,Ⅰ.構成メンバー名簿!$Q$25:$W$25,0),FALSE)=\"\",\"\",VLOOKUP($A209,Ⅰ.構成メンバー名簿!$Q$26:$W$275,MATCH(Ⅰ.構成メンバー名簿!$T$25,Ⅰ.構成メンバー名簿!$Q$25:$W$25,0),FALSE)))","v":""},{"$f":"IF($A209=\"\",\"\",VLOOKUP($A209,Ⅰ.構成メンバー名簿!$Q$26:$W$275,MATCH(Ⅰ.構成メンバー名簿!$W$25,Ⅰ.構成メンバー名簿!$Q$25:$W$25,0),FALSE))","v":""},{"$f":"IF(AND(H209>0,SUM(H210:$H$290)=0),\"←ここまで値でコピー\",\"\")","v":""},null,null,0,null,{"$f":"IF(SUM($Q209:$Q$261)=0,\"\",J208+1)","v":""},{"$f":"IF(Ⅰ.構成メンバー名簿!S223<>\"\",Ⅰ.構成メンバー名簿!S223,\"\")","v":""},{"$f":"IF(Ⅰ.構成メンバー名簿!V223=\"\",\"\",Ⅰ.構成メンバー名簿!E223)","v":""},{"$f":"IF(Ⅰ.構成メンバー名簿!W223=\"\",\"\",Ⅰ.構成メンバー名簿!W223)","v":""},{"$f":"IF(AND(Q209>0,SUM($Q210:$Q$261)=0),\"←ここまで値でコピー\",\"\")","v":""},null,null,0]
[{"$f":"IF(MAX(Ⅰ.構成メンバー名簿!$Q$26:$Q$275)>A209,A209+1,\"\")","v":""},{"$f":"IF($A210=\"\",\"\",VLOOKUP($A210,Ⅰ.構成メンバー名簿!$Q$26:$W$275,MATCH(Ⅰ.構成メンバー名簿!$S$25,Ⅰ.構成メンバー名簿!$Q$25:$W$25,0),FALSE))","v":""},{"$f":"IF($A210=\"\",\"\",IF(VLOOKUP($A210,Ⅰ.構成メンバー名簿!$Q$26:$W$275,MATCH(Ⅰ.構成メンバー名簿!$T$25,Ⅰ.構成メンバー名簿!$Q$25:$W$25,0),FALSE)=\"\",\"\",VLOOKUP($A210,Ⅰ.構成メンバー名簿!$Q$26:$W$275,MATCH(Ⅰ.構成メンバー名簿!$T$25,Ⅰ.構成メンバー名簿!$Q$25:$W$25,0),FALSE)))","v":""},{"$f":"IF($A210=\"\",\"\",VLOOKUP($A210,Ⅰ.構成メンバー名簿!$Q$26:$W$275,MATCH(Ⅰ.構成メンバー名簿!$W$25,Ⅰ.構成メンバー名簿!$Q$25:$W$25,0),FALSE))","v":""},{"$f":"IF(AND(H210>0,SUM(H211:$H$290)=0),\"←ここまで値でコピー\",\"\")","v":""},null,null,0,null,{"$f":"IF(SUM($Q210:$Q$261)=0,\"\",J209+1)","v":""},{"$f":"IF(Ⅰ.構成メンバー名簿!S224<>\"\",Ⅰ.構成メンバー名簿!S224,\"\")","v":""},{"$f":"IF(Ⅰ.構成メンバー名簿!V224=\"\",\"\",Ⅰ.構成メンバー名簿!E224)","v":""},{"$f":"IF(Ⅰ.構成メンバー名簿!W224=\"\",\"\",Ⅰ.構成メンバー名簿!W224)","v":""},{"$f":"IF(AND(Q210>0,SUM($Q211:$Q$261)=0),\"←ここまで値でコピー\",\"\")","v":""},null,null,0]
[{"$f":"IF(MAX(Ⅰ.構成メンバー名簿!$Q$26:$Q$275)>A210,A210+1,\"\")","v":""},{"$f":"IF($A211=\"\",\"\",VLOOKUP($A211,Ⅰ.構成メンバー名簿!$Q$26:$W$275,MATCH(Ⅰ.構成メンバー名簿!$S$25,Ⅰ.構成メンバー名簿!$Q$25:$W$25,0),FALSE))","v":""},{"$f":"IF($A211=\"\",\"\",IF(VLOOKUP($A211,Ⅰ.構成メンバー名簿!$Q$26:$W$275,MATCH(Ⅰ.構成メンバー名簿!$T$25,Ⅰ.構成メンバー名簿!$Q$25:$W$25,0),FALSE)=\"\",\"\",VLOOKUP($A211,Ⅰ.構成メンバー名簿!$Q$26:$W$275,MATCH(Ⅰ.構成メンバー名簿!$T$25,Ⅰ.構成メンバー名簿!$Q$25:$W$25,0),FALSE)))","v":""},{"$f":"IF($A211=\"\",\"\",VLOOKUP($A211,Ⅰ.構成メンバー名簿!$Q$26:$W$275,MATCH(Ⅰ.構成メンバー名簿!$W$25,Ⅰ.構成メンバー名簿!$Q$25:$W$25,0),FALSE))","v":""},{"$f":"IF(AND(H211>0,SUM(H212:$H$290)=0),\"←ここまで値でコピー\",\"\")","v":""},null,null,0,null,{"$f":"IF(SUM($Q211:$Q$261)=0,\"\",J210+1)","v":""},{"$f":"IF(Ⅰ.構成メンバー名簿!S225<>\"\",Ⅰ.構成メンバー名簿!S225,\"\")","v":""},{"$f":"IF(Ⅰ.構成メンバー名簿!V225=\"\",\"\",Ⅰ.構成メンバー名簿!E225)","v":""},{"$f":"IF(Ⅰ.構成メンバー名簿!W225=\"\",\"\",Ⅰ.構成メンバー名簿!W225)","v":""},{"$f":"IF(AND(Q211>0,SUM($Q212:$Q$261)=0),\"←ここまで値でコピー\",\"\")","v":""},null,null,0]
[{"$f":"IF(MAX(Ⅰ.構成メンバー名簿!$Q$26:$Q$275)>A211,A211+1,\"\")","v":""},{"$f":"IF($A212=\"\",\"\",VLOOKUP($A212,Ⅰ.構成メンバー名簿!$Q$26:$W$275,MATCH(Ⅰ.構成メンバー名簿!$S$25,Ⅰ.構成メンバー名簿!$Q$25:$W$25,0),FALSE))","v":""},{"$f":"IF($A212=\"\",\"\",IF(VLOOKUP($A212,Ⅰ.構成メンバー名簿!$Q$26:$W$275,MATCH(Ⅰ.構成メンバー名簿!$T$25,Ⅰ.構成メンバー名簿!$Q$25:$W$25,0),FALSE)=\"\",\"\",VLOOKUP($A212,Ⅰ.構成メンバー名簿!$Q$26:$W$275,MATCH(Ⅰ.構成メンバー名簿!$T$25,Ⅰ.構成メンバー名簿!$Q$25:$W$25,0),FALSE)))","v":""},{"$f":"IF($A212=\"\",\"\",VLOOKUP($A212,Ⅰ.構成メンバー名簿!$Q$26:$W$275,MATCH(Ⅰ.構成メンバー名簿!$W$25,Ⅰ.構成メンバー名簿!$Q$25:$W$25,0),FALSE))","v":""},{"$f":"IF(AND(H212>0,SUM(H213:$H$290)=0),\"←ここまで値でコピー\",\"\")","v":""},null,null,0,null,{"$f":"IF(SUM($Q212:$Q$261)=0,\"\",J211+1)","v":""},{"$f":"IF(Ⅰ.構成メンバー名簿!S226<>\"\",Ⅰ.構成メンバー名簿!S226,\"\")","v":""},{"$f":"IF(Ⅰ.構成メンバー名簿!V226=\"\",\"\",Ⅰ.構成メンバー名簿!E226)","v":""},{"$f":"IF(Ⅰ.構成メンバー名簿!W226=\"\",\"\",Ⅰ.構成メンバー名簿!W226)","v":""},{"$f":"IF(AND(Q212>0,SUM($Q213:$Q$261)=0),\"←ここまで値でコピー\",\"\")","v":""},null,null,0]
[{"$f":"IF(MAX(Ⅰ.構成メンバー名簿!$Q$26:$Q$275)>A212,A212+1,\"\")","v":""},{"$f":"IF($A213=\"\",\"\",VLOOKUP($A213,Ⅰ.構成メンバー名簿!$Q$26:$W$275,MATCH(Ⅰ.構成メンバー名簿!$S$25,Ⅰ.構成メンバー名簿!$Q$25:$W$25,0),FALSE))","v":""},{"$f":"IF($A213=\"\",\"\",IF(VLOOKUP($A213,Ⅰ.構成メンバー名簿!$Q$26:$W$275,MATCH(Ⅰ.構成メンバー名簿!$T$25,Ⅰ.構成メンバー名簿!$Q$25:$W$25,0),FALSE)=\"\",\"\",VLOOKUP($A213,Ⅰ.構成メンバー名簿!$Q$26:$W$275,MATCH(Ⅰ.構成メンバー名簿!$T$25,Ⅰ.構成メンバー名簿!$Q$25:$W$25,0),FALSE)))","v":""},{"$f":"IF($A213=\"\",\"\",VLOOKUP($A213,Ⅰ.構成メンバー名簿!$Q$26:$W$275,MATCH(Ⅰ.構成メンバー名簿!$W$25,Ⅰ.構成メンバー名簿!$Q$25:$W$25,0),FALSE))","v":""},{"$f":"IF(AND(H213>0,SUM(H214:$H$290)=0),\"←ここまで値でコピー\",\"\")","v":""},null,null,0,null,{"$f":"IF(SUM($Q213:$Q$261)=0,\"\",J212+1)","v":""},{"$f":"IF(Ⅰ.構成メンバー名簿!S227<>\"\",Ⅰ.構成メンバー名簿!S227,\"\")","v":""},{"$f":"IF(Ⅰ.構成メンバー名簿!V227=\"\",\"\",Ⅰ.構成メンバー名簿!E227)","v":""},{"$f":"IF(Ⅰ.構成メンバー名簿!W227=\"\",\"\",Ⅰ.構成メンバー名簿!W227)","v":""},{"$f":"IF(AND(Q213>0,SUM($Q214:$Q$261)=0),\"←ここまで値でコピー\",\"\")","v":""},null,null,0]
[{"$f":"IF(MAX(Ⅰ.構成メンバー名簿!$Q$26:$Q$275)>A213,A213+1,\"\")","v":""},{"$f":"IF($A214=\"\",\"\",VLOOKUP($A214,Ⅰ.構成メンバー名簿!$Q$26:$W$275,MATCH(Ⅰ.構成メンバー名簿!$S$25,Ⅰ.構成メンバー名簿!$Q$25:$W$25,0),FALSE))","v":""},{"$f":"IF($A214=\"\",\"\",IF(VLOOKUP($A214,Ⅰ.構成メンバー名簿!$Q$26:$W$275,MATCH(Ⅰ.構成メンバー名簿!$T$25,Ⅰ.構成メンバー名簿!$Q$25:$W$25,0),FALSE)=\"\",\"\",VLOOKUP($A214,Ⅰ.構成メンバー名簿!$Q$26:$W$275,MATCH(Ⅰ.構成メンバー名簿!$T$25,Ⅰ.構成メンバー名簿!$Q$25:$W$25,0),FALSE)))","v":""},{"$f":"IF($A214=\"\",\"\",VLOOKUP($A214,Ⅰ.構成メンバー名簿!$Q$26:$W$275,MATCH(Ⅰ.構成メンバー名簿!$W$25,Ⅰ.構成メンバー名簿!$Q$25:$W$25,0),FALSE))","v":""},{"$f":"IF(AND(H214>0,SUM(H215:$H$290)=0),\"←ここまで値でコピー\",\"\")","v":""},null,null,0,null,{"$f":"IF(SUM($Q214:$Q$261)=0,\"\",J213+1)","v":""},{"$f":"IF(Ⅰ.構成メンバー名簿!S228<>\"\",Ⅰ.構成メンバー名簿!S228,\"\")","v":""},{"$f":"IF(Ⅰ.構成メンバー名簿!V228=\"\",\"\",Ⅰ.構成メンバー名簿!E228)","v":""},{"$f":"IF(Ⅰ.構成メンバー名簿!W228=\"\",\"\",Ⅰ.構成メンバー名簿!W228)","v":""},{"$f":"IF(AND(Q214>0,SUM($Q215:$Q$261)=0),\"←ここまで値でコピー\",\"\")","v":""},null,null,0]
[{"$f":"IF(MAX(Ⅰ.構成メンバー名簿!$Q$26:$Q$275)>A214,A214+1,\"\")","v":""},{"$f":"IF($A215=\"\",\"\",VLOOKUP($A215,Ⅰ.構成メンバー名簿!$Q$26:$W$275,MATCH(Ⅰ.構成メンバー名簿!$S$25,Ⅰ.構成メンバー名簿!$Q$25:$W$25,0),FALSE))","v":""},{"$f":"IF($A215=\"\",\"\",IF(VLOOKUP($A215,Ⅰ.構成メンバー名簿!$Q$26:$W$275,MATCH(Ⅰ.構成メンバー名簿!$T$25,Ⅰ.構成メンバー名簿!$Q$25:$W$25,0),FALSE)=\"\",\"\",VLOOKUP($A215,Ⅰ.構成メンバー名簿!$Q$26:$W$275,MATCH(Ⅰ.構成メンバー名簿!$T$25,Ⅰ.構成メンバー名簿!$Q$25:$W$25,0),FALSE)))","v":""},{"$f":"IF($A215=\"\",\"\",VLOOKUP($A215,Ⅰ.構成メンバー名簿!$Q$26:$W$275,MATCH(Ⅰ.構成メンバー名簿!$W$25,Ⅰ.構成メンバー名簿!$Q$25:$W$25,0),FALSE))","v":""},{"$f":"IF(AND(H215>0,SUM(H216:$H$290)=0),\"←ここまで値でコピー\",\"\")","v":""},null,null,0,null,{"$f":"IF(SUM($Q215:$Q$261)=0,\"\",J214+1)","v":""},{"$f":"IF(Ⅰ.構成メンバー名簿!S229<>\"\",Ⅰ.構成メンバー名簿!S229,\"\")","v":""},{"$f":"IF(Ⅰ.構成メンバー名簿!V229=\"\",\"\",Ⅰ.構成メンバー名簿!E229)","v":""},{"$f":"IF(Ⅰ.構成メンバー名簿!W229=\"\",\"\",Ⅰ.構成メンバー名簿!W229)","v":""},{"$f":"IF(AND(Q215>0,SUM($Q216:$Q$261)=0),\"←ここまで値でコピー\",\"\")","v":""},null,null,0]
[{"$f":"IF(MAX(Ⅰ.構成メンバー名簿!$Q$26:$Q$275)>A215,A215+1,\"\")","v":""},{"$f":"IF($A216=\"\",\"\",VLOOKUP($A216,Ⅰ.構成メンバー名簿!$Q$26:$W$275,MATCH(Ⅰ.構成メンバー名簿!$S$25,Ⅰ.構成メンバー名簿!$Q$25:$W$25,0),FALSE))","v":""},{"$f":"IF($A216=\"\",\"\",IF(VLOOKUP($A216,Ⅰ.構成メンバー名簿!$Q$26:$W$275,MATCH(Ⅰ.構成メンバー名簿!$T$25,Ⅰ.構成メンバー名簿!$Q$25:$W$25,0),FALSE)=\"\",\"\",VLOOKUP($A216,Ⅰ.構成メンバー名簿!$Q$26:$W$275,MATCH(Ⅰ.構成メンバー名簿!$T$25,Ⅰ.構成メンバー名簿!$Q$25:$W$25,0),FALSE)))","v":""},{"$f":"IF($A216=\"\",\"\",VLOOKUP($A216,Ⅰ.構成メンバー名簿!$Q$26:$W$275,MATCH(Ⅰ.構成メンバー名簿!$W$25,Ⅰ.構成メンバー名簿!$Q$25:$W$25,0),FALSE))","v":""},{"$f":"IF(AND(H216>0,SUM(H217:$H$290)=0),\"←ここまで値でコピー\",\"\")","v":""},null,null,0,null,{"$f":"IF(SUM($Q216:$Q$261)=0,\"\",J215+1)","v":""},{"$f":"IF(Ⅰ.構成メンバー名簿!S230<>\"\",Ⅰ.構成メンバー名簿!S230,\"\")","v":""},{"$f":"IF(Ⅰ.構成メンバー名簿!V230=\"\",\"\",Ⅰ.構成メンバー名簿!E230)","v":""},{"$f":"IF(Ⅰ.構成メンバー名簿!W230=\"\",\"\",Ⅰ.構成メンバー名簿!W230)","v":""},{"$f":"IF(AND(Q216>0,SUM($Q217:$Q$261)=0),\"←ここまで値でコピー\",\"\")","v":""},null,null,0]
[{"$f":"IF(MAX(Ⅰ.構成メンバー名簿!$Q$26:$Q$275)>A216,A216+1,\"\")","v":""},{"$f":"IF($A217=\"\",\"\",VLOOKUP($A217,Ⅰ.構成メンバー名簿!$Q$26:$W$275,MATCH(Ⅰ.構成メンバー名簿!$S$25,Ⅰ.構成メンバー名簿!$Q$25:$W$25,0),FALSE))","v":""},{"$f":"IF($A217=\"\",\"\",IF(VLOOKUP($A217,Ⅰ.構成メンバー名簿!$Q$26:$W$275,MATCH(Ⅰ.構成メンバー名簿!$T$25,Ⅰ.構成メンバー名簿!$Q$25:$W$25,0),FALSE)=\"\",\"\",VLOOKUP($A217,Ⅰ.構成メンバー名簿!$Q$26:$W$275,MATCH(Ⅰ.構成メンバー名簿!$T$25,Ⅰ.構成メンバー名簿!$Q$25:$W$25,0),FALSE)))","v":""},{"$f":"IF($A217=\"\",\"\",VLOOKUP($A217,Ⅰ.構成メンバー名簿!$Q$26:$W$275,MATCH(Ⅰ.構成メンバー名簿!$W$25,Ⅰ.構成メンバー名簿!$Q$25:$W$25,0),FALSE))","v":""},{"$f":"IF(AND(H217>0,SUM(H218:$H$290)=0),\"←ここまで値でコピー\",\"\")","v":""},null,null,0,null,{"$f":"IF(SUM($Q217:$Q$261)=0,\"\",J216+1)","v":""},{"$f":"IF(Ⅰ.構成メンバー名簿!S231<>\"\",Ⅰ.構成メンバー名簿!S231,\"\")","v":""},{"$f":"IF(Ⅰ.構成メンバー名簿!V231=\"\",\"\",Ⅰ.構成メンバー名簿!E231)","v":""},{"$f":"IF(Ⅰ.構成メンバー名簿!W231=\"\",\"\",Ⅰ.構成メンバー名簿!W231)","v":""},{"$f":"IF(AND(Q217>0,SUM($Q218:$Q$261)=0),\"←ここまで値でコピー\",\"\")","v":""},null,null,0]
[{"$f":"IF(MAX(Ⅰ.構成メンバー名簿!$Q$26:$Q$275)>A217,A217+1,\"\")","v":""},{"$f":"IF($A218=\"\",\"\",VLOOKUP($A218,Ⅰ.構成メンバー名簿!$Q$26:$W$275,MATCH(Ⅰ.構成メンバー名簿!$S$25,Ⅰ.構成メンバー名簿!$Q$25:$W$25,0),FALSE))","v":""},{"$f":"IF($A218=\"\",\"\",IF(VLOOKUP($A218,Ⅰ.構成メンバー名簿!$Q$26:$W$275,MATCH(Ⅰ.構成メンバー名簿!$T$25,Ⅰ.構成メンバー名簿!$Q$25:$W$25,0),FALSE)=\"\",\"\",VLOOKUP($A218,Ⅰ.構成メンバー名簿!$Q$26:$W$275,MATCH(Ⅰ.構成メンバー名簿!$T$25,Ⅰ.構成メンバー名簿!$Q$25:$W$25,0),FALSE)))","v":""},{"$f":"IF($A218=\"\",\"\",VLOOKUP($A218,Ⅰ.構成メンバー名簿!$Q$26:$W$275,MATCH(Ⅰ.構成メンバー名簿!$W$25,Ⅰ.構成メンバー名簿!$Q$25:$W$25,0),FALSE))","v":""},{"$f":"IF(AND(H218>0,SUM(H219:$H$290)=0),\"←ここまで値でコピー\",\"\")","v":""},null,null,0,null,{"$f":"IF(SUM($Q218:$Q$261)=0,\"\",J217+1)","v":""},{"$f":"IF(Ⅰ.構成メンバー名簿!S232<>\"\",Ⅰ.構成メンバー名簿!S232,\"\")","v":""},{"$f":"IF(Ⅰ.構成メンバー名簿!V232=\"\",\"\",Ⅰ.構成メンバー名簿!E232)","v":""},{"$f":"IF(Ⅰ.構成メンバー名簿!W232=\"\",\"\",Ⅰ.構成メンバー名簿!W232)","v":""},{"$f":"IF(AND(Q218>0,SUM($Q219:$Q$261)=0),\"←ここまで値でコピー\",\"\")","v":""},null,null,0]
[{"$f":"IF(MAX(Ⅰ.構成メンバー名簿!$Q$26:$Q$275)>A218,A218+1,\"\")","v":""},{"$f":"IF($A219=\"\",\"\",VLOOKUP($A219,Ⅰ.構成メンバー名簿!$Q$26:$W$275,MATCH(Ⅰ.構成メンバー名簿!$S$25,Ⅰ.構成メンバー名簿!$Q$25:$W$25,0),FALSE))","v":""},{"$f":"IF($A219=\"\",\"\",IF(VLOOKUP($A219,Ⅰ.構成メンバー名簿!$Q$26:$W$275,MATCH(Ⅰ.構成メンバー名簿!$T$25,Ⅰ.構成メンバー名簿!$Q$25:$W$25,0),FALSE)=\"\",\"\",VLOOKUP($A219,Ⅰ.構成メンバー名簿!$Q$26:$W$275,MATCH(Ⅰ.構成メンバー名簿!$T$25,Ⅰ.構成メンバー名簿!$Q$25:$W$25,0),FALSE)))","v":""},{"$f":"IF($A219=\"\",\"\",VLOOKUP($A219,Ⅰ.構成メンバー名簿!$Q$26:$W$275,MATCH(Ⅰ.構成メンバー名簿!$W$25,Ⅰ.構成メンバー名簿!$Q$25:$W$25,0),FALSE))","v":""},{"$f":"IF(AND(H219>0,SUM(H220:$H$290)=0),\"←ここまで値でコピー\",\"\")","v":""},null,null,0,null,{"$f":"IF(SUM($Q219:$Q$261)=0,\"\",J218+1)","v":""},{"$f":"IF(Ⅰ.構成メンバー名簿!S233<>\"\",Ⅰ.構成メンバー名簿!S233,\"\")","v":""},{"$f":"IF(Ⅰ.構成メンバー名簿!V233=\"\",\"\",Ⅰ.構成メンバー名簿!E233)","v":""},{"$f":"IF(Ⅰ.構成メンバー名簿!W233=\"\",\"\",Ⅰ.構成メンバー名簿!W233)","v":""},{"$f":"IF(AND(Q219>0,SUM($Q220:$Q$261)=0),\"←ここまで値でコピー\",\"\")","v":""},null,null,0]
[{"$f":"IF(MAX(Ⅰ.構成メンバー名簿!$Q$26:$Q$275)>A219,A219+1,\"\")","v":""},{"$f":"IF($A220=\"\",\"\",VLOOKUP($A220,Ⅰ.構成メンバー名簿!$Q$26:$W$275,MATCH(Ⅰ.構成メンバー名簿!$S$25,Ⅰ.構成メンバー名簿!$Q$25:$W$25,0),FALSE))","v":""},{"$f":"IF($A220=\"\",\"\",IF(VLOOKUP($A220,Ⅰ.構成メンバー名簿!$Q$26:$W$275,MATCH(Ⅰ.構成メンバー名簿!$T$25,Ⅰ.構成メンバー名簿!$Q$25:$W$25,0),FALSE)=\"\",\"\",VLOOKUP($A220,Ⅰ.構成メンバー名簿!$Q$26:$W$275,MATCH(Ⅰ.構成メンバー名簿!$T$25,Ⅰ.構成メンバー名簿!$Q$25:$W$25,0),FALSE)))","v":""},{"$f":"IF($A220=\"\",\"\",VLOOKUP($A220,Ⅰ.構成メンバー名簿!$Q$26:$W$275,MATCH(Ⅰ.構成メンバー名簿!$W$25,Ⅰ.構成メンバー名簿!$Q$25:$W$25,0),FALSE))","v":""},{"$f":"IF(AND(H220>0,SUM(H221:$H$290)=0),\"←ここまで値でコピー\",\"\")","v":""},null,null,0,null,{"$f":"IF(SUM($Q220:$Q$261)=0,\"\",J219+1)","v":""},{"$f":"IF(Ⅰ.構成メンバー名簿!S234<>\"\",Ⅰ.構成メンバー名簿!S234,\"\")","v":""},{"$f":"IF(Ⅰ.構成メンバー名簿!V234=\"\",\"\",Ⅰ.構成メンバー名簿!E234)","v":""},{"$f":"IF(Ⅰ.構成メンバー名簿!W234=\"\",\"\",Ⅰ.構成メンバー名簿!W234)","v":""},{"$f":"IF(AND(Q220>0,SUM($Q221:$Q$261)=0),\"←ここまで値でコピー\",\"\")","v":""},null,null,0]
[{"$f":"IF(MAX(Ⅰ.構成メンバー名簿!$Q$26:$Q$275)>A220,A220+1,\"\")","v":""},{"$f":"IF($A221=\"\",\"\",VLOOKUP($A221,Ⅰ.構成メンバー名簿!$Q$26:$W$275,MATCH(Ⅰ.構成メンバー名簿!$S$25,Ⅰ.構成メンバー名簿!$Q$25:$W$25,0),FALSE))","v":""},{"$f":"IF($A221=\"\",\"\",IF(VLOOKUP($A221,Ⅰ.構成メンバー名簿!$Q$26:$W$275,MATCH(Ⅰ.構成メンバー名簿!$T$25,Ⅰ.構成メンバー名簿!$Q$25:$W$25,0),FALSE)=\"\",\"\",VLOOKUP($A221,Ⅰ.構成メンバー名簿!$Q$26:$W$275,MATCH(Ⅰ.構成メンバー名簿!$T$25,Ⅰ.構成メンバー名簿!$Q$25:$W$25,0),FALSE)))","v":""},{"$f":"IF($A221=\"\",\"\",VLOOKUP($A221,Ⅰ.構成メンバー名簿!$Q$26:$W$275,MATCH(Ⅰ.構成メンバー名簿!$W$25,Ⅰ.構成メンバー名簿!$Q$25:$W$25,0),FALSE))","v":""},{"$f":"IF(AND(H221>0,SUM(H222:$H$290)=0),\"←ここまで値でコピー\",\"\")","v":""},null,null,0,null,{"$f":"IF(SUM($Q221:$Q$261)=0,\"\",J220+1)","v":""},{"$f":"IF(Ⅰ.構成メンバー名簿!S235<>\"\",Ⅰ.構成メンバー名簿!S235,\"\")","v":""},{"$f":"IF(Ⅰ.構成メンバー名簿!V235=\"\",\"\",Ⅰ.構成メンバー名簿!E235)","v":""},{"$f":"IF(Ⅰ.構成メンバー名簿!W235=\"\",\"\",Ⅰ.構成メンバー名簿!W235)","v":""},{"$f":"IF(AND(Q221>0,SUM($Q222:$Q$261)=0),\"←ここまで値でコピー\",\"\")","v":""},null,null,0]
[{"$f":"IF(MAX(Ⅰ.構成メンバー名簿!$Q$26:$Q$275)>A221,A221+1,\"\")","v":""},{"$f":"IF($A222=\"\",\"\",VLOOKUP($A222,Ⅰ.構成メンバー名簿!$Q$26:$W$275,MATCH(Ⅰ.構成メンバー名簿!$S$25,Ⅰ.構成メンバー名簿!$Q$25:$W$25,0),FALSE))","v":""},{"$f":"IF($A222=\"\",\"\",IF(VLOOKUP($A222,Ⅰ.構成メンバー名簿!$Q$26:$W$275,MATCH(Ⅰ.構成メンバー名簿!$T$25,Ⅰ.構成メンバー名簿!$Q$25:$W$25,0),FALSE)=\"\",\"\",VLOOKUP($A222,Ⅰ.構成メンバー名簿!$Q$26:$W$275,MATCH(Ⅰ.構成メンバー名簿!$T$25,Ⅰ.構成メンバー名簿!$Q$25:$W$25,0),FALSE)))","v":""},{"$f":"IF($A222=\"\",\"\",VLOOKUP($A222,Ⅰ.構成メンバー名簿!$Q$26:$W$275,MATCH(Ⅰ.構成メンバー名簿!$W$25,Ⅰ.構成メンバー名簿!$Q$25:$W$25,0),FALSE))","v":""},{"$f":"IF(AND(H222>0,SUM(H223:$H$290)=0),\"←ここまで値でコピー\",\"\")","v":""},null,null,0,null,{"$f":"IF(SUM($Q222:$Q$261)=0,\"\",J221+1)","v":""},{"$f":"IF(Ⅰ.構成メンバー名簿!S236<>\"\",Ⅰ.構成メンバー名簿!S236,\"\")","v":""},{"$f":"IF(Ⅰ.構成メンバー名簿!V236=\"\",\"\",Ⅰ.構成メンバー名簿!E236)","v":""},{"$f":"IF(Ⅰ.構成メンバー名簿!W236=\"\",\"\",Ⅰ.構成メンバー名簿!W236)","v":""},{"$f":"IF(AND(Q222>0,SUM($Q223:$Q$261)=0),\"←ここまで値でコピー\",\"\")","v":""},null,null,0]
[{"$f":"IF(MAX(Ⅰ.構成メンバー名簿!$Q$26:$Q$275)>A222,A222+1,\"\")","v":""},{"$f":"IF($A223=\"\",\"\",VLOOKUP($A223,Ⅰ.構成メンバー名簿!$Q$26:$W$275,MATCH(Ⅰ.構成メンバー名簿!$S$25,Ⅰ.構成メンバー名簿!$Q$25:$W$25,0),FALSE))","v":""},{"$f":"IF($A223=\"\",\"\",IF(VLOOKUP($A223,Ⅰ.構成メンバー名簿!$Q$26:$W$275,MATCH(Ⅰ.構成メンバー名簿!$T$25,Ⅰ.構成メンバー名簿!$Q$25:$W$25,0),FALSE)=\"\",\"\",VLOOKUP($A223,Ⅰ.構成メンバー名簿!$Q$26:$W$275,MATCH(Ⅰ.構成メンバー名簿!$T$25,Ⅰ.構成メンバー名簿!$Q$25:$W$25,0),FALSE)))","v":""},{"$f":"IF($A223=\"\",\"\",VLOOKUP($A223,Ⅰ.構成メンバー名簿!$Q$26:$W$275,MATCH(Ⅰ.構成メンバー名簿!$W$25,Ⅰ.構成メンバー名簿!$Q$25:$W$25,0),FALSE))","v":""},{"$f":"IF(AND(H223>0,SUM(H224:$H$290)=0),\"←ここまで値でコピー\",\"\")","v":""},null,null,0,null,{"$f":"IF(SUM($Q223:$Q$261)=0,\"\",J222+1)","v":""},{"$f":"IF(Ⅰ.構成メンバー名簿!S237<>\"\",Ⅰ.構成メンバー名簿!S237,\"\")","v":""},{"$f":"IF(Ⅰ.構成メンバー名簿!V237=\"\",\"\",Ⅰ.構成メンバー名簿!E237)","v":""},{"$f":"IF(Ⅰ.構成メンバー名簿!W237=\"\",\"\",Ⅰ.構成メンバー名簿!W237)","v":""},{"$f":"IF(AND(Q223>0,SUM($Q224:$Q$261)=0),\"←ここまで値でコピー\",\"\")","v":""},null,null,0]
[{"$f":"IF(MAX(Ⅰ.構成メンバー名簿!$Q$26:$Q$275)>A223,A223+1,\"\")","v":""},{"$f":"IF($A224=\"\",\"\",VLOOKUP($A224,Ⅰ.構成メンバー名簿!$Q$26:$W$275,MATCH(Ⅰ.構成メンバー名簿!$S$25,Ⅰ.構成メンバー名簿!$Q$25:$W$25,0),FALSE))","v":""},{"$f":"IF($A224=\"\",\"\",IF(VLOOKUP($A224,Ⅰ.構成メンバー名簿!$Q$26:$W$275,MATCH(Ⅰ.構成メンバー名簿!$T$25,Ⅰ.構成メンバー名簿!$Q$25:$W$25,0),FALSE)=\"\",\"\",VLOOKUP($A224,Ⅰ.構成メンバー名簿!$Q$26:$W$275,MATCH(Ⅰ.構成メンバー名簿!$T$25,Ⅰ.構成メンバー名簿!$Q$25:$W$25,0),FALSE)))","v":""},{"$f":"IF($A224=\"\",\"\",VLOOKUP($A224,Ⅰ.構成メンバー名簿!$Q$26:$W$275,MATCH(Ⅰ.構成メンバー名簿!$W$25,Ⅰ.構成メンバー名簿!$Q$25:$W$25,0),FALSE))","v":""},{"$f":"IF(AND(H224>0,SUM(H225:$H$290)=0),\"←ここまで値でコピー\",\"\")","v":""},null,null,0,null,{"$f":"IF(SUM($Q224:$Q$261)=0,\"\",J223+1)","v":""},{"$f":"IF(Ⅰ.構成メンバー名簿!S238<>\"\",Ⅰ.構成メンバー名簿!S238,\"\")","v":""},{"$f":"IF(Ⅰ.構成メンバー名簿!V238=\"\",\"\",Ⅰ.構成メンバー名簿!E238)","v":""},{"$f":"IF(Ⅰ.構成メンバー名簿!W238=\"\",\"\",Ⅰ.構成メンバー名簿!W238)","v":""},{"$f":"IF(AND(Q224>0,SUM($Q225:$Q$261)=0),\"←ここまで値でコピー\",\"\")","v":""},null,null,0]
[{"$f":"IF(MAX(Ⅰ.構成メンバー名簿!$Q$26:$Q$275)>A224,A224+1,\"\")","v":""},{"$f":"IF($A225=\"\",\"\",VLOOKUP($A225,Ⅰ.構成メンバー名簿!$Q$26:$W$275,MATCH(Ⅰ.構成メンバー名簿!$S$25,Ⅰ.構成メンバー名簿!$Q$25:$W$25,0),FALSE))","v":""},{"$f":"IF($A225=\"\",\"\",IF(VLOOKUP($A225,Ⅰ.構成メンバー名簿!$Q$26:$W$275,MATCH(Ⅰ.構成メンバー名簿!$T$25,Ⅰ.構成メンバー名簿!$Q$25:$W$25,0),FALSE)=\"\",\"\",VLOOKUP($A225,Ⅰ.構成メンバー名簿!$Q$26:$W$275,MATCH(Ⅰ.構成メンバー名簿!$T$25,Ⅰ.構成メンバー名簿!$Q$25:$W$25,0),FALSE)))","v":""},{"$f":"IF($A225=\"\",\"\",VLOOKUP($A225,Ⅰ.構成メンバー名簿!$Q$26:$W$275,MATCH(Ⅰ.構成メンバー名簿!$W$25,Ⅰ.構成メンバー名簿!$Q$25:$W$25,0),FALSE))","v":""},{"$f":"IF(AND(H225>0,SUM(H226:$H$290)=0),\"←ここまで値でコピー\",\"\")","v":""},null,null,0,null,{"$f":"IF(SUM($Q225:$Q$261)=0,\"\",J224+1)","v":""},{"$f":"IF(Ⅰ.構成メンバー名簿!S239<>\"\",Ⅰ.構成メンバー名簿!S239,\"\")","v":""},{"$f":"IF(Ⅰ.構成メンバー名簿!V239=\"\",\"\",Ⅰ.構成メンバー名簿!E239)","v":""},{"$f":"IF(Ⅰ.構成メンバー名簿!W239=\"\",\"\",Ⅰ.構成メンバー名簿!W239)","v":""},{"$f":"IF(AND(Q225>0,SUM($Q226:$Q$261)=0),\"←ここまで値でコピー\",\"\")","v":""},null,null,0]
[{"$f":"IF(MAX(Ⅰ.構成メンバー名簿!$Q$26:$Q$275)>A225,A225+1,\"\")","v":""},{"$f":"IF($A226=\"\",\"\",VLOOKUP($A226,Ⅰ.構成メンバー名簿!$Q$26:$W$275,MATCH(Ⅰ.構成メンバー名簿!$S$25,Ⅰ.構成メンバー名簿!$Q$25:$W$25,0),FALSE))","v":""},{"$f":"IF($A226=\"\",\"\",IF(VLOOKUP($A226,Ⅰ.構成メンバー名簿!$Q$26:$W$275,MATCH(Ⅰ.構成メンバー名簿!$T$25,Ⅰ.構成メンバー名簿!$Q$25:$W$25,0),FALSE)=\"\",\"\",VLOOKUP($A226,Ⅰ.構成メンバー名簿!$Q$26:$W$275,MATCH(Ⅰ.構成メンバー名簿!$T$25,Ⅰ.構成メンバー名簿!$Q$25:$W$25,0),FALSE)))","v":""},{"$f":"IF($A226=\"\",\"\",VLOOKUP($A226,Ⅰ.構成メンバー名簿!$Q$26:$W$275,MATCH(Ⅰ.構成メンバー名簿!$W$25,Ⅰ.構成メンバー名簿!$Q$25:$W$25,0),FALSE))","v":""},{"$f":"IF(AND(H226>0,SUM(H227:$H$290)=0),\"←ここまで値でコピー\",\"\")","v":""},null,null,0,null,{"$f":"IF(SUM($Q226:$Q$261)=0,\"\",J225+1)","v":""},{"$f":"IF(Ⅰ.構成メンバー名簿!S240<>\"\",Ⅰ.構成メンバー名簿!S240,\"\")","v":""},{"$f":"IF(Ⅰ.構成メンバー名簿!V240=\"\",\"\",Ⅰ.構成メンバー名簿!E240)","v":""},{"$f":"IF(Ⅰ.構成メンバー名簿!W240=\"\",\"\",Ⅰ.構成メンバー名簿!W240)","v":""},{"$f":"IF(AND(Q226>0,SUM($Q227:$Q$261)=0),\"←ここまで値でコピー\",\"\")","v":""},null,null,0]
[{"$f":"IF(MAX(Ⅰ.構成メンバー名簿!$Q$26:$Q$275)>A226,A226+1,\"\")","v":""},{"$f":"IF($A227=\"\",\"\",VLOOKUP($A227,Ⅰ.構成メンバー名簿!$Q$26:$W$275,MATCH(Ⅰ.構成メンバー名簿!$S$25,Ⅰ.構成メンバー名簿!$Q$25:$W$25,0),FALSE))","v":""},{"$f":"IF($A227=\"\",\"\",IF(VLOOKUP($A227,Ⅰ.構成メンバー名簿!$Q$26:$W$275,MATCH(Ⅰ.構成メンバー名簿!$T$25,Ⅰ.構成メンバー名簿!$Q$25:$W$25,0),FALSE)=\"\",\"\",VLOOKUP($A227,Ⅰ.構成メンバー名簿!$Q$26:$W$275,MATCH(Ⅰ.構成メンバー名簿!$T$25,Ⅰ.構成メンバー名簿!$Q$25:$W$25,0),FALSE)))","v":""},{"$f":"IF($A227=\"\",\"\",VLOOKUP($A227,Ⅰ.構成メンバー名簿!$Q$26:$W$275,MATCH(Ⅰ.構成メンバー名簿!$W$25,Ⅰ.構成メンバー名簿!$Q$25:$W$25,0),FALSE))","v":""},{"$f":"IF(AND(H227>0,SUM(H228:$H$290)=0),\"←ここまで値でコピー\",\"\")","v":""},null,null,0,null,{"$f":"IF(SUM($Q227:$Q$261)=0,\"\",J226+1)","v":""},{"$f":"IF(Ⅰ.構成メンバー名簿!S241<>\"\",Ⅰ.構成メンバー名簿!S241,\"\")","v":""},{"$f":"IF(Ⅰ.構成メンバー名簿!V241=\"\",\"\",Ⅰ.構成メンバー名簿!E241)","v":""},{"$f":"IF(Ⅰ.構成メンバー名簿!W241=\"\",\"\",Ⅰ.構成メンバー名簿!W241)","v":""},{"$f":"IF(AND(Q227>0,SUM($Q228:$Q$261)=0),\"←ここまで値でコピー\",\"\")","v":""},null,null,0]
[{"$f":"IF(MAX(Ⅰ.構成メンバー名簿!$Q$26:$Q$275)>A227,A227+1,\"\")","v":""},{"$f":"IF($A228=\"\",\"\",VLOOKUP($A228,Ⅰ.構成メンバー名簿!$Q$26:$W$275,MATCH(Ⅰ.構成メンバー名簿!$S$25,Ⅰ.構成メンバー名簿!$Q$25:$W$25,0),FALSE))","v":""},{"$f":"IF($A228=\"\",\"\",IF(VLOOKUP($A228,Ⅰ.構成メンバー名簿!$Q$26:$W$275,MATCH(Ⅰ.構成メンバー名簿!$T$25,Ⅰ.構成メンバー名簿!$Q$25:$W$25,0),FALSE)=\"\",\"\",VLOOKUP($A228,Ⅰ.構成メンバー名簿!$Q$26:$W$275,MATCH(Ⅰ.構成メンバー名簿!$T$25,Ⅰ.構成メンバー名簿!$Q$25:$W$25,0),FALSE)))","v":""},{"$f":"IF($A228=\"\",\"\",VLOOKUP($A228,Ⅰ.構成メンバー名簿!$Q$26:$W$275,MATCH(Ⅰ.構成メンバー名簿!$W$25,Ⅰ.構成メンバー名簿!$Q$25:$W$25,0),FALSE))","v":""},{"$f":"IF(AND(H228>0,SUM(H229:$H$290)=0),\"←ここまで値でコピー\",\"\")","v":""},null,null,0,null,{"$f":"IF(SUM($Q228:$Q$261)=0,\"\",J227+1)","v":""},{"$f":"IF(Ⅰ.構成メンバー名簿!S242<>\"\",Ⅰ.構成メンバー名簿!S242,\"\")","v":""},{"$f":"IF(Ⅰ.構成メンバー名簿!V242=\"\",\"\",Ⅰ.構成メンバー名簿!E242)","v":""},{"$f":"IF(Ⅰ.構成メンバー名簿!W242=\"\",\"\",Ⅰ.構成メンバー名簿!W242)","v":""},{"$f":"IF(AND(Q228>0,SUM($Q229:$Q$261)=0),\"←ここまで値でコピー\",\"\")","v":""},null,null,0]
[{"$f":"IF(MAX(Ⅰ.構成メンバー名簿!$Q$26:$Q$275)>A228,A228+1,\"\")","v":""},{"$f":"IF($A229=\"\",\"\",VLOOKUP($A229,Ⅰ.構成メンバー名簿!$Q$26:$W$275,MATCH(Ⅰ.構成メンバー名簿!$S$25,Ⅰ.構成メンバー名簿!$Q$25:$W$25,0),FALSE))","v":""},{"$f":"IF($A229=\"\",\"\",IF(VLOOKUP($A229,Ⅰ.構成メンバー名簿!$Q$26:$W$275,MATCH(Ⅰ.構成メンバー名簿!$T$25,Ⅰ.構成メンバー名簿!$Q$25:$W$25,0),FALSE)=\"\",\"\",VLOOKUP($A229,Ⅰ.構成メンバー名簿!$Q$26:$W$275,MATCH(Ⅰ.構成メンバー名簿!$T$25,Ⅰ.構成メンバー名簿!$Q$25:$W$25,0),FALSE)))","v":""},{"$f":"IF($A229=\"\",\"\",VLOOKUP($A229,Ⅰ.構成メンバー名簿!$Q$26:$W$275,MATCH(Ⅰ.構成メンバー名簿!$W$25,Ⅰ.構成メンバー名簿!$Q$25:$W$25,0),FALSE))","v":""},{"$f":"IF(AND(H229>0,SUM(H230:$H$290)=0),\"←ここまで値でコピー\",\"\")","v":""},null,null,0,null,{"$f":"IF(SUM($Q229:$Q$261)=0,\"\",J228+1)","v":""},{"$f":"IF(Ⅰ.構成メンバー名簿!S243<>\"\",Ⅰ.構成メンバー名簿!S243,\"\")","v":""},{"$f":"IF(Ⅰ.構成メンバー名簿!V243=\"\",\"\",Ⅰ.構成メンバー名簿!E243)","v":""},{"$f":"IF(Ⅰ.構成メンバー名簿!W243=\"\",\"\",Ⅰ.構成メンバー名簿!W243)","v":""},{"$f":"IF(AND(Q229>0,SUM($Q230:$Q$261)=0),\"←ここまで値でコピー\",\"\")","v":""},null,null,0]
[{"$f":"IF(MAX(Ⅰ.構成メンバー名簿!$Q$26:$Q$275)>A229,A229+1,\"\")","v":""},{"$f":"IF($A230=\"\",\"\",VLOOKUP($A230,Ⅰ.構成メンバー名簿!$Q$26:$W$275,MATCH(Ⅰ.構成メンバー名簿!$S$25,Ⅰ.構成メンバー名簿!$Q$25:$W$25,0),FALSE))","v":""},{"$f":"IF($A230=\"\",\"\",IF(VLOOKUP($A230,Ⅰ.構成メンバー名簿!$Q$26:$W$275,MATCH(Ⅰ.構成メンバー名簿!$T$25,Ⅰ.構成メンバー名簿!$Q$25:$W$25,0),FALSE)=\"\",\"\",VLOOKUP($A230,Ⅰ.構成メンバー名簿!$Q$26:$W$275,MATCH(Ⅰ.構成メンバー名簿!$T$25,Ⅰ.構成メンバー名簿!$Q$25:$W$25,0),FALSE)))","v":""},{"$f":"IF($A230=\"\",\"\",VLOOKUP($A230,Ⅰ.構成メンバー名簿!$Q$26:$W$275,MATCH(Ⅰ.構成メンバー名簿!$W$25,Ⅰ.構成メンバー名簿!$Q$25:$W$25,0),FALSE))","v":""},{"$f":"IF(AND(H230>0,SUM(H231:$H$290)=0),\"←ここまで値でコピー\",\"\")","v":""},null,null,0,null,{"$f":"IF(SUM($Q230:$Q$261)=0,\"\",J229+1)","v":""},{"$f":"IF(Ⅰ.構成メンバー名簿!S244<>\"\",Ⅰ.構成メンバー名簿!S244,\"\")","v":""},{"$f":"IF(Ⅰ.構成メンバー名簿!V244=\"\",\"\",Ⅰ.構成メンバー名簿!E244)","v":""},{"$f":"IF(Ⅰ.構成メンバー名簿!W244=\"\",\"\",Ⅰ.構成メンバー名簿!W244)","v":""},{"$f":"IF(AND(Q230>0,SUM($Q231:$Q$261)=0),\"←ここまで値でコピー\",\"\")","v":""},null,null,0]
[{"$f":"IF(MAX(Ⅰ.構成メンバー名簿!$Q$26:$Q$275)>A230,A230+1,\"\")","v":""},{"$f":"IF($A231=\"\",\"\",VLOOKUP($A231,Ⅰ.構成メンバー名簿!$Q$26:$W$275,MATCH(Ⅰ.構成メンバー名簿!$S$25,Ⅰ.構成メンバー名簿!$Q$25:$W$25,0),FALSE))","v":""},{"$f":"IF($A231=\"\",\"\",IF(VLOOKUP($A231,Ⅰ.構成メンバー名簿!$Q$26:$W$275,MATCH(Ⅰ.構成メンバー名簿!$T$25,Ⅰ.構成メンバー名簿!$Q$25:$W$25,0),FALSE)=\"\",\"\",VLOOKUP($A231,Ⅰ.構成メンバー名簿!$Q$26:$W$275,MATCH(Ⅰ.構成メンバー名簿!$T$25,Ⅰ.構成メンバー名簿!$Q$25:$W$25,0),FALSE)))","v":""},{"$f":"IF($A231=\"\",\"\",VLOOKUP($A231,Ⅰ.構成メンバー名簿!$Q$26:$W$275,MATCH(Ⅰ.構成メンバー名簿!$W$25,Ⅰ.構成メンバー名簿!$Q$25:$W$25,0),FALSE))","v":""},{"$f":"IF(AND(H231>0,SUM(H232:$H$290)=0),\"←ここまで値でコピー\",\"\")","v":""},null,null,0,null,{"$f":"IF(SUM($Q231:$Q$261)=0,\"\",J230+1)","v":""},{"$f":"IF(Ⅰ.構成メンバー名簿!S245<>\"\",Ⅰ.構成メンバー名簿!S245,\"\")","v":""},{"$f":"IF(Ⅰ.構成メンバー名簿!V245=\"\",\"\",Ⅰ.構成メンバー名簿!E245)","v":""},{"$f":"IF(Ⅰ.構成メンバー名簿!W245=\"\",\"\",Ⅰ.構成メンバー名簿!W245)","v":""},{"$f":"IF(AND(Q231>0,SUM($Q232:$Q$261)=0),\"←ここまで値でコピー\",\"\")","v":""},null,null,0]
[{"$f":"IF(MAX(Ⅰ.構成メンバー名簿!$Q$26:$Q$275)>A231,A231+1,\"\")","v":""},{"$f":"IF($A232=\"\",\"\",VLOOKUP($A232,Ⅰ.構成メンバー名簿!$Q$26:$W$275,MATCH(Ⅰ.構成メンバー名簿!$S$25,Ⅰ.構成メンバー名簿!$Q$25:$W$25,0),FALSE))","v":""},{"$f":"IF($A232=\"\",\"\",IF(VLOOKUP($A232,Ⅰ.構成メンバー名簿!$Q$26:$W$275,MATCH(Ⅰ.構成メンバー名簿!$T$25,Ⅰ.構成メンバー名簿!$Q$25:$W$25,0),FALSE)=\"\",\"\",VLOOKUP($A232,Ⅰ.構成メンバー名簿!$Q$26:$W$275,MATCH(Ⅰ.構成メンバー名簿!$T$25,Ⅰ.構成メンバー名簿!$Q$25:$W$25,0),FALSE)))","v":""},{"$f":"IF($A232=\"\",\"\",VLOOKUP($A232,Ⅰ.構成メンバー名簿!$Q$26:$W$275,MATCH(Ⅰ.構成メンバー名簿!$W$25,Ⅰ.構成メンバー名簿!$Q$25:$W$25,0),FALSE))","v":""},{"$f":"IF(AND(H232>0,SUM(H233:$H$290)=0),\"←ここまで値でコピー\",\"\")","v":""},null,null,0,null,{"$f":"IF(SUM($Q232:$Q$261)=0,\"\",J231+1)","v":""},{"$f":"IF(Ⅰ.構成メンバー名簿!S246<>\"\",Ⅰ.構成メンバー名簿!S246,\"\")","v":""},{"$f":"IF(Ⅰ.構成メンバー名簿!V246=\"\",\"\",Ⅰ.構成メンバー名簿!E246)","v":""},{"$f":"IF(Ⅰ.構成メンバー名簿!W246=\"\",\"\",Ⅰ.構成メンバー名簿!W246)","v":""},{"$f":"IF(AND(Q232>0,SUM($Q233:$Q$261)=0),\"←ここまで値でコピー\",\"\")","v":""},null,null,0]
[{"$f":"IF(MAX(Ⅰ.構成メンバー名簿!$Q$26:$Q$275)>A232,A232+1,\"\")","v":""},{"$f":"IF($A233=\"\",\"\",VLOOKUP($A233,Ⅰ.構成メンバー名簿!$Q$26:$W$275,MATCH(Ⅰ.構成メンバー名簿!$S$25,Ⅰ.構成メンバー名簿!$Q$25:$W$25,0),FALSE))","v":""},{"$f":"IF($A233=\"\",\"\",IF(VLOOKUP($A233,Ⅰ.構成メンバー名簿!$Q$26:$W$275,MATCH(Ⅰ.構成メンバー名簿!$T$25,Ⅰ.構成メンバー名簿!$Q$25:$W$25,0),FALSE)=\"\",\"\",VLOOKUP($A233,Ⅰ.構成メンバー名簿!$Q$26:$W$275,MATCH(Ⅰ.構成メンバー名簿!$T$25,Ⅰ.構成メンバー名簿!$Q$25:$W$25,0),FALSE)))","v":""},{"$f":"IF($A233=\"\",\"\",VLOOKUP($A233,Ⅰ.構成メンバー名簿!$Q$26:$W$275,MATCH(Ⅰ.構成メンバー名簿!$W$25,Ⅰ.構成メンバー名簿!$Q$25:$W$25,0),FALSE))","v":""},{"$f":"IF(AND(H233>0,SUM(H234:$H$290)=0),\"←ここまで値でコピー\",\"\")","v":""},null,null,0,null,{"$f":"IF(SUM($Q233:$Q$261)=0,\"\",J232+1)","v":""},{"$f":"IF(Ⅰ.構成メンバー名簿!S247<>\"\",Ⅰ.構成メンバー名簿!S247,\"\")","v":""},{"$f":"IF(Ⅰ.構成メンバー名簿!V247=\"\",\"\",Ⅰ.構成メンバー名簿!E247)","v":""},{"$f":"IF(Ⅰ.構成メンバー名簿!W247=\"\",\"\",Ⅰ.構成メンバー名簿!W247)","v":""},{"$f":"IF(AND(Q233>0,SUM($Q234:$Q$261)=0),\"←ここまで値でコピー\",\"\")","v":""},null,null,0]
[{"$f":"IF(MAX(Ⅰ.構成メンバー名簿!$Q$26:$Q$275)>A233,A233+1,\"\")","v":""},{"$f":"IF($A234=\"\",\"\",VLOOKUP($A234,Ⅰ.構成メンバー名簿!$Q$26:$W$275,MATCH(Ⅰ.構成メンバー名簿!$S$25,Ⅰ.構成メンバー名簿!$Q$25:$W$25,0),FALSE))","v":""},{"$f":"IF($A234=\"\",\"\",IF(VLOOKUP($A234,Ⅰ.構成メンバー名簿!$Q$26:$W$275,MATCH(Ⅰ.構成メンバー名簿!$T$25,Ⅰ.構成メンバー名簿!$Q$25:$W$25,0),FALSE)=\"\",\"\",VLOOKUP($A234,Ⅰ.構成メンバー名簿!$Q$26:$W$275,MATCH(Ⅰ.構成メンバー名簿!$T$25,Ⅰ.構成メンバー名簿!$Q$25:$W$25,0),FALSE)))","v":""},{"$f":"IF($A234=\"\",\"\",VLOOKUP($A234,Ⅰ.構成メンバー名簿!$Q$26:$W$275,MATCH(Ⅰ.構成メンバー名簿!$W$25,Ⅰ.構成メンバー名簿!$Q$25:$W$25,0),FALSE))","v":""},{"$f":"IF(AND(H234>0,SUM(H235:$H$290)=0),\"←ここまで値でコピー\",\"\")","v":""},null,null,{"$f":"IF(COUNTBLANK(B234:D234)=3,0,1)","v":0},null,{"$f":"IF(SUM($Q234:$Q$261)=0,\"\",J233+1)","v":""},{"$f":"IF(Ⅰ.構成メンバー名簿!S248<>\"\",Ⅰ.構成メンバー名簿!S248,\"\")","v":""},{"$f":"IF(Ⅰ.構成メンバー名簿!V248=\"\",\"\",Ⅰ.構成メンバー名簿!E248)","v":""},{"$f":"IF(Ⅰ.構成メンバー名簿!W248=\"\",\"\",Ⅰ.構成メンバー名簿!W248)","v":""},{"$f":"IF(AND(Q234>0,SUM($Q235:$Q$261)=0),\"←ここまで値でコピー\",\"\")","v":""},null,null,0]
[{"$f":"IF(MAX(Ⅰ.構成メンバー名簿!$Q$26:$Q$275)>A234,A234+1,\"\")","v":""},{"$f":"IF($A235=\"\",\"\",VLOOKUP($A235,Ⅰ.構成メンバー名簿!$Q$26:$W$275,MATCH(Ⅰ.構成メンバー名簿!$S$25,Ⅰ.構成メンバー名簿!$Q$25:$W$25,0),FALSE))","v":""},{"$f":"IF($A235=\"\",\"\",IF(VLOOKUP($A235,Ⅰ.構成メンバー名簿!$Q$26:$W$275,MATCH(Ⅰ.構成メンバー名簿!$T$25,Ⅰ.構成メンバー名簿!$Q$25:$W$25,0),FALSE)=\"\",\"\",VLOOKUP($A235,Ⅰ.構成メンバー名簿!$Q$26:$W$275,MATCH(Ⅰ.構成メンバー名簿!$T$25,Ⅰ.構成メンバー名簿!$Q$25:$W$25,0),FALSE)))","v":""},{"$f":"IF($A235=\"\",\"\",VLOOKUP($A235,Ⅰ.構成メンバー名簿!$Q$26:$W$275,MATCH(Ⅰ.構成メンバー名簿!$W$25,Ⅰ.構成メンバー名簿!$Q$25:$W$25,0),FALSE))","v":""},{"$f":"IF(AND(H235>0,SUM(H236:$H$290)=0),\"←ここまで値でコピー\",\"\")","v":""},null,null,0,null,{"$f":"IF(SUM($Q235:$Q$261)=0,\"\",J234+1)","v":""},{"$f":"IF(Ⅰ.構成メンバー名簿!S249<>\"\",Ⅰ.構成メンバー名簿!S249,\"\")","v":""},{"$f":"IF(Ⅰ.構成メンバー名簿!V249=\"\",\"\",Ⅰ.構成メンバー名簿!E249)","v":""},{"$f":"IF(Ⅰ.構成メンバー名簿!W249=\"\",\"\",Ⅰ.構成メンバー名簿!W249)","v":""},{"$f":"IF(AND(Q235>0,SUM($Q236:$Q$261)=0),\"←ここまで値でコピー\",\"\")","v":""},null,null,0]
[{"$f":"IF(MAX(Ⅰ.構成メンバー名簿!$Q$26:$Q$275)>A235,A235+1,\"\")","v":""},{"$f":"IF($A236=\"\",\"\",VLOOKUP($A236,Ⅰ.構成メンバー名簿!$Q$26:$W$275,MATCH(Ⅰ.構成メンバー名簿!$S$25,Ⅰ.構成メンバー名簿!$Q$25:$W$25,0),FALSE))","v":""},{"$f":"IF($A236=\"\",\"\",IF(VLOOKUP($A236,Ⅰ.構成メンバー名簿!$Q$26:$W$275,MATCH(Ⅰ.構成メンバー名簿!$T$25,Ⅰ.構成メンバー名簿!$Q$25:$W$25,0),FALSE)=\"\",\"\",VLOOKUP($A236,Ⅰ.構成メンバー名簿!$Q$26:$W$275,MATCH(Ⅰ.構成メンバー名簿!$T$25,Ⅰ.構成メンバー名簿!$Q$25:$W$25,0),FALSE)))","v":""},{"$f":"IF($A236=\"\",\"\",VLOOKUP($A236,Ⅰ.構成メンバー名簿!$Q$26:$W$275,MATCH(Ⅰ.構成メンバー名簿!$W$25,Ⅰ.構成メンバー名簿!$Q$25:$W$25,0),FALSE))","v":""},{"$f":"IF(AND(H236>0,SUM(H237:$H$290)=0),\"←ここまで値でコピー\",\"\")","v":""},null,null,0,null,{"$f":"IF(SUM($Q236:$Q$261)=0,\"\",J235+1)","v":""},{"$f":"IF(Ⅰ.構成メンバー名簿!S250<>\"\",Ⅰ.構成メンバー名簿!S250,\"\")","v":""},{"$f":"IF(Ⅰ.構成メンバー名簿!V250=\"\",\"\",Ⅰ.構成メンバー名簿!E250)","v":""},{"$f":"IF(Ⅰ.構成メンバー名簿!W250=\"\",\"\",Ⅰ.構成メンバー名簿!W250)","v":""},{"$f":"IF(AND(Q236>0,SUM($Q237:$Q$261)=0),\"←ここまで値でコピー\",\"\")","v":""},null,null,0]
[{"$f":"IF(MAX(Ⅰ.構成メンバー名簿!$Q$26:$Q$275)>A236,A236+1,\"\")","v":""},{"$f":"IF($A237=\"\",\"\",VLOOKUP($A237,Ⅰ.構成メンバー名簿!$Q$26:$W$275,MATCH(Ⅰ.構成メンバー名簿!$S$25,Ⅰ.構成メンバー名簿!$Q$25:$W$25,0),FALSE))","v":""},{"$f":"IF($A237=\"\",\"\",IF(VLOOKUP($A237,Ⅰ.構成メンバー名簿!$Q$26:$W$275,MATCH(Ⅰ.構成メンバー名簿!$T$25,Ⅰ.構成メンバー名簿!$Q$25:$W$25,0),FALSE)=\"\",\"\",VLOOKUP($A237,Ⅰ.構成メンバー名簿!$Q$26:$W$275,MATCH(Ⅰ.構成メンバー名簿!$T$25,Ⅰ.構成メンバー名簿!$Q$25:$W$25,0),FALSE)))","v":""},{"$f":"IF($A237=\"\",\"\",VLOOKUP($A237,Ⅰ.構成メンバー名簿!$Q$26:$W$275,MATCH(Ⅰ.構成メンバー名簿!$W$25,Ⅰ.構成メンバー名簿!$Q$25:$W$25,0),FALSE))","v":""},{"$f":"IF(AND(H237>0,SUM(H238:$H$290)=0),\"←ここまで値でコピー\",\"\")","v":""},null,null,0,null,{"$f":"IF(SUM($Q237:$Q$261)=0,\"\",J236+1)","v":""},{"$f":"IF(Ⅰ.構成メンバー名簿!S251<>\"\",Ⅰ.構成メンバー名簿!S251,\"\")","v":""},{"$f":"IF(Ⅰ.構成メンバー名簿!V251=\"\",\"\",Ⅰ.構成メンバー名簿!E251)","v":""},{"$f":"IF(Ⅰ.構成メンバー名簿!W251=\"\",\"\",Ⅰ.構成メンバー名簿!W251)","v":""},{"$f":"IF(AND(Q237>0,SUM($Q238:$Q$261)=0),\"←ここまで値でコピー\",\"\")","v":""},null,null,0]
[{"$f":"IF(MAX(Ⅰ.構成メンバー名簿!$Q$26:$Q$275)>A237,A237+1,\"\")","v":""},{"$f":"IF($A238=\"\",\"\",VLOOKUP($A238,Ⅰ.構成メンバー名簿!$Q$26:$W$275,MATCH(Ⅰ.構成メンバー名簿!$S$25,Ⅰ.構成メンバー名簿!$Q$25:$W$25,0),FALSE))","v":""},{"$f":"IF($A238=\"\",\"\",IF(VLOOKUP($A238,Ⅰ.構成メンバー名簿!$Q$26:$W$275,MATCH(Ⅰ.構成メンバー名簿!$T$25,Ⅰ.構成メンバー名簿!$Q$25:$W$25,0),FALSE)=\"\",\"\",VLOOKUP($A238,Ⅰ.構成メンバー名簿!$Q$26:$W$275,MATCH(Ⅰ.構成メンバー名簿!$T$25,Ⅰ.構成メンバー名簿!$Q$25:$W$25,0),FALSE)))","v":""},{"$f":"IF($A238=\"\",\"\",VLOOKUP($A238,Ⅰ.構成メンバー名簿!$Q$26:$W$275,MATCH(Ⅰ.構成メンバー名簿!$W$25,Ⅰ.構成メンバー名簿!$Q$25:$W$25,0),FALSE))","v":""},{"$f":"IF(AND(H238>0,SUM(H239:$H$290)=0),\"←ここまで値でコピー\",\"\")","v":""},null,null,0,null,{"$f":"IF(SUM($Q238:$Q$261)=0,\"\",J237+1)","v":""},{"$f":"IF(Ⅰ.構成メンバー名簿!S252<>\"\",Ⅰ.構成メンバー名簿!S252,\"\")","v":""},{"$f":"IF(Ⅰ.構成メンバー名簿!V252=\"\",\"\",Ⅰ.構成メンバー名簿!E252)","v":""},{"$f":"IF(Ⅰ.構成メンバー名簿!W252=\"\",\"\",Ⅰ.構成メンバー名簿!W252)","v":""},{"$f":"IF(AND(Q238>0,SUM($Q239:$Q$261)=0),\"←ここまで値でコピー\",\"\")","v":""},null,null,0]
[{"$f":"IF(MAX(Ⅰ.構成メンバー名簿!$Q$26:$Q$275)>A238,A238+1,\"\")","v":""},{"$f":"IF($A239=\"\",\"\",VLOOKUP($A239,Ⅰ.構成メンバー名簿!$Q$26:$W$275,MATCH(Ⅰ.構成メンバー名簿!$S$25,Ⅰ.構成メンバー名簿!$Q$25:$W$25,0),FALSE))","v":""},{"$f":"IF($A239=\"\",\"\",IF(VLOOKUP($A239,Ⅰ.構成メンバー名簿!$Q$26:$W$275,MATCH(Ⅰ.構成メンバー名簿!$T$25,Ⅰ.構成メンバー名簿!$Q$25:$W$25,0),FALSE)=\"\",\"\",VLOOKUP($A239,Ⅰ.構成メンバー名簿!$Q$26:$W$275,MATCH(Ⅰ.構成メンバー名簿!$T$25,Ⅰ.構成メンバー名簿!$Q$25:$W$25,0),FALSE)))","v":""},{"$f":"IF($A239=\"\",\"\",VLOOKUP($A239,Ⅰ.構成メンバー名簿!$Q$26:$W$275,MATCH(Ⅰ.構成メンバー名簿!$W$25,Ⅰ.構成メンバー名簿!$Q$25:$W$25,0),FALSE))","v":""},{"$f":"IF(AND(H239>0,SUM(H240:$H$290)=0),\"←ここまで値でコピー\",\"\")","v":""},null,null,0,null,{"$f":"IF(SUM($Q239:$Q$261)=0,\"\",J238+1)","v":""},{"$f":"IF(Ⅰ.構成メンバー名簿!S253<>\"\",Ⅰ.構成メンバー名簿!S253,\"\")","v":""},{"$f":"IF(Ⅰ.構成メンバー名簿!V253=\"\",\"\",Ⅰ.構成メンバー名簿!E253)","v":""},{"$f":"IF(Ⅰ.構成メンバー名簿!W253=\"\",\"\",Ⅰ.構成メンバー名簿!W253)","v":""},{"$f":"IF(AND(Q239>0,SUM($Q240:$Q$261)=0),\"←ここまで値でコピー\",\"\")","v":""},null,null,0]
[{"$f":"IF(MAX(Ⅰ.構成メンバー名簿!$Q$26:$Q$275)>A239,A239+1,\"\")","v":""},{"$f":"IF($A240=\"\",\"\",VLOOKUP($A240,Ⅰ.構成メンバー名簿!$Q$26:$W$275,MATCH(Ⅰ.構成メンバー名簿!$S$25,Ⅰ.構成メンバー名簿!$Q$25:$W$25,0),FALSE))","v":""},{"$f":"IF($A240=\"\",\"\",IF(VLOOKUP($A240,Ⅰ.構成メンバー名簿!$Q$26:$W$275,MATCH(Ⅰ.構成メンバー名簿!$T$25,Ⅰ.構成メンバー名簿!$Q$25:$W$25,0),FALSE)=\"\",\"\",VLOOKUP($A240,Ⅰ.構成メンバー名簿!$Q$26:$W$275,MATCH(Ⅰ.構成メンバー名簿!$T$25,Ⅰ.構成メンバー名簿!$Q$25:$W$25,0),FALSE)))","v":""},{"$f":"IF($A240=\"\",\"\",VLOOKUP($A240,Ⅰ.構成メンバー名簿!$Q$26:$W$275,MATCH(Ⅰ.構成メンバー名簿!$W$25,Ⅰ.構成メンバー名簿!$Q$25:$W$25,0),FALSE))","v":""},{"$f":"IF(AND(H240>0,SUM(H241:$H$290)=0),\"←ここまで値でコピー\",\"\")","v":""},null,null,0,null,{"$f":"IF(SUM($Q240:$Q$261)=0,\"\",J239+1)","v":""},{"$f":"IF(Ⅰ.構成メンバー名簿!S254<>\"\",Ⅰ.構成メンバー名簿!S254,\"\")","v":""},{"$f":"IF(Ⅰ.構成メンバー名簿!V254=\"\",\"\",Ⅰ.構成メンバー名簿!E254)","v":""},{"$f":"IF(Ⅰ.構成メンバー名簿!W254=\"\",\"\",Ⅰ.構成メンバー名簿!W254)","v":""},{"$f":"IF(AND(Q240>0,SUM($Q241:$Q$261)=0),\"←ここまで値でコピー\",\"\")","v":""},null,null,0]
[{"$f":"IF(MAX(Ⅰ.構成メンバー名簿!$Q$26:$Q$275)>A240,A240+1,\"\")","v":""},{"$f":"IF($A241=\"\",\"\",VLOOKUP($A241,Ⅰ.構成メンバー名簿!$Q$26:$W$275,MATCH(Ⅰ.構成メンバー名簿!$S$25,Ⅰ.構成メンバー名簿!$Q$25:$W$25,0),FALSE))","v":""},{"$f":"IF($A241=\"\",\"\",IF(VLOOKUP($A241,Ⅰ.構成メンバー名簿!$Q$26:$W$275,MATCH(Ⅰ.構成メンバー名簿!$T$25,Ⅰ.構成メンバー名簿!$Q$25:$W$25,0),FALSE)=\"\",\"\",VLOOKUP($A241,Ⅰ.構成メンバー名簿!$Q$26:$W$275,MATCH(Ⅰ.構成メンバー名簿!$T$25,Ⅰ.構成メンバー名簿!$Q$25:$W$25,0),FALSE)))","v":""},{"$f":"IF($A241=\"\",\"\",VLOOKUP($A241,Ⅰ.構成メンバー名簿!$Q$26:$W$275,MATCH(Ⅰ.構成メンバー名簿!$W$25,Ⅰ.構成メンバー名簿!$Q$25:$W$25,0),FALSE))","v":""},{"$f":"IF(AND(H241>0,SUM(H242:$H$290)=0),\"←ここまで値でコピー\",\"\")","v":""},null,null,0,null,{"$f":"IF(SUM($Q241:$Q$261)=0,\"\",J240+1)","v":""},{"$f":"IF(Ⅰ.構成メンバー名簿!S255<>\"\",Ⅰ.構成メンバー名簿!S255,\"\")","v":""},{"$f":"IF(Ⅰ.構成メンバー名簿!V255=\"\",\"\",Ⅰ.構成メンバー名簿!E255)","v":""},{"$f":"IF(Ⅰ.構成メンバー名簿!W255=\"\",\"\",Ⅰ.構成メンバー名簿!W255)","v":""},{"$f":"IF(AND(Q241>0,SUM($Q242:$Q$261)=0),\"←ここまで値でコピー\",\"\")","v":""},null,null,0]
[{"$f":"IF(MAX(Ⅰ.構成メンバー名簿!$Q$26:$Q$275)>A241,A241+1,\"\")","v":""},{"$f":"IF($A242=\"\",\"\",VLOOKUP($A242,Ⅰ.構成メンバー名簿!$Q$26:$W$275,MATCH(Ⅰ.構成メンバー名簿!$S$25,Ⅰ.構成メンバー名簿!$Q$25:$W$25,0),FALSE))","v":""},{"$f":"IF($A242=\"\",\"\",IF(VLOOKUP($A242,Ⅰ.構成メンバー名簿!$Q$26:$W$275,MATCH(Ⅰ.構成メンバー名簿!$T$25,Ⅰ.構成メンバー名簿!$Q$25:$W$25,0),FALSE)=\"\",\"\",VLOOKUP($A242,Ⅰ.構成メンバー名簿!$Q$26:$W$275,MATCH(Ⅰ.構成メンバー名簿!$T$25,Ⅰ.構成メンバー名簿!$Q$25:$W$25,0),FALSE)))","v":""},{"$f":"IF($A242=\"\",\"\",VLOOKUP($A242,Ⅰ.構成メンバー名簿!$Q$26:$W$275,MATCH(Ⅰ.構成メンバー名簿!$W$25,Ⅰ.構成メンバー名簿!$Q$25:$W$25,0),FALSE))","v":""},{"$f":"IF(AND(H242>0,SUM(H243:$H$290)=0),\"←ここまで値でコピー\",\"\")","v":""},null,null,0,null,{"$f":"IF(SUM($Q242:$Q$261)=0,\"\",J241+1)","v":""},{"$f":"IF(Ⅰ.構成メンバー名簿!S256<>\"\",Ⅰ.構成メンバー名簿!S256,\"\")","v":""},{"$f":"IF(Ⅰ.構成メンバー名簿!V256=\"\",\"\",Ⅰ.構成メンバー名簿!E256)","v":""},{"$f":"IF(Ⅰ.構成メンバー名簿!W256=\"\",\"\",Ⅰ.構成メンバー名簿!W256)","v":""},{"$f":"IF(AND(Q242>0,SUM($Q243:$Q$261)=0),\"←ここまで値でコピー\",\"\")","v":""},null,null,0]
[{"$f":"IF(MAX(Ⅰ.構成メンバー名簿!$Q$26:$Q$275)>A242,A242+1,\"\")","v":""},{"$f":"IF($A243=\"\",\"\",VLOOKUP($A243,Ⅰ.構成メンバー名簿!$Q$26:$W$275,MATCH(Ⅰ.構成メンバー名簿!$S$25,Ⅰ.構成メンバー名簿!$Q$25:$W$25,0),FALSE))","v":""},{"$f":"IF($A243=\"\",\"\",IF(VLOOKUP($A243,Ⅰ.構成メンバー名簿!$Q$26:$W$275,MATCH(Ⅰ.構成メンバー名簿!$T$25,Ⅰ.構成メンバー名簿!$Q$25:$W$25,0),FALSE)=\"\",\"\",VLOOKUP($A243,Ⅰ.構成メンバー名簿!$Q$26:$W$275,MATCH(Ⅰ.構成メンバー名簿!$T$25,Ⅰ.構成メンバー名簿!$Q$25:$W$25,0),FALSE)))","v":""},{"$f":"IF($A243=\"\",\"\",VLOOKUP($A243,Ⅰ.構成メンバー名簿!$Q$26:$W$275,MATCH(Ⅰ.構成メンバー名簿!$W$25,Ⅰ.構成メンバー名簿!$Q$25:$W$25,0),FALSE))","v":""},{"$f":"IF(AND(H243>0,SUM(H244:$H$290)=0),\"←ここまで値でコピー\",\"\")","v":""},null,null,0,null,{"$f":"IF(SUM($Q243:$Q$261)=0,\"\",J242+1)","v":""},{"$f":"IF(Ⅰ.構成メンバー名簿!S257<>\"\",Ⅰ.構成メンバー名簿!S257,\"\")","v":""},{"$f":"IF(Ⅰ.構成メンバー名簿!V257=\"\",\"\",Ⅰ.構成メンバー名簿!E257)","v":""},{"$f":"IF(Ⅰ.構成メンバー名簿!W257=\"\",\"\",Ⅰ.構成メンバー名簿!W257)","v":""},{"$f":"IF(AND(Q243>0,SUM($Q244:$Q$261)=0),\"←ここまで値でコピー\",\"\")","v":""},null,null,0]
[{"$f":"IF(MAX(Ⅰ.構成メンバー名簿!$Q$26:$Q$275)>A243,A243+1,\"\")","v":""},{"$f":"IF($A244=\"\",\"\",VLOOKUP($A244,Ⅰ.構成メンバー名簿!$Q$26:$W$275,MATCH(Ⅰ.構成メンバー名簿!$S$25,Ⅰ.構成メンバー名簿!$Q$25:$W$25,0),FALSE))","v":""},{"$f":"IF($A244=\"\",\"\",IF(VLOOKUP($A244,Ⅰ.構成メンバー名簿!$Q$26:$W$275,MATCH(Ⅰ.構成メンバー名簿!$T$25,Ⅰ.構成メンバー名簿!$Q$25:$W$25,0),FALSE)=\"\",\"\",VLOOKUP($A244,Ⅰ.構成メンバー名簿!$Q$26:$W$275,MATCH(Ⅰ.構成メンバー名簿!$T$25,Ⅰ.構成メンバー名簿!$Q$25:$W$25,0),FALSE)))","v":""},{"$f":"IF($A244=\"\",\"\",VLOOKUP($A244,Ⅰ.構成メンバー名簿!$Q$26:$W$275,MATCH(Ⅰ.構成メンバー名簿!$W$25,Ⅰ.構成メンバー名簿!$Q$25:$W$25,0),FALSE))","v":""},{"$f":"IF(AND(H244>0,SUM(H245:$H$290)=0),\"←ここまで値でコピー\",\"\")","v":""},null,null,0,null,{"$f":"IF(SUM($Q244:$Q$261)=0,\"\",J243+1)","v":""},{"$f":"IF(Ⅰ.構成メンバー名簿!S258<>\"\",Ⅰ.構成メンバー名簿!S258,\"\")","v":""},{"$f":"IF(Ⅰ.構成メンバー名簿!V258=\"\",\"\",Ⅰ.構成メンバー名簿!E258)","v":""},{"$f":"IF(Ⅰ.構成メンバー名簿!W258=\"\",\"\",Ⅰ.構成メンバー名簿!W258)","v":""},{"$f":"IF(AND(Q244>0,SUM($Q245:$Q$261)=0),\"←ここまで値でコピー\",\"\")","v":""},null,null,0]
[{"$f":"IF(MAX(Ⅰ.構成メンバー名簿!$Q$26:$Q$275)>A244,A244+1,\"\")","v":""},{"$f":"IF($A245=\"\",\"\",VLOOKUP($A245,Ⅰ.構成メンバー名簿!$Q$26:$W$275,MATCH(Ⅰ.構成メンバー名簿!$S$25,Ⅰ.構成メンバー名簿!$Q$25:$W$25,0),FALSE))","v":""},{"$f":"IF($A245=\"\",\"\",IF(VLOOKUP($A245,Ⅰ.構成メンバー名簿!$Q$26:$W$275,MATCH(Ⅰ.構成メンバー名簿!$T$25,Ⅰ.構成メンバー名簿!$Q$25:$W$25,0),FALSE)=\"\",\"\",VLOOKUP($A245,Ⅰ.構成メンバー名簿!$Q$26:$W$275,MATCH(Ⅰ.構成メンバー名簿!$T$25,Ⅰ.構成メンバー名簿!$Q$25:$W$25,0),FALSE)))","v":""},{"$f":"IF($A245=\"\",\"\",VLOOKUP($A245,Ⅰ.構成メンバー名簿!$Q$26:$W$275,MATCH(Ⅰ.構成メンバー名簿!$W$25,Ⅰ.構成メンバー名簿!$Q$25:$W$25,0),FALSE))","v":""},{"$f":"IF(AND(H245>0,SUM(H246:$H$290)=0),\"←ここまで値でコピー\",\"\")","v":""},null,null,0,null,{"$f":"IF(SUM($Q245:$Q$261)=0,\"\",J244+1)","v":""},{"$f":"IF(Ⅰ.構成メンバー名簿!S259<>\"\",Ⅰ.構成メンバー名簿!S259,\"\")","v":""},{"$f":"IF(Ⅰ.構成メンバー名簿!V259=\"\",\"\",Ⅰ.構成メンバー名簿!E259)","v":""},{"$f":"IF(Ⅰ.構成メンバー名簿!W259=\"\",\"\",Ⅰ.構成メンバー名簿!W259)","v":""},{"$f":"IF(AND(Q245>0,SUM($Q246:$Q$261)=0),\"←ここまで値でコピー\",\"\")","v":""},null,null,0]
[{"$f":"IF(MAX(Ⅰ.構成メンバー名簿!$Q$26:$Q$275)>A245,A245+1,\"\")","v":""},{"$f":"IF($A246=\"\",\"\",VLOOKUP($A246,Ⅰ.構成メンバー名簿!$Q$26:$W$275,MATCH(Ⅰ.構成メンバー名簿!$S$25,Ⅰ.構成メンバー名簿!$Q$25:$W$25,0),FALSE))","v":""},{"$f":"IF($A246=\"\",\"\",IF(VLOOKUP($A246,Ⅰ.構成メンバー名簿!$Q$26:$W$275,MATCH(Ⅰ.構成メンバー名簿!$T$25,Ⅰ.構成メンバー名簿!$Q$25:$W$25,0),FALSE)=\"\",\"\",VLOOKUP($A246,Ⅰ.構成メンバー名簿!$Q$26:$W$275,MATCH(Ⅰ.構成メンバー名簿!$T$25,Ⅰ.構成メンバー名簿!$Q$25:$W$25,0),FALSE)))","v":""},{"$f":"IF($A246=\"\",\"\",VLOOKUP($A246,Ⅰ.構成メンバー名簿!$Q$26:$W$275,MATCH(Ⅰ.構成メンバー名簿!$W$25,Ⅰ.構成メンバー名簿!$Q$25:$W$25,0),FALSE))","v":""},{"$f":"IF(AND(H246>0,SUM(H247:$H$290)=0),\"←ここまで値でコピー\",\"\")","v":""},null,null,0,null,{"$f":"IF(SUM($Q246:$Q$261)=0,\"\",J245+1)","v":""},{"$f":"IF(Ⅰ.構成メンバー名簿!S260<>\"\",Ⅰ.構成メンバー名簿!S260,\"\")","v":""},{"$f":"IF(Ⅰ.構成メンバー名簿!V260=\"\",\"\",Ⅰ.構成メンバー名簿!E260)","v":""},{"$f":"IF(Ⅰ.構成メンバー名簿!W260=\"\",\"\",Ⅰ.構成メンバー名簿!W260)","v":""},{"$f":"IF(AND(Q246>0,SUM($Q247:$Q$261)=0),\"←ここまで値でコピー\",\"\")","v":""},null,null,0]
[{"$f":"IF(MAX(Ⅰ.構成メンバー名簿!$Q$26:$Q$275)>A246,A246+1,\"\")","v":""},{"$f":"IF($A247=\"\",\"\",VLOOKUP($A247,Ⅰ.構成メンバー名簿!$Q$26:$W$275,MATCH(Ⅰ.構成メンバー名簿!$S$25,Ⅰ.構成メンバー名簿!$Q$25:$W$25,0),FALSE))","v":""},{"$f":"IF($A247=\"\",\"\",IF(VLOOKUP($A247,Ⅰ.構成メンバー名簿!$Q$26:$W$275,MATCH(Ⅰ.構成メンバー名簿!$T$25,Ⅰ.構成メンバー名簿!$Q$25:$W$25,0),FALSE)=\"\",\"\",VLOOKUP($A247,Ⅰ.構成メンバー名簿!$Q$26:$W$275,MATCH(Ⅰ.構成メンバー名簿!$T$25,Ⅰ.構成メンバー名簿!$Q$25:$W$25,0),FALSE)))","v":""},{"$f":"IF($A247=\"\",\"\",VLOOKUP($A247,Ⅰ.構成メンバー名簿!$Q$26:$W$275,MATCH(Ⅰ.構成メンバー名簿!$W$25,Ⅰ.構成メンバー名簿!$Q$25:$W$25,0),FALSE))","v":""},{"$f":"IF(AND(H247>0,SUM(H248:$H$290)=0),\"←ここまで値でコピー\",\"\")","v":""},null,null,0,null,{"$f":"IF(SUM($Q247:$Q$261)=0,\"\",J246+1)","v":""},{"$f":"IF(Ⅰ.構成メンバー名簿!S261<>\"\",Ⅰ.構成メンバー名簿!S261,\"\")","v":""},{"$f":"IF(Ⅰ.構成メンバー名簿!V261=\"\",\"\",Ⅰ.構成メンバー名簿!E261)","v":""},{"$f":"IF(Ⅰ.構成メンバー名簿!W261=\"\",\"\",Ⅰ.構成メンバー名簿!W261)","v":""},{"$f":"IF(AND(Q247>0,SUM($Q248:$Q$261)=0),\"←ここまで値でコピー\",\"\")","v":""},null,null,0]
[{"$f":"IF(MAX(Ⅰ.構成メンバー名簿!$Q$26:$Q$275)>A247,A247+1,\"\")","v":""},{"$f":"IF($A248=\"\",\"\",VLOOKUP($A248,Ⅰ.構成メンバー名簿!$Q$26:$W$275,MATCH(Ⅰ.構成メンバー名簿!$S$25,Ⅰ.構成メンバー名簿!$Q$25:$W$25,0),FALSE))","v":""},{"$f":"IF($A248=\"\",\"\",IF(VLOOKUP($A248,Ⅰ.構成メンバー名簿!$Q$26:$W$275,MATCH(Ⅰ.構成メンバー名簿!$T$25,Ⅰ.構成メンバー名簿!$Q$25:$W$25,0),FALSE)=\"\",\"\",VLOOKUP($A248,Ⅰ.構成メンバー名簿!$Q$26:$W$275,MATCH(Ⅰ.構成メンバー名簿!$T$25,Ⅰ.構成メンバー名簿!$Q$25:$W$25,0),FALSE)))","v":""},{"$f":"IF($A248=\"\",\"\",VLOOKUP($A248,Ⅰ.構成メンバー名簿!$Q$26:$W$275,MATCH(Ⅰ.構成メンバー名簿!$W$25,Ⅰ.構成メンバー名簿!$Q$25:$W$25,0),FALSE))","v":""},{"$f":"IF(AND(H248>0,SUM(H249:$H$290)=0),\"←ここまで値でコピー\",\"\")","v":""},null,null,0,null,{"$f":"IF(SUM($Q248:$Q$261)=0,\"\",J247+1)","v":""},{"$f":"IF(Ⅰ.構成メンバー名簿!S262<>\"\",Ⅰ.構成メンバー名簿!S262,\"\")","v":""},{"$f":"IF(Ⅰ.構成メンバー名簿!V262=\"\",\"\",Ⅰ.構成メンバー名簿!E262)","v":""},{"$f":"IF(Ⅰ.構成メンバー名簿!W262=\"\",\"\",Ⅰ.構成メンバー名簿!W262)","v":""},{"$f":"IF(AND(Q248>0,SUM($Q249:$Q$261)=0),\"←ここまで値でコピー\",\"\")","v":""},null,null,0]
[{"$f":"IF(MAX(Ⅰ.構成メンバー名簿!$Q$26:$Q$275)>A248,A248+1,\"\")","v":""},{"$f":"IF($A249=\"\",\"\",VLOOKUP($A249,Ⅰ.構成メンバー名簿!$Q$26:$W$275,MATCH(Ⅰ.構成メンバー名簿!$S$25,Ⅰ.構成メンバー名簿!$Q$25:$W$25,0),FALSE))","v":""},{"$f":"IF($A249=\"\",\"\",IF(VLOOKUP($A249,Ⅰ.構成メンバー名簿!$Q$26:$W$275,MATCH(Ⅰ.構成メンバー名簿!$T$25,Ⅰ.構成メンバー名簿!$Q$25:$W$25,0),FALSE)=\"\",\"\",VLOOKUP($A249,Ⅰ.構成メンバー名簿!$Q$26:$W$275,MATCH(Ⅰ.構成メンバー名簿!$T$25,Ⅰ.構成メンバー名簿!$Q$25:$W$25,0),FALSE)))","v":""},{"$f":"IF($A249=\"\",\"\",VLOOKUP($A249,Ⅰ.構成メンバー名簿!$Q$26:$W$275,MATCH(Ⅰ.構成メンバー名簿!$W$25,Ⅰ.構成メンバー名簿!$Q$25:$W$25,0),FALSE))","v":""},{"$f":"IF(AND(H249>0,SUM(H250:$H$290)=0),\"←ここまで値でコピー\",\"\")","v":""},null,null,0,null,{"$f":"IF(SUM($Q249:$Q$261)=0,\"\",J248+1)","v":""},{"$f":"IF(Ⅰ.構成メンバー名簿!S263<>\"\",Ⅰ.構成メンバー名簿!S263,\"\")","v":""},{"$f":"IF(Ⅰ.構成メンバー名簿!V263=\"\",\"\",Ⅰ.構成メンバー名簿!E263)","v":""},{"$f":"IF(Ⅰ.構成メンバー名簿!W263=\"\",\"\",Ⅰ.構成メンバー名簿!W263)","v":""},{"$f":"IF(AND(Q249>0,SUM($Q250:$Q$261)=0),\"←ここまで値でコピー\",\"\")","v":""},null,null,0]
[{"$f":"IF(MAX(Ⅰ.構成メンバー名簿!$Q$26:$Q$275)>A249,A249+1,\"\")","v":""},{"$f":"IF($A250=\"\",\"\",VLOOKUP($A250,Ⅰ.構成メンバー名簿!$Q$26:$W$275,MATCH(Ⅰ.構成メンバー名簿!$S$25,Ⅰ.構成メンバー名簿!$Q$25:$W$25,0),FALSE))","v":""},{"$f":"IF($A250=\"\",\"\",IF(VLOOKUP($A250,Ⅰ.構成メンバー名簿!$Q$26:$W$275,MATCH(Ⅰ.構成メンバー名簿!$T$25,Ⅰ.構成メンバー名簿!$Q$25:$W$25,0),FALSE)=\"\",\"\",VLOOKUP($A250,Ⅰ.構成メンバー名簿!$Q$26:$W$275,MATCH(Ⅰ.構成メンバー名簿!$T$25,Ⅰ.構成メンバー名簿!$Q$25:$W$25,0),FALSE)))","v":""},{"$f":"IF($A250=\"\",\"\",VLOOKUP($A250,Ⅰ.構成メンバー名簿!$Q$26:$W$275,MATCH(Ⅰ.構成メンバー名簿!$W$25,Ⅰ.構成メンバー名簿!$Q$25:$W$25,0),FALSE))","v":""},{"$f":"IF(AND(H250>0,SUM(H251:$H$290)=0),\"←ここまで値でコピー\",\"\")","v":""},null,null,0,null,{"$f":"IF(SUM($Q250:$Q$261)=0,\"\",J249+1)","v":""},{"$f":"IF(Ⅰ.構成メンバー名簿!S264<>\"\",Ⅰ.構成メンバー名簿!S264,\"\")","v":""},{"$f":"IF(Ⅰ.構成メンバー名簿!V264=\"\",\"\",Ⅰ.構成メンバー名簿!E264)","v":""},{"$f":"IF(Ⅰ.構成メンバー名簿!W264=\"\",\"\",Ⅰ.構成メンバー名簿!W264)","v":""},{"$f":"IF(AND(Q250>0,SUM($Q251:$Q$261)=0),\"←ここまで値でコピー\",\"\")","v":""},null,null,0]
[{"$f":"IF(MAX(Ⅰ.構成メンバー名簿!$Q$26:$Q$275)>A250,A250+1,\"\")","v":""},{"$f":"IF($A251=\"\",\"\",VLOOKUP($A251,Ⅰ.構成メンバー名簿!$Q$26:$W$275,MATCH(Ⅰ.構成メンバー名簿!$S$25,Ⅰ.構成メンバー名簿!$Q$25:$W$25,0),FALSE))","v":""},{"$f":"IF($A251=\"\",\"\",IF(VLOOKUP($A251,Ⅰ.構成メンバー名簿!$Q$26:$W$275,MATCH(Ⅰ.構成メンバー名簿!$T$25,Ⅰ.構成メンバー名簿!$Q$25:$W$25,0),FALSE)=\"\",\"\",VLOOKUP($A251,Ⅰ.構成メンバー名簿!$Q$26:$W$275,MATCH(Ⅰ.構成メンバー名簿!$T$25,Ⅰ.構成メンバー名簿!$Q$25:$W$25,0),FALSE)))","v":""},{"$f":"IF($A251=\"\",\"\",VLOOKUP($A251,Ⅰ.構成メンバー名簿!$Q$26:$W$275,MATCH(Ⅰ.構成メンバー名簿!$W$25,Ⅰ.構成メンバー名簿!$Q$25:$W$25,0),FALSE))","v":""},{"$f":"IF(AND(H251>0,SUM(H252:$H$290)=0),\"←ここまで値でコピー\",\"\")","v":""},null,null,0,null,{"$f":"IF(SUM($Q251:$Q$261)=0,\"\",J250+1)","v":""},{"$f":"IF(Ⅰ.構成メンバー名簿!S265<>\"\",Ⅰ.構成メンバー名簿!S265,\"\")","v":""},{"$f":"IF(Ⅰ.構成メンバー名簿!V265=\"\",\"\",Ⅰ.構成メンバー名簿!E265)","v":""},{"$f":"IF(Ⅰ.構成メンバー名簿!W265=\"\",\"\",Ⅰ.構成メンバー名簿!W265)","v":""},{"$f":"IF(AND(Q251>0,SUM($Q252:$Q$261)=0),\"←ここまで値でコピー\",\"\")","v":""},null,null,0]
[{"$f":"IF(MAX(Ⅰ.構成メンバー名簿!$Q$26:$Q$275)>A251,A251+1,\"\")","v":""},{"$f":"IF($A252=\"\",\"\",VLOOKUP($A252,Ⅰ.構成メンバー名簿!$Q$26:$W$275,MATCH(Ⅰ.構成メンバー名簿!$S$25,Ⅰ.構成メンバー名簿!$Q$25:$W$25,0),FALSE))","v":""},{"$f":"IF($A252=\"\",\"\",IF(VLOOKUP($A252,Ⅰ.構成メンバー名簿!$Q$26:$W$275,MATCH(Ⅰ.構成メンバー名簿!$T$25,Ⅰ.構成メンバー名簿!$Q$25:$W$25,0),FALSE)=\"\",\"\",VLOOKUP($A252,Ⅰ.構成メンバー名簿!$Q$26:$W$275,MATCH(Ⅰ.構成メンバー名簿!$T$25,Ⅰ.構成メンバー名簿!$Q$25:$W$25,0),FALSE)))","v":""},{"$f":"IF($A252=\"\",\"\",VLOOKUP($A252,Ⅰ.構成メンバー名簿!$Q$26:$W$275,MATCH(Ⅰ.構成メンバー名簿!$W$25,Ⅰ.構成メンバー名簿!$Q$25:$W$25,0),FALSE))","v":""},{"$f":"IF(AND(H252>0,SUM(H253:$H$290)=0),\"←ここまで値でコピー\",\"\")","v":""},null,null,0,null,{"$f":"IF(SUM($Q252:$Q$261)=0,\"\",J251+1)","v":""},{"$f":"IF(Ⅰ.構成メンバー名簿!S266<>\"\",Ⅰ.構成メンバー名簿!S266,\"\")","v":""},{"$f":"IF(Ⅰ.構成メンバー名簿!V266=\"\",\"\",Ⅰ.構成メンバー名簿!E266)","v":""},{"$f":"IF(Ⅰ.構成メンバー名簿!W266=\"\",\"\",Ⅰ.構成メンバー名簿!W266)","v":""},{"$f":"IF(AND(Q252>0,SUM($Q253:$Q$261)=0),\"←ここまで値でコピー\",\"\")","v":""},null,null,0]
[{"$f":"IF(MAX(Ⅰ.構成メンバー名簿!$Q$26:$Q$275)>A252,A252+1,\"\")","v":""},{"$f":"IF($A253=\"\",\"\",VLOOKUP($A253,Ⅰ.構成メンバー名簿!$Q$26:$W$275,MATCH(Ⅰ.構成メンバー名簿!$S$25,Ⅰ.構成メンバー名簿!$Q$25:$W$25,0),FALSE))","v":""},{"$f":"IF($A253=\"\",\"\",IF(VLOOKUP($A253,Ⅰ.構成メンバー名簿!$Q$26:$W$275,MATCH(Ⅰ.構成メンバー名簿!$T$25,Ⅰ.構成メンバー名簿!$Q$25:$W$25,0),FALSE)=\"\",\"\",VLOOKUP($A253,Ⅰ.構成メンバー名簿!$Q$26:$W$275,MATCH(Ⅰ.構成メンバー名簿!$T$25,Ⅰ.構成メンバー名簿!$Q$25:$W$25,0),FALSE)))","v":""},{"$f":"IF($A253=\"\",\"\",VLOOKUP($A253,Ⅰ.構成メンバー名簿!$Q$26:$W$275,MATCH(Ⅰ.構成メンバー名簿!$W$25,Ⅰ.構成メンバー名簿!$Q$25:$W$25,0),FALSE))","v":""},{"$f":"IF(AND(H253>0,SUM(H254:$H$290)=0),\"←ここまで値でコピー\",\"\")","v":""},null,null,0,null,{"$f":"IF(SUM($Q253:$Q$261)=0,\"\",J252+1)","v":""},{"$f":"IF(Ⅰ.構成メンバー名簿!S267<>\"\",Ⅰ.構成メンバー名簿!S267,\"\")","v":""},{"$f":"IF(Ⅰ.構成メンバー名簿!V267=\"\",\"\",Ⅰ.構成メンバー名簿!E267)","v":""},{"$f":"IF(Ⅰ.構成メンバー名簿!W267=\"\",\"\",Ⅰ.構成メンバー名簿!W267)","v":""},{"$f":"IF(AND(Q253>0,SUM($Q254:$Q$261)=0),\"←ここまで値でコピー\",\"\")","v":""},null,null,0]
[{"$f":"IF(MAX(Ⅰ.構成メンバー名簿!$Q$26:$Q$275)>A253,A253+1,\"\")","v":""},{"$f":"IF($A254=\"\",\"\",VLOOKUP($A254,Ⅰ.構成メンバー名簿!$Q$26:$W$275,MATCH(Ⅰ.構成メンバー名簿!$S$25,Ⅰ.構成メンバー名簿!$Q$25:$W$25,0),FALSE))","v":""},{"$f":"IF($A254=\"\",\"\",IF(VLOOKUP($A254,Ⅰ.構成メンバー名簿!$Q$26:$W$275,MATCH(Ⅰ.構成メンバー名簿!$T$25,Ⅰ.構成メンバー名簿!$Q$25:$W$25,0),FALSE)=\"\",\"\",VLOOKUP($A254,Ⅰ.構成メンバー名簿!$Q$26:$W$275,MATCH(Ⅰ.構成メンバー名簿!$T$25,Ⅰ.構成メンバー名簿!$Q$25:$W$25,0),FALSE)))","v":""},{"$f":"IF($A254=\"\",\"\",VLOOKUP($A254,Ⅰ.構成メンバー名簿!$Q$26:$W$275,MATCH(Ⅰ.構成メンバー名簿!$W$25,Ⅰ.構成メンバー名簿!$Q$25:$W$25,0),FALSE))","v":""},{"$f":"IF(AND(H254>0,SUM(H255:$H$290)=0),\"←ここまで値でコピー\",\"\")","v":""},null,null,0,null,{"$f":"IF(SUM($Q254:$Q$261)=0,\"\",J253+1)","v":""},{"$f":"IF(Ⅰ.構成メンバー名簿!S268<>\"\",Ⅰ.構成メンバー名簿!S268,\"\")","v":""},{"$f":"IF(Ⅰ.構成メンバー名簿!V268=\"\",\"\",Ⅰ.構成メンバー名簿!E268)","v":""},{"$f":"IF(Ⅰ.構成メンバー名簿!W268=\"\",\"\",Ⅰ.構成メンバー名簿!W268)","v":""},{"$f":"IF(AND(Q254>0,SUM($Q255:$Q$261)=0),\"←ここまで値でコピー\",\"\")","v":""},null,null,0]
[{"$f":"IF(MAX(Ⅰ.構成メンバー名簿!$Q$26:$Q$275)>A254,A254+1,\"\")","v":""},{"$f":"IF($A255=\"\",\"\",VLOOKUP($A255,Ⅰ.構成メンバー名簿!$Q$26:$W$275,MATCH(Ⅰ.構成メンバー名簿!$S$25,Ⅰ.構成メンバー名簿!$Q$25:$W$25,0),FALSE))","v":""},{"$f":"IF($A255=\"\",\"\",IF(VLOOKUP($A255,Ⅰ.構成メンバー名簿!$Q$26:$W$275,MATCH(Ⅰ.構成メンバー名簿!$T$25,Ⅰ.構成メンバー名簿!$Q$25:$W$25,0),FALSE)=\"\",\"\",VLOOKUP($A255,Ⅰ.構成メンバー名簿!$Q$26:$W$275,MATCH(Ⅰ.構成メンバー名簿!$T$25,Ⅰ.構成メンバー名簿!$Q$25:$W$25,0),FALSE)))","v":""},{"$f":"IF($A255=\"\",\"\",VLOOKUP($A255,Ⅰ.構成メンバー名簿!$Q$26:$W$275,MATCH(Ⅰ.構成メンバー名簿!$W$25,Ⅰ.構成メンバー名簿!$Q$25:$W$25,0),FALSE))","v":""},{"$f":"IF(AND(H255>0,SUM(H256:$H$290)=0),\"←ここまで値でコピー\",\"\")","v":""},null,null,0,null,{"$f":"IF(SUM($Q255:$Q$261)=0,\"\",J254+1)","v":""},{"$f":"IF(Ⅰ.構成メンバー名簿!S269<>\"\",Ⅰ.構成メンバー名簿!S269,\"\")","v":""},{"$f":"IF(Ⅰ.構成メンバー名簿!V269=\"\",\"\",Ⅰ.構成メンバー名簿!E269)","v":""},{"$f":"IF(Ⅰ.構成メンバー名簿!W269=\"\",\"\",Ⅰ.構成メンバー名簿!W269)","v":""},{"$f":"IF(AND(Q255>0,SUM($Q256:$Q$261)=0),\"←ここまで値でコピー\",\"\")","v":""},null,null,0]
[{"$f":"IF(MAX(Ⅰ.構成メンバー名簿!$Q$26:$Q$275)>A255,A255+1,\"\")","v":""},{"$f":"IF($A256=\"\",\"\",VLOOKUP($A256,Ⅰ.構成メンバー名簿!$Q$26:$W$275,MATCH(Ⅰ.構成メンバー名簿!$S$25,Ⅰ.構成メンバー名簿!$Q$25:$W$25,0),FALSE))","v":""},{"$f":"IF($A256=\"\",\"\",IF(VLOOKUP($A256,Ⅰ.構成メンバー名簿!$Q$26:$W$275,MATCH(Ⅰ.構成メンバー名簿!$T$25,Ⅰ.構成メンバー名簿!$Q$25:$W$25,0),FALSE)=\"\",\"\",VLOOKUP($A256,Ⅰ.構成メンバー名簿!$Q$26:$W$275,MATCH(Ⅰ.構成メンバー名簿!$T$25,Ⅰ.構成メンバー名簿!$Q$25:$W$25,0),FALSE)))","v":""},{"$f":"IF($A256=\"\",\"\",VLOOKUP($A256,Ⅰ.構成メンバー名簿!$Q$26:$W$275,MATCH(Ⅰ.構成メンバー名簿!$W$25,Ⅰ.構成メンバー名簿!$Q$25:$W$25,0),FALSE))","v":""},{"$f":"IF(AND(H256>0,SUM(H257:$H$290)=0),\"←ここまで値でコピー\",\"\")","v":""},null,null,0,null,{"$f":"IF(SUM($Q256:$Q$261)=0,\"\",J255+1)","v":""},{"$f":"IF(Ⅰ.構成メンバー名簿!S270<>\"\",Ⅰ.構成メンバー名簿!S270,\"\")","v":""},{"$f":"IF(Ⅰ.構成メンバー名簿!V270=\"\",\"\",Ⅰ.構成メンバー名簿!E270)","v":""},{"$f":"IF(Ⅰ.構成メンバー名簿!W270=\"\",\"\",Ⅰ.構成メンバー名簿!W270)","v":""},{"$f":"IF(AND(Q256>0,SUM($Q257:$Q$261)=0),\"←ここまで値でコピー\",\"\")","v":""},null,null,0]
[{"$f":"IF(MAX(Ⅰ.構成メンバー名簿!$Q$26:$Q$275)>A256,A256+1,\"\")","v":""},{"$f":"IF($A257=\"\",\"\",VLOOKUP($A257,Ⅰ.構成メンバー名簿!$Q$26:$W$275,MATCH(Ⅰ.構成メンバー名簿!$S$25,Ⅰ.構成メンバー名簿!$Q$25:$W$25,0),FALSE))","v":""},{"$f":"IF($A257=\"\",\"\",IF(VLOOKUP($A257,Ⅰ.構成メンバー名簿!$Q$26:$W$275,MATCH(Ⅰ.構成メンバー名簿!$T$25,Ⅰ.構成メンバー名簿!$Q$25:$W$25,0),FALSE)=\"\",\"\",VLOOKUP($A257,Ⅰ.構成メンバー名簿!$Q$26:$W$275,MATCH(Ⅰ.構成メンバー名簿!$T$25,Ⅰ.構成メンバー名簿!$Q$25:$W$25,0),FALSE)))","v":""},{"$f":"IF($A257=\"\",\"\",VLOOKUP($A257,Ⅰ.構成メンバー名簿!$Q$26:$W$275,MATCH(Ⅰ.構成メンバー名簿!$W$25,Ⅰ.構成メンバー名簿!$Q$25:$W$25,0),FALSE))","v":""},{"$f":"IF(AND(H257>0,SUM(H258:$H$290)=0),\"←ここまで値でコピー\",\"\")","v":""},null,null,0,null,{"$f":"IF(SUM($Q257:$Q$261)=0,\"\",J256+1)","v":""},{"$f":"IF(Ⅰ.構成メンバー名簿!S271<>\"\",Ⅰ.構成メンバー名簿!S271,\"\")","v":""},{"$f":"IF(Ⅰ.構成メンバー名簿!V271=\"\",\"\",Ⅰ.構成メンバー名簿!E271)","v":""},{"$f":"IF(Ⅰ.構成メンバー名簿!W271=\"\",\"\",Ⅰ.構成メンバー名簿!W271)","v":""},{"$f":"IF(AND(Q257>0,SUM($Q258:$Q$261)=0),\"←ここまで値でコピー\",\"\")","v":""},null,null,0]
[{"$f":"IF(MAX(Ⅰ.構成メンバー名簿!$Q$26:$Q$275)>A257,A257+1,\"\")","v":""},{"$f":"IF($A258=\"\",\"\",VLOOKUP($A258,Ⅰ.構成メンバー名簿!$Q$26:$W$275,MATCH(Ⅰ.構成メンバー名簿!$S$25,Ⅰ.構成メンバー名簿!$Q$25:$W$25,0),FALSE))","v":""},{"$f":"IF($A258=\"\",\"\",IF(VLOOKUP($A258,Ⅰ.構成メンバー名簿!$Q$26:$W$275,MATCH(Ⅰ.構成メンバー名簿!$T$25,Ⅰ.構成メンバー名簿!$Q$25:$W$25,0),FALSE)=\"\",\"\",VLOOKUP($A258,Ⅰ.構成メンバー名簿!$Q$26:$W$275,MATCH(Ⅰ.構成メンバー名簿!$T$25,Ⅰ.構成メンバー名簿!$Q$25:$W$25,0),FALSE)))","v":""},{"$f":"IF($A258=\"\",\"\",VLOOKUP($A258,Ⅰ.構成メンバー名簿!$Q$26:$W$275,MATCH(Ⅰ.構成メンバー名簿!$W$25,Ⅰ.構成メンバー名簿!$Q$25:$W$25,0),FALSE))","v":""},{"$f":"IF(AND(H258>0,SUM(H259:$H$290)=0),\"←ここまで値でコピー\",\"\")","v":""},null,null,0,null,{"$f":"IF(SUM($Q258:$Q$261)=0,\"\",J257+1)","v":""},{"$f":"IF(Ⅰ.構成メンバー名簿!S272<>\"\",Ⅰ.構成メンバー名簿!S272,\"\")","v":""},{"$f":"IF(Ⅰ.構成メンバー名簿!V272=\"\",\"\",Ⅰ.構成メンバー名簿!E272)","v":""},{"$f":"IF(Ⅰ.構成メンバー名簿!W272=\"\",\"\",Ⅰ.構成メンバー名簿!W272)","v":""},{"$f":"IF(AND(Q258>0,SUM($Q259:$Q$261)=0),\"←ここまで値でコピー\",\"\")","v":""},null,null,0]
[{"$f":"IF(MAX(Ⅰ.構成メンバー名簿!$Q$26:$Q$275)>A258,A258+1,\"\")","v":""},{"$f":"IF($A259=\"\",\"\",VLOOKUP($A259,Ⅰ.構成メンバー名簿!$Q$26:$W$275,MATCH(Ⅰ.構成メンバー名簿!$S$25,Ⅰ.構成メンバー名簿!$Q$25:$W$25,0),FALSE))","v":""},{"$f":"IF($A259=\"\",\"\",IF(VLOOKUP($A259,Ⅰ.構成メンバー名簿!$Q$26:$W$275,MATCH(Ⅰ.構成メンバー名簿!$T$25,Ⅰ.構成メンバー名簿!$Q$25:$W$25,0),FALSE)=\"\",\"\",VLOOKUP($A259,Ⅰ.構成メンバー名簿!$Q$26:$W$275,MATCH(Ⅰ.構成メンバー名簿!$T$25,Ⅰ.構成メンバー名簿!$Q$25:$W$25,0),FALSE)))","v":""},{"$f":"IF($A259=\"\",\"\",VLOOKUP($A259,Ⅰ.構成メンバー名簿!$Q$26:$W$275,MATCH(Ⅰ.構成メンバー名簿!$W$25,Ⅰ.構成メンバー名簿!$Q$25:$W$25,0),FALSE))","v":""},{"$f":"IF(AND(H259>0,SUM(H260:$H$290)=0),\"←ここまで値でコピー\",\"\")","v":""},null,null,0,null,{"$f":"IF(SUM($Q259:$Q$261)=0,\"\",J258+1)","v":""},{"$f":"IF(Ⅰ.構成メンバー名簿!S273<>\"\",Ⅰ.構成メンバー名簿!S273,\"\")","v":""},{"$f":"IF(Ⅰ.構成メンバー名簿!V273=\"\",\"\",Ⅰ.構成メンバー名簿!E273)","v":""},{"$f":"IF(Ⅰ.構成メンバー名簿!W273=\"\",\"\",Ⅰ.構成メンバー名簿!W273)","v":""},{"$f":"IF(AND(Q259>0,SUM($Q260:$Q$261)=0),\"←ここまで値でコピー\",\"\")","v":""},null,null,0]
[{"$f":"IF(MAX(Ⅰ.構成メンバー名簿!$Q$26:$Q$275)>A259,A259+1,\"\")","v":""},{"$f":"IF($A260=\"\",\"\",VLOOKUP($A260,Ⅰ.構成メンバー名簿!$Q$26:$W$275,MATCH(Ⅰ.構成メンバー名簿!$S$25,Ⅰ.構成メンバー名簿!$Q$25:$W$25,0),FALSE))","v":""},{"$f":"IF($A260=\"\",\"\",IF(VLOOKUP($A260,Ⅰ.構成メンバー名簿!$Q$26:$W$275,MATCH(Ⅰ.構成メンバー名簿!$T$25,Ⅰ.構成メンバー名簿!$Q$25:$W$25,0),FALSE)=\"\",\"\",VLOOKUP($A260,Ⅰ.構成メンバー名簿!$Q$26:$W$275,MATCH(Ⅰ.構成メンバー名簿!$T$25,Ⅰ.構成メンバー名簿!$Q$25:$W$25,0),FALSE)))","v":""},{"$f":"IF($A260=\"\",\"\",VLOOKUP($A260,Ⅰ.構成メンバー名簿!$Q$26:$W$275,MATCH(Ⅰ.構成メンバー名簿!$W$25,Ⅰ.構成メンバー名簿!$Q$25:$W$25,0),FALSE))","v":""},{"$f":"IF(AND(H260>0,SUM(H261:$H$290)=0),\"←ここまで値でコピー\",\"\")","v":""},null,null,0,null,{"$f":"IF(SUM($Q260:$Q$261)=0,\"\",J259+1)","v":""},{"$f":"IF(Ⅰ.構成メンバー名簿!S274<>\"\",Ⅰ.構成メンバー名簿!S274,\"\")","v":""},{"$f":"IF(Ⅰ.構成メンバー名簿!V274=\"\",\"\",Ⅰ.構成メンバー名簿!E274)","v":""},{"$f":"IF(Ⅰ.構成メンバー名簿!W274=\"\",\"\",Ⅰ.構成メンバー名簿!W274)","v":""},{"$f":"IF(AND(Q260>0,SUM($Q261:$Q$261)=0),\"←ここまで値でコピー\",\"\")","v":""},null,null,0]
[{"$f":"IF(MAX(Ⅰ.構成メンバー名簿!$Q$26:$Q$275)>A260,A260+1,\"\")","v":""},{"$f":"IF($A261=\"\",\"\",VLOOKUP($A261,Ⅰ.構成メンバー名簿!$Q$26:$W$275,MATCH(Ⅰ.構成メンバー名簿!$S$25,Ⅰ.構成メンバー名簿!$Q$25:$W$25,0),FALSE))","v":""},{"$f":"IF($A261=\"\",\"\",IF(VLOOKUP($A261,Ⅰ.構成メンバー名簿!$Q$26:$W$275,MATCH(Ⅰ.構成メンバー名簿!$T$25,Ⅰ.構成メンバー名簿!$Q$25:$W$25,0),FALSE)=\"\",\"\",VLOOKUP($A261,Ⅰ.構成メンバー名簿!$Q$26:$W$275,MATCH(Ⅰ.構成メンバー名簿!$T$25,Ⅰ.構成メンバー名簿!$Q$25:$W$25,0),FALSE)))","v":""},{"$f":"IF($A261=\"\",\"\",VLOOKUP($A261,Ⅰ.構成メンバー名簿!$Q$26:$W$275,MATCH(Ⅰ.構成メンバー名簿!$W$25,Ⅰ.構成メンバー名簿!$Q$25:$W$25,0),FALSE))","v":""},{"$f":"IF(AND(H261>0,SUM(H262:$H$290)=0),\"←ここまで値でコピー\",\"\")","v":""},null,null,0,null,{"$f":"IF(SUM($Q261:$Q$261)=0,\"\",J260+1)","v":""},{"$f":"IF(Ⅰ.構成メンバー名簿!S275<>\"\",Ⅰ.構成メンバー名簿!S275,\"\")","v":""},{"$f":"IF(Ⅰ.構成メンバー名簿!V275=\"\",\"\",Ⅰ.構成メンバー名簿!E275)","v":""},{"$f":"IF(Ⅰ.構成メンバー名簿!W275=\"\",\"\",Ⅰ.構成メンバー名簿!W275)","v":""},{"$f":"IF(Q261>0,\"←ここまで値でコピー\",\"\")","v":""},null,null,0]
[{"$f":"IF(MAX(Ⅰ.構成メンバー名簿!$Q$26:$Q$275)>A261,A261+1,\"\")","v":""},{"$f":"IF($A262=\"\",\"\",VLOOKUP($A262,Ⅰ.構成メンバー名簿!$Q$26:$W$275,MATCH(Ⅰ.構成メンバー名簿!$S$25,Ⅰ.構成メンバー名簿!$Q$25:$W$25,0),FALSE))","v":""},{"$f":"IF($A262=\"\",\"\",IF(VLOOKUP($A262,Ⅰ.構成メンバー名簿!$Q$26:$W$275,MATCH(Ⅰ.構成メンバー名簿!$T$25,Ⅰ.構成メンバー名簿!$Q$25:$W$25,0),FALSE)=\"\",\"\",VLOOKUP($A262,Ⅰ.構成メンバー名簿!$Q$26:$W$275,MATCH(Ⅰ.構成メンバー名簿!$T$25,Ⅰ.構成メンバー名簿!$Q$25:$W$25,0),FALSE)))","v":""},{"$f":"IF($A262=\"\",\"\",VLOOKUP($A262,Ⅰ.構成メンバー名簿!$Q$26:$W$275,MATCH(Ⅰ.構成メンバー名簿!$W$25,Ⅰ.構成メンバー名簿!$Q$25:$W$25,0),FALSE))","v":""},{"$f":"IF(AND(H262>0,SUM(H263:$H$290)=0),\"←ここまで値でコピー\",\"\")","v":""},null,null,0]
[{"$f":"IF(MAX(Ⅰ.構成メンバー名簿!$Q$26:$Q$275)>A262,A262+1,\"\")","v":""},{"$f":"IF($A263=\"\",\"\",VLOOKUP($A263,Ⅰ.構成メンバー名簿!$Q$26:$W$275,MATCH(Ⅰ.構成メンバー名簿!$S$25,Ⅰ.構成メンバー名簿!$Q$25:$W$25,0),FALSE))","v":""},{"$f":"IF($A263=\"\",\"\",IF(VLOOKUP($A263,Ⅰ.構成メンバー名簿!$Q$26:$W$275,MATCH(Ⅰ.構成メンバー名簿!$T$25,Ⅰ.構成メンバー名簿!$Q$25:$W$25,0),FALSE)=\"\",\"\",VLOOKUP($A263,Ⅰ.構成メンバー名簿!$Q$26:$W$275,MATCH(Ⅰ.構成メンバー名簿!$T$25,Ⅰ.構成メンバー名簿!$Q$25:$W$25,0),FALSE)))","v":""},{"$f":"IF($A263=\"\",\"\",VLOOKUP($A263,Ⅰ.構成メンバー名簿!$Q$26:$W$275,MATCH(Ⅰ.構成メンバー名簿!$W$25,Ⅰ.構成メンバー名簿!$Q$25:$W$25,0),FALSE))","v":""},{"$f":"IF(AND(H263>0,SUM(H264:$H$290)=0),\"←ここまで値でコピー\",\"\")","v":""},null,null,0]
[{"$f":"IF(MAX(Ⅰ.構成メンバー名簿!$Q$26:$Q$275)>A263,A263+1,\"\")","v":""},{"$f":"IF($A264=\"\",\"\",VLOOKUP($A264,Ⅰ.構成メンバー名簿!$Q$26:$W$275,MATCH(Ⅰ.構成メンバー名簿!$S$25,Ⅰ.構成メンバー名簿!$Q$25:$W$25,0),FALSE))","v":""},{"$f":"IF($A264=\"\",\"\",IF(VLOOKUP($A264,Ⅰ.構成メンバー名簿!$Q$26:$W$275,MATCH(Ⅰ.構成メンバー名簿!$T$25,Ⅰ.構成メンバー名簿!$Q$25:$W$25,0),FALSE)=\"\",\"\",VLOOKUP($A264,Ⅰ.構成メンバー名簿!$Q$26:$W$275,MATCH(Ⅰ.構成メンバー名簿!$T$25,Ⅰ.構成メンバー名簿!$Q$25:$W$25,0),FALSE)))","v":""},{"$f":"IF($A264=\"\",\"\",VLOOKUP($A264,Ⅰ.構成メンバー名簿!$Q$26:$W$275,MATCH(Ⅰ.構成メンバー名簿!$W$25,Ⅰ.構成メンバー名簿!$Q$25:$W$25,0),FALSE))","v":""},{"$f":"IF(AND(H264>0,SUM(H265:$H$290)=0),\"←ここまで値でコピー\",\"\")","v":""},null,null,0]
[{"$f":"IF(MAX(Ⅰ.構成メンバー名簿!$Q$26:$Q$275)>A264,A264+1,\"\")","v":""},{"$f":"IF($A265=\"\",\"\",VLOOKUP($A265,Ⅰ.構成メンバー名簿!$Q$26:$W$275,MATCH(Ⅰ.構成メンバー名簿!$S$25,Ⅰ.構成メンバー名簿!$Q$25:$W$25,0),FALSE))","v":""},{"$f":"IF($A265=\"\",\"\",IF(VLOOKUP($A265,Ⅰ.構成メンバー名簿!$Q$26:$W$275,MATCH(Ⅰ.構成メンバー名簿!$T$25,Ⅰ.構成メンバー名簿!$Q$25:$W$25,0),FALSE)=\"\",\"\",VLOOKUP($A265,Ⅰ.構成メンバー名簿!$Q$26:$W$275,MATCH(Ⅰ.構成メンバー名簿!$T$25,Ⅰ.構成メンバー名簿!$Q$25:$W$25,0),FALSE)))","v":""},{"$f":"IF($A265=\"\",\"\",VLOOKUP($A265,Ⅰ.構成メンバー名簿!$Q$26:$W$275,MATCH(Ⅰ.構成メンバー名簿!$W$25,Ⅰ.構成メンバー名簿!$Q$25:$W$25,0),FALSE))","v":""},{"$f":"IF(AND(H265>0,SUM(H266:$H$290)=0),\"←ここまで値でコピー\",\"\")","v":""},null,null,0]
[{"$f":"IF(MAX(Ⅰ.構成メンバー名簿!$Q$26:$Q$275)>A265,A265+1,\"\")","v":""},{"$f":"IF($A266=\"\",\"\",VLOOKUP($A266,Ⅰ.構成メンバー名簿!$Q$26:$W$275,MATCH(Ⅰ.構成メンバー名簿!$S$25,Ⅰ.構成メンバー名簿!$Q$25:$W$25,0),FALSE))","v":""},{"$f":"IF($A266=\"\",\"\",IF(VLOOKUP($A266,Ⅰ.構成メンバー名簿!$Q$26:$W$275,MATCH(Ⅰ.構成メンバー名簿!$T$25,Ⅰ.構成メンバー名簿!$Q$25:$W$25,0),FALSE)=\"\",\"\",VLOOKUP($A266,Ⅰ.構成メンバー名簿!$Q$26:$W$275,MATCH(Ⅰ.構成メンバー名簿!$T$25,Ⅰ.構成メンバー名簿!$Q$25:$W$25,0),FALSE)))","v":""},{"$f":"IF($A266=\"\",\"\",VLOOKUP($A266,Ⅰ.構成メンバー名簿!$Q$26:$W$275,MATCH(Ⅰ.構成メンバー名簿!$W$25,Ⅰ.構成メンバー名簿!$Q$25:$W$25,0),FALSE))","v":""},{"$f":"IF(AND(H266>0,SUM(H267:$H$290)=0),\"←ここまで値でコピー\",\"\")","v":""},null,null,0]
[{"$f":"IF(MAX(Ⅰ.構成メンバー名簿!$Q$26:$Q$275)>A266,A266+1,\"\")","v":""},{"$f":"IF($A267=\"\",\"\",VLOOKUP($A267,Ⅰ.構成メンバー名簿!$Q$26:$W$275,MATCH(Ⅰ.構成メンバー名簿!$S$25,Ⅰ.構成メンバー名簿!$Q$25:$W$25,0),FALSE))","v":""},{"$f":"IF($A267=\"\",\"\",IF(VLOOKUP($A267,Ⅰ.構成メンバー名簿!$Q$26:$W$275,MATCH(Ⅰ.構成メンバー名簿!$T$25,Ⅰ.構成メンバー名簿!$Q$25:$W$25,0),FALSE)=\"\",\"\",VLOOKUP($A267,Ⅰ.構成メンバー名簿!$Q$26:$W$275,MATCH(Ⅰ.構成メンバー名簿!$T$25,Ⅰ.構成メンバー名簿!$Q$25:$W$25,0),FALSE)))","v":""},{"$f":"IF($A267=\"\",\"\",VLOOKUP($A267,Ⅰ.構成メンバー名簿!$Q$26:$W$275,MATCH(Ⅰ.構成メンバー名簿!$W$25,Ⅰ.構成メンバー名簿!$Q$25:$W$25,0),FALSE))","v":""},{"$f":"IF(AND(H267>0,SUM(H268:$H$290)=0),\"←ここまで値でコピー\",\"\")","v":""},null,null,0]
[{"$f":"IF(MAX(Ⅰ.構成メンバー名簿!$Q$26:$Q$275)>A267,A267+1,\"\")","v":""},{"$f":"IF($A268=\"\",\"\",VLOOKUP($A268,Ⅰ.構成メンバー名簿!$Q$26:$W$275,MATCH(Ⅰ.構成メンバー名簿!$S$25,Ⅰ.構成メンバー名簿!$Q$25:$W$25,0),FALSE))","v":""},{"$f":"IF($A268=\"\",\"\",IF(VLOOKUP($A268,Ⅰ.構成メンバー名簿!$Q$26:$W$275,MATCH(Ⅰ.構成メンバー名簿!$T$25,Ⅰ.構成メンバー名簿!$Q$25:$W$25,0),FALSE)=\"\",\"\",VLOOKUP($A268,Ⅰ.構成メンバー名簿!$Q$26:$W$275,MATCH(Ⅰ.構成メンバー名簿!$T$25,Ⅰ.構成メンバー名簿!$Q$25:$W$25,0),FALSE)))","v":""},{"$f":"IF($A268=\"\",\"\",VLOOKUP($A268,Ⅰ.構成メンバー名簿!$Q$26:$W$275,MATCH(Ⅰ.構成メンバー名簿!$W$25,Ⅰ.構成メンバー名簿!$Q$25:$W$25,0),FALSE))","v":""},{"$f":"IF(AND(H268>0,SUM(H269:$H$290)=0),\"←ここまで値でコピー\",\"\")","v":""},null,null,0]
[{"$f":"IF(MAX(Ⅰ.構成メンバー名簿!$Q$26:$Q$275)>A268,A268+1,\"\")","v":""},{"$f":"IF($A269=\"\",\"\",VLOOKUP($A269,Ⅰ.構成メンバー名簿!$Q$26:$W$275,MATCH(Ⅰ.構成メンバー名簿!$S$25,Ⅰ.構成メンバー名簿!$Q$25:$W$25,0),FALSE))","v":""},{"$f":"IF($A269=\"\",\"\",IF(VLOOKUP($A269,Ⅰ.構成メンバー名簿!$Q$26:$W$275,MATCH(Ⅰ.構成メンバー名簿!$T$25,Ⅰ.構成メンバー名簿!$Q$25:$W$25,0),FALSE)=\"\",\"\",VLOOKUP($A269,Ⅰ.構成メンバー名簿!$Q$26:$W$275,MATCH(Ⅰ.構成メンバー名簿!$T$25,Ⅰ.構成メンバー名簿!$Q$25:$W$25,0),FALSE)))","v":""},{"$f":"IF($A269=\"\",\"\",VLOOKUP($A269,Ⅰ.構成メンバー名簿!$Q$26:$W$275,MATCH(Ⅰ.構成メンバー名簿!$W$25,Ⅰ.構成メンバー名簿!$Q$25:$W$25,0),FALSE))","v":""},{"$f":"IF(AND(H269>0,SUM(H270:$H$290)=0),\"←ここまで値でコピー\",\"\")","v":""},null,null,0]
[{"$f":"IF(MAX(Ⅰ.構成メンバー名簿!$Q$26:$Q$275)>A269,A269+1,\"\")","v":""},{"$f":"IF($A270=\"\",\"\",VLOOKUP($A270,Ⅰ.構成メンバー名簿!$Q$26:$W$275,MATCH(Ⅰ.構成メンバー名簿!$S$25,Ⅰ.構成メンバー名簿!$Q$25:$W$25,0),FALSE))","v":""},{"$f":"IF($A270=\"\",\"\",IF(VLOOKUP($A270,Ⅰ.構成メンバー名簿!$Q$26:$W$275,MATCH(Ⅰ.構成メンバー名簿!$T$25,Ⅰ.構成メンバー名簿!$Q$25:$W$25,0),FALSE)=\"\",\"\",VLOOKUP($A270,Ⅰ.構成メンバー名簿!$Q$26:$W$275,MATCH(Ⅰ.構成メンバー名簿!$T$25,Ⅰ.構成メンバー名簿!$Q$25:$W$25,0),FALSE)))","v":""},{"$f":"IF($A270=\"\",\"\",VLOOKUP($A270,Ⅰ.構成メンバー名簿!$Q$26:$W$275,MATCH(Ⅰ.構成メンバー名簿!$W$25,Ⅰ.構成メンバー名簿!$Q$25:$W$25,0),FALSE))","v":""},{"$f":"IF(AND(H270>0,SUM(H271:$H$290)=0),\"←ここまで値でコピー\",\"\")","v":""},null,null,0]
[{"$f":"IF(MAX(Ⅰ.構成メンバー名簿!$Q$26:$Q$275)>A270,A270+1,\"\")","v":""},{"$f":"IF($A271=\"\",\"\",VLOOKUP($A271,Ⅰ.構成メンバー名簿!$Q$26:$W$275,MATCH(Ⅰ.構成メンバー名簿!$S$25,Ⅰ.構成メンバー名簿!$Q$25:$W$25,0),FALSE))","v":""},{"$f":"IF($A271=\"\",\"\",IF(VLOOKUP($A271,Ⅰ.構成メンバー名簿!$Q$26:$W$275,MATCH(Ⅰ.構成メンバー名簿!$T$25,Ⅰ.構成メンバー名簿!$Q$25:$W$25,0),FALSE)=\"\",\"\",VLOOKUP($A271,Ⅰ.構成メンバー名簿!$Q$26:$W$275,MATCH(Ⅰ.構成メンバー名簿!$T$25,Ⅰ.構成メンバー名簿!$Q$25:$W$25,0),FALSE)))","v":""},{"$f":"IF($A271=\"\",\"\",VLOOKUP($A271,Ⅰ.構成メンバー名簿!$Q$26:$W$275,MATCH(Ⅰ.構成メンバー名簿!$W$25,Ⅰ.構成メンバー名簿!$Q$25:$W$25,0),FALSE))","v":""},{"$f":"IF(AND(H271>0,SUM(H272:$H$290)=0),\"←ここまで値でコピー\",\"\")","v":""},null,null,0]
[{"$f":"IF(MAX(Ⅰ.構成メンバー名簿!$Q$26:$Q$275)>A271,A271+1,\"\")","v":""},{"$f":"IF($A272=\"\",\"\",VLOOKUP($A272,Ⅰ.構成メンバー名簿!$Q$26:$W$275,MATCH(Ⅰ.構成メンバー名簿!$S$25,Ⅰ.構成メンバー名簿!$Q$25:$W$25,0),FALSE))","v":""},{"$f":"IF($A272=\"\",\"\",IF(VLOOKUP($A272,Ⅰ.構成メンバー名簿!$Q$26:$W$275,MATCH(Ⅰ.構成メンバー名簿!$T$25,Ⅰ.構成メンバー名簿!$Q$25:$W$25,0),FALSE)=\"\",\"\",VLOOKUP($A272,Ⅰ.構成メンバー名簿!$Q$26:$W$275,MATCH(Ⅰ.構成メンバー名簿!$T$25,Ⅰ.構成メンバー名簿!$Q$25:$W$25,0),FALSE)))","v":""},{"$f":"IF($A272=\"\",\"\",VLOOKUP($A272,Ⅰ.構成メンバー名簿!$Q$26:$W$275,MATCH(Ⅰ.構成メンバー名簿!$W$25,Ⅰ.構成メンバー名簿!$Q$25:$W$25,0),FALSE))","v":""},{"$f":"IF(AND(H272>0,SUM(H273:$H$290)=0),\"←ここまで値でコピー\",\"\")","v":""},null,null,0]
[{"$f":"IF(MAX(Ⅰ.構成メンバー名簿!$Q$26:$Q$275)>A272,A272+1,\"\")","v":""},{"$f":"IF($A273=\"\",\"\",VLOOKUP($A273,Ⅰ.構成メンバー名簿!$Q$26:$W$275,MATCH(Ⅰ.構成メンバー名簿!$S$25,Ⅰ.構成メンバー名簿!$Q$25:$W$25,0),FALSE))","v":""},{"$f":"IF($A273=\"\",\"\",IF(VLOOKUP($A273,Ⅰ.構成メンバー名簿!$Q$26:$W$275,MATCH(Ⅰ.構成メンバー名簿!$T$25,Ⅰ.構成メンバー名簿!$Q$25:$W$25,0),FALSE)=\"\",\"\",VLOOKUP($A273,Ⅰ.構成メンバー名簿!$Q$26:$W$275,MATCH(Ⅰ.構成メンバー名簿!$T$25,Ⅰ.構成メンバー名簿!$Q$25:$W$25,0),FALSE)))","v":""},{"$f":"IF($A273=\"\",\"\",VLOOKUP($A273,Ⅰ.構成メンバー名簿!$Q$26:$W$275,MATCH(Ⅰ.構成メンバー名簿!$W$25,Ⅰ.構成メンバー名簿!$Q$25:$W$25,0),FALSE))","v":""},{"$f":"IF(AND(H273>0,SUM(H274:$H$290)=0),\"←ここまで値でコピー\",\"\")","v":""},null,null,0]
[{"$f":"IF(MAX(Ⅰ.構成メンバー名簿!$Q$26:$Q$275)>A273,A273+1,\"\")","v":""},{"$f":"IF($A274=\"\",\"\",VLOOKUP($A274,Ⅰ.構成メンバー名簿!$Q$26:$W$275,MATCH(Ⅰ.構成メンバー名簿!$S$25,Ⅰ.構成メンバー名簿!$Q$25:$W$25,0),FALSE))","v":""},{"$f":"IF($A274=\"\",\"\",IF(VLOOKUP($A274,Ⅰ.構成メンバー名簿!$Q$26:$W$275,MATCH(Ⅰ.構成メンバー名簿!$T$25,Ⅰ.構成メンバー名簿!$Q$25:$W$25,0),FALSE)=\"\",\"\",VLOOKUP($A274,Ⅰ.構成メンバー名簿!$Q$26:$W$275,MATCH(Ⅰ.構成メンバー名簿!$T$25,Ⅰ.構成メンバー名簿!$Q$25:$W$25,0),FALSE)))","v":""},{"$f":"IF($A274=\"\",\"\",VLOOKUP($A274,Ⅰ.構成メンバー名簿!$Q$26:$W$275,MATCH(Ⅰ.構成メンバー名簿!$W$25,Ⅰ.構成メンバー名簿!$Q$25:$W$25,0),FALSE))","v":""},{"$f":"IF(AND(H274>0,SUM(H275:$H$290)=0),\"←ここまで値でコピー\",\"\")","v":""},null,null,0]
[{"$f":"IF(MAX(Ⅰ.構成メンバー名簿!$Q$26:$Q$275)>A274,A274+1,\"\")","v":""},{"$f":"IF($A275=\"\",\"\",VLOOKUP($A275,Ⅰ.構成メンバー名簿!$Q$26:$W$275,MATCH(Ⅰ.構成メンバー名簿!$S$25,Ⅰ.構成メンバー名簿!$Q$25:$W$25,0),FALSE))","v":""},{"$f":"IF($A275=\"\",\"\",IF(VLOOKUP($A275,Ⅰ.構成メンバー名簿!$Q$26:$W$275,MATCH(Ⅰ.構成メンバー名簿!$T$25,Ⅰ.構成メンバー名簿!$Q$25:$W$25,0),FALSE)=\"\",\"\",VLOOKUP($A275,Ⅰ.構成メンバー名簿!$Q$26:$W$275,MATCH(Ⅰ.構成メンバー名簿!$T$25,Ⅰ.構成メンバー名簿!$Q$25:$W$25,0),FALSE)))","v":""},{"$f":"IF($A275=\"\",\"\",VLOOKUP($A275,Ⅰ.構成メンバー名簿!$Q$26:$W$275,MATCH(Ⅰ.構成メンバー名簿!$W$25,Ⅰ.構成メンバー名簿!$Q$25:$W$25,0),FALSE))","v":""},{"$f":"IF(AND(H275>0,SUM(H276:$H$290)=0),\"←ここまで値でコピー\",\"\")","v":""},null,null,0]
[{"$f":"IF(MAX(Ⅰ.構成メンバー名簿!$Q$26:$Q$275)>A275,A275+1,\"\")","v":""},{"$f":"IF($A276=\"\",\"\",VLOOKUP($A276,Ⅰ.構成メンバー名簿!$Q$26:$W$275,MATCH(Ⅰ.構成メンバー名簿!$S$25,Ⅰ.構成メンバー名簿!$Q$25:$W$25,0),FALSE))","v":""},{"$f":"IF($A276=\"\",\"\",IF(VLOOKUP($A276,Ⅰ.構成メンバー名簿!$Q$26:$W$275,MATCH(Ⅰ.構成メンバー名簿!$T$25,Ⅰ.構成メンバー名簿!$Q$25:$W$25,0),FALSE)=\"\",\"\",VLOOKUP($A276,Ⅰ.構成メンバー名簿!$Q$26:$W$275,MATCH(Ⅰ.構成メンバー名簿!$T$25,Ⅰ.構成メンバー名簿!$Q$25:$W$25,0),FALSE)))","v":""},{"$f":"IF($A276=\"\",\"\",VLOOKUP($A276,Ⅰ.構成メンバー名簿!$Q$26:$W$275,MATCH(Ⅰ.構成メンバー名簿!$W$25,Ⅰ.構成メンバー名簿!$Q$25:$W$25,0),FALSE))","v":""},{"$f":"IF(AND(H276>0,SUM(H277:$H$290)=0),\"←ここまで値でコピー\",\"\")","v":""},null,null,0]
[{"$f":"IF(MAX(Ⅰ.構成メンバー名簿!$Q$26:$Q$275)>A276,A276+1,\"\")","v":""},{"$f":"IF($A277=\"\",\"\",VLOOKUP($A277,Ⅰ.構成メンバー名簿!$Q$26:$W$275,MATCH(Ⅰ.構成メンバー名簿!$S$25,Ⅰ.構成メンバー名簿!$Q$25:$W$25,0),FALSE))","v":""},{"$f":"IF($A277=\"\",\"\",IF(VLOOKUP($A277,Ⅰ.構成メンバー名簿!$Q$26:$W$275,MATCH(Ⅰ.構成メンバー名簿!$T$25,Ⅰ.構成メンバー名簿!$Q$25:$W$25,0),FALSE)=\"\",\"\",VLOOKUP($A277,Ⅰ.構成メンバー名簿!$Q$26:$W$275,MATCH(Ⅰ.構成メンバー名簿!$T$25,Ⅰ.構成メンバー名簿!$Q$25:$W$25,0),FALSE)))","v":""},{"$f":"IF($A277=\"\",\"\",VLOOKUP($A277,Ⅰ.構成メンバー名簿!$Q$26:$W$275,MATCH(Ⅰ.構成メンバー名簿!$W$25,Ⅰ.構成メンバー名簿!$Q$25:$W$25,0),FALSE))","v":""},{"$f":"IF(AND(H277>0,SUM(H278:$H$290)=0),\"←ここまで値でコピー\",\"\")","v":""},null,null,0]
[{"$f":"IF(MAX(Ⅰ.構成メンバー名簿!$Q$26:$Q$275)>A277,A277+1,\"\")","v":""},{"$f":"IF($A278=\"\",\"\",VLOOKUP($A278,Ⅰ.構成メンバー名簿!$Q$26:$W$275,MATCH(Ⅰ.構成メンバー名簿!$S$25,Ⅰ.構成メンバー名簿!$Q$25:$W$25,0),FALSE))","v":""},{"$f":"IF($A278=\"\",\"\",IF(VLOOKUP($A278,Ⅰ.構成メンバー名簿!$Q$26:$W$275,MATCH(Ⅰ.構成メンバー名簿!$T$25,Ⅰ.構成メンバー名簿!$Q$25:$W$25,0),FALSE)=\"\",\"\",VLOOKUP($A278,Ⅰ.構成メンバー名簿!$Q$26:$W$275,MATCH(Ⅰ.構成メンバー名簿!$T$25,Ⅰ.構成メンバー名簿!$Q$25:$W$25,0),FALSE)))","v":""},{"$f":"IF($A278=\"\",\"\",VLOOKUP($A278,Ⅰ.構成メンバー名簿!$Q$26:$W$275,MATCH(Ⅰ.構成メンバー名簿!$W$25,Ⅰ.構成メンバー名簿!$Q$25:$W$25,0),FALSE))","v":""},{"$f":"IF(AND(H278>0,SUM(H279:$H$290)=0),\"←ここまで値でコピー\",\"\")","v":""},null,null,0]
[{"$f":"IF(MAX(Ⅰ.構成メンバー名簿!$Q$26:$Q$275)>A278,A278+1,\"\")","v":""},{"$f":"IF($A279=\"\",\"\",VLOOKUP($A279,Ⅰ.構成メンバー名簿!$Q$26:$W$275,MATCH(Ⅰ.構成メンバー名簿!$S$25,Ⅰ.構成メンバー名簿!$Q$25:$W$25,0),FALSE))","v":""},{"$f":"IF($A279=\"\",\"\",IF(VLOOKUP($A279,Ⅰ.構成メンバー名簿!$Q$26:$W$275,MATCH(Ⅰ.構成メンバー名簿!$T$25,Ⅰ.構成メンバー名簿!$Q$25:$W$25,0),FALSE)=\"\",\"\",VLOOKUP($A279,Ⅰ.構成メンバー名簿!$Q$26:$W$275,MATCH(Ⅰ.構成メンバー名簿!$T$25,Ⅰ.構成メンバー名簿!$Q$25:$W$25,0),FALSE)))","v":""},{"$f":"IF($A279=\"\",\"\",VLOOKUP($A279,Ⅰ.構成メンバー名簿!$Q$26:$W$275,MATCH(Ⅰ.構成メンバー名簿!$W$25,Ⅰ.構成メンバー名簿!$Q$25:$W$25,0),FALSE))","v":""},{"$f":"IF(AND(H279>0,SUM(H280:$H$290)=0),\"←ここまで値でコピー\",\"\")","v":""},null,null,0]
[{"$f":"IF(MAX(Ⅰ.構成メンバー名簿!$Q$26:$Q$275)>A279,A279+1,\"\")","v":""},{"$f":"IF($A280=\"\",\"\",VLOOKUP($A280,Ⅰ.構成メンバー名簿!$Q$26:$W$275,MATCH(Ⅰ.構成メンバー名簿!$S$25,Ⅰ.構成メンバー名簿!$Q$25:$W$25,0),FALSE))","v":""},{"$f":"IF($A280=\"\",\"\",IF(VLOOKUP($A280,Ⅰ.構成メンバー名簿!$Q$26:$W$275,MATCH(Ⅰ.構成メンバー名簿!$T$25,Ⅰ.構成メンバー名簿!$Q$25:$W$25,0),FALSE)=\"\",\"\",VLOOKUP($A280,Ⅰ.構成メンバー名簿!$Q$26:$W$275,MATCH(Ⅰ.構成メンバー名簿!$T$25,Ⅰ.構成メンバー名簿!$Q$25:$W$25,0),FALSE)))","v":""},{"$f":"IF($A280=\"\",\"\",VLOOKUP($A280,Ⅰ.構成メンバー名簿!$Q$26:$W$275,MATCH(Ⅰ.構成メンバー名簿!$W$25,Ⅰ.構成メンバー名簿!$Q$25:$W$25,0),FALSE))","v":""},{"$f":"IF(AND(H280>0,SUM(H281:$H$290)=0),\"←ここまで値でコピー\",\"\")","v":""},null,null,0]
[{"$f":"IF(MAX(Ⅰ.構成メンバー名簿!$Q$26:$Q$275)>A280,A280+1,\"\")","v":""},{"$f":"IF($A281=\"\",\"\",VLOOKUP($A281,Ⅰ.構成メンバー名簿!$Q$26:$W$275,MATCH(Ⅰ.構成メンバー名簿!$S$25,Ⅰ.構成メンバー名簿!$Q$25:$W$25,0),FALSE))","v":""},{"$f":"IF($A281=\"\",\"\",IF(VLOOKUP($A281,Ⅰ.構成メンバー名簿!$Q$26:$W$275,MATCH(Ⅰ.構成メンバー名簿!$T$25,Ⅰ.構成メンバー名簿!$Q$25:$W$25,0),FALSE)=\"\",\"\",VLOOKUP($A281,Ⅰ.構成メンバー名簿!$Q$26:$W$275,MATCH(Ⅰ.構成メンバー名簿!$T$25,Ⅰ.構成メンバー名簿!$Q$25:$W$25,0),FALSE)))","v":""},{"$f":"IF($A281=\"\",\"\",VLOOKUP($A281,Ⅰ.構成メンバー名簿!$Q$26:$W$275,MATCH(Ⅰ.構成メンバー名簿!$W$25,Ⅰ.構成メンバー名簿!$Q$25:$W$25,0),FALSE))","v":""},{"$f":"IF(AND(H281>0,SUM(H282:$H$290)=0),\"←ここまで値でコピー\",\"\")","v":""},null,null,0]
[{"$f":"IF(MAX(Ⅰ.構成メンバー名簿!$Q$26:$Q$275)>A281,A281+1,\"\")","v":""},{"$f":"IF($A282=\"\",\"\",VLOOKUP($A282,Ⅰ.構成メンバー名簿!$Q$26:$W$275,MATCH(Ⅰ.構成メンバー名簿!$S$25,Ⅰ.構成メンバー名簿!$Q$25:$W$25,0),FALSE))","v":""},{"$f":"IF($A282=\"\",\"\",IF(VLOOKUP($A282,Ⅰ.構成メンバー名簿!$Q$26:$W$275,MATCH(Ⅰ.構成メンバー名簿!$T$25,Ⅰ.構成メンバー名簿!$Q$25:$W$25,0),FALSE)=\"\",\"\",VLOOKUP($A282,Ⅰ.構成メンバー名簿!$Q$26:$W$275,MATCH(Ⅰ.構成メンバー名簿!$T$25,Ⅰ.構成メンバー名簿!$Q$25:$W$25,0),FALSE)))","v":""},{"$f":"IF($A282=\"\",\"\",VLOOKUP($A282,Ⅰ.構成メンバー名簿!$Q$26:$W$275,MATCH(Ⅰ.構成メンバー名簿!$W$25,Ⅰ.構成メンバー名簿!$Q$25:$W$25,0),FALSE))","v":""},{"$f":"IF(AND(H282>0,SUM(H283:$H$290)=0),\"←ここまで値でコピー\",\"\")","v":""},null,null,0]
[{"$f":"IF(MAX(Ⅰ.構成メンバー名簿!$Q$26:$Q$275)>A282,A282+1,\"\")","v":""},{"$f":"IF($A283=\"\",\"\",VLOOKUP($A283,Ⅰ.構成メンバー名簿!$Q$26:$W$275,MATCH(Ⅰ.構成メンバー名簿!$S$25,Ⅰ.構成メンバー名簿!$Q$25:$W$25,0),FALSE))","v":""},{"$f":"IF($A283=\"\",\"\",IF(VLOOKUP($A283,Ⅰ.構成メンバー名簿!$Q$26:$W$275,MATCH(Ⅰ.構成メンバー名簿!$T$25,Ⅰ.構成メンバー名簿!$Q$25:$W$25,0),FALSE)=\"\",\"\",VLOOKUP($A283,Ⅰ.構成メンバー名簿!$Q$26:$W$275,MATCH(Ⅰ.構成メンバー名簿!$T$25,Ⅰ.構成メンバー名簿!$Q$25:$W$25,0),FALSE)))","v":""},{"$f":"IF($A283=\"\",\"\",VLOOKUP($A283,Ⅰ.構成メンバー名簿!$Q$26:$W$275,MATCH(Ⅰ.構成メンバー名簿!$W$25,Ⅰ.構成メンバー名簿!$Q$25:$W$25,0),FALSE))","v":""},{"$f":"IF(AND(H283>0,SUM(H284:$H$290)=0),\"←ここまで値でコピー\",\"\")","v":""},null,null,0]
[{"$f":"IF(MAX(Ⅰ.構成メンバー名簿!$Q$26:$Q$275)>A283,A283+1,\"\")","v":""},{"$f":"IF($A284=\"\",\"\",VLOOKUP($A284,Ⅰ.構成メンバー名簿!$Q$26:$W$275,MATCH(Ⅰ.構成メンバー名簿!$S$25,Ⅰ.構成メンバー名簿!$Q$25:$W$25,0),FALSE))","v":""},{"$f":"IF($A284=\"\",\"\",IF(VLOOKUP($A284,Ⅰ.構成メンバー名簿!$Q$26:$W$275,MATCH(Ⅰ.構成メンバー名簿!$T$25,Ⅰ.構成メンバー名簿!$Q$25:$W$25,0),FALSE)=\"\",\"\",VLOOKUP($A284,Ⅰ.構成メンバー名簿!$Q$26:$W$275,MATCH(Ⅰ.構成メンバー名簿!$T$25,Ⅰ.構成メンバー名簿!$Q$25:$W$25,0),FALSE)))","v":""},{"$f":"IF($A284=\"\",\"\",VLOOKUP($A284,Ⅰ.構成メンバー名簿!$Q$26:$W$275,MATCH(Ⅰ.構成メンバー名簿!$W$25,Ⅰ.構成メンバー名簿!$Q$25:$W$25,0),FALSE))","v":""},{"$f":"IF(AND(H284>0,SUM(H285:$H$290)=0),\"←ここまで値でコピー\",\"\")","v":""},null,null,0]
[{"$f":"IF(MAX(Ⅰ.構成メンバー名簿!$Q$26:$Q$275)>A284,A284+1,\"\")","v":""},{"$f":"IF($A285=\"\",\"\",VLOOKUP($A285,Ⅰ.構成メンバー名簿!$Q$26:$W$275,MATCH(Ⅰ.構成メンバー名簿!$S$25,Ⅰ.構成メンバー名簿!$Q$25:$W$25,0),FALSE))","v":""},{"$f":"IF($A285=\"\",\"\",IF(VLOOKUP($A285,Ⅰ.構成メンバー名簿!$Q$26:$W$275,MATCH(Ⅰ.構成メンバー名簿!$T$25,Ⅰ.構成メンバー名簿!$Q$25:$W$25,0),FALSE)=\"\",\"\",VLOOKUP($A285,Ⅰ.構成メンバー名簿!$Q$26:$W$275,MATCH(Ⅰ.構成メンバー名簿!$T$25,Ⅰ.構成メンバー名簿!$Q$25:$W$25,0),FALSE)))","v":""},{"$f":"IF($A285=\"\",\"\",VLOOKUP($A285,Ⅰ.構成メンバー名簿!$Q$26:$W$275,MATCH(Ⅰ.構成メンバー名簿!$W$25,Ⅰ.構成メンバー名簿!$Q$25:$W$25,0),FALSE))","v":""},{"$f":"IF(AND(H285>0,SUM(H286:$H$290)=0),\"←ここまで値でコピー\",\"\")","v":""},null,null,0]
[{"$f":"IF(MAX(Ⅰ.構成メンバー名簿!$Q$26:$Q$275)>A285,A285+1,\"\")","v":""},{"$f":"IF($A286=\"\",\"\",VLOOKUP($A286,Ⅰ.構成メンバー名簿!$Q$26:$W$275,MATCH(Ⅰ.構成メンバー名簿!$S$25,Ⅰ.構成メンバー名簿!$Q$25:$W$25,0),FALSE))","v":""},{"$f":"IF($A286=\"\",\"\",IF(VLOOKUP($A286,Ⅰ.構成メンバー名簿!$Q$26:$W$275,MATCH(Ⅰ.構成メンバー名簿!$T$25,Ⅰ.構成メンバー名簿!$Q$25:$W$25,0),FALSE)=\"\",\"\",VLOOKUP($A286,Ⅰ.構成メンバー名簿!$Q$26:$W$275,MATCH(Ⅰ.構成メンバー名簿!$T$25,Ⅰ.構成メンバー名簿!$Q$25:$W$25,0),FALSE)))","v":""},{"$f":"IF($A286=\"\",\"\",VLOOKUP($A286,Ⅰ.構成メンバー名簿!$Q$26:$W$275,MATCH(Ⅰ.構成メンバー名簿!$W$25,Ⅰ.構成メンバー名簿!$Q$25:$W$25,0),FALSE))","v":""},{"$f":"IF(AND(H286>0,SUM(H287:$H$290)=0),\"←ここまで値でコピー\",\"\")","v":""},null,null,0]
[{"$f":"IF(MAX(Ⅰ.構成メンバー名簿!$Q$26:$Q$275)>A286,A286+1,\"\")","v":""},{"$f":"IF($A287=\"\",\"\",VLOOKUP($A287,Ⅰ.構成メンバー名簿!$Q$26:$W$275,MATCH(Ⅰ.構成メンバー名簿!$S$25,Ⅰ.構成メンバー名簿!$Q$25:$W$25,0),FALSE))","v":""},{"$f":"IF($A287=\"\",\"\",IF(VLOOKUP($A287,Ⅰ.構成メンバー名簿!$Q$26:$W$275,MATCH(Ⅰ.構成メンバー名簿!$T$25,Ⅰ.構成メンバー名簿!$Q$25:$W$25,0),FALSE)=\"\",\"\",VLOOKUP($A287,Ⅰ.構成メンバー名簿!$Q$26:$W$275,MATCH(Ⅰ.構成メンバー名簿!$T$25,Ⅰ.構成メンバー名簿!$Q$25:$W$25,0),FALSE)))","v":""},{"$f":"IF($A287=\"\",\"\",VLOOKUP($A287,Ⅰ.構成メンバー名簿!$Q$26:$W$275,MATCH(Ⅰ.構成メンバー名簿!$W$25,Ⅰ.構成メンバー名簿!$Q$25:$W$25,0),FALSE))","v":""},{"$f":"IF(AND(H287>0,SUM(H288:$H$290)=0),\"←ここまで値でコピー\",\"\")","v":""},null,null,0]
[{"$f":"IF(MAX(Ⅰ.構成メンバー名簿!$Q$26:$Q$275)>A287,A287+1,\"\")","v":""},{"$f":"IF($A288=\"\",\"\",VLOOKUP($A288,Ⅰ.構成メンバー名簿!$Q$26:$W$275,MATCH(Ⅰ.構成メンバー名簿!$S$25,Ⅰ.構成メンバー名簿!$Q$25:$W$25,0),FALSE))","v":""},{"$f":"IF($A288=\"\",\"\",IF(VLOOKUP($A288,Ⅰ.構成メンバー名簿!$Q$26:$W$275,MATCH(Ⅰ.構成メンバー名簿!$T$25,Ⅰ.構成メンバー名簿!$Q$25:$W$25,0),FALSE)=\"\",\"\",VLOOKUP($A288,Ⅰ.構成メンバー名簿!$Q$26:$W$275,MATCH(Ⅰ.構成メンバー名簿!$T$25,Ⅰ.構成メンバー名簿!$Q$25:$W$25,0),FALSE)))","v":""},{"$f":"IF($A288=\"\",\"\",VLOOKUP($A288,Ⅰ.構成メンバー名簿!$Q$26:$W$275,MATCH(Ⅰ.構成メンバー名簿!$W$25,Ⅰ.構成メンバー名簿!$Q$25:$W$25,0),FALSE))","v":""},{"$f":"IF(AND(H288>0,SUM(H289:$H$290)=0),\"←ここまで値でコピー\",\"\")","v":""},null,null,0]
[{"$f":"IF(MAX(Ⅰ.構成メンバー名簿!$Q$26:$Q$275)>A288,A288+1,\"\")","v":""},{"$f":"IF($A289=\"\",\"\",VLOOKUP($A289,Ⅰ.構成メンバー名簿!$Q$26:$W$275,MATCH(Ⅰ.構成メンバー名簿!$S$25,Ⅰ.構成メンバー名簿!$Q$25:$W$25,0),FALSE))","v":""},{"$f":"IF($A289=\"\",\"\",IF(VLOOKUP($A289,Ⅰ.構成メンバー名簿!$Q$26:$W$275,MATCH(Ⅰ.構成メンバー名簿!$T$25,Ⅰ.構成メンバー名簿!$Q$25:$W$25,0),FALSE)=\"\",\"\",VLOOKUP($A289,Ⅰ.構成メンバー名簿!$Q$26:$W$275,MATCH(Ⅰ.構成メンバー名簿!$T$25,Ⅰ.構成メンバー名簿!$Q$25:$W$25,0),FALSE)))","v":""},{"$f":"IF($A289=\"\",\"\",VLOOKUP($A289,Ⅰ.構成メンバー名簿!$Q$26:$W$275,MATCH(Ⅰ.構成メンバー名簿!$W$25,Ⅰ.構成メンバー名簿!$Q$25:$W$25,0),FALSE))","v":""},{"$f":"IF(AND(H289>0,SUM(H290:$H$290)=0),\"←ここまで値でコピー\",\"\")","v":""},null,null,0]
[{"$f":"IF(MAX(Ⅰ.構成メンバー名簿!$Q$26:$Q$275)>A289,A289+1,\"\")","v":""},{"$f":"IF($A290=\"\",\"\",VLOOKUP($A290,Ⅰ.構成メンバー名簿!$Q$26:$W$275,MATCH(Ⅰ.構成メンバー名簿!$S$25,Ⅰ.構成メンバー名簿!$Q$25:$W$25,0),FALSE))","v":""},{"$f":"IF($A290=\"\",\"\",IF(VLOOKUP($A290,Ⅰ.構成メンバー名簿!$Q$26:$W$275,MATCH(Ⅰ.構成メンバー名簿!$T$25,Ⅰ.構成メンバー名簿!$Q$25:$W$25,0),FALSE)=\"\",\"\",VLOOKUP($A290,Ⅰ.構成メンバー名簿!$Q$26:$W$275,MATCH(Ⅰ.構成メンバー名簿!$T$25,Ⅰ.構成メンバー名簿!$Q$25:$W$25,0),FALSE)))","v":""},{"$f":"IF($A290=\"\",\"\",VLOOKUP($A290,Ⅰ.構成メンバー名簿!$Q$26:$W$275,MATCH(Ⅰ.構成メンバー名簿!$W$25,Ⅰ.構成メンバー名簿!$Q$25:$W$25,0),FALSE))","v":""},{"$f":"IF(H290>0,\"←ここまで値でコピー\",\"\")","v":""},null,null,0]

{"sheet":"Ⅲ.事務局印刷用","index":6,"n_rows":274,"n_cols":33,"rows_kept":274,"cut":false,"hidden":true,"merged":[[0,21,0,23],[0,26,0,27],[1,1,2,26],[5,1,5,13],[7,2,8,25],[9,2,9,25],[19,2,20,6],[19,8,19,25],[20,7,20,25],[21,2,21,6],[21,7,21,15],[22,2,22,6],[22,7,22,15],[11,3,11,10],[13,2,13,4],[13,5,13,21],[13,22,14,25],[14,2,14,4],[14,5,14,10],[14,11,14,21],[28,2,28,6],[28,7,28,15],[28,16,28,17],[28,18,28,24],[29,2,29,6],[29,7,29,15],[23,2,24,6],[23,7,23,8],[23,9,23,15],[23,16,23,17],[23,18,23,24],[24,7,24,8],[24,9,24,15],[24,16,24,17],[24,18,24,24],[34,2,34,6],[34,7,34,21],[35,2,35,6],[35,7,35,21],[36,2,37,6],[36,7,36,12],[36,13,36,21],[37,7,37,12],[37,13,37,21],[40,16,40,24],[41,7,41,15],[41,16,41,24],[46,2,46,6],[46,7,46,15],[47,2,47,6],[47,7,47,15],[38,2,38,6],[38,7,38,15],[39,2,39,6],[39,7,39,15],[40,2,41,6],[40,7,40,15],[50,2,50,6],[50,7,50,17],[52,7,52,20],[52,25,52,27],[55,21,55,23],[55,26,55,27],[48,2,48,6],[48,7,48,10],[48,13,48,16],[48,19,48,23],[49,2,49,6],[49,7,49,24],[63,16,63,21],[63,22,63,27],[64,1,64,27],[65,1,65,7],[65,8,65,21],[65,22,65,27],[56,0,57,27],[58,0,58,27],[59,0,59,2],[59,3,59,27],[61,0,61,27],[62,0,71,0],[62,1,62,15],[62,16,62,21],[62,22,62,27],[63,1,63,15],[69,18,69,20],[69,21,69,27],[70,1,71,7],[70,16,70,20],[70,21,70,27],[71,16,71,20],[71,21,71,27],[66,1,67,7],[66,8,71,15],[66,16,66,20],[66,21,66,27],[67,16,69,17],[67,18,67,20],[67,21,67,27],[68,1,69,7],[68,18,68,20],[68,21,68,27],[72,0,81,0],[72,1,72,15],[72,16,72,21],[72,22,72,27],[73,1,73,15],[73,16,73,21],[73,22,73,27],[74,1,74,27],[75,1,75,7],[75,8,75,21],[78,21,78,27],[79,18,79,20],[79,21,79,27],[80,1,81,7],[80,16,80,20],[80,21,80,27],[81,16,81,20],[81,21,81,27],[75,22,75,27],[76,1,77,7],[76,8,81,15],[76,16,76,20],[76,21,76,27],[77,16,79,17],[77,18,77,20],[77,21,77,27],[78,1,79,7],[78,18,78,20],[82,0,91,0],[82,1,82,15],[82,16,82,21],[82,22,82,27],[83,1,83,15],[83,16,83,21],[83,22,83,27],[84,1,84,27],[85,1,85,7],[85,8,85,21],[88,21,88,27],[89,18,89,20],[89,21,89,27],[90,1,91,7],[90,16,90,20],[90,21,90,27],[91,16,91,20],[91,21,91,27],[85,22,85,27],[86,1,87,7],[86,8,91,15],[86,16,86,20],[86,21,86,27],[87,16,89,17],[87,18,87,20],[87,21,87,27],[88,1,89,7],[88,18,88,20],[92,0,101,0],[92,1,92,15],[92,16,92,21],[92,22,92,27],[93,1,93,15],[93,16,93,21],[93,22,93,27],[94,1,94,27],[95,1,95,7],[95,8,95,21],[98,21,98,27],[99,18,99,20],[99,21,99,27],[100,1,101,7],[100,16,100,20],[100,21,100,27],[101,16,101,20],[101,21,101,27],[95,22,95,27],[96,1,97,7],[96,8,101,15],[96,16,96,20],[96,21,96,27],[97,16,99,17],[97,18,97,20],[97,21,97,27],[98,1,99,7],[98,18,98,20],[102,0,111,0],[102,1,102,15],[102,16,102,21],[102,22,102,27],[103,1,103,15],[103,16,103,21],[103,22,103,27],[104,1,104,27],[105,1,105,7],[105,8,105,21],[108,21,108,27],[109,18,109,20],[109,21,109,27],[110,1,111,7],[110,16,110,20],[110,21,110,27],[111,16,111,20],[111,21,111,27],[105,22,105,27],[106,1,107,7],[106,8,111,15],[106,16,106,20],[106,21,106,27],[107,16,109,17],[107,18,107,20],[107,21,107,27],[108,1,109,7],[108,18,108,20],[112,7,112,20],[112,25,112,27],[114,0,114,27],[115,0,124,0],[115,1,115,15],[115,16,115,21],[115,22,115,27],[116,1,116,15],[116,16,116,21],[116,22,116,27],[117,1,117,27],[118,1,118,7],[118,8,118,21],[118,22,118,27],[119,1,120,7],[119,8,124,15],[119,16,119,20],[119,21,119,27],[120,16,122,17],[120,18,120,20],[125,0,134,0],[125,1,125,15],[125,16,125,21],[125,22,125,27],[126,1,126,15],[120,21,120,27],[121,1,122,7],[121,18,121,20],[121,21,121,27],[122,18,122,20],[122,21,122,27],[126,16,126,21],[126,22,126,27],[127,1,127,27],[128,1,128,7],[128,8,128,21],[128,22,128,27],[123,1,124,7],[123,16,123,20],[123,21,123,27],[124,16,124,20],[124,21,124,27],[132,18,132,20],[132,21,132,27],[133,1,134,7],[133,16,133,20],[133,21,133,27],[134,16,134,20],[134,21,134,27],[129,1,130,7],[129,8,134,15],[129,16,129,20],[129,21,129,27],[130,16,132,17],[130,18,130,20],[130,21,130,27],[131,1,132,7],[131,18,131,20],[131,21,131,27],[135,0,144,0],[135,1,135,15],[135,16,135,21],[135,22,135,27],[136,1,136,15],[136,16,136,21],[136,22,136,27],[137,1,137,27],[138,1,138,7],[138,8,138,21],[141,21,141,27],[142,18,142,20],[142,21,142,27],[143,1,144,7],[143,16,143,20],[143,21,143,27],[144,16,144,20],[144,21,144,27],[138,22,138,27],[139,1,140,7],[139,8,144,15],[139,16,139,20],[139,21,139,27],[140,16,142,17],[140,18,140,20],[140,21,140,27],[141,1,142,7],[141,18,141,20],[145,0,154,0],[145,1,145,15],[145,16,145,21],[145,22,145,27],[146,1,146,15],[146,16,146,21],[146,22,146,27],[147,1,147,27],[148,1,148,7],[148,8,148,21],[151,21,151,27],[152,18,152,20],[152,21,152,27],[153,1,154,7],[153,16,153,20],[153,21,153,27],[154,16,154,20],[154,21,154,27],[148,22,148,27],[149,1,150,7],[159,16,159,20],[159,21,159,27],[160,16,162,17],[160,18,160,20],[160,21,160,27],[161,1,162,7],[161,18,161,20],[149,8,154,15],[149,16,149,20],[149,21,149,27],[150,16,152,17],[150,18,150,20],[150,21,150,27],[151,1,152,7],[151,18,151,20],[158,22,158,27],[158,1,158,7],[158,8,158,21],[165,7,165,20],[165,25,165,27],[167,21,167,23],[167,26,167,27],[168,0,169,27],[172,2,172,26],[161,21,161,27],[162,18,162,20],[162,21,162,27],[163,1,164,7],[163,16,163,20],[163,21,163,27],[164,16,164,20],[164,21,164,27],[155,0,164,0],[155,1,155,15],[155,16,155,21],[155,22,155,27],[156,1,156,15],[156,16,156,21],[156,22,156,27],[157,1,157,27],[159,1,160,7],[159,8,164,15],[182,1,182,8],[182,9,182,19],[182,20,182,27],[183,1,183,8],[183,9,183,19],[183,20,183,27],[173,2,173,13],[175,2,175,26],[176,2,176,26],[178,3,178,8],[179,9,179,11],[179,12,179,26],[186,1,186,8],[186,9,186,19],[186,20,186,27],[187,1,187,8],[187,9,187,19],[187,20,187,27],[184,1,184,8],[184,9,184,19],[184,20,184,27],[185,1,185,8],[185,9,185,19],[185,20,185,27],[190,1,190,8],[190,9,190,19],[190,20,190,27],[191,1,191,8],[191,9,191,19],[191,20,191,27],[188,1,188,8],[188,9,188,19],[188,20,188,27],[189,1,189,8],[189,9,189,19],[189,20,189,27],[208,21,208,23],[208,26,208,27],[209,0,210,27],[212,1,212,3],[212,4,212,27],[214,10,214,17],[192,1,192,8],[192,9,192,19],[192,20,192,27],[203,12,203,25],[204,12,204,26],[206,7,206,20],[206,25,206,27],[223,10,223,17],[225,10,225,17],[225,18,225,25],[230,21,230,27],[232,21,232,27],[235,3,235,7],[235,8,235,21],[235,22,235,24],[216,10,216,17],[216,18,216,23],[217,10,217,17],[217,18,217,23],[219,10,219,17],[221,10,221,17],[240,12,240,20],[240,22,240,23],[241,3,243,7],[241,8,241,21],[241,22,241,23],[242,8,242,21],[242,22,242,23],[243,8,243,21],[243,22,243,23],[236,3,240,7],[236,8,236,21],[236,22,236,23],[237,8,237,21],[237,22,237,23],[238,8,238,21],[238,22,238,23],[239,8,239,21],[239,22,239,23],[240,8,240,11],[251,2,251,5],[251,6,251,26],[252,2,252,5],[252,6,252,26],[253,2,253,5],[253,6,253,26],[244,7,244,20],[244,25,244,27],[246,21,246,23],[246,26,246,27],[247,1,248,26],[250,2,250,5],[250,6,250,13],[250,14,250,17],[250,18,250,26],[258,14,258,26],[259,6,259,13],[259,14,259,26],[260,6,260,13],[260,14,260,26],[261,6,261,13],[261,14,261,26],[254,2,254,5],[254,6,254,26],[255,2,267,5],[255,6,255,13],[255,14,255,26],[256,6,256,13],[256,14,256,26],[257,6,257,13],[257,14,257,26],[258,6,258,13],[265,6,265,13],[265,14,265,26],[266,6,266,13],[266,14,266,26],[267,6,267,13],[267,14,267,26],[262,6,262,13],[262,14,262,26],[263,6,263,13],[263,14,263,26],[264,6,264,13],[264,14,264,26],[271,13,271,19],[271,20,271,26],[272,6,272,12],[272,13,272,19],[272,20,272,26],[273,7,273,20],[273,25,273,27],[268,2,268,5],[268,6,268,26],[269,2,272,5],[269,6,269,8],[269,9,269,16],[269,17,269,26],[270,6,270,8],[270,9,270,16],[270,17,270,26],[271,6,271,12]]}
[null,null,null,null,null,null,null,null,null,null,null,null,null,null,null,null,null,null,null,null,null,"団体№"]
[null,"1.  参 加 申 込 書"]
[]
[]
[null,null,{"$f":"初期入力!B8","v":"第52回マーチングバンド関東大会"}]
[null,"実　行　委　員　長　　殿"]
[]
[null,null,{"$f":"IF(ISERROR(CONCATENATE(選択肢!A117,選択肢!B117,選択肢!C117,選択肢!D117,選択肢!E117)),選択肢!$C$26,CONCATENATE(選択肢!A117,選択肢!B117,選択肢!C117,選択肢!D117,選択肢!E117))","v":"『Ⅱ．入力用』シートに不備があります"}]
[]
[null,null,"　並びに、「Ⅰ. 構成メンバー」は、当団体の所属者であることを認めます。"]
[]
[null,null,null,{"$f":"TODAY()","v":"2017-08-25"}]
[]
[null,null,"団体名",null,null,{"$f":"INDEX('@'!$1:$2,2,MATCH(C14,'@'!$1:$1,0))","v":""},null,null,null,null,null,null,null,null,null,null,null,null,null,null,null,null,"印"]
[null,null,"所属長",null,null,{"$f":"INDEX('@'!$1:$2,2,MATCH('@'!C1,'@'!$1:$1,0))","v":""},null,null,null,null,null,{"$f":"INDEX('@'!$1:$2,2,MATCH('@'!D1,'@'!$1:$1,0))","v":""}]
[]
[]
[]
[null,"■書類送付先（連絡先）"]
[null,null,"住所",null,null,null,null,"〒",{"$f":"INDEX('@'!$1:$2,2,MATCH('@'!E1,'@'!$1:$1,0))","v":""}]
[null,null,null,null,null,null,null,{"$f":"INDEX('@'!$1:$2,2,MATCH('@'!F1,'@'!$1:$1,0))","v":""}]
[null,null,"フリガナ",null,null,null,null,{"$f":"INDEX('@'!$1:$2,2,MATCH('@'!H1,'@'!$1:$1,0))","v":""}]
[null,null,"氏名",null,null,null,null,{"$f":"INDEX('@'!$1:$2,2,MATCH('@'!G1,'@'!$1:$1,0))","v":""}]
[null,null,"連絡先",null,null,null,null,"TEL",null,{"$f":"INDEX('@'!$1:$2,2,MATCH('@'!I1,'@'!$1:$1,0))","v":""},null,null,null,null,null,null,"FAX",null,{"$f":"INDEX('@'!$1:$2,2,MATCH('@'!J1,'@'!$1:$1,0))","v":""}]
[null,null,null,null,null,null,null,"携帯",null,{"$f":"INDEX('@'!$1:$2,2,MATCH('@'!K1,'@'!$1:$1,0))","v":""},null,null,null,null,null,null,"E-mail",null,{"$f":"INDEX('@'!$1:$2,2,MATCH('@'!L1,'@'!$1:$1,0))","v":""}]
[]
[]
[null,"■大会当日緊急連絡先",null,null,null,null,null,{"$f":"CONCATENATE(\"　【\",INDEX('@'!$1:$2,2,MATCH('@'!M1,'@'!$1:$1,0)),\"】\")","v":"　【】"}]
[null,null,"フリガナ",null,null,null,null,{"$f":"INDEX('@'!$1:$2,2,MATCH('@'!O1,'@'!$1:$1,0))","v":""},null,null,null,null,null,null,null,null,"携帯",null,{"$f":"INDEX('@'!$1:$2,2,MATCH('@'!P1,'@'!$1:$1,0))","v":""}]
[null,null,"氏名",null,null,null,null,{"$f":"INDEX('@'!$1:$2,2,MATCH('@'!N1,'@'!$1:$1,0))","v":""}]
[]
[]
[]
[null,"■参加内容"]
[null,null,"構成",null,null,null,null,{"$f":"INDEX('@'!$1:$2,2,MATCH(C35,'@'!$1:$1,0))","v":""}]
[null,null,"編成",null,null,null,null,{"$f":"INDEX('@'!$1:$2,2,MATCH(C36,'@'!$1:$1,0))","v":""}]
[null,null,"編成調査",null,null,null,null,"カラーガードの有無",null,null,null,null,null,{"$f":"INDEX('@'!$1:$2,2,MATCH(H37,'@'!$1:$1,0))","v":""}]
[null,null,null,null,null,null,null,"楽器編成",null,null,null,null,null,{"$f":"INDEX('@'!$1:$2,2,MATCH(H38,'@'!$1:$1,0))","v":""}]
[null,null,"構成メンバー数",null,null,null,null,{"$f":"INDEX('@'!$1:$2,2,MATCH(C39,'@'!$1:$1,0))&\" 名\"","v":"0 名"}]
[null,null,"登録引率者数",null,null,null,null,{"$f":"INDEX('@'!$1:$2,2,MATCH(C40,'@'!$1:$1,0))&\" 名\"","v":"0 名"}]
[null,null,"登録引率者名",null,null,null,null,{"$f":"INDEX('@'!$1:$2,2,MATCH('@'!V1,'@'!$1:$1,0))","v":""},null,null,null,null,null,null,null,null,{"$f":"INDEX('@'!$1:$2,2,MATCH('@'!W1,'@'!$1:$1,0))","v":""}]
[null,null,null,null,null,null,null,{"$f":"INDEX('@'!$1:$2,2,MATCH('@'!X1,'@'!$1:$1,0))","v":""},null,null,null,null,null,null,null,null,{"$f":"INDEX('@'!$1:$2,2,MATCH('@'!Y1,'@'!$1:$1,0))","v":""}]
[]
[]
[]
[null,"■参加費について　入金日・参加費金額"]
[null,null,"入金日",null,null,null,null,{"$f":"INDEX('@'!$1:$2,2,MATCH('@'!AA1,'@'!$1:$1,0))","v":""}]
[null,null,"団体参加費",null,null,null,null,{"$f":"TEXT(INDEX('@'!$1:$2,2,MATCH(C48,'@'!$1:$1,0)),\"#,### 円\")","v":"3,000 円"}]
[null,null,"個人参加費",null,null,null,null,{"$f":"INDEX('@'!$1:$2,2,MATCH(C39,'@'!$1:$1,0))","v":0},null,null,null,"名","×",{"$f":"TEXT(INDEX('@'!$1:$2,2,MATCH('@'!AC1,'@'!$1:$1,0)),\"#,###\")","v":""},null,null,null,"円","＝",{"$f":"TEXT(INDEX('@'!$1:$2,2,MATCH('@'!AD1,'@'!$1:$1,0)),\"#,###\")","v":""},null,null,null,null,"円"]
[null,null,{"$f":"IF(Ⅱ.入力用!AU264=0,\"\",\"駐車料金\")","v":""},null,null,null,null,{"$f":"CONCATENATE(選択肢!A120,選択肢!B120,選択肢!C120)","v":""}]
[null,null,"払込総額",null,null,null,null,{"$f":"INDEX('@'!$1:$2,2,MATCH(C51,'@'!$1:$1,0))","v":0},null,null,null,null,null,null,null,null,null,null,null,"円"]
[]
[null,null,null,null,null,null,null,{"$f":"初期入力!$B$8","v":"第52回マーチングバンド関東大会"},null,null,null,null,null,null,null,null,null,null,null,null,null,null,null,null,null,"提出書類1"]
[]
[]
[null,null,null,null,null,null,null,null,null,null,null,null,null,null,null,null,null,null,null,null,null,"団体№"]
["2. 音楽著作権使用許諾に関する確認書"]
[]
[]
["団体名",null,null,{"$f":"F14","v":""}]
[null,null,null,null,null,null,null,null,null,null,null,null,null,null,null,null,null,null,null,null,null,null,null,null,null,null,null,null,null,null,"【@参照　とばし行数】",null,"【最終表示】"]
[{"$f":"C5&\"で使用する楽曲について、下記のとおり報告いたします。\"","v":"第52回マーチングバンド関東大会で使用する楽曲について、下記のとおり報告いたします。"},null,null,null,null,null,null,null,null,null,null,null,null,null,null,null,null,null,null,null,null,null,null,null,null,null,null,null,null,null,13,"行とばし","Fin"]
[1,"使用楽曲名",null,null,null,null,null,null,null,null,null,null,null,null,null,null,"作曲者",null,null,null,null,null,"出版社"]
[null,{"$f":"OFFSET(INDEX('@'!$1:$2,2,MATCH('@'!$AG$1,'@'!$1:$1,0)),0,$AE$62*($A63-1),1,1)","v":""},null,null,null,null,null,null,null,null,null,null,null,null,null,null,{"$f":"OFFSET(INDEX('@'!$1:$2,2,MATCH('@'!$AH$1,'@'!$1:$1,0)),0,$AE$62*($A63-1),1,1)","v":""},null,null,null,null,null,{"$f":"OFFSET(INDEX('@'!$1:$2,2,MATCH('@'!$AI$1,'@'!$1:$1,0)),0,$AE$62*($A63-1),1,1)","v":""}]
[null,{"$f":"OFFSET(INDEX('@'!$1:$2,2,MATCH('@'!$AJ$1,'@'!$1:$1,0)),0,$AE$62*($A63-1),1,1)","v":""}]
[null,"◇使用許諾の無い場合",null,null,null,null,null,null,{"$f":"OFFSET(INDEX('@'!$1:$2,2,MATCH('@'!$AK$1,'@'!$1:$1,0)),0,$AE$62*($A63-1),1,1)","v":""},null,null,null,null,null,null,null,null,null,null,null,null,null,{"$f":"OFFSET(INDEX('@'!$1:$2,2,MATCH('@'!$AL$1,'@'!$1:$1,0)),0,$AE$62*($A63-1),1,1)","v":""}]
[null,null,null,null,null,null,null,null,{"$f":"OFFSET(INDEX('@'!$1:$2,2,MATCH('@'!$AM$1,'@'!$1:$1,0)),0,$AE$62*($A63-1),1,1)","v":""},null,null,null,null,null,null,null,"確認日",null,null,null,null,{"$f":"OFFSET(INDEX('@'!$1:$2,2,MATCH('@'!$AN$1,'@'!$1:$1,0)),0,$AE$62*($A63-1),1,1)","v":""}]
[null,null,null,null,null,null,null,null,null,null,null,null,null,null,null,null,"確認　相手先",null,"社名",null,null,{"$f":"OFFSET(INDEX('@'!$1:$2,2,MATCH('@'!$AO$1,'@'!$1:$1,0)),0,$AE$62*($A63-1),1,1)","v":""}]
[null,"◆編曲使用許諾の必要な場合",null,null,null,null,null,null,null,null,null,null,null,null,null,null,null,null,"担当者名",null,null,{"$f":"OFFSET(INDEX('@'!$1:$2,2,MATCH('@'!$AP$1,'@'!$1:$1,0)),0,$AE$62*($A63-1),1,1)","v":""}]
[null,null,null,null,null,null,null,null,null,null,null,null,null,null,null,null,null,null,"電話番号",null,null,{"$f":"OFFSET(INDEX('@'!$1:$2,2,MATCH('@'!$AQ$1,'@'!$1:$1,0)),0,$AE$62*($A63-1),1,1)","v":""}]
[null,{"$f":"IF(A63='@'!$AF$2,Ⅲ.事務局印刷用!$AG$62,\"\")","v":""},null,null,null,null,null,null,null,null,null,null,null,null,null,null," 出演団体担当者名",null,null,null,null,{"$f":"OFFSET(INDEX('@'!$1:$2,2,MATCH('@'!$AR$1,'@'!$1:$1,0)),0,$AE$62*($A63-1),1,1)","v":""}]
[null,null,null,null,null,null,null,null,null,null,null,null,null,null,null,null,"使用料",null,null,null,null,{"$f":"OFFSET(INDEX('@'!$1:$2,2,MATCH('@'!$AS$1,'@'!$1:$1,0)),0,$AE$62*($A63-1),1,1)","v":""}]
[{"$f":"A63+1","v":2},"使用楽曲名",null,null,null,null,null,null,null,null,null,null,null,null,null,null,"作曲者",null,null,null,null,null,"出版社"]
[null,{"$f":"OFFSET(INDEX('@'!$1:$2,2,MATCH('@'!$AG$1,'@'!$1:$1,0)),0,$AE$62*($A73-1),1,1)","v":""},null,null,null,null,null,null,null,null,null,null,null,null,null,null,{"$f":"OFFSET(INDEX('@'!$1:$2,2,MATCH('@'!$AH$1,'@'!$1:$1,0)),0,$AE$62*($A73-1),1,1)","v":""},null,null,null,null,null,{"$f":"OFFSET(INDEX('@'!$1:$2,2,MATCH('@'!$AI$1,'@'!$1:$1,0)),0,$AE$62*($A73-1),1,1)","v":""}]
[null,{"$f":"OFFSET(INDEX('@'!$1:$2,2,MATCH('@'!$AJ$1,'@'!$1:$1,0)),0,$AE$62*($A73-1),1,1)","v":""}]
[null,"◇使用許諾の無い場合",null,null,null,null,null,null,{"$f":"OFFSET(INDEX('@'!$1:$2,2,MATCH('@'!$AK$1,'@'!$1:$1,0)),0,$AE$62*($A73-1),1,1)","v":""},null,null,null,null,null,null,null,null,null,null,null,null,null,{"$f":"OFFSET(INDEX('@'!$1:$2,2,MATCH('@'!$AL$1,'@'!$1:$1,0)),0,$AE$62*($A73-1),1,1)","v":""}]
[null,null,null,null,null,null,null,null,{"$f":"OFFSET(INDEX('@'!$1:$2,2,MATCH('@'!$AM$1,'@'!$1:$1,0)),0,$AE$62*($A73-1),1,1)","v":""},null,null,null,null,null,null,null,"確認日",null,null,null,null,{"$f":"OFFSET(INDEX('@'!$1:$2,2,MATCH('@'!$AN$1,'@'!$1:$1,0)),0,$AE$62*($A73-1),1,1)","v":""}]
[null,null,null,null,null,null,null,null,null,null,null,null,null,null,null,null,"確認　相手先",null,"社名",null,null,{"$f":"OFFSET(INDEX('@'!$1:$2,2,MATCH('@'!$AO$1,'@'!$1:$1,0)),0,$AE$62*($A73-1),1,1)","v":""}]
[null,"◆編曲使用許諾の必要な場合",null,null,null,null,null,null,null,null,null,null,null,null,null,null,null,null,"担当者名",null,null,{"$f":"OFFSET(INDEX('@'!$1:$2,2,MATCH('@'!$AP$1,'@'!$1:$1,0)),0,$AE$62*($A73-1),1,1)","v":""}]
[null,null,null,null,null,null,null,null,null,null,null,null,null,null,null,null,null,null,"電話番号",null,null,{"$f":"OFFSET(INDEX('@'!$1:$2,2,MATCH('@'!$AQ$1,'@'!$1:$1,0)),0,$AE$62*($A73-1),1,1)","v":""}]
[null,{"$f":"IF(A73='@'!$AF$2,Ⅲ.事務局印刷用!$AG$62,\"\")","v":""},null,null,null,null,null,null,null,null,null,null,null,null,null,null," 出演団体担当者名",null,null,null,null,{"$f":"OFFSET(INDEX('@'!$1:$2,2,MATCH('@'!$AR$1,'@'!$1:$1,0)),0,$AE$62*($A73-1),1,1)","v":""}]
[null,null,null,null,null,null,null,null,null,null,null,null,null,null,null,null,"使用料",null,null,null,null,{"$f":"OFFSET(INDEX('@'!$1:$2,2,MATCH('@'!$AS$1,'@'!$1:$1,0)),0,$AE$62*($A73-1),1,1)","v":""}]
[{"$f":"A73+1","v":3},"使用楽曲名",null,null,null,null,null,null,null,null,null,null,null,null,null,null,"作曲者",null,null,null,null,null,"出版社"]
[null,{"$f":"OFFSET(INDEX('@'!$1:$2,2,MATCH('@'!$AG$1,'@'!$1:$1,0)),0,$AE$62*($A83-1),1,1)","v":""},null,null,null,null,null,null,null,null,null,null,null,null,null,null,{"$f":"OFFSET(INDEX('@'!$1:$2,2,MATCH('@'!$AH$1,'@'!$1:$1,0)),0,$AE$62*($A83-1),1,1)","v":""},null,null,null,null,null,{"$f":"OFFSET(INDEX('@'!$1:$2,2,MATCH('@'!$AI$1,'@'!$1:$1,0)),0,$AE$62*($A83-1),1,1)","v":""}]
[null,{"$f":"OFFSET(INDEX('@'!$1:$2,2,MATCH('@'!$AJ$1,'@'!$1:$1,0)),0,$AE$62*($A83-1),1,1)","v":""}]
[null,"◇使用許諾の無い場合",null,null,null,null,null,null,{"$f":"OFFSET(INDEX('@'!$1:$2,2,MATCH('@'!$AK$1,'@'!$1:$1,0)),0,$AE$62*($A83-1),1,1)","v":""},null,null,null,null,null,null,null,null,null,null,null,null,null,{"$f":"OFFSET(INDEX('@'!$1:$2,2,MATCH('@'!$AL$1,'@'!$1:$1,0)),0,$AE$62*($A83-1),1,1)","v":""}]
[null,null,null,null,null,null,null,null,{"$f":"OFFSET(INDEX('@'!$1:$2,2,MATCH('@'!$AM$1,'@'!$1:$1,0)),0,$AE$62*($A83-1),1,1)","v":""},null,null,null,null,null,null,null,"確認日",null,null,null,null,{"$f":"OFFSET(INDEX('@'!$1:$2,2,MATCH('@'!$AN$1,'@'!$1:$1,0)),0,$AE$62*($A83-1),1,1)","v":""}]
[null,null,null,null,null,null,null,null,null,null,null,null,null,null,null,null,"確認　相手先",null,"社名",null,null,{"$f":"OFFSET(INDEX('@'!$1:$2,2,MATCH('@'!$AO$1,'@'!$1:$1,0)),0,$AE$62*($A83-1),1,1)","v":""}]
[null,"◆編曲使用許諾の必要な場合",null,null,null,null,null,null,null,null,null,null,null,null,null,null,null,null,"担当者名",null,null,{"$f":"OFFSET(INDEX('@'!$1:$2,2,MATCH('@'!$AP$1,'@'!$1:$1,0)),0,$AE$62*($A83-1),1,1)","v":""}]
[null,null,null,null,null,null,null,null,null,null,null,null,null,null,null,null,null,null,"電話番号",null,null,{"$f":"OFFSET(INDEX('@'!$1:$2,2,MATCH('@'!$AQ$1,'@'!$1:$1,0)),0,$AE$62*($A83-1),1,1)","v":""}]
[null,{"$f":"IF(A83='@'!$AF$2,Ⅲ.事務局印刷用!$AG$62,\"\")","v":""},null,null,null,null,null,null,null,null,null,null,null,null,null,null," 出演団体担当者名",null,null,null,null,{"$f":"OFFSET(INDEX('@'!$1:$2,2,MATCH('@'!$AR$1,'@'!$1:$1,0)),0,$AE$62*($A83-1),1,1)","v":""}]
[null,null,null,null,null,null,null,null,null,null,null,null,null,null,null,null,"使用料",null,null,null,null,{"$f":"OFFSET(INDEX('@'!$1:$2,2,MATCH('@'!$AS$1,'@'!$1:$1,0)),0,$AE$62*($A83-1),1,1)","v":""}]
[{"$f":"A83+1","v":4},"使用楽曲名",null,null,null,null,null,null,null,null,null,null,null,null,null,null,"作曲者",null,null,null,null,null,"出版社"]
[null,{"$f":"OFFSET(INDEX('@'!$1:$2,2,MATCH('@'!$AG$1,'@'!$1:$1,0)),0,$AE$62*($A93-1),1,1)","v":""},null,null,null,null,null,null,null,null,null,null,null,null,null,null,{"$f":"OFFSET(INDEX('@'!$1:$2,2,MATCH('@'!$AH$1,'@'!$1:$1,0)),0,$AE$62*($A93-1),1,1)","v":""},null,null,null,null,null,{"$f":"OFFSET(INDEX('@'!$1:$2,2,MATCH('@'!$AI$1,'@'!$1:$1,0)),0,$AE$62*($A93-1),1,1)","v":""}]
[null,{"$f":"OFFSET(INDEX('@'!$1:$2,2,MATCH('@'!$AJ$1,'@'!$1:$1,0)),0,$AE$62*($A93-1),1,1)","v":""}]
[null,"◇使用許諾の無い場合",null,null,null,null,null,null,{"$f":"OFFSET(INDEX('@'!$1:$2,2,MATCH('@'!$AK$1,'@'!$1:$1,0)),0,$AE$62*($A93-1),1,1)","v":""},null,null,null,null,null,null,null,null,null,null,null,null,null,{"$f":"OFFSET(INDEX('@'!$1:$2,2,MATCH('@'!$AL$1,'@'!$1:$1,0)),0,$AE$62*($A93-1),1,1)","v":""}]
[null,null,null,null,null,null,null,null,{"$f":"OFFSET(INDEX('@'!$1:$2,2,MATCH('@'!$AM$1,'@'!$1:$1,0)),0,$AE$62*($A93-1),1,1)","v":""},null,null,null,null,null,null,null,"確認日",null,null,null,null,{"$f":"OFFSET(INDEX('@'!$1:$2,2,MATCH('@'!$AN$1,'@'!$1:$1,0)),0,$AE$62*($A93-1),1,1)","v":""}]
[null,null,null,null,null,null,null,null,null,null,null,null,null,null,null,null,"確認　相手先",null,"社名",null,null,{"$f":"OFFSET(INDEX('@'!$1:$2,2,MATCH('@'!$AO$1,'@'!$1:$1,0)),0,$AE$62*($A93-1),1,1)","v":""}]
[null,"◆編曲使用許諾の必要な場合",null,null,null,null,null,null,null,null,null,null,null,null,null,null,null,null,"担当者名",null,null,{"$f":"OFFSET(INDEX('@'!$1:$2,2,MATCH('@'!$AP$1,'@'!$1:$1,0)),0,$AE$62*($A93-1),1,1)","v":""}]
[null,null,null,null,null,null,null,null,null,null,null,null,null,null,null,null,null,null,"電話番号",null,null,{"$f":"OFFSET(INDEX('@'!$1:$2,2,MATCH('@'!$AQ$1,'@'!$1:$1,0)),0,$AE$62*($A93-1),1,1)","v":""}]
[null,{"$f":"IF(A93='@'!$AF$2,Ⅲ.事務局印刷用!$AG$62,\"\")","v":""},null,null,null,null,null,null,null,null,null,null,null,null,null,null," 出演団体担当者名",null,null,null,null,{"$f":"OFFSET(INDEX('@'!$1:$2,2,MATCH('@'!$AR$1,'@'!$1:$1,0)),0,$AE$62*($A93-1),1,1)","v":""}]
[null,null,null,null,null,null,null,null,null,null,null,null,null,null,null,null,"使用料",null,null,null,null,{"$f":"OFFSET(INDEX('@'!$1:$2,2,MATCH('@'!$AS$1,'@'!$1:$1,0)),0,$AE$62*($A93-1),1,1)","v":""}]
[{"$f":"A93+1","v":5},"使用楽曲名",null,null,null,null,null,null,null,null,null,null,null,null,null,null,"作曲者",null,null,null,null,null,"出版社"]
[null,{"$f":"OFFSET(INDEX('@'!$1:$2,2,MATCH('@'!$AG$1,'@'!$1:$1,0)),0,$AE$62*($A103-1),1,1)","v":""},null,null,null,null,null,null,null,null,null,null,null,null,null,null,{"$f":"OFFSET(INDEX('@'!$1:$2,2,MATCH('@'!$AH$1,'@'!$1:$1,0)),0,$AE$62*($A103-1),1,1)","v":""},null,null,null,null,null,{"$f":"OFFSET(INDEX('@'!$1:$2,2,MATCH('@'!$AI$1,'@'!$1:$1,0)),0,$AE$62*($A103-1),1,1)","v":""}]
[null,{"$f":"OFFSET(INDEX('@'!$1:$2,2,MATCH('@'!$AJ$1,'@'!$1:$1,0)),0,$AE$62*($A103-1),1,1)","v":""}]
[null,"◇使用許諾の無い場合",null,null,null,null,null,null,{"$f":"OFFSET(INDEX('@'!$1:$2,2,MATCH('@'!$AK$1,'@'!$1:$1,0)),0,$AE$62*($A103-1),1,1)","v":""},null,null,null,null,null,null,null,null,null,null,null,null,null,{"$f":"OFFSET(INDEX('@'!$1:$2,2,MATCH('@'!$AL$1,'@'!$1:$1,0)),0,$AE$62*($A103-1),1,1)","v":""}]
[null,null,null,null,null,null,null,null,{"$f":"OFFSET(INDEX('@'!$1:$2,2,MATCH('@'!$AM$1,'@'!$1:$1,0)),0,$AE$62*($A103-1),1,1)","v":""},null,null,null,null,null,null,null,"確認日",null,null,null,null,{"$f":"OFFSET(INDEX('@'!$1:$2,2,MATCH('@'!$AN$1,'@'!$1:$1,0)),0,$AE$62*($A103-1),1,1)","v":""}]
[null,null,null,null,null,null,null,null,null,null,null,null,null,null,null,null,"確認　相手先",null,"社名",null,null,{"$f":"OFFSET(INDEX('@'!$1:$2,2,MATCH('@'!$AO$1,'@'!$1:$1,0)),0,$AE$62*($A103-1),1,1)","v":""}]
[null,"◆編曲使用許諾の必要な場合",null,null,null,null,null,null,null,null,null,null,null,null,null,null,null,null,"担当者名",null,null,{"$f":"OFFSET(INDEX('@'!$1:$2,2,MATCH('@'!$AP$1,'@'!$1:$1,0)),0,$AE$62*($A103-1),1,1)","v":""}]
[null,null,null,null,null,null,null,null,null,null,null,null,null,null,null,null,null,null,"電話番号",null,null,{"$f":"OFFSET(INDEX('@'!$1:$2,2,MATCH('@'!$AQ$1,'@'!$1:$1,0)),0,$AE$62*($A103-1),1,1)","v":""}]
[null,{"$f":"IF(A103='@'!$AF$2,Ⅲ.事務局印刷用!$AG$62,\"\")","v":""},null,null,null,null,null,null,null,null,null,null,null,null,null,null," 出演団体担当者名",null,null,null,null,{"$f":"OFFSET(INDEX('@'!$1:$2,2,MATCH('@'!$AR$1,'@'!$1:$1,0)),0,$AE$62*($A103-1),1,1)","v":""}]
[null,null,null,null,null,null,null,null,null,null,null,null,null,null,null,null,"使用料",null,null,null,null,{"$f":"OFFSET(INDEX('@'!$1:$2,2,MATCH('@'!$AS$1,'@'!$1:$1,0)),0,$AE$62*($A103-1),1,1)","v":""}]
[null,null,null,null,null,null,null,{"$f":"初期入力!$B$8","v":"第52回マーチングバンド関東大会"},null,null,null,null,null,null,null,null,null,null,null,null,null,null,null,null,null,"提出書類2-1"]
[]
[{"$f":"$F$14&\"  -  2\"","v":"  -  2"}]
[{"$f":"A103+1","v":6},"使用楽曲名",null,null,null,null,null,null,null,null,null,null,null,null,null,null,"作曲者",null,null,null,null,null,"出版社"]
[null,{"$f":"OFFSET(INDEX('@'!$1:$2,2,MATCH('@'!$AG$1,'@'!$1:$1,0)),0,$AE$62*($A116-1),1,1)","v":""},null,null,null,null,null,null,null,null,null,null,null,null,null,null,{"$f":"OFFSET(INDEX('@'!$1:$2,2,MATCH('@'!$AH$1,'@'!$1:$1,0)),0,$AE$62*($A116-1),1,1)","v":""},null,null,null,null,null,{"$f":"OFFSET(INDEX('@'!$1:$2,2,MATCH('@'!$AI$1,'@'!$1:$1,0)),0,$AE$62*($A116-1),1,1)","v":""}]
[null,{"$f":"OFFSET(INDEX('@'!$1:$2,2,MATCH('@'!$AJ$1,'@'!$1:$1,0)),0,$AE$62*($A116-1),1,1)","v":""}]
[null,"◇使用許諾の無い場合",null,null,null,null,null,null,{"$f":"OFFSET(INDEX('@'!$1:$2,2,MATCH('@'!$AK$1,'@'!$1:$1,0)),0,$AE$62*($A116-1),1,1)","v":""},null,null,null,null,null,null,null,null,null,null,null,null,null,{"$f":"OFFSET(INDEX('@'!$1:$2,2,MATCH('@'!$AL$1,'@'!$1:$1,0)),0,$AE$62*($A116-1),1,1)","v":""}]
[null,null,null,null,null,null,null,null,{"$f":"OFFSET(INDEX('@'!$1:$2,2,MATCH('@'!$AM$1,'@'!$1:$1,0)),0,$AE$62*($A116-1),1,1)","v":""},null,null,null,null,null,null,null,"確認日",null,null,null,null,{"$f":"OFFSET(INDEX('@'!$1:$2,2,MATCH('@'!$AN$1,'@'!$1:$1,0)),0,$AE$62*($A116-1),1,1)","v":""}]
[null,null,null,null,null,null,null,null,null,null,null,null,null,null,null,null,"確認　相手先",null,"社名",null,null,{"$f":"OFFSET(INDEX('@'!$1:$2,2,MATCH('@'!$AO$1,'@'!$1:$1,0)),0,$AE$62*($A116-1),1,1)","v":""}]
[null,"◆編曲使用許諾の必要な場合",null,null,null,null,null,null,null,null,null,null,null,null,null,null,null,null,"担当者名",null,null,{"$f":"OFFSET(INDEX('@'!$1:$2,2,MATCH('@'!$AP$1,'@'!$1:$1,0)),0,$AE$62*($A116-1),1,1)","v":""}]
[null,null,null,null,null,null,null,null,null,null,null,null,null,null,null,null,null,null,"電話番号",null,null,{"$f":"OFFSET(INDEX('@'!$1:$2,2,MATCH('@'!$AQ$1,'@'!$1:$1,0)),0,$AE$62*($A116-1),1,1)","v":""}]
[null,{"$f":"IF(A116='@'!$AF$2,Ⅲ.事務局印刷用!$AG$62,\"\")","v":""},null,null,null,null,null,null,null,null,null,null,null,null,null,null," 出演団体担当者名",null,null,null,null,{"$f":"OFFSET(INDEX('@'!$1:$2,2,MATCH('@'!$AR$1,'@'!$1:$1,0)),0,$AE$62*($A116-1),1,1)","v":""}]
[null,null,null,null,null,null,null,null,null,null,null,null,null,null,null,null,"使用料",null,null,null,null,{"$f":"OFFSET(INDEX('@'!$1:$2,2,MATCH('@'!$AS$1,'@'!$1:$1,0)),0,$AE$62*($A116-1),1,1)","v":""}]
[{"$f":"A116+1","v":7},"使用楽曲名",null,null,null,null,null,null,null,null,null,null,null,null,null,null,"作曲者",null,null,null,null,null,"出版社"]
[null,{"$f":"OFFSET(INDEX('@'!$1:$2,2,MATCH('@'!$AG$1,'@'!$1:$1,0)),0,$AE$62*($A126-1),1,1)","v":""},null,null,null,null,null,null,null,null,null,null,null,null,null,null,{"$f":"OFFSET(INDEX('@'!$1:$2,2,MATCH('@'!$AH$1,'@'!$1:$1,0)),0,$AE$62*($A126-1),1,1)","v":""},null,null,null,null,null,{"$f":"OFFSET(INDEX('@'!$1:$2,2,MATCH('@'!$AI$1,'@'!$1:$1,0)),0,$AE$62*($A126-1),1,1)","v":""}]
[null,{"$f":"OFFSET(INDEX('@'!$1:$2,2,MATCH('@'!$AJ$1,'@'!$1:$1,0)),0,$AE$62*($A126-1),1,1)","v":""}]
[null,"◇使用許諾の無い場合",null,null,null,null,null,null,{"$f":"OFFSET(INDEX('@'!$1:$2,2,MATCH('@'!$AK$1,'@'!$1:$1,0)),0,$AE$62*($A126-1),1,1)","v":""},null,null,null,null,null,null,null,null,null,null,null,null,null,{"$f":"OFFSET(INDEX('@'!$1:$2,2,MATCH('@'!$AL$1,'@'!$1:$1,0)),0,$AE$62*($A126-1),1,1)","v":""}]
[null,null,null,null,null,null,null,null,{"$f":"OFFSET(INDEX('@'!$1:$2,2,MATCH('@'!$AM$1,'@'!$1:$1,0)),0,$AE$62*($A126-1),1,1)","v":""},null,null,null,null,null,null,null,"確認日",null,null,null,null,{"$f":"OFFSET(INDEX('@'!$1:$2,2,MATCH('@'!$AN$1,'@'!$1:$1,0)),0,$AE$62*($A126-1),1,1)","v":""}]
[null,null,null,null,null,null,null,null,null,null,null,null,null,null,null,null,"確認　相手先",null,"社名",null,null,{"$f":"OFFSET(INDEX('@'!$1:$2,2,MATCH('@'!$AO$1,'@'!$1:$1,0)),0,$AE$62*($A126-1),1,1)","v":""}]
[null,"◆編曲使用許諾の必要な場合",null,null,null,null,null,null,null,null,null,null,null,null,null,null,null,null,"担当者名",null,null,{"$f":"OFFSET(INDEX('@'!$1:$2,2,MATCH('@'!$AP$1,'@'!$1:$1,0)),0,$AE$62*($A126-1),1,1)","v":""}]
[null,null,null,null,null,null,null,null,null,null,null,null,null,null,null,null,null,null,"電話番号",null,null,{"$f":"OFFSET(INDEX('@'!$1:$2,2,MATCH('@'!$AQ$1,'@'!$1:$1,0)),0,$AE$62*($A126-1),1,1)","v":""}]
[null,{"$f":"IF(A126='@'!$AF$2,Ⅲ.事務局印刷用!$AG$62,\"\")","v":""},null,null,null,null,null,null,null,null,null,null,null,null,null,null," 出演団体担当者名",null,null,null,null,{"$f":"OFFSET(INDEX('@'!$1:$2,2,MATCH('@'!$AR$1,'@'!$1:$1,0)),0,$AE$62*($A126-1),1,1)","v":""}]
[null,null,null,null,null,null,null,null,null,null,null,null,null,null,null,null,"使用料",null,null,null,null,{"$f":"OFFSET(INDEX('@'!$1:$2,2,MATCH('@'!$AS$1,'@'!$1:$1,0)),0,$AE$62*($A126-1),1,1)","v":""}]
[{"$f":"A126+1","v":8},"使用楽曲名",null,null,null,null,null,null,null,null,null,null,null,null,null,null,"作曲者",null,null,null,null,null,"出版社"]
[null,{"$f":"OFFSET(INDEX('@'!$1:$2,2,MATCH('@'!$AG$1,'@'!$1:$1,0)),0,$AE$62*($A136-1),1,1)","v":""},null,null,null,null,null,null,null,null,null,null,null,null,null,null,{"$f":"OFFSET(INDEX('@'!$1:$2,2,MATCH('@'!$AH$1,'@'!$1:$1,0)),0,$AE$62*($A136-1),1,1)","v":""},null,null,null,null,null,{"$f":"OFFSET(INDEX('@'!$1:$2,2,MATCH('@'!$AI$1,'@'!$1:$1,0)),0,$AE$62*($A136-1),1,1)","v":""}]
[null,{"$f":"OFFSET(INDEX('@'!$1:$2,2,MATCH('@'!$AJ$1,'@'!$1:$1,0)),0,$AE$62*($A136-1),1,1)","v":""}]
[null,"◇使用許諾の無い場合",null,null,null,null,null,null,{"$f":"OFFSET(INDEX('@'!$1:$2,2,MATCH('@'!$AK$1,'@'!$1:$1,0)),0,$AE$62*($A136-1),1,1)","v":""},null,null,null,null,null,null,null,null,null,null,null,null,null,{"$f":"OFFSET(INDEX('@'!$1:$2,2,MATCH('@'!$AL$1,'@'!$1:$1,0)),0,$AE$62*($A136-1),1,1)","v":""}]
[null,null,null,null,null,null,null,null,{"$f":"OFFSET(INDEX('@'!$1:$2,2,MATCH('@'!$AM$1,'@'!$1:$1,0)),0,$AE$62*($A136-1),1,1)","v":""},null,null,null,null,null,null,null,"確認日",null,null,null,null,{"$f":"OFFSET(INDEX('@'!$1:$2,2,MATCH('@'!$AN$1,'@'!$1:$1,0)),0,$AE$62*($A136-1),1,1)","v":""}]
[null,null,null,null,null,null,null,null,null,null,null,null,null,null,null,null,"確認　相手先",null,"社名",null,null,{"$f":"OFFSET(INDEX('@'!$1:$2,2,MATCH('@'!$AO$1,'@'!$1:$1,0)),0,$AE$62*($A136-1),1,1)","v":""}]
[null,"◆編曲使用許諾の必要な場合",null,null,null,null,null,null,null,null,null,null,null,null,null,null,null,null,"担当者名",null,null,{"$f":"OFFSET(INDEX('@'!$1:$2,2,MATCH('@'!$AP$1,'@'!$1:$1,0)),0,$AE$62*($A136-1),1,1)","v":""}]
[null,null,null,null,null,null,null,null,null,null,null,null,null,null,null,null,null,null,"電話番号",null,null,{"$f":"OFFSET(INDEX('@'!$1:$2,2,MATCH('@'!$AQ$1,'@'!$1:$1,0)),0,$AE$62*($A136-1),1,1)","v":""}]
[null,{"$f":"IF(A136='@'!$AF$2,Ⅲ.事務局印刷用!$AG$62,\"\")","v":""},null,null,null,null,null,null,null,null,null,null,null,null,null,null," 出演団体担当者名",null,null,null,null,{"$f":"OFFSET(INDEX('@'!$1:$2,2,MATCH('@'!$AR$1,'@'!$1:$1,0)),0,$AE$62*($A136-1),1,1)","v":""}]
[null,null,null,null,null,null,null,null,null,null,null,null,null,null,null,null,"使用料",null,null,null,null,{"$f":"OFFSET(INDEX('@'!$1:$2,2,MATCH('@'!$AS$1,'@'!$1:$1,0)),0,$AE$62*($A136-1),1,1)","v":""}]
[{"$f":"A136+1","v":9},"使用楽曲名",null,null,null,null,null,null,null,null,null,null,null,null,null,null,"作曲者",null,null,null,null,null,"出版社"]
[null,{"$f":"OFFSET(INDEX('@'!$1:$2,2,MATCH('@'!$AG$1,'@'!$1:$1,0)),0,$AE$62*($A146-1),1,1)","v":""},null,null,null,null,null,null,null,null,null,null,null,null,null,null,{"$f":"OFFSET(INDEX('@'!$1:$2,2,MATCH('@'!$AH$1,'@'!$1:$1,0)),0,$AE$62*($A146-1),1,1)","v":""},null,null,null,null,null,{"$f":"OFFSET(INDEX('@'!$1:$2,2,MATCH('@'!$AI$1,'@'!$1:$1,0)),0,$AE$62*($A146-1),1,1)","v":""}]
[null,{"$f":"OFFSET(INDEX('@'!$1:$2,2,MATCH('@'!$AJ$1,'@'!$1:$1,0)),0,$AE$62*($A146-1),1,1)","v":""}]
[null,"◇使用許諾の無い場合",null,null,null,null,null,null,{"$f":"OFFSET(INDEX('@'!$1:$2,2,MATCH('@'!$AK$1,'@'!$1:$1,0)),0,$AE$62*($A146-1),1,1)","v":""},null,null,null,null,null,null,null,null,null,null,null,null,null,{"$f":"OFFSET(INDEX('@'!$1:$2,2,MATCH('@'!$AL$1,'@'!$1:$1,0)),0,$AE$62*($A146-1),1,1)","v":""}]
[null,null,null,null,null,null,null,null,{"$f":"OFFSET(INDEX('@'!$1:$2,2,MATCH('@'!$AM$1,'@'!$1:$1,0)),0,$AE$62*($A146-1),1,1)","v":""},null,null,null,null,null,null,null,"確認日",null,null,null,null,{"$f":"OFFSET(INDEX('@'!$1:$2,2,MATCH('@'!$AN$1,'@'!$1:$1,0)),0,$AE$62*($A146-1),1,1)","v":""}]
[null,null,null,null,null,null,null,null,null,null,null,null,null,null,null,null,"確認　相手先",null,"社名",null,null,{"$f":"OFFSET(INDEX('@'!$1:$2,2,MATCH('@'!$AO$1,'@'!$1:$1,0)),0,$AE$62*($A146-1),1,1)","v":""}]
[null,"◆編曲使用許諾の必要な場合",null,null,null,null,null,null,null,null,null,null,null,null,null,null,null,null,"担当者名",null,null,{"$f":"OFFSET(INDEX('@'!$1:$2,2,MATCH('@'!$AP$1,'@'!$1:$1,0)),0,$AE$62*($A146-1),1,1)","v":""}]
[null,null,null,null,null,null,null,null,null,null,null,null,null,null,null,null,null,null,"電話番号",null,null,{"$f":"OFFSET(INDEX('@'!$1:$2,2,MATCH('@'!$AQ$1,'@'!$1:$1,0)),0,$AE$62*($A146-1),1,1)","v":""}]
[null,{"$f":"IF(A146='@'!$AF$2,Ⅲ.事務局印刷用!$AG$62,\"\")","v":""},null,null,null,null,null,null,null,null,null,null,null,null,null,null," 出演団体担当者名",null,null,null,null,{"$f":"OFFSET(INDEX('@'!$1:$2,2,MATCH('@'!$AR$1,'@'!$1:$1,0)),0,$AE$62*($A146-1),1,1)","v":""}]
[null,null,null,null,null,null,null,null,null,null,null,null,null,null,null,null,"使用料",null,null,null,null,{"$f":"OFFSET(INDEX('@'!$1:$2,2,MATCH('@'!$AS$1,'@'!$1:$1,0)),0,$AE$62*($A146-1),1,1)","v":""}]
[{"$f":"A146+1","v":10},"使用楽曲名",null,null,null,null,null,null,null,null,null,null,null,null,null,null,"作曲者",null,null,null,null,null,"出版社"]
[null,{"$f":"OFFSET(INDEX('@'!$1:$2,2,MATCH('@'!$AG$1,'@'!$1:$1,0)),0,$AE$62*($A156-1),1,1)","v":""},null,null,null,null,null,null,null,null,null,null,null,null,null,null,{"$f":"OFFSET(INDEX('@'!$1:$2,2,MATCH('@'!$AH$1,'@'!$1:$1,0)),0,$AE$62*($A156-1),1,1)","v":""},null,null,null,null,null,{"$f":"OFFSET(INDEX('@'!$1:$2,2,MATCH('@'!$AI$1,'@'!$1:$1,0)),0,$AE$62*($A156-1),1,1)","v":""}]
[null,{"$f":"OFFSET(INDEX('@'!$1:$2,2,MATCH('@'!$AJ$1,'@'!$1:$1,0)),0,$AE$62*($A156-1),1,1)","v":""}]
[null,"◇使用許諾の無い場合",null,null,null,null,null,null,{"$f":"OFFSET(INDEX('@'!$1:$2,2,MATCH('@'!$AK$1,'@'!$1:$1,0)),0,$AE$62*($A156-1),1,1)","v":""},null,null,null,null,null,null,null,null,null,null,null,null,null,{"$f":"OFFSET(INDEX('@'!$1:$2,2,MATCH('@'!$AL$1,'@'!$1:$1,0)),0,$AE$62*($A156-1),1,1)","v":""}]
[null,null,null,null,null,null,null,null,{"$f":"OFFSET(INDEX('@'!$1:$2,2,MATCH('@'!$AM$1,'@'!$1:$1,0)),0,$AE$62*($A156-1),1,1)","v":""},null,null,null,null,null,null,null,"確認日",null,null,null,null,{"$f":"OFFSET(INDEX('@'!$1:$2,2,MATCH('@'!$AN$1,'@'!$1:$1,0)),0,$AE$62*($A156-1),1,1)","v":""}]
[null,null,null,null,null,null,null,null,null,null,null,null,null,null,null,null,"確認　相手先",null,"社名",null,null,{"$f":"OFFSET(INDEX('@'!$1:$2,2,MATCH('@'!$AO$1,'@'!$1:$1,0)),0,$AE$62*($A156-1),1,1)","v":""}]
[null,"◆編曲使用許諾の必要な場合",null,null,null,null,null,null,null,null,null,null,null,null,null,null,null,null,"担当者名",null,null,{"$f":"OFFSET(INDEX('@'!$1:$2,2,MATCH('@'!$AP$1,'@'!$1:$1,0)),0,$AE$62*($A156-1),1,1)","v":""}]
[null,null,null,null,null,null,null,null,null,null,null,null,null,null,null,null,null,null,"電話番号",null,null,{"$f":"OFFSET(INDEX('@'!$1:$2,2,MATCH('@'!$AQ$1,'@'!$1:$1,0)),0,$AE$62*($A156-1),1,1)","v":""}]
[null,{"$f":"IF(A156='@'!$AF$2,Ⅲ.事務局印刷用!$AG$62,\"\")","v":""},null,null,null,null,null,null,null,null,null,null,null,null,null,null," 出演団体担当者名",null,null,null,null,{"$f":"OFFSET(INDEX('@'!$1:$2,2,MATCH('@'!$AR$1,'@'!$1:$1,0)),0,$AE$62*($A156-1),1,1)","v":""}]
[null,null,null,null,null,null,null,null,null,null,null,null,null,null,null,null,"使用料",null,null,null,null,{"$f":"OFFSET(INDEX('@'!$1:$2,2,MATCH('@'!$AS$1,'@'!$1:$1,0)),0,$AE$62*($A156-1),1,1)","v":""}]
[null,null,null,null,null,null,null,{"$f":"初期入力!$B$8","v":"第52回マーチングバンド関東大会"},null,null,null,null,null,null,null,null,null,null,null,null,null,null,null,null,null,"提出書類2-2"]
[]
[null,null,null,null,null,null,null,null,null,null,null,null,null,null,null,null,null,null,null,null,null,"団体№"]
["3. 特殊効果使用申請書"]
[]
[]
[]
[null,null,{"$f":"C5","v":"第52回マーチングバンド関東大会"}]
[null,null,"実　行　委　員　長　　殿"]
[]
[null,null,{"$f":"\" 「\"&C5&\"」の基本実施要項に記されている通り、\"","v":" 「第52回マーチングバンド関東大会」の基本実施要項に記されている通り、"}]
[null,null,"下記の特殊効果について使用申請致します。"]
[]
[null,null,null,{"$f":"TODAY()","v":"2017-08-25"}]
[null,null,null,null,null,null,null,null,null,"団体名：",null,null,{"$f":"F14","v":""}]
[]
[]
[null,"使用項目",null,null,null,null,null,null,null,"使用方法",null,null,null,null,null,null,null,null,null,null,"注意点→大きさ（縦横高さ）"]
[null,{"$f":"IF(INDEX('@'!$1:$2,2,MATCH('@'!$FG$1,'@'!$1:$1,0))<>\"特殊効果を使用する\",\"使用なし\",INDEX('@'!$1:$2,2,MATCH('@'!$FH$1,'@'!$1:$1,0)))","v":"使用なし"},null,null,null,null,null,null,null,{"$f":"INDEX('@'!$1:$2,2,MATCH('@'!$FI$1,'@'!$1:$1,0))","v":""}]
[null,{"$f":"INDEX('@'!$1:$2,2,MATCH('@'!$FJ$1,'@'!$1:$1,0))","v":""},null,null,null,null,null,null,null,{"$f":"INDEX('@'!$1:$2,2,MATCH('@'!$FK$1,'@'!$1:$1,0))","v":""}]
[null,{"$f":"INDEX('@'!$1:$2,2,MATCH('@'!$FL$1,'@'!$1:$1,0))","v":""},null,null,null,null,null,null,null,{"$f":"INDEX('@'!$1:$2,2,MATCH('@'!$FM$1,'@'!$1:$1,0))","v":""}]
[null,{"$f":"INDEX('@'!$1:$2,2,MATCH('@'!$FN$1,'@'!$1:$1,0))","v":""},null,null,null,null,null,null,null,{"$f":"INDEX('@'!$1:$2,2,MATCH('@'!$FO$1,'@'!$1:$1,0))","v":""}]
[null,{"$f":"INDEX('@'!$1:$2,2,MATCH('@'!$FP$1,'@'!$1:$1,0))","v":""},null,null,null,null,null,null,null,{"$f":"INDEX('@'!$1:$2,2,MATCH('@'!$FQ$1,'@'!$1:$1,0))","v":""}]
[null,{"$f":"INDEX('@'!$1:$2,2,MATCH('@'!$FR$1,'@'!$1:$1,0))","v":""},null,null,null,null,null,null,null,{"$f":"INDEX('@'!$1:$2,2,MATCH('@'!$FS$1,'@'!$1:$1,0))","v":""}]
[null,{"$f":"INDEX('@'!$1:$2,2,MATCH('@'!$FT$1,'@'!$1:$1,0))","v":""},null,null,null,null,null,null,null,{"$f":"INDEX('@'!$1:$2,2,MATCH('@'!$FU$1,'@'!$1:$1,0))","v":""}]
[null,{"$f":"INDEX('@'!$1:$2,2,MATCH('@'!$FV$1,'@'!$1:$1,0))","v":""},null,null,null,null,null,null,null,{"$f":"INDEX('@'!$1:$2,2,MATCH('@'!$FW$1,'@'!$1:$1,0))","v":""}]
[null,{"$f":"INDEX('@'!$1:$2,2,MATCH('@'!$FX$1,'@'!$1:$1,0))","v":""},null,null,null,null,null,null,null,{"$f":"INDEX('@'!$1:$2,2,MATCH('@'!$FY$1,'@'!$1:$1,0))","v":""}]
[null,{"$f":"INDEX('@'!$1:$2,2,MATCH('@'!$FZ$1,'@'!$1:$1,0))","v":""},null,null,null,null,null,null,null,{"$f":"INDEX('@'!$1:$2,2,MATCH('@'!$GA$1,'@'!$1:$1,0))","v":""}]
[]
[]
[null,null,null,null,null,"※申請の必要な使用物"]
[null,null,null,null,null,null,"・フラッシュ・ストロボ・各種ライト類（ケミカル類含）等の光の効果を用いたもの"]
[null,null,null,null,null,null,"　（写真 並びに 使用物の製作図面や取扱説明書等の添付）"]
[]
[]
[]
[null,null,"上記の申請項目のうち、可能と認めた物に限り使用を許可致します。"]
[]
[null,null,null,null,null,null,null,null,null,null,null,null,{"$f":"C5","v":"第52回マーチングバンド関東大会"}]
[null,null,null,null,null,null,null,null,null,null,null,null,"実　行　委　員　長　　　印"]
[]
[null,null,null,null,null,null,null,{"$f":"初期入力!$B$8","v":"第52回マーチングバンド関東大会"},null,null,null,null,null,null,null,null,null,null,null,null,null,null,null,null,null,"提出書類3"]
[]
[null,null,null,null,null,null,null,null,null,null,null,null,null,null,null,null,null,null,null,null,null,"団体№"]
["4. アンケート"]
[]
[]
[null,"団体名",null,null,{"$f":"F14","v":""}]
[]
[null,null,"■補助スタッフ",null,null,null,null,null,null,null,{"$f":"IF(INDEX('@'!$1:$2,2,MATCH('@'!$GB$1,'@'!$1:$1,0))=0,\"不要\",INDEX('@'!$1:$2,2,MATCH('@'!$GB$1,'@'!$1:$1,0))&\" 名\")","v":"不要"}]
[]
[null,null,"■演奏演技計時",null,null,null,null,null,null,null,"合図はどなたが行いますか？",null,null,null,null,null,null,null,{"$f":"INDEX('@'!$1:$2,2,MATCH('@'!$GC$1,'@'!$1:$1,0))","v":""}]
[null,null,null,null,null,null,null,null,null,null,"合図場所",null,null,null,null,null,null,null,{"$f":"INDEX('@'!$1:$2,2,MATCH('@'!$GD$1,'@'!$1:$1,0))","v":""}]
[]
[null,null,"■プロップの使用",null,null,null,null,null,null,null,{"$f":"INDEX('@'!$1:$2,2,MATCH('@'!$GE$1,'@'!$1:$1,0))","v":""}]
[]
[null,null,"■チューニングルームの使用",null,null,null,null,null,null,null,{"$f":"INDEX('@'!$1:$2,2,MATCH('@'!$GF$1,'@'!$1:$1,0))","v":""}]
[]
[null,null,"■ピット楽器の使用",null,null,null,null,null,null,null,{"$f":"INDEX('@'!$1:$2,2,MATCH('@'!$GH$1,'@'!$1:$1,0))","v":""}]
[]
[null,null,"■参加団体用記録席",null,null,null,null,null,null,null,{"$f":"INDEX('@'!$1:$2,2,MATCH('@'!$GI$1,'@'!$1:$1,0))","v":""},null,null,null,null,null,null,null,{"$f":"INDEX('@'!$1:$2,2,MATCH('@'!$GJ$1,'@'!$1:$1,0))","v":""}]
[]
[null,null,"■写真およびDVD撮影販売・二次使用について"]
[null,null,null,{"$f":"C5&\"における当団体の演奏演技について\"","v":"第52回マーチングバンド関東大会における当団体の演奏演技について"}]
[null,null,null,null,"日本マーチングバンド協会関東支部指定の各社により、写真撮影、録画されることを"]
[null,null,null,null,null,null,null,null,null,null,null,null,null,null,null,null,null,null,null,null,null,{"$f":"INDEX('@'!$1:$2,2,MATCH('@'!$GK$1,'@'!$1:$1,0))","v":""}]
[null,null,null,null,"主催者指定の各社により撮影された写真、ＶＴＲを二次使用（放送等）されることを"]
[null,null,null,null,null,null,null,null,null,null,null,null,null,null,null,null,null,null,null,null,null,{"$f":"INDEX('@'!$1:$2,2,MATCH('@'!$GL$1,'@'!$1:$1,0))","v":""}]
[]
[null,null,"■通行証・配車証申込み"]
[null,null,null,null,null,null,null,null,"大きさ",null,null,null,null,null,null,null,null,null,null,null,null,null,"希望台数"]
[null,null,null,"トラック通行証",null,null,null,null,"2tトラック",null,null,null,null,null,null,null,null,null,null,null,null,null,{"$f":"IF(INDEX('@'!$1:$2,2,MATCH('@'!$GM$1,'@'!$1:$1,0))=\"\",0,INDEX('@'!$1:$2,2,MATCH('@'!$GM$1,'@'!$1:$1,0)))","v":0},null,"台"]
[null,null,null,null,null,null,null,null,"2tロングトラック",null,null,null,null,null,null,null,null,null,null,null,null,null,{"$f":"IF(INDEX('@'!$1:$2,2,MATCH('@'!$GN$1,'@'!$1:$1,0))=\"\",0,INDEX('@'!$1:$2,2,MATCH('@'!$GN$1,'@'!$1:$1,0)))","v":0},null,"台"]
[null,null,null,null,null,null,null,null,"4tトラック",null,null,null,null,null,null,null,null,null,null,null,null,null,{"$f":"IF(INDEX('@'!$1:$2,2,MATCH('@'!$GO$1,'@'!$1:$1,0))=\"\",0,INDEX('@'!$1:$2,2,MATCH('@'!$GO$1,'@'!$1:$1,0)))","v":0},null,"台"]
[null,null,null,null,null,null,null,null,"4tロングトラック",null,null,null,null,null,null,null,null,null,null,null,null,null,{"$f":"IF(INDEX('@'!$1:$2,2,MATCH('@'!$GP$1,'@'!$1:$1,0))=\"\",0,INDEX('@'!$1:$2,2,MATCH('@'!$GP$1,'@'!$1:$1,0)))","v":0},null,"台"]
[null,null,null,null,null,null,null,null,"その他（車種：",null,null,null,{"$f":"INDEX('@'!$1:$2,2,MATCH('@'!$GR$1,'@'!$1:$1,0))","v":""},null,null,null,null,null,null,null,null,"）",{"$f":"IF(INDEX('@'!$1:$2,2,MATCH('@'!$GQ$1,'@'!$1:$1,0))=\"\",0,INDEX('@'!$1:$2,2,MATCH('@'!$GQ$1,'@'!$1:$1,0)))","v":0},null,"台"]
[null,null,null,"バス配車証",null,null,null,null,"マイクロ（小型）バス（長さ7m以下）",null,null,null,null,null,null,null,null,null,null,null,null,null,{"$f":"IF(INDEX('@'!$1:$2,2,MATCH('@'!$GS$1,'@'!$1:$1,0))=\"\",0,INDEX('@'!$1:$2,2,MATCH('@'!$GS$1,'@'!$1:$1,0)))","v":0},null,"台"]
[null,null,null,null,null,null,null,null,"中型バス（長さ7～9m）",null,null,null,null,null,null,null,null,null,null,null,null,null,{"$f":"IF(INDEX('@'!$1:$2,2,MATCH('@'!$GT$1,'@'!$1:$1,0))=\"\",0,INDEX('@'!$1:$2,2,MATCH('@'!$GT$1,'@'!$1:$1,0)))","v":0},null,"台"]
[null,null,null,null,null,null,null,null,"大型バス（長さ9m以上）",null,null,null,null,null,null,null,null,null,null,null,null,null,{"$f":"IF(INDEX('@'!$1:$2,2,MATCH('@'!$GU$1,'@'!$1:$1,0))=\"\",0,INDEX('@'!$1:$2,2,MATCH('@'!$GU$1,'@'!$1:$1,0)))","v":0},null,"台"]
[null,null,null,null,null,null,null,{"$f":"初期入力!$B$8","v":"第52回マーチングバンド関東大会"},null,null,null,null,null,null,null,null,null,null,null,null,null,null,null,null,null,"提出書類4"]
[]
[null,null,null,null,null,null,null,null,null,null,null,null,null,null,null,null,null,null,null,null,null,"団体№"]
[null,"5. プログラム・ＭＣ用調査書"]
[]
[]
[null,null,"都県名",null,null,null,{"$f":"INDEX('@'!$1:$2,2,MATCH('@'!$A$1,'@'!$1:$1,0))","v":""}]
[null,null,"フリガナ",null,null,null,{"$f":"INDEX('@'!$1:$2,2,MATCH('@'!$HK$1,'@'!$1:$1,0))","v":""}]
[null,null,"団　　体　　名　　　　　　　　　",null,null,null,{"$f":"F14","v":""}]
[null,null,"フリガナ",null,null,null,{"$f":"INDEX('@'!$1:$2,2,MATCH('@'!$HL$1,'@'!$1:$1,0))","v":""}]
[null,null,"演目〈テーマ〉",null,null,null,{"$f":"INDEX('@'!$1:$2,2,MATCH('@'!$HM$1,'@'!$1:$1,0))","v":""}]
[null,null,"役職／\n氏名",null,null,null,"役職",null,null,null,null,null,null,null,"氏名"]
[null,null,null,null,null,null,{"$f":"INDEX('@'!$1:$2,2,MATCH('@'!$HN$1,'@'!$1:$1,0))","v":""},null,null,null,null,null,null,null,{"$f":"INDEX('@'!$1:$2,2,MATCH('@'!$HO$1,'@'!$1:$1,0))","v":""}]
[null,null,null,null,null,null,{"$f":"INDEX('@'!$1:$2,2,MATCH('@'!$HP$1,'@'!$1:$1,0))","v":""},null,null,null,null,null,null,null,{"$f":"INDEX('@'!$1:$2,2,MATCH('@'!$HQ$1,'@'!$1:$1,0))","v":""}]
[null,null,null,null,null,null,{"$f":"INDEX('@'!$1:$2,2,MATCH('@'!$HR$1,'@'!$1:$1,0))","v":""},null,null,null,null,null,null,null,{"$f":"INDEX('@'!$1:$2,2,MATCH('@'!$HS$1,'@'!$1:$1,0))","v":""}]
[null,null,null,null,null,null,{"$f":"INDEX('@'!$1:$2,2,MATCH('@'!$HT$1,'@'!$1:$1,0))","v":""},null,null,null,null,null,null,null,{"$f":"INDEX('@'!$1:$2,2,MATCH('@'!$HU$1,'@'!$1:$1,0))","v":""}]
[null,null,null,null,null,null,{"$f":"INDEX('@'!$1:$2,2,MATCH('@'!$HV$1,'@'!$1:$1,0))","v":""},null,null,null,null,null,null,null,{"$f":"INDEX('@'!$1:$2,2,MATCH('@'!$HW$1,'@'!$1:$1,0))","v":""}]
[null,null,null,null,null,null,{"$f":"INDEX('@'!$1:$2,2,MATCH('@'!$HX$1,'@'!$1:$1,0))","v":""},null,null,null,null,null,null,null,{"$f":"INDEX('@'!$1:$2,2,MATCH('@'!$HY$1,'@'!$1:$1,0))","v":""}]
[null,null,null,null,null,null,{"$f":"INDEX('@'!$1:$2,2,MATCH('@'!$HZ$1,'@'!$1:$1,0))","v":""},null,null,null,null,null,null,null,{"$f":"INDEX('@'!$1:$2,2,MATCH('@'!$IA$1,'@'!$1:$1,0))","v":""}]
[null,null,null,null,null,null,{"$f":"INDEX('@'!$1:$2,2,MATCH('@'!$IB$1,'@'!$1:$1,0))","v":""},null,null,null,null,null,null,null,{"$f":"INDEX('@'!$1:$2,2,MATCH('@'!$IC$1,'@'!$1:$1,0))","v":""}]
[null,null,null,null,null,null,{"$f":"INDEX('@'!$1:$2,2,MATCH('@'!$ID$1,'@'!$1:$1,0))","v":""},null,null,null,null,null,null,null,{"$f":"INDEX('@'!$1:$2,2,MATCH('@'!$IE$1,'@'!$1:$1,0))","v":""}]
[null,null,null,null,null,null,{"$f":"INDEX('@'!$1:$2,2,MATCH('@'!$IF$1,'@'!$1:$1,0))","v":""},null,null,null,null,null,null,null,{"$f":"INDEX('@'!$1:$2,2,MATCH('@'!$IG$1,'@'!$1:$1,0))","v":""}]
[null,null,null,null,null,null,{"$f":"INDEX('@'!$1:$2,2,MATCH('@'!$IH$1,'@'!$1:$1,0))","v":""},null,null,null,null,null,null,null,{"$f":"INDEX('@'!$1:$2,2,MATCH('@'!$II$1,'@'!$1:$1,0))","v":""}]
[null,null,null,null,null,null,{"$f":"INDEX('@'!$1:$2,2,MATCH('@'!$IJ$1,'@'!$1:$1,0))","v":""},null,null,null,null,null,null,null,{"$f":"INDEX('@'!$1:$2,2,MATCH('@'!$IK$1,'@'!$1:$1,0))","v":""}]
[null,null,"写真の提出方法",null,null,null,{"$f":"INDEX('@'!$1:$2,2,MATCH('@'!$IL$1,'@'!$1:$1,0))","v":""}]
[null,null,"プログラム　　　　　　　　　　　　　　　校正\n責任者\n連絡の\n取れる方",null,null,null,"フリガナ",null,null,{"$f":"INDEX('@'!$1:$2,2,MATCH('@'!$HF$1,'@'!$1:$1,0))","v":""},null,null,null,null,null,null,null,"Mail　（PC）"]
[null,null,null,null,null,null,"氏名",null,null,{"$f":"INDEX('@'!$1:$2,2,MATCH('@'!$HE$1,'@'!$1:$1,0))","v":""},null,null,null,null,null,null,null,{"$f":"INDEX('@'!$1:$2,2,MATCH('@'!$HJ$1,'@'!$1:$1,0))","v":""}]
[null,null,null,null,null,null,"Tel",null,null,null,null,null,null,"Fax",null,null,null,null,null,null,"携帯"]
[null,null,null,null,null,null,{"$f":"INDEX('@'!$1:$2,2,MATCH('@'!$HG$1,'@'!$1:$1,0))","v":""},null,null,null,null,null,null,{"$f":"INDEX('@'!$1:$2,2,MATCH('@'!$HH$1,'@'!$1:$1,0))","v":""},null,null,null,null,null,null,{"$f":"INDEX('@'!$1:$2,2,MATCH('@'!$HI$1,'@'!$1:$1,0))","v":""}]
[null,null,null,null,null,null,null,{"$f":"初期入力!$B$8","v":"第52回マーチングバンド関東大会"},null,null,null,null,null,null,null,null,null,null,null,null,null,null,null,null,null,"提出書類5"]

{"sheet":"Ⅲ.印刷用","index":7,"n_rows":53,"n_cols":26,"rows_kept":53,"cut":false,"hidden":false,"merged":[[24,18,24,24],[52,25,52,27],[52,7,52,20],[29,7,29,15],[28,18,28,24],[34,7,34,21],[35,7,35,21],[36,13,36,21],[37,13,37,21],[40,16,40,24],[36,7,36,12],[37,7,37,12],[40,7,40,15],[39,7,39,15],[0,26,0,27],[1,1,2,26],[5,1,5,13],[23,2,24,6],[23,7,23,8],[23,16,23,17],[24,7,24,8],[24,16,24,17],[19,2,20,6],[21,2,21,6],[22,2,22,6],[11,3,11,10],[13,2,13,4],[13,22,14,25],[14,2,14,4],[13,5,13,21],[39,2,39,6],[34,2,34,6],[35,2,35,6],[36,2,37,6],[0,21,0,23],[7,2,8,25],[14,5,14,10],[14,11,14,21],[9,2,9,25],[19,8,19,25],[20,7,20,25],[21,7,21,15],[22,7,22,15],[23,9,23,15],[24,9,24,15],[23,18,23,24],[28,2,28,6],[28,16,28,17],[29,2,29,6],[38,7,38,15],[28,7,28,15],[38,2,38,6],[50,2,50,6],[50,7,50,17],[46,2,46,6],[47,2,47,6],[41,16,41,24],[41,7,41,15],[49,2,49,6],[49,7,49,24],[40,2,41,6],[46,7,46,15],[47,7,47,15],[48,2,48,6],[48,7,48,10],[48,13,48,16],[48,19,48,23]]}
[null,null,null,null,null,null,null,null,null,null,null,null,null,null,null,null,null,null,null,null,null,"団体№"]
[null,"参 加 申 込 書"]
[]
[]
[null,null,{"$f":"初期入力!B8","v":"第52回マーチングバンド関東大会"}]
[null,"実　行　委　員　長　　殿"]
[]
[null,null,{"$f":"IF(ISERROR(CONCATENATE(選択肢!A117,選択肢!B117,選択肢!C117,選択肢!D117,選択肢!E117)),選択肢!$C$26,CONCATENATE(選択肢!A117,選択肢!B117,選択肢!C117,選択肢!D117,選択肢!E117))","v":"『Ⅱ．入力用』シートに不備があります"}]
[]
[null,null,"　並びに、「Ⅰ．構成メンバー」は、当団体の所属者であることを認めます。"]
[]
[null,null,null,{"$f":"TODAY()","v":"2017-08-25"}]
[]
[null,null,"団体名",null,null,{"$f":"INDEX('@'!$1:$2,2,MATCH(C14,'@'!$1:$1,0))","v":""},null,null,null,null,null,null,null,null,null,null,null,null,null,null,null,null,"印"]
[null,null,"所属長",null,null,{"$f":"INDEX('@'!$1:$2,2,MATCH('@'!C1,'@'!$1:$1,0))","v":""},null,null,null,null,null,{"$f":"INDEX('@'!$1:$2,2,MATCH('@'!D1,'@'!$1:$1,0))","v":""}]
[]
[]
[]
[null,"■書類送付先（連絡先）"]
[null,null,"住所",null,null,null,null,"〒",{"$f":"INDEX('@'!$1:$2,2,MATCH('@'!E1,'@'!$1:$1,0))","v":""}]
[null,null,null,null,null,null,null,{"$f":"INDEX('@'!$1:$2,2,MATCH('@'!F1,'@'!$1:$1,0))","v":""}]
[null,null,"フリガナ",null,null,null,null,{"$f":"INDEX('@'!$1:$2,2,MATCH('@'!H1,'@'!$1:$1,0))","v":""}]
[null,null,"氏名",null,null,null,null,{"$f":"INDEX('@'!$1:$2,2,MATCH('@'!G1,'@'!$1:$1,0))","v":""}]
[null,null,"連絡先",null,null,null,null,"TEL",null,{"$f":"INDEX('@'!$1:$2,2,MATCH('@'!I1,'@'!$1:$1,0))","v":""},null,null,null,null,null,null,"FAX",null,{"$f":"INDEX('@'!$1:$2,2,MATCH('@'!J1,'@'!$1:$1,0))","v":""}]
[null,null,null,null,null,null,null,"携帯",null,{"$f":"INDEX('@'!$1:$2,2,MATCH('@'!K1,'@'!$1:$1,0))","v":""},null,null,null,null,null,null,"E-mail",null,{"$f":"INDEX('@'!$1:$2,2,MATCH('@'!L1,'@'!$1:$1,0))","v":""}]
[]
[]
[null,"■大会当日緊急連絡先",null,null,null,null,null,{"$f":"CONCATENATE(\"　【\",INDEX('@'!$1:$2,2,MATCH('@'!M1,'@'!$1:$1,0)),\"】\")","v":"　【】"}]
[null,null,"フリガナ",null,null,null,null,{"$f":"INDEX('@'!$1:$2,2,MATCH('@'!O1,'@'!$1:$1,0))","v":""},null,null,null,null,null,null,null,null,"携帯",null,{"$f":"INDEX('@'!$1:$2,2,MATCH('@'!P1,'@'!$1:$1,0))","v":""}]
[null,null,"氏名",null,null,null,null,{"$f":"INDEX('@'!$1:$2,2,MATCH('@'!N1,'@'!$1:$1,0))","v":""}]
[]
[]
[]
[null,"■参加内容"]
[null,null,"構成",null,null,null,null,{"$f":"INDEX('@'!$1:$2,2,MATCH(C35,'@'!$1:$1,0))","v":""}]
[null,null,"編成",null,null,null,null,{"$f":"INDEX('@'!$1:$2,2,MATCH(C36,'@'!$1:$1,0))","v":""}]
[null,null,"編成調査",null,null,null,null,"カラーガードの有無",null,null,null,null,null,{"$f":"INDEX('@'!$1:$2,2,MATCH(H37,'@'!$1:$1,0))","v":""}]
[null,null,null,null,null,null,null,"楽器編成",null,null,null,null,null,{"$f":"INDEX('@'!$1:$2,2,MATCH(H38,'@'!$1:$1,0))","v":""}]
[null,null,"構成メンバー数",null,null,null,null,{"$f":"INDEX('@'!$1:$2,2,MATCH(C39,'@'!$1:$1,0))&\" 名\"","v":"0 名"}]
[null,null,"登録引率者数",null,null,null,null,{"$f":"INDEX('@'!$1:$2,2,MATCH(C40,'@'!$1:$1,0))&\" 名\"","v":"0 名"}]
[null,null,"登録引率者名",null,null,null,null,{"$f":"INDEX('@'!$1:$2,2,MATCH('@'!V1,'@'!$1:$1,0))","v":""},null,null,null,null,null,null,null,null,{"$f":"INDEX('@'!$1:$2,2,MATCH('@'!W1,'@'!$1:$1,0))","v":""}]
[null,null,null,null,null,null,null,{"$f":"INDEX('@'!$1:$2,2,MATCH('@'!X1,'@'!$1:$1,0))","v":""},null,null,null,null,null,null,null,null,{"$f":"INDEX('@'!$1:$2,2,MATCH('@'!Y1,'@'!$1:$1,0))","v":""}]
[]
[]
[]
[null,"■参加費について　入金日・参加費金額"]
[null,null,"入金日",null,null,null,null,{"$f":"INDEX('@'!$1:$2,2,MATCH('@'!AA1,'@'!$1:$1,0))","v":""}]
[null,null,"団体参加費",null,null,null,null,{"$f":"TEXT(INDEX('@'!$1:$2,2,MATCH(C48,'@'!$1:$1,0)),\"#,### 円\")","v":"3,000 円"}]
[null,null,"個人参加費",null,null,null,null,{"$f":"INDEX('@'!$1:$2,2,MATCH(C39,'@'!$1:$1,0))","v":0},null,null,null,"名","×",{"$f":"TEXT(INDEX('@'!$1:$2,2,MATCH('@'!AC1,'@'!$1:$1,0)),\"#,###\")","v":""},null,null,null,"円","＝",{"$f":"TEXT(INDEX('@'!$1:$2,2,MATCH('@'!AD1,'@'!$1:$1,0)),\"#,###\")","v":""},null,null,null,null,"円"]
[null,null,{"$f":"IF(Ⅱ.入力用!AU264=0,\"\",\"駐車料金\")","v":""},null,null,null,null,{"$f":"CONCATENATE(選択肢!A120,選択肢!B120,選択肢!C120)","v":""}]
[null,null,"払込総額",null,null,null,null,{"$f":"INDEX('@'!$1:$2,2,MATCH(C51,'@'!$1:$1,0))","v":0},null,null,null,null,null,null,null,null,null,null,null,"円"]
[]
[null,null,null,null,null,null,null,{"$f":"初期入力!$B$8","v":"第52回マーチングバンド関東大会"},null,null,null,null,null,null,null,null,null,null,null,null,null,null,null,null,null,"提出書類"]

{"sheet":"Ⅳ.提出書類一覧","index":8,"n_rows":39,"n_cols":29,"rows_kept":39,"cut":false,"hidden":false,"merged":[[19,2,19,16],[19,17,19,19],[19,20,19,26],[18,2,18,7],[18,8,18,16],[18,17,18,19],[18,20,18,26],[16,1,17,1],[16,2,17,7],[16,8,17,16],[16,17,17,19],[16,20,16,26],[17,20,17,26],[13,1,15,1],[13,2,15,7],[13,8,13,16],[13,17,15,19],[13,20,15,26],[14,8,14,16],[15,8,15,16],[1,5,2,22],[3,7,3,20],[4,9,4,17],[9,5,10,22],[12,1,12,16],[12,17,12,19],[12,20,12,26],[20,2,20,26],[21,1,38,1],[21,2,38,2],[21,3,28,7],[21,8,21,19],[21,20,28,26],[22,8,28,10],[22,11,28,13],[22,14,28,16],[22,17,28,19],[29,3,29,7],[29,8,29,10],[29,11,29,13],[29,14,29,16],[29,17,29,19],[29,20,29,26],[30,20,30,26],[31,3,31,7],[31,8,31,10],[31,11,31,13],[31,14,31,16],[31,17,31,19],[31,20,31,26],[30,3,30,7],[30,8,30,10],[30,11,30,13],[30,14,30,16],[30,17,30,19],[32,20,32,26],[33,3,33,7],[33,8,33,10],[33,11,33,13],[33,14,33,16],[33,17,33,19],[33,20,33,26],[32,3,32,7],[32,8,32,10],[32,11,32,13],[32,14,32,16],[32,17,32,19],[34,20,34,26],[35,3,35,7],[35,8,35,10],[35,11,35,13],[35,14,35,16],[35,17,35,19],[35,20,35,26],[34,3,34,7],[34,8,34,10],[34,11,34,13],[34,14,34,16],[34,17,34,19],[36,20,36,26],[37,3,37,7],[37,8,37,10],[37,11,37,13],[37,14,37,16],[37,17,37,19],[37,20,37,26],[36,3,36,7],[36,8,36,10],[36,11,36,13],[36,14,36,16],[36,17,36,19],[38,20,38,26],[38,3,38,7],[38,8,38,10],[38,11,38,13],[38,14,38,16],[38,17,38,19]]}
[]
[null,null,null,null,null,"【払込金額】"]
[]
[null,null,null,null,null,null,null,"※下記の金額を指定の口座に振込んでください。"]
[null,null,null,null,null,null,null,null,null,{"$f":"INDEX('@'!$1:$2,2,MATCH('@'!HC1,'@'!$1:$1,0))","v":0},null,null,null,null,null,null,null,null,"円"]
[]
[null,null,null,null,null,null,null,"振込先",null,null,"郵便振替口座　　00160-2-538965"]
[null,null,null,null,null,null,null,null,null,null,"日本マーチングバンド協会関東支部"]
[]
[null,null,null,null,null,"【提出する書類一覧】"]
[]
[null,"※○印の付いた書類を提出してください。"]
[null,null,null,null,null,null,null,null,null,null,null,null,null,null,null,null,null,"必要書類",null,null,"備　考"]
[null,1,"参加申込書データ\n　（このexcelファイル）",null,null,null,null,null,"メール添付",null,null,null,null,null,null,null,null,"○"]
[null,null,null,null,null,null,null,null,"もしくは"]
[null,null,null,null,null,null,null,null,"記録媒体（CD-R等）にて郵送"]
[null,2,"プログラム掲載用 写真",null,null,null,null,null,null,null,null,null,null,null,null,null,null,{"$f":"IF(Ⅱ.入力用!AV315=1,選択肢!A137,IF(Ⅱ.入力用!AU315=1,選択肢!$A$136,IF(OR(Ⅱ.入力用!AU315=2,Ⅱ.入力用!AU315=3),選択肢!$A$135,\"\")))","v":""},null,null,{"$f":"IF(Ⅱ.入力用!$AU$315>0,VLOOKUP(Ⅱ.入力用!$AU$315,選択肢!$A$129:$C$131,MATCH(選択肢!B$128,選択肢!$128:$128,0),FALSE),\"\")","v":""}]
[null,null,null,null,null,null,null,null,null,null,null,null,null,null,null,null,null,null,null,null,{"$f":"IF(Ⅱ.入力用!AV315=1,\"この提出方法は選択できません\",IF(Ⅱ.入力用!$AU$315>0,VLOOKUP(Ⅱ.入力用!$AU$315,選択肢!$A$129:$C$131,MATCH(選択肢!C$128,選択肢!$128:$128,0),FALSE),\"\"))","v":""}]
[null,3,"特殊効果 添付書類",null,null,null,null,null,"写真 並びに \n　　使用物の製作図面や取扱説明書等",null,null,null,null,null,null,null,null,{"$f":"IF(Ⅱ.入力用!AV184=1,選択肢!$A$135,IF(Ⅱ.入力用!AV184=2,選択肢!$A$136,\"\"))","v":""}]
[null,4,"演奏利用明細書",null,null,null,null,null,null,null,null,null,null,null,null,null,null,"○",null,null,"必ず提出"]
[null,5,"音楽著作権使用許諾に関する書類　（コピーはすべてA4片面で印刷）"]
[null,null,null,null,null,null,null,null,"必要書類",null,null,null,null,null,null,null,null,null,null,null,"\n備　考"]
[null,null,null,null,null,null,null,null,"スコア表紙のコピー",null,null,"（団体所有であることの証明）\n楽譜購入の領収書のコピー",null,null,"編曲使用許諾証明書のコピー",null,null,"　　　　（有料の場合のみ）\n許諾料領収書のコピー"]
[]
[]
[]
[]
[]
[null,null,null,null,null,null,null,null,null,null,null,null,null,null,null,null,null,null,null,null,null,null,null,null,null,null,null,null,{"$f":"'@'!AG4","v":10}]
[null,null,null,{"$f":"AC30&\" 曲目\"","v":"1 曲目"},null,null,null,null,{"$f":"IF(OFFSET(Ⅱ.入力用!$AT$81,$AC$29*(AC30-1),0,1,1)=0,選択肢!$A$134,IF(OFFSET(Ⅱ.入力用!$AT$81,$AC$29*(AC30-1),0,1,1)=1,選択肢!$A$135,IF(OFFSET(Ⅱ.入力用!$AT$81,$AC$29*(AC30-1),0,1,1)=2,選択肢!$A$136,\"\")))","v":"―"},null,null,{"$f":"IF(OFFSET(Ⅱ.入力用!$AT$81,$AC$29*(AC30-1),0,1,1)=0,選択肢!$A$134,IF(OFFSET(Ⅱ.入力用!$AT$81,$AC$29*(AC30-1),0,1,1)=1,選択肢!$A$135,IF(OFFSET(Ⅱ.入力用!$AT$81,$AC$29*(AC30-1),0,1,1)=2,選択肢!$A$136,\"\")))","v":"―"},null,null,{"$f":"IF(OFFSET(Ⅱ.入力用!$AT$82,$AC$29*(AC30-1),0,1,1)=0,選択肢!$A$134,IF(OFFSET(Ⅱ.入力用!$AT$82,$AC$29*(AC30-1),0,1,1)=1,選択肢!$A$135,IF(OFFSET(Ⅱ.入力用!$AT$82,$AC$29*(AC30-1),0,1,1)=2,選択肢!$A$136,\"\")))","v":"―"},null,null,{"$f":"IF(OFFSET(Ⅱ.入力用!$AT$83,$AC$29*(AC30-1),0,1,1)=0,選択肢!$A$134,IF(OFFSET(Ⅱ.入力用!$AT$83,$AC$29*(AC30-1),0,1,1)=1,選択肢!$A$135,IF(OFFSET(Ⅱ.入力用!$AT$83,$AC$29*(AC30-1),0,1,1)=2,選択肢!$A$136,\"\")))","v":"―"},null,null,{"$f":"IF(OFFSET(Ⅱ.入力用!$AV$74,$AC$29*(AC30-1),0,1,1)=0,\"\",IF(OFFSET(Ⅱ.入力用!$AU$76,$AC$29*(AC30-1),0,1,1)=2,IF(OFFSET(Ⅱ.入力用!$AT$78,$AC$29*(AC30-1),0,1,1)=2,選択肢!$A$140,IF(OFFSET(Ⅱ.入力用!$AT$78,$AC$29*(AC30-1),0,1,1)=3,選択肢!$A$141,\"\")),\"\"))","v":""},null,null,null,null,null,null,null,1]
[null,null,null,{"$f":"AC31&\" 曲目\"","v":"2 曲目"},null,null,null,null,{"$f":"IF(OFFSET(Ⅱ.入力用!$AT$81,$AC$29*(AC31-1),0,1,1)=0,選択肢!$A$134,IF(OFFSET(Ⅱ.入力用!$AT$81,$AC$29*(AC31-1),0,1,1)=1,選択肢!$A$135,IF(OFFSET(Ⅱ.入力用!$AT$81,$AC$29*(AC31-1),0,1,1)=2,選択肢!$A$136,\"\")))","v":"―"},null,null,{"$f":"IF(OFFSET(Ⅱ.入力用!$AT$81,$AC$29*(AC31-1),0,1,1)=0,選択肢!$A$134,IF(OFFSET(Ⅱ.入力用!$AT$81,$AC$29*(AC31-1),0,1,1)=1,選択肢!$A$135,IF(OFFSET(Ⅱ.入力用!$AT$81,$AC$29*(AC31-1),0,1,1)=2,選択肢!$A$136,\"\")))","v":"―"},null,null,{"$f":"IF(OFFSET(Ⅱ.入力用!$AT$82,$AC$29*(AC31-1),0,1,1)=0,選択肢!$A$134,IF(OFFSET(Ⅱ.入力用!$AT$82,$AC$29*(AC31-1),0,1,1)=1,選択肢!$A$135,IF(OFFSET(Ⅱ.入力用!$AT$82,$AC$29*(AC31-1),0,1,1)=2,選択肢!$A$136,\"\")))","v":"―"},null,null,{"$f":"IF(OFFSET(Ⅱ.入力用!$AT$83,$AC$29*(AC31-1),0,1,1)=0,選択肢!$A$134,IF(OFFSET(Ⅱ.入力用!$AT$83,$AC$29*(AC31-1),0,1,1)=1,選択肢!$A$135,IF(OFFSET(Ⅱ.入力用!$AT$83,$AC$29*(AC31-1),0,1,1)=2,選択肢!$A$136,\"\")))","v":"―"},null,null,{"$f":"IF(OFFSET(Ⅱ.入力用!$AV$74,$AC$29*(AC31-1),0,1,1)=0,\"\",IF(OFFSET(Ⅱ.入力用!$AU$76,$AC$29*(AC31-1),0,1,1)=2,IF(OFFSET(Ⅱ.入力用!$AT$78,$AC$29*(AC31-1),0,1,1)=2,選択肢!$A$140,IF(OFFSET(Ⅱ.入力用!$AT$78,$AC$29*(AC31-1),0,1,1)=3,選択肢!$A$141,\"\")),\"\"))","v":""},null,null,null,null,null,null,null,2]
[null,null,null,"3 曲目",null,null,null,null,{"$f":"IF(OFFSET(Ⅱ.入力用!$AT$81,$AC$29*(AC32-1),0,1,1)=0,選択肢!$A$134,IF(OFFSET(Ⅱ.入力用!$AT$81,$AC$29*(AC32-1),0,1,1)=1,選択肢!$A$135,IF(OFFSET(Ⅱ.入力用!$AT$81,$AC$29*(AC32-1),0,1,1)=2,選択肢!$A$136,\"\")))","v":"―"},null,null,{"$f":"IF(OFFSET(Ⅱ.入力用!$AT$81,$AC$29*(AC32-1),0,1,1)=0,選択肢!$A$134,IF(OFFSET(Ⅱ.入力用!$AT$81,$AC$29*(AC32-1),0,1,1)=1,選択肢!$A$135,IF(OFFSET(Ⅱ.入力用!$AT$81,$AC$29*(AC32-1),0,1,1)=2,選択肢!$A$136,\"\")))","v":"―"},null,null,{"$f":"IF(OFFSET(Ⅱ.入力用!$AT$82,$AC$29*(AC32-1),0,1,1)=0,選択肢!$A$134,IF(OFFSET(Ⅱ.入力用!$AT$82,$AC$29*(AC32-1),0,1,1)=1,選択肢!$A$135,IF(OFFSET(Ⅱ.入力用!$AT$82,$AC$29*(AC32-1),0,1,1)=2,選択肢!$A$136,\"\")))","v":"―"},null,null,{"$f":"IF(OFFSET(Ⅱ.入力用!$AT$83,$AC$29*(AC32-1),0,1,1)=0,選択肢!$A$134,IF(OFFSET(Ⅱ.入力用!$AT$83,$AC$29*(AC32-1),0,1,1)=1,選択肢!$A$135,IF(OFFSET(Ⅱ.入力用!$AT$83,$AC$29*(AC32-1),0,1,1)=2,選択肢!$A$136,\"\")))","v":"―"},null,null,{"$f":"IF(OFFSET(Ⅱ.入力用!$AV$74,$AC$29*(AC32-1),0,1,1)=0,\"\",IF(OFFSET(Ⅱ.入力用!$AU$76,$AC$29*(AC32-1),0,1,1)=2,IF(OFFSET(Ⅱ.入力用!$AT$78,$AC$29*(AC32-1),0,1,1)=2,選択肢!$A$140,IF(OFFSET(Ⅱ.入力用!$AT$78,$AC$29*(AC32-1),0,1,1)=3,選択肢!$A$141,\"\")),\"\"))","v":""},null,null,null,null,null,null,null,3]
[null,null,null,"4 曲目",null,null,null,null,{"$f":"IF(OFFSET(Ⅱ.入力用!$AT$81,$AC$29*(AC33-1),0,1,1)=0,選択肢!$A$134,IF(OFFSET(Ⅱ.入力用!$AT$81,$AC$29*(AC33-1),0,1,1)=1,選択肢!$A$135,IF(OFFSET(Ⅱ.入力用!$AT$81,$AC$29*(AC33-1),0,1,1)=2,選択肢!$A$136,\"\")))","v":"―"},null,null,{"$f":"IF(OFFSET(Ⅱ.入力用!$AT$81,$AC$29*(AC33-1),0,1,1)=0,選択肢!$A$134,IF(OFFSET(Ⅱ.入力用!$AT$81,$AC$29*(AC33-1),0,1,1)=1,選択肢!$A$135,IF(OFFSET(Ⅱ.入力用!$AT$81,$AC$29*(AC33-1),0,1,1)=2,選択肢!$A$136,\"\")))","v":"―"},null,null,{"$f":"IF(OFFSET(Ⅱ.入力用!$AT$82,$AC$29*(AC33-1),0,1,1)=0,選択肢!$A$134,IF(OFFSET(Ⅱ.入力用!$AT$82,$AC$29*(AC33-1),0,1,1)=1,選択肢!$A$135,IF(OFFSET(Ⅱ.入力用!$AT$82,$AC$29*(AC33-1),0,1,1)=2,選択肢!$A$136,\"\")))","v":"―"},null,null,{"$f":"IF(OFFSET(Ⅱ.入力用!$AT$83,$AC$29*(AC33-1),0,1,1)=0,選択肢!$A$134,IF(OFFSET(Ⅱ.入力用!$AT$83,$AC$29*(AC33-1),0,1,1)=1,選択肢!$A$135,IF(OFFSET(Ⅱ.入力用!$AT$83,$AC$29*(AC33-1),0,1,1)=2,選択肢!$A$136,\"\")))","v":"―"},null,null,{"$f":"IF(OFFSET(Ⅱ.入力用!$AV$74,$AC$29*(AC33-1),0,1,1)=0,\"\",IF(OFFSET(Ⅱ.入力用!$AU$76,$AC$29*(AC33-1),0,1,1)=2,IF(OFFSET(Ⅱ.入力用!$AT$78,$AC$29*(AC33-1),0,1,1)=2,選択肢!$A$140,IF(OFFSET(Ⅱ.入力用!$AT$78,$AC$29*(AC33-1),0,1,1)=3,選択肢!$A$141,\"\")),\"\"))","v":""},null,null,null,null,null,null,null,4]
[null,null,null,"5 曲目",null,null,null,null,{"$f":"IF(OFFSET(Ⅱ.入力用!$AT$81,$AC$29*(AC34-1),0,1,1)=0,選択肢!$A$134,IF(OFFSET(Ⅱ.入力用!$AT$81,$AC$29*(AC34-1),0,1,1)=1,選択肢!$A$135,IF(OFFSET(Ⅱ.入力用!$AT$81,$AC$29*(AC34-1),0,1,1)=2,選択肢!$A$136,\"\")))","v":"―"},null,null,{"$f":"IF(OFFSET(Ⅱ.入力用!$AT$81,$AC$29*(AC34-1),0,1,1)=0,選択肢!$A$134,IF(OFFSET(Ⅱ.入力用!$AT$81,$AC$29*(AC34-1),0,1,1)=1,選択肢!$A$135,IF(OFFSET(Ⅱ.入力用!$AT$81,$AC$29*(AC34-1),0,1,1)=2,選択肢!$A$136,\"\")))","v":"―"},null,null,{"$f":"IF(OFFSET(Ⅱ.入力用!$AT$82,$AC$29*(AC34-1),0,1,1)=0,選択肢!$A$134,IF(OFFSET(Ⅱ.入力用!$AT$82,$AC$29*(AC34-1),0,1,1)=1,選択肢!$A$135,IF(OFFSET(Ⅱ.入力用!$AT$82,$AC$29*(AC34-1),0,1,1)=2,選択肢!$A$136,\"\")))","v":"―"},null,null,{"$f":"IF(OFFSET(Ⅱ.入力用!$AT$83,$AC$29*(AC34-1),0,1,1)=0,選択肢!$A$134,IF(OFFSET(Ⅱ.入力用!$AT$83,$AC$29*(AC34-1),0,1,1)=1,選択肢!$A$135,IF(OFFSET(Ⅱ.入力用!$AT$83,$AC$29*(AC34-1),0,1,1)=2,選択肢!$A$136,\"\")))","v":"―"},null,null,{"$f":"IF(OFFSET(Ⅱ.入力用!$AV$74,$AC$29*(AC34-1),0,1,1)=0,\"\",IF(OFFSET(Ⅱ.入力用!$AU$76,$AC$29*(AC34-1),0,1,1)=2,IF(OFFSET(Ⅱ.入力用!$AT$78,$AC$29*(AC34-1),0,1,1)=2,選択肢!$A$140,IF(OFFSET(Ⅱ.入力用!$AT$78,$AC$29*(AC34-1),0,1,1)=3,選択肢!$A$141,\"\")),\"\"))","v":""},null,null,null,null,null,null,null,5]
[null,null,null,"6 曲目",null,null,null,null,{"$f":"IF(OFFSET(Ⅱ.入力用!$AT$81,$AC$29*(AC35-1),0,1,1)=0,選択肢!$A$134,IF(OFFSET(Ⅱ.入力用!$AT$81,$AC$29*(AC35-1),0,1,1)=1,選択肢!$A$135,IF(OFFSET(Ⅱ.入力用!$AT$81,$AC$29*(AC35-1),0,1,1)=2,選択肢!$A$136,\"\")))","v":"―"},null,null,{"$f":"IF(OFFSET(Ⅱ.入力用!$AT$81,$AC$29*(AC35-1),0,1,1)=0,選択肢!$A$134,IF(OFFSET(Ⅱ.入力用!$AT$81,$AC$29*(AC35-1),0,1,1)=1,選択肢!$A$135,IF(OFFSET(Ⅱ.入力用!$AT$81,$AC$29*(AC35-1),0,1,1)=2,選択肢!$A$136,\"\")))","v":"―"},null,null,{"$f":"IF(OFFSET(Ⅱ.入力用!$AT$82,$AC$29*(AC35-1),0,1,1)=0,選択肢!$A$134,IF(OFFSET(Ⅱ.入力用!$AT$82,$AC$29*(AC35-1),0,1,1)=1,選択肢!$A$135,IF(OFFSET(Ⅱ.入力用!$AT$82,$AC$29*(AC35-1),0,1,1)=2,選択肢!$A$136,\"\")))","v":"―"},null,null,{"$f":"IF(OFFSET(Ⅱ.入力用!$AT$83,$AC$29*(AC35-1),0,1,1)=0,選択肢!$A$134,IF(OFFSET(Ⅱ.入力用!$AT$83,$AC$29*(AC35-1),0,1,1)=1,選択肢!$A$135,IF(OFFSET(Ⅱ.入力用!$AT$83,$AC$29*(AC35-1),0,1,1)=2,選択肢!$A$136,\"\")))","v":"―"},null,null,{"$f":"IF(OFFSET(Ⅱ.入力用!$AV$74,$AC$29*(AC35-1),0,1,1)=0,\"\",IF(OFFSET(Ⅱ.入力用!$AU$76,$AC$29*(AC35-1),0,1,1)=2,IF(OFFSET(Ⅱ.入力用!$AT$78,$AC$29*(AC35-1),0,1,1)=2,選択肢!$A$140,IF(OFFSET(Ⅱ.入力用!$AT$78,$AC$29*(AC35-1),0,1,1)=3,選択肢!$A$141,\"\")),\"\"))","v":""},null,null,null,null,null,null,null,6]
[null,null,null,"7 曲目",null,null,null,null,{"$f":"IF(OFFSET(Ⅱ.入力用!$AT$81,$AC$29*(AC36-1),0,1,1)=0,選択肢!$A$134,IF(OFFSET(Ⅱ.入力用!$AT$81,$AC$29*(AC36-1),0,1,1)=1,選択肢!$A$135,IF(OFFSET(Ⅱ.入力用!$AT$81,$AC$29*(AC36-1),0,1,1)=2,選択肢!$A$136,\"\")))","v":"―"},null,null,{"$f":"IF(OFFSET(Ⅱ.入力用!$AT$81,$AC$29*(AC36-1),0,1,1)=0,選択肢!$A$134,IF(OFFSET(Ⅱ.入力用!$AT$81,$AC$29*(AC36-1),0,1,1)=1,選択肢!$A$135,IF(OFFSET(Ⅱ.入力用!$AT$81,$AC$29*(AC36-1),0,1,1)=2,選択肢!$A$136,\"\")))","v":"―"},null,null,{"$f":"IF(OFFSET(Ⅱ.入力用!$AT$82,$AC$29*(AC36-1),0,1,1)=0,選択肢!$A$134,IF(OFFSET(Ⅱ.入力用!$AT$82,$AC$29*(AC36-1),0,1,1)=1,選択肢!$A$135,IF(OFFSET(Ⅱ.入力用!$AT$82,$AC$29*(AC36-1),0,1,1)=2,選択肢!$A$136,\"\")))","v":"―"},null,null,{"$f":"IF(OFFSET(Ⅱ.入力用!$AT$83,$AC$29*(AC36-1),0,1,1)=0,選択肢!$A$134,IF(OFFSET(Ⅱ.入力用!$AT$83,$AC$29*(AC36-1),0,1,1)=1,選択肢!$A$135,IF(OFFSET(Ⅱ.入力用!$AT$83,$AC$29*(AC36-1),0,1,1)=2,選択肢!$A$136,\"\")))","v":"―"},null,null,{"$f":"IF(OFFSET(Ⅱ.入力用!$AV$74,$AC$29*(AC36-1),0,1,1)=0,\"\",IF(OFFSET(Ⅱ.入力用!$AU$76,$AC$29*(AC36-1),0,1,1)=2,IF(OFFSET(Ⅱ.入力用!$AT$78,$AC$29*(AC36-1),0,1,1)=2,選択肢!$A$140,IF(OFFSET(Ⅱ.入力用!$AT$78,$AC$29*(AC36-1),0,1,1)=3,選択肢!$A$141,\"\")),\"\"))","v":""},null,null,null,null,null,null,null,7]
[null,null,null,"8 曲目",null,null,null,null,{"$f":"IF(OFFSET(Ⅱ.入力用!$AT$81,$AC$29*(AC37-1),0,1,1)=0,選択肢!$A$134,IF(OFFSET(Ⅱ.入力用!$AT$81,$AC$29*(AC37-1),0,1,1)=1,選択肢!$A$135,IF(OFFSET(Ⅱ.入力用!$AT$81,$AC$29*(AC37-1),0,1,1)=2,選択肢!$A$136,\"\")))","v":"―"},null,null,{"$f":"IF(OFFSET(Ⅱ.入力用!$AT$81,$AC$29*(AC37-1),0,1,1)=0,選択肢!$A$134,IF(OFFSET(Ⅱ.入力用!$AT$81,$AC$29*(AC37-1),0,1,1)=1,選択肢!$A$135,IF(OFFSET(Ⅱ.入力用!$AT$81,$AC$29*(AC37-1),0,1,1)=2,選択肢!$A$136,\"\")))","v":"―"},null,null,{"$f":"IF(OFFSET(Ⅱ.入力用!$AT$82,$AC$29*(AC37-1),0,1,1)=0,選択肢!$A$134,IF(OFFSET(Ⅱ.入力用!$AT$82,$AC$29*(AC37-1),0,1,1)=1,選択肢!$A$135,IF(OFFSET(Ⅱ.入力用!$AT$82,$AC$29*(AC37-1),0,1,1)=2,選択肢!$A$136,\"\")))","v":"―"},null,null,{"$f":"IF(OFFSET(Ⅱ.入力用!$AT$83,$AC$29*(AC37-1),0,1,1)=0,選択肢!$A$134,IF(OFFSET(Ⅱ.入力用!$AT$83,$AC$29*(AC37-1),0,1,1)=1,選択肢!$A$135,IF(OFFSET(Ⅱ.入力用!$AT$83,$AC$29*(AC37-1),0,1,1)=2,選択肢!$A$136,\"\")))","v":"―"},null,null,{"$f":"IF(OFFSET(Ⅱ.入力用!$AV$74,$AC$29*(AC37-1),0,1,1)=0,\"\",IF(OFFSET(Ⅱ.入力用!$AU$76,$AC$29*(AC37-1),0,1,1)=2,IF(OFFSET(Ⅱ.入力用!$AT$78,$AC$29*(AC37-1),0,1,1)=2,選択肢!$A$140,IF(OFFSET(Ⅱ.入力用!$AT$78,$AC$29*(AC37-1),0,1,1)=3,選択肢!$A$141,\"\")),\"\"))","v":""},null,null,null,null,null,null,null,8]
[null,null,null,"9 曲目",null,null,null,null,{"$f":"IF(OFFSET(Ⅱ.入力用!$AT$81,$AC$29*(AC38-1),0,1,1)=0,選択肢!$A$134,IF(OFFSET(Ⅱ.入力用!$AT$81,$AC$29*(AC38-1),0,1,1)=1,選択肢!$A$135,IF(OFFSET(Ⅱ.入力用!$AT$81,$AC$29*(AC38-1),0,1,1)=2,選択肢!$A$136,\"\")))","v":"―"},null,null,{"$f":"IF(OFFSET(Ⅱ.入力用!$AT$81,$AC$29*(AC38-1),0,1,1)=0,選択肢!$A$134,IF(OFFSET(Ⅱ.入力用!$AT$81,$AC$29*(AC38-1),0,1,1)=1,選択肢!$A$135,IF(OFFSET(Ⅱ.入力用!$AT$81,$AC$29*(AC38-1),0,1,1)=2,選択肢!$A$136,\"\")))","v":"―"},null,null,{"$f":"IF(OFFSET(Ⅱ.入力用!$AT$82,$AC$29*(AC38-1),0,1,1)=0,選択肢!$A$134,IF(OFFSET(Ⅱ.入力用!$AT$82,$AC$29*(AC38-1),0,1,1)=1,選択肢!$A$135,IF(OFFSET(Ⅱ.入力用!$AT$82,$AC$29*(AC38-1),0,1,1)=2,選択肢!$A$136,\"\")))","v":"―"},null,null,{"$f":"IF(OFFSET(Ⅱ.入力用!$AT$83,$AC$29*(AC38-1),0,1,1)=0,選択肢!$A$134,IF(OFFSET(Ⅱ.入力用!$AT$83,$AC$29*(AC38-1),0,1,1)=1,選択肢!$A$135,IF(OFFSET(Ⅱ.入力用!$AT$83,$AC$29*(AC38-1),0,1,1)=2,選択肢!$A$136,\"\")))","v":"―"},null,null,{"$f":"IF(OFFSET(Ⅱ.入力用!$AV$74,$AC$29*(AC38-1),0,1,1)=0,\"\",IF(OFFSET(Ⅱ.入力用!$AU$76,$AC$29*(AC38-1),0,1,1)=2,IF(OFFSET(Ⅱ.入力用!$AT$78,$AC$29*(AC38-1),0,1,1)=2,選択肢!$A$140,IF(OFFSET(Ⅱ.入力用!$AT$78,$AC$29*(AC38-1),0,1,1)=3,選択肢!$A$141,\"\")),\"\"))","v":""},null,null,null,null,null,null,null,9]
[null,null,null,"10 曲目",null,null,null,null,{"$f":"IF(OFFSET(Ⅱ.入力用!$AT$81,$AC$29*(AC39-1),0,1,1)=0,選択肢!$A$134,IF(OFFSET(Ⅱ.入力用!$AT$81,$AC$29*(AC39-1),0,1,1)=1,選択肢!$A$135,IF(OFFSET(Ⅱ.入力用!$AT$81,$AC$29*(AC39-1),0,1,1)=2,選択肢!$A$136,\"\")))","v":"―"},null,null,{"$f":"IF(OFFSET(Ⅱ.入力用!$AT$81,$AC$29*(AC39-1),0,1,1)=0,選択肢!$A$134,IF(OFFSET(Ⅱ.入力用!$AT$81,$AC$29*(AC39-1),0,1,1)=1,選択肢!$A$135,IF(OFFSET(Ⅱ.入力用!$AT$81,$AC$29*(AC39-1),0,1,1)=2,選択肢!$A$136,\"\")))","v":"―"},null,null,{"$f":"IF(OFFSET(Ⅱ.入力用!$AT$82,$AC$29*(AC39-1),0,1,1)=0,選択肢!$A$134,IF(OFFSET(Ⅱ.入力用!$AT$82,$AC$29*(AC39-1),0,1,1)=1,選択肢!$A$135,IF(OFFSET(Ⅱ.入力用!$AT$82,$AC$29*(AC39-1),0,1,1)=2,選択肢!$A$136,\"\")))","v":"―"},null,null,{"$f":"IF(OFFSET(Ⅱ.入力用!$AT$83,$AC$29*(AC39-1),0,1,1)=0,選択肢!$A$134,IF(OFFSET(Ⅱ.入力用!$AT$83,$AC$29*(AC39-1),0,1,1)=1,選択肢!$A$135,IF(OFFSET(Ⅱ.入力用!$AT$83,$AC$29*(AC39-1),0,1,1)=2,選択肢!$A$136,\"\")))","v":"―"},null,null,{"$f":"IF(OFFSET(Ⅱ.入力用!$AV$74,$AC$29*(AC39-1),0,1,1)=0,\"\",IF(OFFSET(Ⅱ.入力用!$AU$76,$AC$29*(AC39-1),0,1,1)=2,IF(OFFSET(Ⅱ.入力用!$AT$78,$AC$29*(AC39-1),0,1,1)=2,選択肢!$A$140,IF(OFFSET(Ⅱ.入力用!$AT$78,$AC$29*(AC39-1),0,1,1)=3,選択肢!$A$141,\"\")),\"\"))","v":""},null,null,null,null,null,null,null,10]

{"sheet":"著作権参考","index":9,"n_rows":0,"n_cols":0,"rows_kept":0,"cut":false,"hidden":true,"merged":[]}

{"sheet":"初期化","index":10,"n_rows":1295,"n_cols":37,"rows_kept":1295,"cut":false,"hidden":true,"merged":[[1291,5,1291,11],[1292,5,1292,11],[1293,5,1293,11],[1294,5,1294,18],[9,0,9,4],[1285,5,1285,11],[1286,5,1286,11],[1287,5,1287,11],[1288,5,1288,11],[1289,5,1289,11],[1290,5,1290,11],[1279,5,1279,11],[1280,5,1280,11],[1281,5,1281,11],[1282,5,1282,11],[1283,5,1283,11],[1284,5,1284,11],[1273,5,1273,11],[1274,5,1274,11],[1275,5,1275,11],[1276,5,1276,11],[1277,5,1277,11],[1278,5,1278,11],[1267,5,1267,29],[1268,5,1268,21],[1269,5,1269,21],[1270,5,1270,11],[1271,5,1271,11],[1272,5,1272,11],[1261,5,1261,11],[1262,5,1262,11],[1263,5,1263,11],[1264,5,1264,11],[1265,5,1265,11],[1266,5,1266,11],[1255,5,1255,6],[1256,5,1256,11],[1257,5,1257,6],[1258,5,1258,6],[1259,5,1259,6],[1260,5,1260,11],[1249,5,1249,12],[1250,5,1250,12],[1251,5,1251,6],[1252,5,1252,6],[1253,5,1253,6],[1254,5,1254,6],[1241,5,1241,11],[1242,5,1242,11],[1243,5,1243,11],[1244,5,1244,11],[1245,5,1246,10],[1247,5,1248,10],[1235,5,1235,15],[1236,5,1236,19],[1237,5,1237,15],[1238,5,1238,19],[1239,5,1239,11],[1240,5,1240,11],[1229,5,1229,15],[1230,5,1230,19],[1231,5,1231,15],[1232,5,1232,19],[1233,5,1233,15],[1234,5,1234,19],[1223,5,1223,15],[1224,5,1224,19],[1225,5,1225,15],[1226,5,1226,19],[1227,5,1227,15],[1228,5,1228,19],[1217,5,1217,12],[1218,5,1218,16],[1219,5,1219,15],[1220,5,1220,19],[1221,5,1221,15],[1222,5,1222,19],[1206,5,1211,14],[1212,5,1212,12],[1213,5,1213,12],[1214,5,1214,12],[1215,5,1215,12],[1216,5,1216,12],[1200,5,1200,20],[1201,5,1201,11],[1202,5,1202,11],[1203,5,1203,14],[1204,5,1204,14],[1205,5,1205,17],[1194,5,1194,12],[1195,5,1195,12],[1196,5,1196,12],[1197,5,1197,12],[1198,5,1198,12],[1199,5,1199,12],[1183,5,1183,11],[1184,5,1184,11],[1185,5,1185,14],[1186,5,1186,14],[1187,5,1187,17],[1188,5,1193,14],[1177,5,1177,12],[1178,5,1178,12],[1179,5,1179,12],[1180,5,1180,12],[1181,5,1181,12],[1182,5,1182,20],[1166,5,1166,11],[1167,5,1167,14],[1168,5,1168,14],[1169,5,1169,17],[1170,5,1175,14],[1176,5,1176,12],[1160,5,1160,12],[1161,5,1161,12],[1162,5,1162,12],[1163,5,1163,12],[1164,5,1164,20],[1165,5,1165,11],[1149,5,1149,14],[1150,5,1150,14],[1151,5,1151,17],[1152,5,1157,14],[1158,5,1158,12],[1159,5,1159,12],[1143,5,1143,12],[1144,5,1144,12],[1145,5,1145,12],[1146,5,1146,20],[1147,5,1147,11],[1148,5,1148,11],[1132,5,1132,14],[1133,5,1133,17],[1134,5,1139,14],[1140,5,1140,12],[1141,5,1141,12],[1142,5,1142,12],[1126,5,1126,12],[1127,5,1127,12],[1128,5,1128,20],[1129,5,1129,11],[1130,5,1130,11],[1131,5,1131,14],[1115,5,1115,17],[1116,5,1121,14],[1122,5,1122,12],[1123,5,1123,12],[1124,5,1124,12],[1125,5,1125,12],[1109,5,1109,12],[1110,5,1110,20],[1111,5,1111,11],[1112,5,1112,11],[1113,5,1113,14],[1114,5,1114,14],[1098,5,1103,14],[1104,5,1104,12],[1105,5,1105,12],[1106,5,1106,12],[1107,5,1107,12],[1108,5,1108,12],[1092,5,1092,20],[1093,5,1093,11],[1094,5,1094,11],[1095,5,1095,14],[1096,5,1096,14],[1097,5,1097,17],[1086,5,1086,12],[1087,5,1087,12],[1088,5,1088,12],[1089,5,1089,12],[1090,5,1090,12],[1091,5,1091,12],[1075,5,1075,11],[1076,5,1076,11],[1077,5,1077,14],[1078,5,1078,14],[1079,5,1079,17],[1080,5,1085,14],[1069,5,1069,12],[1070,5,1070,12],[1071,5,1071,12],[1072,5,1072,12],[1073,5,1073,12],[1074,5,1074,20],[1058,5,1058,11],[1059,5,1059,14],[1060,5,1060,14],[1061,5,1061,17],[1062,5,1067,14],[1068,5,1068,12],[1052,5,1052,12],[1053,5,1053,12],[1054,5,1054,12],[1055,5,1055,12],[1056,5,1056,20],[1057,5,1057,11],[1041,5,1041,14],[1042,5,1042,14],[1043,5,1043,17],[1044,5,1049,14],[1050,5,1050,12],[1051,5,1051,12],[1038,5,1038,20],[1036,5,1036,11],[1037,5,1037,16],[1039,5,1039,11],[1040,5,1040,11],[1030,5,1030,11],[1031,5,1031,11],[1032,5,1032,11],[1033,5,1033,11],[1034,5,1034,11],[1035,5,1035,11],[1026,5,1026,11],[1027,5,1027,11],[1028,5,1028,11],[1029,5,1029,11],[1018,5,1018,11],[1019,5,1019,11],[1020,5,1020,11],[1021,5,1021,11],[1022,5,1022,11],[1023,5,1023,23],[1012,5,1012,10],[1013,5,1013,30],[1014,5,1014,9],[1015,5,1015,13],[1016,5,1016,11],[1017,5,1017,23],[11,5,11,7],[1024,5,1024,11],[1025,5,1025,11]]}
["■マクロ参照表"]
[null,"【参照行】"]
[null,null,"開始行","終了行"]
[null,"全消去",{"$f":"MATCH(0,INDEX(0/($AH:$AH<>\"\"),),0)+1","v":12},{"$f":"C4+COUNTA($AI:$AI)-2","v":1295}]
[null,{"$f":"SUBSTITUTE(LEFT(RIGHT(CELL(\"address\",Ⅰ.構成メンバー名簿!A1),LEN(CELL(\"address\",Ⅰ.構成メンバー名簿!A1))-FIND(\"]\",CELL(\"address\",Ⅰ.構成メンバー名簿!A1))),FIND(\"!\",RIGHT(CELL(\"address\",Ⅰ.構成メンバー名簿!A1),LEN(CELL(\"address\",Ⅰ.構成メンバー名簿!A1))-FIND(\"]\",CELL(\"address\",Ⅰ.構成メンバー名簿!A1))))-1),\"'\",\"\")","v":"Ⅰ.構成メンバー名簿"},{"$f":"MATCH(B5,$AH:$AH,0)","v":12},{"$f":"C5+COUNTIF($AH:$AH,B5)-1","v":1012}]
[null,{"$f":"SUBSTITUTE(LEFT(RIGHT(CELL(\"address\",Ⅱ.入力用!A1),LEN(CELL(\"address\",Ⅱ.入力用!A1))-FIND(\"]\",CELL(\"address\",Ⅱ.入力用!A1))),FIND(\"!\",RIGHT(CELL(\"address\",Ⅱ.入力用!A1),LEN(CELL(\"address\",Ⅱ.入力用!A1))-FIND(\"]\",CELL(\"address\",Ⅱ.入力用!A1))))-1),\"'\",\"\")","v":"Ⅱ.入力用"},{"$f":"MATCH(B6,$AH:$AH,0)","v":1013},{"$f":"C6+COUNTIF($AH:$AH,B6)-1","v":1295}]
[null,"【参照列】"]
[null,"コピー元","シート名","セル番号"]
[null,{"$f":"LEFT(RIGHT(CELL(\"address\",F11),LEN(CELL(\"address\",F11))-FIND(\"$\",CELL(\"address\",F11))),FIND(\"$\",RIGHT(CELL(\"address\",F11),LEN(CELL(\"address\",F11))-FIND(\"$\",CELL(\"address\",F11))))-1)","v":"F"},{"$f":"LEFT(RIGHT(CELL(\"address\",AH11),LEN(CELL(\"address\",AH11))-FIND(\"$\",CELL(\"address\",AH11))),FIND(\"$\",RIGHT(CELL(\"address\",AH11),LEN(CELL(\"address\",AH11))-FIND(\"$\",CELL(\"address\",AH11))))-1)","v":"AH"},{"$f":"LEFT(RIGHT(CELL(\"address\",AI11),LEN(CELL(\"address\",AI11))-FIND(\"$\",CELL(\"address\",AI11))),FIND(\"$\",RIGHT(CELL(\"address\",AI11),LEN(CELL(\"address\",AI11))-FIND(\"$\",CELL(\"address\",AI11))))-1)","v":"AI"}]
["※マクロが参照しています。絶対に移動させないでください。"]
[null,null,null,null,null,"コピー内容",null,null,null,null,null,null,null,null,null,null,null,null,null,null,null,null,null,null,null,null,null,null,null,null,null,"項目","セルアドレス","シート名","セル番号"]
[null,null,null,null,null,"※リストから選択して下さい",null,null,null,null,null,null,null,null,null,null,null,null,null,null,null,null,null,null,null,null,null,null,null,null,null,{"$f":"Ⅰ.構成メンバー名簿!D4","v":"※リストから選択して下さい"},{"$f":"CELL(\"address\",Ⅰ.構成メンバー名簿!D4)","v":"'[◆52関東　出場申込書.xlsm]Ⅰ.構成メンバー名簿'!$D$4"},{"$f":"SUBSTITUTE(LEFT(RIGHT(AG12,LEN(AG12)-FIND(\"]\",AG12)),FIND(\"!\",RIGHT(AG12,LEN(AG12)-FIND(\"]\",AG12)))-1),\"'\",\"\")","v":"Ⅰ.構成メンバー名簿"},{"$f":"SUBSTITUTE(RIGHT(AG12,LEN(AG12)-FIND(\"!\",AG12)),\"$\",\"\")","v":"D4"}]
[null,null,null,null,null,null,null,null,null,null,null,null,null,null,null,null,null,null,null,null,null,null,null,null,null,null,null,null,null,null,null,{"$f":"Ⅰ.構成メンバー名簿!C26","v":1},{"$f":"CELL(\"address\",Ⅰ.構成メンバー名簿!D26)","v":"'[◆52関東　出場申込書.xlsm]Ⅰ.構成メンバー名簿'!$D$26"},"Ⅰ.構成メンバー名簿","D26"]
[null,null,null,null,null,null,null,null,null,null,null,null,null,null,null,null,null,null,null,null,null,null,null,null,null,null,null,null,null,null,null,{"$f":"Ⅰ.構成メンバー名簿!C27","v":2},{"$f":"CELL(\"address\",Ⅰ.構成メンバー名簿!D27)","v":"'[◆52関東　出場申込書.xlsm]Ⅰ.構成メンバー名簿'!$D$27"},"Ⅰ.構成メンバー名簿","D27"]
[null,null,null,null,null,null,null,null,null,null,null,null,null,null,null,null,null,null,null,null,null,null,null,null,null,null,null,null,null,null,null,{"$f":"Ⅰ.構成メンバー名簿!C28","v":3},{"$f":"CELL(\"address\",Ⅰ.構成メンバー名簿!D28)","v":"'[◆52関東　出場申込書.xlsm]Ⅰ.構成メンバー名簿'!$D$28"},"Ⅰ.構成メンバー名簿","D28"]
[null,null,null,null,null,null,null,null,null,null,null,null,null,null,null,null,null,null,null,null,null,null,null,null,null,null,null,null,null,null,null,{"$f":"Ⅰ.構成メンバー名簿!C29","v":4},{"$f":"CELL(\"address\",Ⅰ.構成メンバー名簿!D29)","v":"'[◆52関東　出場申込書.xlsm]Ⅰ.構成メンバー名簿'!$D$29"},"Ⅰ.構成メンバー名簿","D29"]
[null,null,null,null,null,null,null,null,null,null,null,null,null,null,null,null,null,null,null,null,null,null,null,null,null,null,null,null,null,null,null,{"$f":"Ⅰ.構成メンバー名簿!C30","v":5},{"$f":"CELL(\"address\",Ⅰ.構成メンバー名簿!D30)","v":"'[◆52関東　出場申込書.xlsm]Ⅰ.構成メンバー名簿'!$D$30"},"Ⅰ.構成メンバー名簿","D30"]
[null,null,null,null,null,null,null,null,null,null,null,null,null,null,null,null,null,null,null,null,null,null,null,null,null,null,null,null,null,null,null,{"$f":"Ⅰ.構成メンバー名簿!C31","v":6},{"$f":"CELL(\"address\",Ⅰ.構成メンバー名簿!D31)","v":"'[◆52関東　出場申込書.xlsm]Ⅰ.構成メンバー名簿'!$D$31"},"Ⅰ.構成メンバー名簿","D31"]
[null,null,null,null,null,null,null,null,null,null,null,null,null,null,null,null,null,null,null,null,null,null,null,null,null,null,null,null,null,null,null,{"$f":"Ⅰ.構成メンバー名簿!C32","v":7},{"$f":"CELL(\"address\",Ⅰ.構成メンバー名簿!D32)","v":"'[◆52関東　出場申込書.xlsm]Ⅰ.構成メンバー名簿'!$D$32"},"Ⅰ.構成メンバー名簿","D32"]
[null,null,null,null,null,null,null,null,null,null,null,null,null,null,null,null,null,null,null,null,null,null,null,null,null,null,null,null,null,null,null,{"$f":"Ⅰ.構成メンバー名簿!C33","v":8},{"$f":"CELL(\"address\",Ⅰ.構成メンバー名簿!D33)","v":"'[◆52関東　出場申込書.xlsm]Ⅰ.構成メンバー名簿'!$D$33"},"Ⅰ.構成メンバー名簿","D33"]
[null,null,null,null,null,null,null,null,null,null,null,null,null,null,null,null,null,null,null,null,null,null,null,null,null,null,null,null,null,null,null,{"$f":"Ⅰ.構成メンバー名簿!C34","v":9},{"$f":"CELL(\"address\",Ⅰ.構成メンバー名簿!D34)","v":"'[◆52関東　出場申込書.xlsm]Ⅰ.構成メンバー名簿'!$D$34"},"Ⅰ.構成メンバー名簿","D34"]
[null,null,null,null,null,null,null,null,null,null,null,null,null,null,null,null,null,null,null,null,null,null,null,null,null,null,null,null,null,null,null,{"$f":"Ⅰ.構成メンバー名簿!C35","v":10},{"$f":"CELL(\"address\",Ⅰ.構成メンバー名簿!D35)","v":"'[◆52関東　出場申込書.xlsm]Ⅰ.構成メンバー名簿'!$D$35"},"Ⅰ.構成メンバー名簿","D35"]
[null,null,null,null,null,null,null,null,null,null,null,null,null,null,null,null,null,null,null,null,null,null,null,null,null,null,null,null,null,null,null,{"$f":"Ⅰ.構成メンバー名簿!C36","v":11},{"$f":"CELL(\"address\",Ⅰ.構成メンバー名簿!D36)","v":"'[◆52関東　出場申込書.xlsm]Ⅰ.構成メンバー名簿'!$D$36"},{"$f":"SUBSTITUTE(LEFT(RIGHT(AG23,LEN(AG23)-FIND(\"]\",AG23)),FIND(\"!\",RIGHT(AG23,LEN(AG23)-FIND(\"]\",AG23)))-1),\"'\",\"\")","v":"Ⅰ.構成メンバー名簿"},"D36"]
[null,null,null,null,null,null,null,null,null,null,null,null,null,null,null,null,null,null,null,null,null,null,null,null,null,null,null,null,null,null,null,{"$f":"Ⅰ.構成メンバー名簿!C37","v":12},{"$f":"CELL(\"address\",Ⅰ.構成メンバー名簿!D37)","v":"'[◆52関東　出場申込書.xlsm]Ⅰ.構成メンバー名簿'!$D$37"},"Ⅰ.構成メンバー名簿","D37"]
[null,null,null,null,null,null,null,null,null,null,null,null,null,null,null,null,null,null,null,null,null,null,null,null,null,null,null,null,null,null,null,{"$f":"Ⅰ.構成メンバー名簿!C38","v":13},{"$f":"CELL(\"address\",Ⅰ.構成メンバー名簿!D38)","v":"'[◆52関東　出場申込書.xlsm]Ⅰ.構成メンバー名簿'!$D$38"},"Ⅰ.構成メンバー名簿","D38"]
[null,null,null,null,null,null,null,null,null,null,null,null,null,null,null,null,null,null,null,null,null,null,null,null,null,null,null,null,null,null,null,{"$f":"Ⅰ.構成メンバー名簿!C39","v":14},{"$f":"CELL(\"address\",Ⅰ.構成メンバー名簿!D39)","v":"'[◆52関東　出場申込書.xlsm]Ⅰ.構成メンバー名簿'!$D$39"},"Ⅰ.構成メンバー名簿","D39"]
[null,null,null,null,null,null,null,null,null,null,null,null,null,null,null,null,null,null,null,null,null,null,null,null,null,null,null,null,null,null,null,{"$f":"Ⅰ.構成メンバー名簿!C40","v":15},{"$f":"CELL(\"address\",Ⅰ.構成メンバー名簿!D40)","v":"'[◆52関東　出場申込書.xlsm]Ⅰ.構成メンバー名簿'!$D$40"},"Ⅰ.構成メンバー名簿","D40"]
[null,null,null,null,null,null,null,null,null,null,null,null,null,null,null,null,null,null,null,null,null,null,null,null,null,null,null,null,null,null,null,{"$f":"Ⅰ.構成メンバー名簿!C41","v":16},{"$f":"CELL(\"address\",Ⅰ.構成メンバー名簿!D41)","v":"'[◆52関東　出場申込書.xlsm]Ⅰ.構成メンバー名簿'!$D$41"},"Ⅰ.構成メンバー名簿","D41"]
[null,null,null,null,null,null,null,null,null,null,null,null,null,null,null,null,null,null,null,null,null,null,null,null,null,null,null,null,null,null,null,{"$f":"Ⅰ.構成メンバー名簿!C42","v":17},{"$f":"CELL(\"address\",Ⅰ.構成メンバー名簿!D42)","v":"'[◆52関東　出場申込書.xlsm]Ⅰ.構成メンバー名簿'!$D$42"},"Ⅰ.構成メンバー名簿","D42"]
[null,null,null,null,null,null,null,null,null,null,null,null,null,null,null,null,null,null,null,null,null,null,null,null,null,null,null,null,null,null,null,{"$f":"Ⅰ.構成メンバー名簿!C43","v":18},{"$f":"CELL(\"address\",Ⅰ.構成メンバー名簿!D43)","v":"'[◆52関東　出場申込書.xlsm]Ⅰ.構成メンバー名簿'!$D$43"},"Ⅰ.構成メンバー名簿","D43"]
[null,null,null,null,null,null,null,null,null,null,null,null,null,null,null,null,null,null,null,null,null,null,null,null,null,null,null,null,null,null,null,{"$f":"Ⅰ.構成メンバー名簿!C44","v":19},{"$f":"CELL(\"address\",Ⅰ.構成メンバー名簿!D44)","v":"'[◆52関東　出場申込書.xlsm]Ⅰ.構成メンバー名簿'!$D$44"},"Ⅰ.構成メンバー名簿","D44"]
[null,null,null,null,null,null,null,null,null,null,null,null,null,null,null,null,null,null,null,null,null,null,null,null,null,null,null,null,null,null,null,{"$f":"Ⅰ.構成メンバー名簿!C45","v":20},{"$f":"CELL(\"address\",Ⅰ.構成メンバー名簿!D45)","v":"'[◆52関東　出場申込書.xlsm]Ⅰ.構成メンバー名簿'!$D$45"},"Ⅰ.構成メンバー名簿","D45"]
[null,null,null,null,null,null,null,null,null,null,null,null,null,null,null,null,null,null,null,null,null,null,null,null,null,null,null,null,null,null,null,{"$f":"Ⅰ.構成メンバー名簿!C46","v":21},{"$f":"CELL(\"address\",Ⅰ.構成メンバー名簿!D46)","v":"'[◆52関東　出場申込書.xlsm]Ⅰ.構成メンバー名簿'!$D$46"},"Ⅰ.構成メンバー名簿","D46"]
[null,null,null,null,null,null,null,null,null,null,null,null,null,null,null,null,null,null,null,null,null,null,null,null,null,null,null,null,null,null,null,{"$f":"Ⅰ.構成メンバー名簿!C47","v":22},{"$f":"CELL(\"address\",Ⅰ.構成メンバー名簿!D47)","v":"'[◆52関東　出場申込書.xlsm]Ⅰ.構成メンバー名簿'!$D$47"},"Ⅰ.構成メンバー名簿","D47"]
[null,null,null,null,null,null,null,null,null,null,null,null,null,null,null,null,null,null,null,null,null,null,null,null,null,null,null,null,null,null,null,{"$f":"Ⅰ.構成メンバー名簿!C48","v":23},{"$f":"CELL(\"address\",Ⅰ.構成メンバー名簿!D48)","v":"'[◆52関東　出場申込書.xlsm]Ⅰ.構成メンバー名簿'!$D$48"},"Ⅰ.構成メンバー名簿","D48"]
[null,null,null,null,null,null,null,null,null,null,null,null,null,null,null,null,null,null,null,null,null,null,null,null,null,null,null,null,null,null,null,{"$f":"Ⅰ.構成メンバー名簿!C49","v":24},{"$f":"CELL(\"address\",Ⅰ.構成メンバー名簿!D49)","v":"'[◆52関東　出場申込書.xlsm]Ⅰ.構成メンバー名簿'!$D$49"},"Ⅰ.構成メンバー名簿","D49"]
[null,null,null,null,null,null,null,null,null,null,null,null,null,null,null,null,null,null,null,null,null,null,null,null,null,null,null,null,null,null,null,{"$f":"Ⅰ.構成メンバー名簿!C50","v":25},{"$f":"CELL(\"address\",Ⅰ.構成メンバー名簿!D50)","v":"'[◆52関東　出場申込書.xlsm]Ⅰ.構成メンバー名簿'!$D$50"},"Ⅰ.構成メンバー名簿","D50"]
[null,null,null,null,null,null,null,null,null,null,null,null,null,null,null,null,null,null,null,null,null,null,null,null,null,null,null,null,null,null,null,{"$f":"Ⅰ.構成メンバー名簿!C51","v":26},{"$f":"CELL(\"address\",Ⅰ.構成メンバー名簿!D51)","v":"'[◆52関東　出場申込書.xlsm]Ⅰ.構成メンバー名簿'!$D$51"},"Ⅰ.構成メンバー名簿","D51"]
[null,null,null,null,null,null,null,null,null,null,null,null,null,null,null,null,null,null,null,null,null,null,null,null,null,null,null,null,null,null,null,{"$f":"Ⅰ.構成メンバー名簿!C52","v":27},{"$f":"CELL(\"address\",Ⅰ.構成メンバー名簿!D52)","v":"'[◆52関東　出場申込書.xlsm]Ⅰ.構成メンバー名簿'!$D$52"},"Ⅰ.構成メンバー名簿","D52"]
[null,null,null,null,null,null,null,null,null,null,null,null,null,null,null,null,null,null,null,null,null,null,null,null,null,null,null,null,null,null,null,{"$f":"Ⅰ.構成メンバー名簿!C53","v":28},{"$f":"CELL(\"address\",Ⅰ.構成メンバー名簿!D53)","v":"'[◆52関東　出場申込書.xlsm]Ⅰ.構成メンバー名簿'!$D$53"},"Ⅰ.構成メンバー名簿","D53"]
[null,null,null,null,null,null,null,null,null,null,null,null,null,null,null,null,null,null,null,null,null,null,null,null,null,null,null,null,null,null,null,{"$f":"Ⅰ.構成メンバー名簿!C54","v":29},{"$f":"CELL(\"address\",Ⅰ.構成メンバー名簿!D54)","v":"'[◆52関東　出場申込書.xlsm]Ⅰ.構成メンバー名簿'!$D$54"},"Ⅰ.構成メンバー名簿","D54"]
[null,null,null,null,null,null,null,null,null,null,null,null,null,null,null,null,null,null,null,null,null,null,null,null,null,null,null,null,null,null,null,{"$f":"Ⅰ.構成メンバー名簿!C55","v":30},{"$f":"CELL(\"address\",Ⅰ.構成メンバー名簿!D55)","v":"'[◆52関東　出場申込書.xlsm]Ⅰ.構成メンバー名簿'!$D$55"},"Ⅰ.構成メンバー名簿","D55"]
[null,null,null,null,null,null,null,null,null,null,null,null,null,null,null,null,null,null,null,null,null,null,null,null,null,null,null,null,null,null,null,{"$f":"Ⅰ.構成メンバー名簿!C56","v":31},{"$f":"CELL(\"address\",Ⅰ.構成メンバー名簿!D56)","v":"'[◆52関東　出場申込書.xlsm]Ⅰ.構成メンバー名簿'!$D$56"},"Ⅰ.構成メンバー名簿",{"$f":"SUBSTITUTE(RIGHT(AG43,LEN(AG43)-FIND(\"!\",AG43)),\"$\",\"\")","v":"D56"}]
[null,null,null,null,null,null,null,null,null,null,null,null,null,null,null,null,null,null,null,null,null,null,null,null,null,null,null,null,null,null,null,{"$f":"Ⅰ.構成メンバー名簿!C57","v":32},{"$f":"CELL(\"address\",Ⅰ.構成メンバー名簿!D57)","v":"'[◆52関東　出場申込書.xlsm]Ⅰ.構成メンバー名簿'!$D$57"},"Ⅰ.構成メンバー名簿","D57"]
[null,null,null,null,null,null,null,null,null,null,null,null,null,null,null,null,null,null,null,null,null,null,null,null,null,null,null,null,null,null,null,{"$f":"Ⅰ.構成メンバー名簿!C58","v":33},{"$f":"CELL(\"address\",Ⅰ.構成メンバー名簿!D58)","v":"'[◆52関東　出場申込書.xlsm]Ⅰ.構成メンバー名簿'!$D$58"},"Ⅰ.構成メンバー名簿","D58"]
[null,null,null,null,null,null,null,null,null,null,null,null,null,null,null,null,null,null,null,null,null,null,null,null,null,null,null,null,null,null,null,{"$f":"Ⅰ.構成メンバー名簿!C59","v":34},{"$f":"CELL(\"address\",Ⅰ.構成メンバー名簿!D59)","v":"'[◆52関東　出場申込書.xlsm]Ⅰ.構成メンバー名簿'!$D$59"},"Ⅰ.構成メンバー名簿","D59"]
[null,null,null,null,null,null,null,null,null,null,null,null,null,null,null,null,null,null,null,null,null,null,null,null,null,null,null,null,null,null,null,{"$f":"Ⅰ.構成メンバー名簿!C60","v":35},{"$f":"CELL(\"address\",Ⅰ.構成メンバー名簿!D60)","v":"'[◆52関東　出場申込書.xlsm]Ⅰ.構成メンバー名簿'!$D$60"},"Ⅰ.構成メンバー名簿","D60"]
[null,null,null,null,null,null,null,null,null,null,null,null,null,null,null,null,null,null,null,null,null,null,null,null,null,null,null,null,null,null,null,{"$f":"Ⅰ.構成メンバー名簿!C61","v":36},{"$f":"CELL(\"address\",Ⅰ.構成メンバー名簿!D61)","v":"'[◆52関東　出場申込書.xlsm]Ⅰ.構成メンバー名簿'!$D$61"},"Ⅰ.構成メンバー名簿","D61"]
[null,null,null,null,null,null,null,null,null,null,null,null,null,null,null,null,null,null,null,null,null,null,null,null,null,null,null,null,null,null,null,{"$f":"Ⅰ.構成メンバー名簿!C62","v":37},{"$f":"CELL(\"address\",Ⅰ.構成メンバー名簿!D62)","v":"'[◆52関東　出場申込書.xlsm]Ⅰ.構成メンバー名簿'!$D$62"},"Ⅰ.構成メンバー名簿","D62"]
[null,null,null,null,null,null,null,null,null,null,null,null,null,null,null,null,null,null,null,null,null,null,null,null,null,null,null,null,null,null,null,{"$f":"Ⅰ.構成メンバー名簿!C63","v":38},{"$f":"CELL(\"address\",Ⅰ.構成メンバー名簿!D63)","v":"'[◆52関東　出場申込書.xlsm]Ⅰ.構成メンバー名簿'!$D$63"},"Ⅰ.構成メンバー名簿","D63"]
[null,null,null,null,null,null,null,null,null,null,null,null,null,null,null,null,null,null,null,null,null,null,null,null,null,null,null,null,null,null,null,{"$f":"Ⅰ.構成メンバー名簿!C64","v":39},{"$f":"CELL(\"address\",Ⅰ.構成メンバー名簿!D64)","v":"'[◆52関東　出場申込書.xlsm]Ⅰ.構成メンバー名簿'!$D$64"},"Ⅰ.構成メンバー名簿","D64"]
[null,null,null,null,null,null,null,null,null,null,null,null,null,null,null,null,null,null,null,null,null,null,null,null,null,null,null,null,null,null,null,{"$f":"Ⅰ.構成メンバー名簿!C65","v":40},{"$f":"CELL(\"address\",Ⅰ.構成メンバー名簿!D65)","v":"'[◆52関東　出場申込書.xlsm]Ⅰ.構成メンバー名簿'!$D$65"},"Ⅰ.構成メンバー名簿","D65"]
[null,null,null,null,null,null,null,null,null,null,null,null,null,null,null,null,null,null,null,null,null,null,null,null,null,null,null,null,null,null,null,{"$f":"Ⅰ.構成メンバー名簿!C66","v":41},{"$f":"CELL(\"address\",Ⅰ.構成メンバー名簿!D66)","v":"'[◆52関東　出場申込書.xlsm]Ⅰ.構成メンバー名簿'!$D$66"},"Ⅰ.構成メンバー名簿","D66"]
[null,null,null,null,null,null,null,null,null,null,null,null,null,null,null,null,null,null,null,null,null,null,null,null,null,null,null,null,null,null,null,{"$f":"Ⅰ.構成メンバー名簿!C67","v":42},{"$f":"CELL(\"address\",Ⅰ.構成メンバー名簿!D67)","v":"'[◆52関東　出場申込書.xlsm]Ⅰ.構成メンバー名簿'!$D$67"},"Ⅰ.構成メンバー名簿","D67"]
[null,null,null,null,null,null,null,null,null,null,null,null,null,null,null,null,null,null,null,null,null,null,null,null,null,null,null,null,null,null,null,{"$f":"Ⅰ.構成メンバー名簿!C68","v":43},{"$f":"CELL(\"address\",Ⅰ.構成メンバー名簿!D68)","v":"'[◆52関東　出場申込書.xlsm]Ⅰ.構成メンバー名簿'!$D$68"},"Ⅰ.構成メンバー名簿","D68"]
[null,null,null,null,null,null,null,null,null,null,null,null,null,null,null,null,null,null,null,null,null,null,null,null,null,null,null,null,null,null,null,{"$f":"Ⅰ.構成メンバー名簿!C69","v":44},{"$f":"CELL(\"address\",Ⅰ.構成メンバー名簿!D69)","v":"'[◆52関東　出場申込書.xlsm]Ⅰ.構成メンバー名簿'!$D$69"},"Ⅰ.構成メンバー名簿","D69"]
[null,null,null,null,null,null,null,null,null,null,null,null,null,null,null,null,null,null,null,null,null,null,null,null,null,null,null,null,null,null,null,{"$f":"Ⅰ.構成メンバー名簿!C70","v":45},{"$f":"CELL(\"address\",Ⅰ.構成メンバー名簿!D70)","v":"'[◆52関東　出場申込書.xlsm]Ⅰ.構成メンバー名簿'!$D$70"},"Ⅰ.構成メンバー名簿","D70"]
[null,null,null,null,null,null,null,null,null,null,null,null,null,null,null,null,null,null,null,null,null,null,null,null,null,null,null,null,null,null,null,{"$f":"Ⅰ.構成メンバー名簿!C71","v":46},{"$f":"CELL(\"address\",Ⅰ.構成メンバー名簿!D71)","v":"'[◆52関東　出場申込書.xlsm]Ⅰ.構成メンバー名簿'!$D$71"},"Ⅰ.構成メンバー名簿","D71"]
[null,null,null,null,null,null,null,null,null,null,null,null,null,null,null,null,null,null,null,null,null,null,null,null,null,null,null,null,null,null,null,{"$f":"Ⅰ.構成メンバー名簿!C72","v":47},{"$f":"CELL(\"address\",Ⅰ.構成メンバー名簿!D72)","v":"'[◆52関東　出場申込書.xlsm]Ⅰ.構成メンバー名簿'!$D$72"},"Ⅰ.構成メンバー名簿","D72"]
[null,null,null,null,null,null,null,null,null,null,null,null,null,null,null,null,null,null,null,null,null,null,null,null,null,null,null,null,null,null,null,{"$f":"Ⅰ.構成メンバー名簿!C73","v":48},{"$f":"CELL(\"address\",Ⅰ.構成メンバー名簿!D73)","v":"'[◆52関東　出場申込書.xlsm]Ⅰ.構成メンバー名簿'!$D$73"},"Ⅰ.構成メンバー名簿","D73"]
[null,null,null,null,null,null,null,null,null,null,null,null,null,null,null,null,null,null,null,null,null,null,null,null,null,null,null,null,null,null,null,{"$f":"Ⅰ.構成メンバー名簿!C74","v":49},{"$f":"CELL(\"address\",Ⅰ.構成メンバー名簿!D74)","v":"'[◆52関東　出場申込書.xlsm]Ⅰ.構成メンバー名簿'!$D$74"},"Ⅰ.構成メンバー名簿","D74"]
[null,null,null,null,null,null,null,null,null,null,null,null,null,null,null,null,null,null,null,null,null,null,null,null,null,null,null,null,null,null,null,{"$f":"Ⅰ.構成メンバー名簿!C75","v":50},{"$f":"CELL(\"address\",Ⅰ.構成メンバー名簿!D75)","v":"'[◆52関東　出場申込書.xlsm]Ⅰ.構成メンバー名簿'!$D$75"},"Ⅰ.構成メンバー名簿","D75"]
[null,null,null,null,null,null,null,null,null,null,null,null,null,null,null,null,null,null,null,null,null,null,null,null,null,null,null,null,null,null,null,{"$f":"Ⅰ.構成メンバー名簿!C76","v":51},{"$f":"CELL(\"address\",Ⅰ.構成メンバー名簿!D76)","v":"'[◆52関東　出場申込書.xlsm]Ⅰ.構成メンバー名簿'!$D$76"},"Ⅰ.構成メンバー名簿","D76"]
[null,null,null,null,null,null,null,null,null,null,null,null,null,null,null,null,null,null,null,null,null,null,null,null,null,null,null,null,null,null,null,{"$f":"Ⅰ.構成メンバー名簿!C77","v":52},{"$f":"CELL(\"address\",Ⅰ.構成メンバー名簿!D77)","v":"'[◆52関東　出場申込書.xlsm]Ⅰ.構成メンバー名簿'!$D$77"},"Ⅰ.構成メンバー名簿","D77"]
[null,null,null,null,null,null,null,null,null,null,null,null,null,null,null,null,null,null,null,null,null,null,null,null,null,null,null,null,null,null,null,{"$f":"Ⅰ.構成メンバー名簿!C78","v":53},{"$f":"CELL(\"address\",Ⅰ.構成メンバー名簿!D78)","v":"'[◆52関東　出場申込書.xlsm]Ⅰ.構成メンバー名簿'!$D$78"},"Ⅰ.構成メンバー名簿","D78"]
[null,null,null,null,null,null,null,null,null,null,null,null,null,null,null,null,null,null,null,null,null,null,null,null,null,null,null,null,null,null,null,{"$f":"Ⅰ.構成メンバー名簿!C79","v":54},{"$f":"CELL(\"address\",Ⅰ.構成メンバー名簿!D79)","v":"'[◆52関東　出場申込書.xlsm]Ⅰ.構成メンバー名簿'!$D$79"},"Ⅰ.構成メンバー名簿","D79"]
[null,null,null,null,null,null,null,null,null,null,null,null,null,null,null,null,null,null,null,null,null,null,null,null,null,null,null,null,null,null,null,{"$f":"Ⅰ.構成メンバー名簿!C80","v":55},{"$f":"CELL(\"address\",Ⅰ.構成メンバー名簿!D80)","v":"'[◆52関東　出場申込書.xlsm]Ⅰ.構成メンバー名簿'!$D$80"},"Ⅰ.構成メンバー名簿","D80"]
[null,null,null,null,null,null,null,null,null,null,null,null,null,null,null,null,null,null,null,null,null,null,null,null,null,null,null,null,null,null,null,{"$f":"Ⅰ.構成メンバー名簿!C81","v":56},{"$f":"CELL(\"address\",Ⅰ.構成メンバー名簿!D81)","v":"'[◆52関東　出場申込書.xlsm]Ⅰ.構成メンバー名簿'!$D$81"},"Ⅰ.構成メンバー名簿","D81"]
[null,null,null,null,null,null,null,null,null,null,null,null,null,null,null,null,null,null,null,null,null,null,null,null,null,null,null,null,null,null,null,{"$f":"Ⅰ.構成メンバー名簿!C82","v":57},{"$f":"CELL(\"address\",Ⅰ.構成メンバー名簿!D82)","v":"'[◆52関東　出場申込書.xlsm]Ⅰ.構成メンバー名簿'!$D$82"},"Ⅰ.構成メンバー名簿","D82"]
[null,null,null,null,null,null,null,null,null,null,null,null,null,null,null,null,null,null,null,null,null,null,null,null,null,null,null,null,null,null,null,{"$f":"Ⅰ.構成メンバー名簿!C83","v":58},{"$f":"CELL(\"address\",Ⅰ.構成メンバー名簿!D83)","v":"'[◆52関東　出場申込書.xlsm]Ⅰ.構成メンバー名簿'!$D$83"},"Ⅰ.構成メンバー名簿","D83"]
[null,null,null,null,null,null,null,null,null,null,null,null,null,null,null,null,null,null,null,null,null,null,null,null,null,null,null,null,null,null,null,{"$f":"Ⅰ.構成メンバー名簿!C84","v":59},{"$f":"CELL(\"address\",Ⅰ.構成メンバー名簿!D84)","v":"'[◆52関東　出場申込書.xlsm]Ⅰ.構成メンバー名簿'!$D$84"},"Ⅰ.構成メンバー名簿","D84"]
[null,null,null,null,null,null,null,null,null,null,null,null,null,null,null,null,null,null,null,null,null,null,null,null,null,null,null,null,null,null,null,{"$f":"Ⅰ.構成メンバー名簿!C85","v":60},{"$f":"CELL(\"address\",Ⅰ.構成メンバー名簿!D85)","v":"'[◆52関東　出場申込書.xlsm]Ⅰ.構成メンバー名簿'!$D$85"},"Ⅰ.構成メンバー名簿","D85"]
[null,null,null,null,null,null,null,null,null,null,null,null,null,null,null,null,null,null,null,null,null,null,null,null,null,null,null,null,null,null,null,{"$f":"Ⅰ.構成メンバー名簿!C86","v":61},{"$f":"CELL(\"address\",Ⅰ.構成メンバー名簿!D86)","v":"'[◆52関東　出場申込書.xlsm]Ⅰ.構成メンバー名簿'!$D$86"},"Ⅰ.構成メンバー名簿","D86"]
[null,null,null,null,null,null,null,null,null,null,null,null,null,null,null,null,null,null,null,null,null,null,null,null,null,null,null,null,null,null,null,{"$f":"Ⅰ.構成メンバー名簿!C87","v":62},{"$f":"CELL(\"address\",Ⅰ.構成メンバー名簿!D87)","v":"'[◆52関東　出場申込書.xlsm]Ⅰ.構成メンバー名簿'!$D$87"},"Ⅰ.構成メンバー名簿","D87"]
[null,null,null,null,null,null,null,null,null,null,null,null,null,null,null,null,null,null,null,null,null,null,null,null,null,null,null,null,null,null,null,{"$f":"Ⅰ.構成メンバー名簿!C88","v":63},{"$f":"CELL(\"address\",Ⅰ.構成メンバー名簿!D88)","v":"'[◆52関東　出場申込書.xlsm]Ⅰ.構成メンバー名簿'!$D$88"},"Ⅰ.構成メンバー名簿","D88"]
[null,null,null,null,null,null,null,null,null,null,null,null,null,null,null,null,null,null,null,null,null,null,null,null,null,null,null,null,null,null,null,{"$f":"Ⅰ.構成メンバー名簿!C89","v":64},{"$f":"CELL(\"address\",Ⅰ.構成メンバー名簿!D89)","v":"'[◆52関東　出場申込書.xlsm]Ⅰ.構成メンバー名簿'!$D$89"},"Ⅰ.構成メンバー名簿","D89"]
[null,null,null,null,null,null,null,null,null,null,null,null,null,null,null,null,null,null,null,null,null,null,null,null,null,null,null,null,null,null,null,{"$f":"Ⅰ.構成メンバー名簿!C90","v":65},{"$f":"CELL(\"address\",Ⅰ.構成メンバー名簿!D90)","v":"'[◆52関東　出場申込書.xlsm]Ⅰ.構成メンバー名簿'!$D$90"},"Ⅰ.構成メンバー名簿","D90"]
[null,null,null,null,null,null,null,null,null,null,null,null,null,null,null,null,null,null,null,null,null,null,null,null,null,null,null,null,null,null,null,{"$f":"Ⅰ.構成メンバー名簿!C91","v":66},{"$f":"CELL(\"address\",Ⅰ.構成メンバー名簿!D91)","v":"'[◆52関東　出場申込書.xlsm]Ⅰ.構成メンバー名簿'!$D$91"},"Ⅰ.構成メンバー名簿","D91"]
[null,null,null,null,null,null,null,null,null,null,null,null,null,null,null,null,null,null,null,null,null,null,null,null,null,null,null,null,null,null,null,{"$f":"Ⅰ.構成メンバー名簿!C92","v":67},{"$f":"CELL(\"address\",Ⅰ.構成メンバー名簿!D92)","v":"'[◆52関東　出場申込書.xlsm]Ⅰ.構成メンバー名簿'!$D$92"},"Ⅰ.構成メンバー名簿","D92"]
[null,null,null,null,null,null,null,null,null,null,null,null,null,null,null,null,null,null,null,null,null,null,null,null,null,null,null,null,null,null,null,{"$f":"Ⅰ.構成メンバー名簿!C93","v":68},{"$f":"CELL(\"address\",Ⅰ.構成メンバー名簿!D93)","v":"'[◆52関東　出場申込書.xlsm]Ⅰ.構成メンバー名簿'!$D$93"},"Ⅰ.構成メンバー名簿","D93"]
[null,null,null,null,null,null,null,null,null,null,null,null,null,null,null,null,null,null,null,null,null,null,null,null,null,null,null,null,null,null,null,{"$f":"Ⅰ.構成メンバー名簿!C94","v":69},{"$f":"CELL(\"address\",Ⅰ.構成メンバー名簿!D94)","v":"'[◆52関東　出場申込書.xlsm]Ⅰ.構成メンバー名簿'!$D$94"},"Ⅰ.構成メンバー名簿","D94"]
[null,null,null,null,null,null,null,null,null,null,null,null,null,null,null,null,null,null,null,null,null,null,null,null,null,null,null,null,null,null,null,{"$f":"Ⅰ.構成メンバー名簿!C95","v":70},{"$f":"CELL(\"address\",Ⅰ.構成メンバー名簿!D95)","v":"'[◆52関東　出場申込書.xlsm]Ⅰ.構成メンバー名簿'!$D$95"},"Ⅰ.構成メンバー名簿","D95"]
[null,null,null,null,null,null,null,null,null,null,null,null,null,null,null,null,null,null,null,null,null,null,null,null,null,null,null,null,null,null,null,{"$f":"Ⅰ.構成メンバー名簿!C96","v":71},{"$f":"CELL(\"address\",Ⅰ.構成メンバー名簿!D96)","v":"'[◆52関東　出場申込書.xlsm]Ⅰ.構成メンバー名簿'!$D$96"},"Ⅰ.構成メンバー名簿","D96"]
[null,null,null,null,null,null,null,null,null,null,null,null,null,null,null,null,null,null,null,null,null,null,null,null,null,null,null,null,null,null,null,{"$f":"Ⅰ.構成メンバー名簿!C97","v":72},{"$f":"CELL(\"address\",Ⅰ.構成メンバー名簿!D97)","v":"'[◆52関東　出場申込書.xlsm]Ⅰ.構成メンバー名簿'!$D$97"},"Ⅰ.構成メンバー名簿","D97"]
[null,null,null,null,null,null,null,null,null,null,null,null,null,null,null,null,null,null,null,null,null,null,null,null,null,null,null,null,null,null,null,{"$f":"Ⅰ.構成メンバー名簿!C98","v":73},{"$f":"CELL(\"address\",Ⅰ.構成メンバー名簿!D98)","v":"'[◆52関東　出場申込書.xlsm]Ⅰ.構成メンバー名簿'!$D$98"},"Ⅰ.構成メンバー名簿","D98"]
[null,null,null,null,null,null,null,null,null,null,null,null,null,null,null,null,null,null,null,null,null,null,null,null,null,null,null,null,null,null,null,{"$f":"Ⅰ.構成メンバー名簿!C99","v":74},{"$f":"CELL(\"address\",Ⅰ.構成メンバー名簿!D99)","v":"'[◆52関東　出場申込書.xlsm]Ⅰ.構成メンバー名簿'!$D$99"},"Ⅰ.構成メンバー名簿","D99"]
[null,null,null,null,null,null,null,null,null,null,null,null,null,null,null,null,null,null,null,null,null,null,null,null,null,null,null,null,null,null,null,{"$f":"Ⅰ.構成メンバー名簿!C100","v":75},{"$f":"CELL(\"address\",Ⅰ.構成メンバー名簿!D100)","v":"'[◆52関東　出場申込書.xlsm]Ⅰ.構成メンバー名簿'!$D$100"},{"$f":"SUBSTITUTE(LEFT(RIGHT(AG87,LEN(AG87)-FIND(\"]\",AG87)),FIND(\"!\",RIGHT(AG87,LEN(AG87)-FIND(\"]\",AG87)))-1),\"'\",\"\")","v":"Ⅰ.構成メンバー名簿"},"D100"]
[null,null,null,null,null,null,null,null,null,null,null,null,null,null,null,null,null,null,null,null,null,null,null,null,null,null,null,null,null,null,null,{"$f":"Ⅰ.構成メンバー名簿!C101","v":76},{"$f":"CELL(\"address\",Ⅰ.構成メンバー名簿!D101)","v":"'[◆52関東　出場申込書.xlsm]Ⅰ.構成メンバー名簿'!$D$101"},"Ⅰ.構成メンバー名簿","D101"]
[null,null,null,null,null,null,null,null,null,null,null,null,null,null,null,null,null,null,null,null,null,null,null,null,null,null,null,null,null,null,null,{"$f":"Ⅰ.構成メンバー名簿!C102","v":77},{"$f":"CELL(\"address\",Ⅰ.構成メンバー名簿!D102)","v":"'[◆52関東　出場申込書.xlsm]Ⅰ.構成メンバー名簿'!$D$102"},"Ⅰ.構成メンバー名簿","D102"]
[null,null,null,null,null,null,null,null,null,null,null,null,null,null,null,null,null,null,null,null,null,null,null,null,null,null,null,null,null,null,null,{"$f":"Ⅰ.構成メンバー名簿!C103","v":78},{"$f":"CELL(\"address\",Ⅰ.構成メンバー名簿!D103)","v":"'[◆52関東　出場申込書.xlsm]Ⅰ.構成メンバー名簿'!$D$103"},"Ⅰ.構成メンバー名簿","D103"]
[null,null,null,null,null,null,null,null,null,null,null,null,null,null,null,null,null,null,null,null,null,null,null,null,null,null,null,null,null,null,null,{"$f":"Ⅰ.構成メンバー名簿!C104","v":79},{"$f":"CELL(\"address\",Ⅰ.構成メンバー名簿!D104)","v":"'[◆52関東　出場申込書.xlsm]Ⅰ.構成メンバー名簿'!$D$104"},"Ⅰ.構成メンバー名簿","D104"]
[null,null,null,null,null,null,null,null,null,null,null,null,null,null,null,null,null,null,null,null,null,null,null,null,null,null,null,null,null,null,null,{"$f":"Ⅰ.構成メンバー名簿!C105","v":80},{"$f":"CELL(\"address\",Ⅰ.構成メンバー名簿!D105)","v":"'[◆52関東　出場申込書.xlsm]Ⅰ.構成メンバー名簿'!$D$105"},"Ⅰ.構成メンバー名簿","D105"]
[null,null,null,null,null,null,null,null,null,null,null,null,null,null,null,null,null,null,null,null,null,null,null,null,null,null,null,null,null,null,null,{"$f":"Ⅰ.構成メンバー名簿!C106","v":81},{"$f":"CELL(\"address\",Ⅰ.構成メンバー名簿!D106)","v":"'[◆52関東　出場申込書.xlsm]Ⅰ.構成メンバー名簿'!$D$106"},"Ⅰ.構成メンバー名簿","D106"]
[null,null,null,null,null,null,null,null,null,null,null,null,null,null,null,null,null,null,null,null,null,null,null,null,null,null,null,null,null,null,null,{"$f":"Ⅰ.構成メンバー名簿!C107","v":82},{"$f":"CELL(\"address\",Ⅰ.構成メンバー名簿!D107)","v":"'[◆52関東　出場申込書.xlsm]Ⅰ.構成メンバー名簿'!$D$107"},"Ⅰ.構成メンバー名簿","D107"]
[null,null,null,null,null,null,null,null,null,null,null,null,null,null,null,null,null,null,null,null,null,null,null,null,null,null,null,null,null,null,null,{"$f":"Ⅰ.構成メンバー名簿!C108","v":83},{"$f":"CELL(\"address\",Ⅰ.構成メンバー名簿!D108)","v":"'[◆52関東　出場申込書.xlsm]Ⅰ.構成メンバー名簿'!$D$108"},"Ⅰ.構成メンバー名簿","D108"]
[null,null,null,null,null,null,null,null,null,null,null,null,null,null,null,null,null,null,null,null,null,null,null,null,null,null,null,null,null,null,null,{"$f":"Ⅰ.構成メンバー名簿!C109","v":84},{"$f":"CELL(\"address\",Ⅰ.構成メンバー名簿!D109)","v":"'[◆52関東　出場申込書.xlsm]Ⅰ.構成メンバー名簿'!$D$109"},"Ⅰ.構成メンバー名簿","D109"]
[null,null,null,null,null,null,null,null,null,null,null,null,null,null,null,null,null,null,null,null,null,null,null,null,null,null,null,null,null,null,null,{"$f":"Ⅰ.構成メンバー名簿!C110","v":85},{"$f":"CELL(\"address\",Ⅰ.構成メンバー名簿!D110)","v":"'[◆52関東　出場申込書.xlsm]Ⅰ.構成メンバー名簿'!$D$110"},"Ⅰ.構成メンバー名簿","D110"]
[null,null,null,null,null,null,null,null,null,null,null,null,null,null,null,null,null,null,null,null,null,null,null,null,null,null,null,null,null,null,null,{"$f":"Ⅰ.構成メンバー名簿!C111","v":86},{"$f":"CELL(\"address\",Ⅰ.構成メンバー名簿!D111)","v":"'[◆52関東　出場申込書.xlsm]Ⅰ.構成メンバー名簿'!$D$111"},"Ⅰ.構成メンバー名簿","D111"]
[null,null,null,null,null,null,null,null,null,null,null,null,null,null,null,null,null,null,null,null,null,null,null,null,null,null,null,null,null,null,null,{"$f":"Ⅰ.構成メンバー名簿!C112","v":87},{"$f":"CELL(\"address\",Ⅰ.構成メンバー名簿!D112)","v":"'[◆52関東　出場申込書.xlsm]Ⅰ.構成メンバー名簿'!$D$112"},"Ⅰ.構成メンバー名簿","D112"]
[null,null,null,null,null,null,null,null,null,null,null,null,null,null,null,null,null,null,null,null,null,null,null,null,null,null,null,null,null,null,null,{"$f":"Ⅰ.構成メンバー名簿!C113","v":88},{"$f":"CELL(\"address\",Ⅰ.構成メンバー名簿!D113)","v":"'[◆52関東　出場申込書.xlsm]Ⅰ.構成メンバー名簿'!$D$113"},"Ⅰ.構成メンバー名簿","D113"]
[null,null,null,null,null,null,null,null,null,null,null,null,null,null,null,null,null,null,null,null,null,null,null,null,null,null,null,null,null,null,null,{"$f":"Ⅰ.構成メンバー名簿!C114","v":89},{"$f":"CELL(\"address\",Ⅰ.構成メンバー名簿!D114)","v":"'[◆52関東　出場申込書.xlsm]Ⅰ.構成メンバー名簿'!$D$114"},"Ⅰ.構成メンバー名簿","D114"]
[null,null,null,null,null,null,null,null,null,null,null,null,null,null,null,null,null,null,null,null,null,null,null,null,null,null,null,null,null,null,null,{"$f":"Ⅰ.構成メンバー名簿!C115","v":90},{"$f":"CELL(\"address\",Ⅰ.構成メンバー名簿!D115)","v":"'[◆52関東　出場申込書.xlsm]Ⅰ.構成メンバー名簿'!$D$115"},"Ⅰ.構成メンバー名簿","D115"]
[null,null,null,null,null,null,null,null,null,null,null,null,null,null,null,null,null,null,null,null,null,null,null,null,null,null,null,null,null,null,null,{"$f":"Ⅰ.構成メンバー名簿!C116","v":91},{"$f":"CELL(\"address\",Ⅰ.構成メンバー名簿!D116)","v":"'[◆52関東　出場申込書.xlsm]Ⅰ.構成メンバー名簿'!$D$116"},"Ⅰ.構成メンバー名簿","D116"]
[null,null,null,null,null,null,null,null,null,null,null,null,null,null,null,null,null,null,null,null,null,null,null,null,null,null,null,null,null,null,null,{"$f":"Ⅰ.構成メンバー名簿!C117","v":92},{"$f":"CELL(\"address\",Ⅰ.構成メンバー名簿!D117)","v":"'[◆52関東　出場申込書.xlsm]Ⅰ.構成メンバー名簿'!$D$117"},"Ⅰ.構成メンバー名簿","D117"]
[null,null,null,null,null,null,null,null,null,null,null,null,null,null,null,null,null,null,null,null,null,null,null,null,null,null,null,null,null,null,null,{"$f":"Ⅰ.構成メンバー名簿!C118","v":93},{"$f":"CELL(\"address\",Ⅰ.構成メンバー名簿!D118)","v":"'[◆52関東　出場申込書.xlsm]Ⅰ.構成メンバー名簿'!$D$118"},"Ⅰ.構成メンバー名簿","D118"]
[null,null,null,null,null,null,null,null,null,null,null,null,null,null,null,null,null,null,null,null,null,null,null,null,null,null,null,null,null,null,null,{"$f":"Ⅰ.構成メンバー名簿!C119","v":94},{"$f":"CELL(\"address\",Ⅰ.構成メンバー名簿!D119)","v":"'[◆52関東　出場申込書.xlsm]Ⅰ.構成メンバー名簿'!$D$119"},"Ⅰ.構成メンバー名簿","D119"]
[null,null,null,null,null,null,null,null,null,null,null,null,null,null,null,null,null,null,null,null,null,null,null,null,null,null,null,null,null,null,null,{"$f":"Ⅰ.構成メンバー名簿!C120","v":95},{"$f":"CELL(\"address\",Ⅰ.構成メンバー名簿!D120)","v":"'[◆52関東　出場申込書.xlsm]Ⅰ.構成メンバー名簿'!$D$120"},"Ⅰ.構成メンバー名簿",{"$f":"SUBSTITUTE(RIGHT(AG107,LEN(AG107)-FIND(\"!\",AG107)),\"$\",\"\")","v":"D120"}]
[null,null,null,null,null,null,null,null,null,null,null,null,null,null,null,null,null,null,null,null,null,null,null,null,null,null,null,null,null,null,null,{"$f":"Ⅰ.構成メンバー名簿!C121","v":96},{"$f":"CELL(\"address\",Ⅰ.構成メンバー名簿!D121)","v":"'[◆52関東　出場申込書.xlsm]Ⅰ.構成メンバー名簿'!$D$121"},"Ⅰ.構成メンバー名簿","D121"]
[null,null,null,null,null,null,null,null,null,null,null,null,null,null,null,null,null,null,null,null,null,null,null,null,null,null,null,null,null,null,null,{"$f":"Ⅰ.構成メンバー名簿!C122","v":97},{"$f":"CELL(\"address\",Ⅰ.構成メンバー名簿!D122)","v":"'[◆52関東　出場申込書.xlsm]Ⅰ.構成メンバー名簿'!$D$122"},"Ⅰ.構成メンバー名簿","D122"]
[null,null,null,null,null,null,null,null,null,null,null,null,null,null,null,null,null,null,null,null,null,null,null,null,null,null,null,null,null,null,null,{"$f":"Ⅰ.構成メンバー名簿!C123","v":98},{"$f":"CELL(\"address\",Ⅰ.構成メンバー名簿!D123)","v":"'[◆52関東　出場申込書.xlsm]Ⅰ.構成メンバー名簿'!$D$123"},"Ⅰ.構成メンバー名簿","D123"]
[null,null,null,null,null,null,null,null,null,null,null,null,null,null,null,null,null,null,null,null,null,null,null,null,null,null,null,null,null,null,null,{"$f":"Ⅰ.構成メンバー名簿!C124","v":99},{"$f":"CELL(\"address\",Ⅰ.構成メンバー名簿!D124)","v":"'[◆52関東　出場申込書.xlsm]Ⅰ.構成メンバー名簿'!$D$124"},"Ⅰ.構成メンバー名簿","D124"]
[null,null,null,null,null,null,null,null,null,null,null,null,null,null,null,null,null,null,null,null,null,null,null,null,null,null,null,null,null,null,null,{"$f":"Ⅰ.構成メンバー名簿!C125","v":100},{"$f":"CELL(\"address\",Ⅰ.構成メンバー名簿!D125)","v":"'[◆52関東　出場申込書.xlsm]Ⅰ.構成メンバー名簿'!$D$125"},"Ⅰ.構成メンバー名簿","D125"]
[null,null,null,null,null,null,null,null,null,null,null,null,null,null,null,null,null,null,null,null,null,null,null,null,null,null,null,null,null,null,null,{"$f":"Ⅰ.構成メンバー名簿!C126","v":101},{"$f":"CELL(\"address\",Ⅰ.構成メンバー名簿!D126)","v":"'[◆52関東　出場申込書.xlsm]Ⅰ.構成メンバー名簿'!$D$126"},"Ⅰ.構成メンバー名簿","D126"]
[null,null,null,null,null,null,null,null,null,null,null,null,null,null,null,null,null,null,null,null,null,null,null,null,null,null,null,null,null,null,null,{"$f":"Ⅰ.構成メンバー名簿!C127","v":102},{"$f":"CELL(\"address\",Ⅰ.構成メンバー名簿!D127)","v":"'[◆52関東　出場申込書.xlsm]Ⅰ.構成メンバー名簿'!$D$127"},"Ⅰ.構成メンバー名簿","D127"]
[null,null,null,null,null,null,null,null,null,null,null,null,null,null,null,null,null,null,null,null,null,null,null,null,null,null,null,null,null,null,null,{"$f":"Ⅰ.構成メンバー名簿!C128","v":103},{"$f":"CELL(\"address\",Ⅰ.構成メンバー名簿!D128)","v":"'[◆52関東　出場申込書.xlsm]Ⅰ.構成メンバー名簿'!$D$128"},"Ⅰ.構成メンバー名簿","D128"]
[null,null,null,null,null,null,null,null,null,null,null,null,null,null,null,null,null,null,null,null,null,null,null,null,null,null,null,null,null,null,null,{"$f":"Ⅰ.構成メンバー名簿!C129","v":104},{"$f":"CELL(\"address\",Ⅰ.構成メンバー名簿!D129)","v":"'[◆52関東　出場申込書.xlsm]Ⅰ.構成メンバー名簿'!$D$129"},"Ⅰ.構成メンバー名簿","D129"]
[null,null,null,null,null,null,null,null,null,null,null,null,null,null,null,null,null,null,null,null,null,null,null,null,null,null,null,null,null,null,null,{"$f":"Ⅰ.構成メンバー名簿!C130","v":105},{"$f":"CELL(\"address\",Ⅰ.構成メンバー名簿!D130)","v":"'[◆52関東　出場申込書.xlsm]Ⅰ.構成メンバー名簿'!$D$130"},"Ⅰ.構成メンバー名簿","D130"]
[null,null,null,null,null,null,null,null,null,null,null,null,null,null,null,null,null,null,null,null,null,null,null,null,null,null,null,null,null,null,null,{"$f":"Ⅰ.構成メンバー名簿!C131","v":106},{"$f":"CELL(\"address\",Ⅰ.構成メンバー名簿!D131)","v":"'[◆52関東　出場申込書.xlsm]Ⅰ.構成メンバー名簿'!$D$131"},"Ⅰ.構成メンバー名簿","D131"]
[null,null,null,null,null,null,null,null,null,null,null,null,null,null,null,null,null,null,null,null,null,null,null,null,null,null,null,null,null,null,null,{"$f":"Ⅰ.構成メンバー名簿!C132","v":107},{"$f":"CELL(\"address\",Ⅰ.構成メンバー名簿!D132)","v":"'[◆52関東　出場申込書.xlsm]Ⅰ.構成メンバー名簿'!$D$132"},"Ⅰ.構成メンバー名簿","D132"]
[null,null,null,null,null,null,null,null,null,null,null,null,null,null,null,null,null,null,null,null,null,null,null,null,null,null,null,null,null,null,null,{"$f":"Ⅰ.構成メンバー名簿!C133","v":108},{"$f":"CELL(\"address\",Ⅰ.構成メンバー名簿!D133)","v":"'[◆52関東　出場申込書.xlsm]Ⅰ.構成メンバー名簿'!$D$133"},"Ⅰ.構成メンバー名簿","D133"]
[null,null,null,null,null,null,null,null,null,null,null,null,null,null,null,null,null,null,null,null,null,null,null,null,null,null,null,null,null,null,null,{"$f":"Ⅰ.構成メンバー名簿!C134","v":109},{"$f":"CELL(\"address\",Ⅰ.構成メンバー名簿!D134)","v":"'[◆52関東　出場申込書.xlsm]Ⅰ.構成メンバー名簿'!$D$134"},"Ⅰ.構成メンバー名簿","D134"]
[null,null,null,null,null,null,null,null,null,null,null,null,null,null,null,null,null,null,null,null,null,null,null,null,null,null,null,null,null,null,null,{"$f":"Ⅰ.構成メンバー名簿!C135","v":110},{"$f":"CELL(\"address\",Ⅰ.構成メンバー名簿!D135)","v":"'[◆52関東　出場申込書.xlsm]Ⅰ.構成メンバー名簿'!$D$135"},"Ⅰ.構成メンバー名簿","D135"]
[null,null,null,null,null,null,null,null,null,null,null,null,null,null,null,null,null,null,null,null,null,null,null,null,null,null,null,null,null,null,null,{"$f":"Ⅰ.構成メンバー名簿!C136","v":111},{"$f":"CELL(\"address\",Ⅰ.構成メンバー名簿!D136)","v":"'[◆52関東　出場申込書.xlsm]Ⅰ.構成メンバー名簿'!$D$136"},"Ⅰ.構成メンバー名簿","D136"]
[null,null,null,null,null,null,null,null,null,null,null,null,null,null,null,null,null,null,null,null,null,null,null,null,null,null,null,null,null,null,null,{"$f":"Ⅰ.構成メンバー名簿!C137","v":112},{"$f":"CELL(\"address\",Ⅰ.構成メンバー名簿!D137)","v":"'[◆52関東　出場申込書.xlsm]Ⅰ.構成メンバー名簿'!$D$137"},"Ⅰ.構成メンバー名簿","D137"]
[null,null,null,null,null,null,null,null,null,null,null,null,null,null,null,null,null,null,null,null,null,null,null,null,null,null,null,null,null,null,null,{"$f":"Ⅰ.構成メンバー名簿!C138","v":113},{"$f":"CELL(\"address\",Ⅰ.構成メンバー名簿!D138)","v":"'[◆52関東　出場申込書.xlsm]Ⅰ.構成メンバー名簿'!$D$138"},"Ⅰ.構成メンバー名簿","D138"]
[null,null,null,null,null,null,null,null,null,null,null,null,null,null,null,null,null,null,null,null,null,null,null,null,null,null,null,null,null,null,null,{"$f":"Ⅰ.構成メンバー名簿!C139","v":114},{"$f":"CELL(\"address\",Ⅰ.構成メンバー名簿!D139)","v":"'[◆52関東　出場申込書.xlsm]Ⅰ.構成メンバー名簿'!$D$139"},"Ⅰ.構成メンバー名簿","D139"]
[null,null,null,null,null,null,null,null,null,null,null,null,null,null,null,null,null,null,null,null,null,null,null,null,null,null,null,null,null,null,null,{"$f":"Ⅰ.構成メンバー名簿!C140","v":115},{"$f":"CELL(\"address\",Ⅰ.構成メンバー名簿!D140)","v":"'[◆52関東　出場申込書.xlsm]Ⅰ.構成メンバー名簿'!$D$140"},"Ⅰ.構成メンバー名簿","D140"]
[null,null,null,null,null,null,null,null,null,null,null,null,null,null,null,null,null,null,null,null,null,null,null,null,null,null,null,null,null,null,null,{"$f":"Ⅰ.構成メンバー名簿!C141","v":116},{"$f":"CELL(\"address\",Ⅰ.構成メンバー名簿!D141)","v":"'[◆52関東　出場申込書.xlsm]Ⅰ.構成メンバー名簿'!$D$141"},"Ⅰ.構成メンバー名簿","D141"]
[null,null,null,null,null,null,null,null,null,null,null,null,null,null,null,null,null,null,null,null,null,null,null,null,null,null,null,null,null,null,null,{"$f":"Ⅰ.構成メンバー名簿!C142","v":117},{"$f":"CELL(\"address\",Ⅰ.構成メンバー名簿!D142)","v":"'[◆52関東　出場申込書.xlsm]Ⅰ.構成メンバー名簿'!$D$142"},"Ⅰ.構成メンバー名簿","D142"]
[null,null,null,null,null,null,null,null,null,null,null,null,null,null,null,null,null,null,null,null,null,null,null,null,null,null,null,null,null,null,null,{"$f":"Ⅰ.構成メンバー名簿!C143","v":118},{"$f":"CELL(\"address\",Ⅰ.構成メンバー名簿!D143)","v":"'[◆52関東　出場申込書.xlsm]Ⅰ.構成メンバー名簿'!$D$143"},"Ⅰ.構成メンバー名簿","D143"]
[null,null,null,null,null,null,null,null,null,null,null,null,null,null,null,null,null,null,null,null,null,null,null,null,null,null,null,null,null,null,null,{"$f":"Ⅰ.構成メンバー名簿!C144","v":119},{"$f":"CELL(\"address\",Ⅰ.構成メンバー名簿!D144)","v":"'[◆52関東　出場申込書.xlsm]Ⅰ.構成メンバー名簿'!$D$144"},"Ⅰ.構成メンバー名簿","D144"]
[null,null,null,null,null,null,null,null,null,null,null,null,null,null,null,null,null,null,null,null,null,null,null,null,null,null,null,null,null,null,null,{"$f":"Ⅰ.構成メンバー名簿!C145","v":120},{"$f":"CELL(\"address\",Ⅰ.構成メンバー名簿!D145)","v":"'[◆52関東　出場申込書.xlsm]Ⅰ.構成メンバー名簿'!$D$145"},"Ⅰ.構成メンバー名簿","D145"]
[null,null,null,null,null,null,null,null,null,null,null,null,null,null,null,null,null,null,null,null,null,null,null,null,null,null,null,null,null,null,null,{"$f":"Ⅰ.構成メンバー名簿!C146","v":121},{"$f":"CELL(\"address\",Ⅰ.構成メンバー名簿!D146)","v":"'[◆52関東　出場申込書.xlsm]Ⅰ.構成メンバー名簿'!$D$146"},"Ⅰ.構成メンバー名簿","D146"]
[null,null,null,null,null,null,null,null,null,null,null,null,null,null,null,null,null,null,null,null,null,null,null,null,null,null,null,null,null,null,null,{"$f":"Ⅰ.構成メンバー名簿!C147","v":122},{"$f":"CELL(\"address\",Ⅰ.構成メンバー名簿!D147)","v":"'[◆52関東　出場申込書.xlsm]Ⅰ.構成メンバー名簿'!$D$147"},"Ⅰ.構成メンバー名簿","D147"]
[null,null,null,null,null,null,null,null,null,null,null,null,null,null,null,null,null,null,null,null,null,null,null,null,null,null,null,null,null,null,null,{"$f":"Ⅰ.構成メンバー名簿!C148","v":123},{"$f":"CELL(\"address\",Ⅰ.構成メンバー名簿!D148)","v":"'[◆52関東　出場申込書.xlsm]Ⅰ.構成メンバー名簿'!$D$148"},"Ⅰ.構成メンバー名簿","D148"]
[null,null,null,null,null,null,null,null,null,null,null,null,null,null,null,null,null,null,null,null,null,null,null,null,null,null,null,null,null,null,null,{"$f":"Ⅰ.構成メンバー名簿!C149","v":124},{"$f":"CELL(\"address\",Ⅰ.構成メンバー名簿!D149)","v":"'[◆52関東　出場申込書.xlsm]Ⅰ.構成メンバー名簿'!$D$149"},"Ⅰ.構成メンバー名簿","D149"]
[null,null,null,null,null,null,null,null,null,null,null,null,null,null,null,null,null,null,null,null,null,null,null,null,null,null,null,null,null,null,null,{"$f":"Ⅰ.構成メンバー名簿!C150","v":125},{"$f":"CELL(\"address\",Ⅰ.構成メンバー名簿!D150)","v":"'[◆52関東　出場申込書.xlsm]Ⅰ.構成メンバー名簿'!$D$150"},"Ⅰ.構成メンバー名簿","D150"]
[null,null,null,null,null,null,null,null,null,null,null,null,null,null,null,null,null,null,null,null,null,null,null,null,null,null,null,null,null,null,null,{"$f":"Ⅰ.構成メンバー名簿!C151","v":126},{"$f":"CELL(\"address\",Ⅰ.構成メンバー名簿!D151)","v":"'[◆52関東　出場申込書.xlsm]Ⅰ.構成メンバー名簿'!$D$151"},"Ⅰ.構成メンバー名簿","D151"]
[null,null,null,null,null,null,null,null,null,null,null,null,null,null,null,null,null,null,null,null,null,null,null,null,null,null,null,null,null,null,null,{"$f":"Ⅰ.構成メンバー名簿!C152","v":127},{"$f":"CELL(\"address\",Ⅰ.構成メンバー名簿!D152)","v":"'[◆52関東　出場申込書.xlsm]Ⅰ.構成メンバー名簿'!$D$152"},"Ⅰ.構成メンバー名簿","D152"]
[null,null,null,null,null,null,null,null,null,null,null,null,null,null,null,null,null,null,null,null,null,null,null,null,null,null,null,null,null,null,null,{"$f":"Ⅰ.構成メンバー名簿!C153","v":128},{"$f":"CELL(\"address\",Ⅰ.構成メンバー名簿!D153)","v":"'[◆52関東　出場申込書.xlsm]Ⅰ.構成メンバー名簿'!$D$153"},"Ⅰ.構成メンバー名簿","D153"]
[null,null,null,null,null,null,null,null,null,null,null,null,null,null,null,null,null,null,null,null,null,null,null,null,null,null,null,null,null,null,null,{"$f":"Ⅰ.構成メンバー名簿!C154","v":129},{"$f":"CELL(\"address\",Ⅰ.構成メンバー名簿!D154)","v":"'[◆52関東　出場申込書.xlsm]Ⅰ.構成メンバー名簿'!$D$154"},"Ⅰ.構成メンバー名簿","D154"]
[null,null,null,null,null,null,null,null,null,null,null,null,null,null,null,null,null,null,null,null,null,null,null,null,null,null,null,null,null,null,null,{"$f":"Ⅰ.構成メンバー名簿!C155","v":130},{"$f":"CELL(\"address\",Ⅰ.構成メンバー名簿!D155)","v":"'[◆52関東　出場申込書.xlsm]Ⅰ.構成メンバー名簿'!$D$155"},"Ⅰ.構成メンバー名簿","D155"]
[null,null,null,null,null,null,null,null,null,null,null,null,null,null,null,null,null,null,null,null,null,null,null,null,null,null,null,null,null,null,null,{"$f":"Ⅰ.構成メンバー名簿!C156","v":131},{"$f":"CELL(\"address\",Ⅰ.構成メンバー名簿!D156)","v":"'[◆52関東　出場申込書.xlsm]Ⅰ.構成メンバー名簿'!$D$156"},"Ⅰ.構成メンバー名簿","D156"]
[null,null,null,null,null,null,null,null,null,null,null,null,null,null,null,null,null,null,null,null,null,null,null,null,null,null,null,null,null,null,null,{"$f":"Ⅰ.構成メンバー名簿!C157","v":132},{"$f":"CELL(\"address\",Ⅰ.構成メンバー名簿!D157)","v":"'[◆52関東　出場申込書.xlsm]Ⅰ.構成メンバー名簿'!$D$157"},"Ⅰ.構成メンバー名簿","D157"]
[null,null,null,null,null,null,null,null,null,null,null,null,null,null,null,null,null,null,null,null,null,null,null,null,null,null,null,null,null,null,null,{"$f":"Ⅰ.構成メンバー名簿!C158","v":133},{"$f":"CELL(\"address\",Ⅰ.構成メンバー名簿!D158)","v":"'[◆52関東　出場申込書.xlsm]Ⅰ.構成メンバー名簿'!$D$158"},"Ⅰ.構成メンバー名簿","D158"]
[null,null,null,null,null,null,null,null,null,null,null,null,null,null,null,null,null,null,null,null,null,null,null,null,null,null,null,null,null,null,null,{"$f":"Ⅰ.構成メンバー名簿!C159","v":134},{"$f":"CELL(\"address\",Ⅰ.構成メンバー名簿!D159)","v":"'[◆52関東　出場申込書.xlsm]Ⅰ.構成メンバー名簿'!$D$159"},"Ⅰ.構成メンバー名簿","D159"]
[null,null,null,null,null,null,null,null,null,null,null,null,null,null,null,null,null,null,null,null,null,null,null,null,null,null,null,null,null,null,null,{"$f":"Ⅰ.構成メンバー名簿!C160","v":135},{"$f":"CELL(\"address\",Ⅰ.構成メンバー名簿!D160)","v":"'[◆52関東　出場申込書.xlsm]Ⅰ.構成メンバー名簿'!$D$160"},"Ⅰ.構成メンバー名簿","D160"]
[null,null,null,null,null,null,null,null,null,null,null,null,null,null,null,null,null,null,null,null,null,null,null,null,null,null,null,null,null,null,null,{"$f":"Ⅰ.構成メンバー名簿!C161","v":136},{"$f":"CELL(\"address\",Ⅰ.構成メンバー名簿!D161)","v":"'[◆52関東　出場申込書.xlsm]Ⅰ.構成メンバー名簿'!$D$161"},"Ⅰ.構成メンバー名簿","D161"]
[null,null,null,null,null,null,null,null,null,null,null,null,null,null,null,null,null,null,null,null,null,null,null,null,null,null,null,null,null,null,null,{"$f":"Ⅰ.構成メンバー名簿!C162","v":137},{"$f":"CELL(\"address\",Ⅰ.構成メンバー名簿!D162)","v":"'[◆52関東　出場申込書.xlsm]Ⅰ.構成メンバー名簿'!$D$162"},"Ⅰ.構成メンバー名簿","D162"]
[null,null,null,null,null,null,null,null,null,null,null,null,null,null,null,null,null,null,null,null,null,null,null,null,null,null,null,null,null,null,null,{"$f":"Ⅰ.構成メンバー名簿!C163","v":138},{"$f":"CELL(\"address\",Ⅰ.構成メンバー名簿!D163)","v":"'[◆52関東　出場申込書.xlsm]Ⅰ.構成メンバー名簿'!$D$163"},"Ⅰ.構成メンバー名簿","D163"]
[null,null,null,null,null,null,null,null,null,null,null,null,null,null,null,null,null,null,null,null,null,null,null,null,null,null,null,null,null,null,null,{"$f":"Ⅰ.構成メンバー名簿!C164","v":139},{"$f":"CELL(\"address\",Ⅰ.構成メンバー名簿!D164)","v":"'[◆52関東　出場申込書.xlsm]Ⅰ.構成メンバー名簿'!$D$164"},{"$f":"SUBSTITUTE(LEFT(RIGHT(AG151,LEN(AG151)-FIND(\"]\",AG151)),FIND(\"!\",RIGHT(AG151,LEN(AG151)-FIND(\"]\",AG151)))-1),\"'\",\"\")","v":"Ⅰ.構成メンバー名簿"},"D164"]
[null,null,null,null,null,null,null,null,null,null,null,null,null,null,null,null,null,null,null,null,null,null,null,null,null,null,null,null,null,null,null,{"$f":"Ⅰ.構成メンバー名簿!C165","v":140},{"$f":"CELL(\"address\",Ⅰ.構成メンバー名簿!D165)","v":"'[◆52関東　出場申込書.xlsm]Ⅰ.構成メンバー名簿'!$D$165"},"Ⅰ.構成メンバー名簿","D165"]
[null,null,null,null,null,null,null,null,null,null,null,null,null,null,null,null,null,null,null,null,null,null,null,null,null,null,null,null,null,null,null,{"$f":"Ⅰ.構成メンバー名簿!C166","v":141},{"$f":"CELL(\"address\",Ⅰ.構成メンバー名簿!D166)","v":"'[◆52関東　出場申込書.xlsm]Ⅰ.構成メンバー名簿'!$D$166"},"Ⅰ.構成メンバー名簿","D166"]
[null,null,null,null,null,null,null,null,null,null,null,null,null,null,null,null,null,null,null,null,null,null,null,null,null,null,null,null,null,null,null,{"$f":"Ⅰ.構成メンバー名簿!C167","v":142},{"$f":"CELL(\"address\",Ⅰ.構成メンバー名簿!D167)","v":"'[◆52関東　出場申込書.xlsm]Ⅰ.構成メンバー名簿'!$D$167"},"Ⅰ.構成メンバー名簿","D167"]
[null,null,null,null,null,null,null,null,null,null,null,null,null,null,null,null,null,null,null,null,null,null,null,null,null,null,null,null,null,null,null,{"$f":"Ⅰ.構成メンバー名簿!C168","v":143},{"$f":"CELL(\"address\",Ⅰ.構成メンバー名簿!D168)","v":"'[◆52関東　出場申込書.xlsm]Ⅰ.構成メンバー名簿'!$D$168"},"Ⅰ.構成メンバー名簿","D168"]
[null,null,null,null,null,null,null,null,null,null,null,null,null,null,null,null,null,null,null,null,null,null,null,null,null,null,null,null,null,null,null,{"$f":"Ⅰ.構成メンバー名簿!C169","v":144},{"$f":"CELL(\"address\",Ⅰ.構成メンバー名簿!D169)","v":"'[◆52関東　出場申込書.xlsm]Ⅰ.構成メンバー名簿'!$D$169"},"Ⅰ.構成メンバー名簿","D169"]
[null,null,null,null,null,null,null,null,null,null,null,null,null,null,null,null,null,null,null,null,null,null,null,null,null,null,null,null,null,null,null,{"$f":"Ⅰ.構成メンバー名簿!C170","v":145},{"$f":"CELL(\"address\",Ⅰ.構成メンバー名簿!D170)","v":"'[◆52関東　出場申込書.xlsm]Ⅰ.構成メンバー名簿'!$D$170"},"Ⅰ.構成メンバー名簿","D170"]
[null,null,null,null,null,null,null,null,null,null,null,null,null,null,null,null,null,null,null,null,null,null,null,null,null,null,null,null,null,null,null,{"$f":"Ⅰ.構成メンバー名簿!C171","v":146},{"$f":"CELL(\"address\",Ⅰ.構成メンバー名簿!D171)","v":"'[◆52関東　出場申込書.xlsm]Ⅰ.構成メンバー名簿'!$D$171"},"Ⅰ.構成メンバー名簿","D171"]
[null,null,null,null,null,null,null,null,null,null,null,null,null,null,null,null,null,null,null,null,null,null,null,null,null,null,null,null,null,null,null,{"$f":"Ⅰ.構成メンバー名簿!C172","v":147},{"$f":"CELL(\"address\",Ⅰ.構成メンバー名簿!D172)","v":"'[◆52関東　出場申込書.xlsm]Ⅰ.構成メンバー名簿'!$D$172"},"Ⅰ.構成メンバー名簿","D172"]
[null,null,null,null,null,null,null,null,null,null,null,null,null,null,null,null,null,null,null,null,null,null,null,null,null,null,null,null,null,null,null,{"$f":"Ⅰ.構成メンバー名簿!C173","v":148},{"$f":"CELL(\"address\",Ⅰ.構成メンバー名簿!D173)","v":"'[◆52関東　出場申込書.xlsm]Ⅰ.構成メンバー名簿'!$D$173"},"Ⅰ.構成メンバー名簿","D173"]
[null,null,null,null,null,null,null,null,null,null,null,null,null,null,null,null,null,null,null,null,null,null,null,null,null,null,null,null,null,null,null,{"$f":"Ⅰ.構成メンバー名簿!C174","v":149},{"$f":"CELL(\"address\",Ⅰ.構成メンバー名簿!D174)","v":"'[◆52関東　出場申込書.xlsm]Ⅰ.構成メンバー名簿'!$D$174"},"Ⅰ.構成メンバー名簿","D174"]
[null,null,null,null,null,null,null,null,null,null,null,null,null,null,null,null,null,null,null,null,null,null,null,null,null,null,null,null,null,null,null,{"$f":"Ⅰ.構成メンバー名簿!C175","v":150},{"$f":"CELL(\"address\",Ⅰ.構成メンバー名簿!D175)","v":"'[◆52関東　出場申込書.xlsm]Ⅰ.構成メンバー名簿'!$D$175"},"Ⅰ.構成メンバー名簿","D175"]
[null,null,null,null,null,null,null,null,null,null,null,null,null,null,null,null,null,null,null,null,null,null,null,null,null,null,null,null,null,null,null,{"$f":"Ⅰ.構成メンバー名簿!C176","v":151},{"$f":"CELL(\"address\",Ⅰ.構成メンバー名簿!D176)","v":"'[◆52関東　出場申込書.xlsm]Ⅰ.構成メンバー名簿'!$D$176"},"Ⅰ.構成メンバー名簿","D176"]
[null,null,null,null,null,null,null,null,null,null,null,null,null,null,null,null,null,null,null,null,null,null,null,null,null,null,null,null,null,null,null,{"$f":"Ⅰ.構成メンバー名簿!C177","v":152},{"$f":"CELL(\"address\",Ⅰ.構成メンバー名簿!D177)","v":"'[◆52関東　出場申込書.xlsm]Ⅰ.構成メンバー名簿'!$D$177"},"Ⅰ.構成メンバー名簿","D177"]
[null,null,null,null,null,null,null,null,null,null,null,null,null,null,null,null,null,null,null,null,null,null,null,null,null,null,null,null,null,null,null,{"$f":"Ⅰ.構成メンバー名簿!C178","v":153},{"$f":"CELL(\"address\",Ⅰ.構成メンバー名簿!D178)","v":"'[◆52関東　出場申込書.xlsm]Ⅰ.構成メンバー名簿'!$D$178"},"Ⅰ.構成メンバー名簿","D178"]
[null,null,null,null,null,null,null,null,null,null,null,null,null,null,null,null,null,null,null,null,null,null,null,null,null,null,null,null,null,null,null,{"$f":"Ⅰ.構成メンバー名簿!C179","v":154},{"$f":"CELL(\"address\",Ⅰ.構成メンバー名簿!D179)","v":"'[◆52関東　出場申込書.xlsm]Ⅰ.構成メンバー名簿'!$D$179"},"Ⅰ.構成メンバー名簿","D179"]
[null,null,null,null,null,null,null,null,null,null,null,null,null,null,null,null,null,null,null,null,null,null,null,null,null,null,null,null,null,null,null,{"$f":"Ⅰ.構成メンバー名簿!C180","v":155},{"$f":"CELL(\"address\",Ⅰ.構成メンバー名簿!D180)","v":"'[◆52関東　出場申込書.xlsm]Ⅰ.構成メンバー名簿'!$D$180"},"Ⅰ.構成メンバー名簿","D180"]
[null,null,null,null,null,null,null,null,null,null,null,null,null,null,null,null,null,null,null,null,null,null,null,null,null,null,null,null,null,null,null,{"$f":"Ⅰ.構成メンバー名簿!C181","v":156},{"$f":"CELL(\"address\",Ⅰ.構成メンバー名簿!D181)","v":"'[◆52関東　出場申込書.xlsm]Ⅰ.構成メンバー名簿'!$D$181"},"Ⅰ.構成メンバー名簿","D181"]
[null,null,null,null,null,null,null,null,null,null,null,null,null,null,null,null,null,null,null,null,null,null,null,null,null,null,null,null,null,null,null,{"$f":"Ⅰ.構成メンバー名簿!C182","v":157},{"$f":"CELL(\"address\",Ⅰ.構成メンバー名簿!D182)","v":"'[◆52関東　出場申込書.xlsm]Ⅰ.構成メンバー名簿'!$D$182"},"Ⅰ.構成メンバー名簿","D182"]
[null,null,null,null,null,null,null,null,null,null,null,null,null,null,null,null,null,null,null,null,null,null,null,null,null,null,null,null,null,null,null,{"$f":"Ⅰ.構成メンバー名簿!C183","v":158},{"$f":"CELL(\"address\",Ⅰ.構成メンバー名簿!D183)","v":"'[◆52関東　出場申込書.xlsm]Ⅰ.構成メンバー名簿'!$D$183"},"Ⅰ.構成メンバー名簿","D183"]
[null,null,null,null,null,null,null,null,null,null,null,null,null,null,null,null,null,null,null,null,null,null,null,null,null,null,null,null,null,null,null,{"$f":"Ⅰ.構成メンバー名簿!C184","v":159},{"$f":"CELL(\"address\",Ⅰ.構成メンバー名簿!D184)","v":"'[◆52関東　出場申込書.xlsm]Ⅰ.構成メンバー名簿'!$D$184"},"Ⅰ.構成メンバー名簿",{"$f":"SUBSTITUTE(RIGHT(AG171,LEN(AG171)-FIND(\"!\",AG171)),\"$\",\"\")","v":"D184"}]
[null,null,null,null,null,null,null,null,null,null,null,null,null,null,null,null,null,null,null,null,null,null,null,null,null,null,null,null,null,null,null,{"$f":"Ⅰ.構成メンバー名簿!C185","v":160},{"$f":"CELL(\"address\",Ⅰ.構成メンバー名簿!D185)","v":"'[◆52関東　出場申込書.xlsm]Ⅰ.構成メンバー名簿'!$D$185"},"Ⅰ.構成メンバー名簿","D185"]
[null,null,null,null,null,null,null,null,null,null,null,null,null,null,null,null,null,null,null,null,null,null,null,null,null,null,null,null,null,null,null,{"$f":"Ⅰ.構成メンバー名簿!C186","v":161},{"$f":"CELL(\"address\",Ⅰ.構成メンバー名簿!D186)","v":"'[◆52関東　出場申込書.xlsm]Ⅰ.構成メンバー名簿'!$D$186"},"Ⅰ.構成メンバー名簿","D186"]
[null,null,null,null,null,null,null,null,null,null,null,null,null,null,null,null,null,null,null,null,null,null,null,null,null,null,null,null,null,null,null,{"$f":"Ⅰ.構成メンバー名簿!C187","v":162},{"$f":"CELL(\"address\",Ⅰ.構成メンバー名簿!D187)","v":"'[◆52関東　出場申込書.xlsm]Ⅰ.構成メンバー名簿'!$D$187"},"Ⅰ.構成メンバー名簿","D187"]
[null,null,null,null,null,null,null,null,null,null,null,null,null,null,null,null,null,null,null,null,null,null,null,null,null,null,null,null,null,null,null,{"$f":"Ⅰ.構成メンバー名簿!C188","v":163},{"$f":"CELL(\"address\",Ⅰ.構成メンバー名簿!D188)","v":"'[◆52関東　出場申込書.xlsm]Ⅰ.構成メンバー名簿'!$D$188"},"Ⅰ.構成メンバー名簿","D188"]
[null,null,null,null,null,null,null,null,null,null,null,null,null,null,null,null,null,null,null,null,null,null,null,null,null,null,null,null,null,null,null,{"$f":"Ⅰ.構成メンバー名簿!C189","v":164},{"$f":"CELL(\"address\",Ⅰ.構成メンバー名簿!D189)","v":"'[◆52関東　出場申込書.xlsm]Ⅰ.構成メンバー名簿'!$D$189"},"Ⅰ.構成メンバー名簿","D189"]
[null,null,null,null,null,null,null,null,null,null,null,null,null,null,null,null,null,null,null,null,null,null,null,null,null,null,null,null,null,null,null,{"$f":"Ⅰ.構成メンバー名簿!C190","v":165},{"$f":"CELL(\"address\",Ⅰ.構成メンバー名簿!D190)","v":"'[◆52関東　出場申込書.xlsm]Ⅰ.構成メンバー名簿'!$D$190"},"Ⅰ.構成メンバー名簿","D190"]
[null,null,null,null,null,null,null,null,null,null,null,null,null,null,null,null,null,null,null,null,null,null,null,null,null,null,null,null,null,null,null,{"$f":"Ⅰ.構成メンバー名簿!C191","v":166},{"$f":"CELL(\"address\",Ⅰ.構成メンバー名簿!D191)","v":"'[◆52関東　出場申込書.xlsm]Ⅰ.構成メンバー名簿'!$D$191"},"Ⅰ.構成メンバー名簿","D191"]
[null,null,null,null,null,null,null,null,null,null,null,null,null,null,null,null,null,null,null,null,null,null,null,null,null,null,null,null,null,null,null,{"$f":"Ⅰ.構成メンバー名簿!C192","v":167},{"$f":"CELL(\"address\",Ⅰ.構成メンバー名簿!D192)","v":"'[◆52関東　出場申込書.xlsm]Ⅰ.構成メンバー名簿'!$D$192"},"Ⅰ.構成メンバー名簿","D192"]
[null,null,null,null,null,null,null,null,null,null,null,null,null,null,null,null,null,null,null,null,null,null,null,null,null,null,null,null,null,null,null,{"$f":"Ⅰ.構成メンバー名簿!C193","v":168},{"$f":"CELL(\"address\",Ⅰ.構成メンバー名簿!D193)","v":"'[◆52関東　出場申込書.xlsm]Ⅰ.構成メンバー名簿'!$D$193"},"Ⅰ.構成メンバー名簿","D193"]
[null,null,null,null,null,null,null,null,null,null,null,null,null,null,null,null,null,null,null,null,null,null,null,null,null,null,null,null,null,null,null,{"$f":"Ⅰ.構成メンバー名簿!C194","v":169},{"$f":"CELL(\"address\",Ⅰ.構成メンバー名簿!D194)","v":"'[◆52関東　出場申込書.xlsm]Ⅰ.構成メンバー名簿'!$D$194"},"Ⅰ.構成メンバー名簿","D194"]
[null,null,null,null,null,null,null,null,null,null,null,null,null,null,null,null,null,null,null,null,null,null,null,null,null,null,null,null,null,null,null,{"$f":"Ⅰ.構成メンバー名簿!C195","v":170},{"$f":"CELL(\"address\",Ⅰ.構成メンバー名簿!D195)","v":"'[◆52関東　出場申込書.xlsm]Ⅰ.構成メンバー名簿'!$D$195"},"Ⅰ.構成メンバー名簿","D195"]
[null,null,null,null,null,null,null,null,null,null,null,null,null,null,null,null,null,null,null,null,null,null,null,null,null,null,null,null,null,null,null,{"$f":"Ⅰ.構成メンバー名簿!C196","v":171},{"$f":"CELL(\"address\",Ⅰ.構成メンバー名簿!D196)","v":"'[◆52関東　出場申込書.xlsm]Ⅰ.構成メンバー名簿'!$D$196"},"Ⅰ.構成メンバー名簿","D196"]
[null,null,null,null,null,null,null,null,null,null,null,null,null,null,null,null,null,null,null,null,null,null,null,null,null,null,null,null,null,null,null,{"$f":"Ⅰ.構成メンバー名簿!C197","v":172},{"$f":"CELL(\"address\",Ⅰ.構成メンバー名簿!D197)","v":"'[◆52関東　出場申込書.xlsm]Ⅰ.構成メンバー名簿'!$D$197"},"Ⅰ.構成メンバー名簿","D197"]
[null,null,null,null,null,null,null,null,null,null,null,null,null,null,null,null,null,null,null,null,null,null,null,null,null,null,null,null,null,null,null,{"$f":"Ⅰ.構成メンバー名簿!C198","v":173},{"$f":"CELL(\"address\",Ⅰ.構成メンバー名簿!D198)","v":"'[◆52関東　出場申込書.xlsm]Ⅰ.構成メンバー名簿'!$D$198"},"Ⅰ.構成メンバー名簿","D198"]
[null,null,null,null,null,null,null,null,null,null,null,null,null,null,null,null,null,null,null,null,null,null,null,null,null,null,null,null,null,null,null,{"$f":"Ⅰ.構成メンバー名簿!C199","v":174},{"$f":"CELL(\"address\",Ⅰ.構成メンバー名簿!D199)","v":"'[◆52関東　出場申込書.xlsm]Ⅰ.構成メンバー名簿'!$D$199"},"Ⅰ.構成メンバー名簿","D199"]
[null,null,null,null,null,null,null,null,null,null,null,null,null,null,null,null,null,null,null,null,null,null,null,null,null,null,null,null,null,null,null,{"$f":"Ⅰ.構成メンバー名簿!C200","v":175},{"$f":"CELL(\"address\",Ⅰ.構成メンバー名簿!D200)","v":"'[◆52関東　出場申込書.xlsm]Ⅰ.構成メンバー名簿'!$D$200"},"Ⅰ.構成メンバー名簿","D200"]
[null,null,null,null,null,null,null,null,null,null,null,null,null,null,null,null,null,null,null,null,null,null,null,null,null,null,null,null,null,null,null,{"$f":"Ⅰ.構成メンバー名簿!C201","v":176},{"$f":"CELL(\"address\",Ⅰ.構成メンバー名簿!D201)","v":"'[◆52関東　出場申込書.xlsm]Ⅰ.構成メンバー名簿'!$D$201"},"Ⅰ.構成メンバー名簿","D201"]
[null,null,null,null,null,null,null,null,null,null,null,null,null,null,null,null,null,null,null,null,null,null,null,null,null,null,null,null,null,null,null,{"$f":"Ⅰ.構成メンバー名簿!C202","v":177},{"$f":"CELL(\"address\",Ⅰ.構成メンバー名簿!D202)","v":"'[◆52関東　出場申込書.xlsm]Ⅰ.構成メンバー名簿'!$D$202"},"Ⅰ.構成メンバー名簿","D202"]
[null,null,null,null,null,null,null,null,null,null,null,null,null,null,null,null,null,null,null,null,null,null,null,null,null,null,null,null,null,null,null,{"$f":"Ⅰ.構成メンバー名簿!C203","v":178},{"$f":"CELL(\"address\",Ⅰ.構成メンバー名簿!D203)","v":"'[◆52関東　出場申込書.xlsm]Ⅰ.構成メンバー名簿'!$D$203"},"Ⅰ.構成メンバー名簿","D203"]
[null,null,null,null,null,null,null,null,null,null,null,null,null,null,null,null,null,null,null,null,null,null,null,null,null,null,null,null,null,null,null,{"$f":"Ⅰ.構成メンバー名簿!C204","v":179},{"$f":"CELL(\"address\",Ⅰ.構成メンバー名簿!D204)","v":"'[◆52関東　出場申込書.xlsm]Ⅰ.構成メンバー名簿'!$D$204"},"Ⅰ.構成メンバー名簿","D204"]
[null,null,null,null,null,null,null,null,null,null,null,null,null,null,null,null,null,null,null,null,null,null,null,null,null,null,null,null,null,null,null,{"$f":"Ⅰ.構成メンバー名簿!C205","v":180},{"$f":"CELL(\"address\",Ⅰ.構成メンバー名簿!D205)","v":"'[◆52関東　出場申込書.xlsm]Ⅰ.構成メンバー名簿'!$D$205"},"Ⅰ.構成メンバー名簿","D205"]
[null,null,null,null,null,null,null,null,null,null,null,null,null,null,null,null,null,null,null,null,null,null,null,null,null,null,null,null,null,null,null,{"$f":"Ⅰ.構成メンバー名簿!C206","v":181},{"$f":"CELL(\"address\",Ⅰ.構成メンバー名簿!D206)","v":"'[◆52関東　出場申込書.xlsm]Ⅰ.構成メンバー名簿'!$D$206"},"Ⅰ.構成メンバー名簿","D206"]
[null,null,null,null,null,null,null,null,null,null,null,null,null,null,null,null,null,null,null,null,null,null,null,null,null,null,null,null,null,null,null,{"$f":"Ⅰ.構成メンバー名簿!C207","v":182},{"$f":"CELL(\"address\",Ⅰ.構成メンバー名簿!D207)","v":"'[◆52関東　出場申込書.xlsm]Ⅰ.構成メンバー名簿'!$D$207"},"Ⅰ.構成メンバー名簿","D207"]
[null,null,null,null,null,null,null,null,null,null,null,null,null,null,null,null,null,null,null,null,null,null,null,null,null,null,null,null,null,null,null,{"$f":"Ⅰ.構成メンバー名簿!C208","v":183},{"$f":"CELL(\"address\",Ⅰ.構成メンバー名簿!D208)","v":"'[◆52関東　出場申込書.xlsm]Ⅰ.構成メンバー名簿'!$D$208"},"Ⅰ.構成メンバー名簿","D208"]
[null,null,null,null,null,null,null,null,null,null,null,null,null,null,null,null,null,null,null,null,null,null,null,null,null,null,null,null,null,null,null,{"$f":"Ⅰ.構成メンバー名簿!C209","v":184},{"$f":"CELL(\"address\",Ⅰ.構成メンバー名簿!D209)","v":"'[◆52関東　出場申込書.xlsm]Ⅰ.構成メンバー名簿'!$D$209"},"Ⅰ.構成メンバー名簿","D209"]
[null,null,null,null,null,null,null,null,null,null,null,null,null,null,null,null,null,null,null,null,null,null,null,null,null,null,null,null,null,null,null,{"$f":"Ⅰ.構成メンバー名簿!C210","v":185},{"$f":"CELL(\"address\",Ⅰ.構成メンバー名簿!D210)","v":"'[◆52関東　出場申込書.xlsm]Ⅰ.構成メンバー名簿'!$D$210"},"Ⅰ.構成メンバー名簿","D210"]
[null,null,null,null,null,null,null,null,null,null,null,null,null,null,null,null,null,null,null,null,null,null,null,null,null,null,null,null,null,null,null,{"$f":"Ⅰ.構成メンバー名簿!C211","v":186},{"$f":"CELL(\"address\",Ⅰ.構成メンバー名簿!D211)","v":"'[◆52関東　出場申込書.xlsm]Ⅰ.構成メンバー名簿'!$D$211"},"Ⅰ.構成メンバー名簿","D211"]
[null,null,null,null,null,null,null,null,null,null,null,null,null,null,null,null,null,null,null,null,null,null,null,null,null,null,null,null,null,null,null,{"$f":"Ⅰ.構成メンバー名簿!C212","v":187},{"$f":"CELL(\"address\",Ⅰ.構成メンバー名簿!D212)","v":"'[◆52関東　出場申込書.xlsm]Ⅰ.構成メンバー名簿'!$D$212"},"Ⅰ.構成メンバー名簿","D212"]
[null,null,null,null,null,null,null,null,null,null,null,null,null,null,null,null,null,null,null,null,null,null,null,null,null,null,null,null,null,null,null,{"$f":"Ⅰ.構成メンバー名簿!C213","v":188},{"$f":"CELL(\"address\",Ⅰ.構成メンバー名簿!D213)","v":"'[◆52関東　出場申込書.xlsm]Ⅰ.構成メンバー名簿'!$D$213"},"Ⅰ.構成メンバー名簿","D213"]
[null,null,null,null,null,null,null,null,null,null,null,null,null,null,null,null,null,null,null,null,null,null,null,null,null,null,null,null,null,null,null,{"$f":"Ⅰ.構成メンバー名簿!C214","v":189},{"$f":"CELL(\"address\",Ⅰ.構成メンバー名簿!D214)","v":"'[◆52関東　出場申込書.xlsm]Ⅰ.構成メンバー名簿'!$D$214"},"Ⅰ.構成メンバー名簿","D214"]
[null,null,null,null,null,null,null,null,null,null,null,null,null,null,null,null,null,null,null,null,null,null,null,null,null,null,null,null,null,null,null,{"$f":"Ⅰ.構成メンバー名簿!C215","v":190},{"$f":"CELL(\"address\",Ⅰ.構成メンバー名簿!D215)","v":"'[◆52関東　出場申込書.xlsm]Ⅰ.構成メンバー名簿'!$D$215"},"Ⅰ.構成メンバー名簿","D215"]
[null,null,null,null,null,null,null,null,null,null,null,null,null,null,null,null,null,null,null,null,null,null,null,null,null,null,null,null,null,null,null,{"$f":"Ⅰ.構成メンバー名簿!C216","v":191},{"$f":"CELL(\"address\",Ⅰ.構成メンバー名簿!D216)","v":"'[◆52関東　出場申込書.xlsm]Ⅰ.構成メンバー名簿'!$D$216"},"Ⅰ.構成メンバー名簿","D216"]
[null,null,null,null,null,null,null,null,null,null,null,null,null,null,null,null,null,null,null,null,null,null,null,null,null,null,null,null,null,null,null,{"$f":"Ⅰ.構成メンバー名簿!C217","v":192},{"$f":"CELL(\"address\",Ⅰ.構成メンバー名簿!D217)","v":"'[◆52関東　出場申込書.xlsm]Ⅰ.構成メンバー名簿'!$D$217"},"Ⅰ.構成メンバー名簿","D217"]
[null,null,null,null,null,null,null,null,null,null,null,null,null,null,null,null,null,null,null,null,null,null,null,null,null,null,null,null,null,null,null,{"$f":"Ⅰ.構成メンバー名簿!C218","v":193},{"$f":"CELL(\"address\",Ⅰ.構成メンバー名簿!D218)","v":"'[◆52関東　出場申込書.xlsm]Ⅰ.構成メンバー名簿'!$D$218"},"Ⅰ.構成メンバー名簿","D218"]
[null,null,null,null,null,null,null,null,null,null,null,null,null,null,null,null,null,null,null,null,null,null,null,null,null,null,null,null,null,null,null,{"$f":"Ⅰ.構成メンバー名簿!C219","v":194},{"$f":"CELL(\"address\",Ⅰ.構成メンバー名簿!D219)","v":"'[◆52関東　出場申込書.xlsm]Ⅰ.構成メンバー名簿'!$D$219"},"Ⅰ.構成メンバー名簿","D219"]
[null,null,null,null,null,null,null,null,null,null,null,null,null,null,null,null,null,null,null,null,null,null,null,null,null,null,null,null,null,null,null,{"$f":"Ⅰ.構成メンバー名簿!C220","v":195},{"$f":"CELL(\"address\",Ⅰ.構成メンバー名簿!D220)","v":"'[◆52関東　出場申込書.xlsm]Ⅰ.構成メンバー名簿'!$D$220"},"Ⅰ.構成メンバー名簿","D220"]
[null,null,null,null,null,null,null,null,null,null,null,null,null,null,null,null,null,null,null,null,null,null,null,null,null,null,null,null,null,null,null,{"$f":"Ⅰ.構成メンバー名簿!C221","v":196},{"$f":"CELL(\"address\",Ⅰ.構成メンバー名簿!D221)","v":"'[◆52関東　出場申込書.xlsm]Ⅰ.構成メンバー名簿'!$D$221"},"Ⅰ.構成メンバー名簿","D221"]
[null,null,null,null,null,null,null,null,null,null,null,null,null,null,null,null,null,null,null,null,null,null,null,null,null,null,null,null,null,null,null,{"$f":"Ⅰ.構成メンバー名簿!C222","v":197},{"$f":"CELL(\"address\",Ⅰ.構成メンバー名簿!D222)","v":"'[◆52関東　出場申込書.xlsm]Ⅰ.構成メンバー名簿'!$D$222"},"Ⅰ.構成メンバー名簿","D222"]
[null,null,null,null,null,null,null,null,null,null,null,null,null,null,null,null,null,null,null,null,null,null,null,null,null,null,null,null,null,null,null,{"$f":"Ⅰ.構成メンバー名簿!C223","v":198},{"$f":"CELL(\"address\",Ⅰ.構成メンバー名簿!D223)","v":"'[◆52関東　出場申込書.xlsm]Ⅰ.構成メンバー名簿'!$D$223"},"Ⅰ.構成メンバー名簿","D223"]
[null,null,null,null,null,null,null,null,null,null,null,null,null,null,null,null,null,null,null,null,null,null,null,null,null,null,null,null,null,null,null,{"$f":"Ⅰ.構成メンバー名簿!C224","v":199},{"$f":"CELL(\"address\",Ⅰ.構成メンバー名簿!D224)","v":"'[◆52関東　出場申込書.xlsm]Ⅰ.構成メンバー名簿'!$D$224"},"Ⅰ.構成メンバー名簿","D224"]
[null,null,null,null,null,null,null,null,null,null,null,null,null,null,null,null,null,null,null,null,null,null,null,null,null,null,null,null,null,null,null,{"$f":"Ⅰ.構成メンバー名簿!C225","v":200},{"$f":"CELL(\"address\",Ⅰ.構成メンバー名簿!D225)","v":"'[◆52関東　出場申込書.xlsm]Ⅰ.構成メンバー名簿'!$D$225"},"Ⅰ.構成メンバー名簿","D225"]
[null,null,null,null,null,null,null,null,null,null,null,null,null,null,null,null,null,null,null,null,null,null,null,null,null,null,null,null,null,null,null,{"$f":"Ⅰ.構成メンバー名簿!C226","v":201},{"$f":"CELL(\"address\",Ⅰ.構成メンバー名簿!D226)","v":"'[◆52関東　出場申込書.xlsm]Ⅰ.構成メンバー名簿'!$D$226"},"Ⅰ.構成メンバー名簿","D226"]
[null,null,null,null,null,null,null,null,null,null,null,null,null,null,null,null,null,null,null,null,null,null,null,null,null,null,null,null,null,null,null,{"$f":"Ⅰ.構成メンバー名簿!C227","v":202},{"$f":"CELL(\"address\",Ⅰ.構成メンバー名簿!D227)","v":"'[◆52関東　出場申込書.xlsm]Ⅰ.構成メンバー名簿'!$D$227"},"Ⅰ.構成メンバー名簿","D227"]
[null,null,null,null,null,null,null,null,null,null,null,null,null,null,null,null,null,null,null,null,null,null,null,null,null,null,null,null,null,null,null,{"$f":"Ⅰ.構成メンバー名簿!C228","v":203},{"$f":"CELL(\"address\",Ⅰ.構成メンバー名簿!D228)","v":"'[◆52関東　出場申込書.xlsm]Ⅰ.構成メンバー名簿'!$D$228"},{"$f":"SUBSTITUTE(LEFT(RIGHT(AG215,LEN(AG215)-FIND(\"]\",AG215)),FIND(\"!\",RIGHT(AG215,LEN(AG215)-FIND(\"]\",AG215)))-1),\"'\",\"\")","v":"Ⅰ.構成メンバー名簿"},"D228"]
[null,null,null,null,null,null,null,null,null,null,null,null,null,null,null,null,null,null,null,null,null,null,null,null,null,null,null,null,null,null,null,{"$f":"Ⅰ.構成メンバー名簿!C229","v":204},{"$f":"CELL(\"address\",Ⅰ.構成メンバー名簿!D229)","v":"'[◆52関東　出場申込書.xlsm]Ⅰ.構成メンバー名簿'!$D$229"},"Ⅰ.構成メンバー名簿","D229"]
[null,null,null,null,null,null,null,null,null,null,null,null,null,null,null,null,null,null,null,null,null,null,null,null,null,null,null,null,null,null,null,{"$f":"Ⅰ.構成メンバー名簿!C230","v":205},{"$f":"CELL(\"address\",Ⅰ.構成メンバー名簿!D230)","v":"'[◆52関東　出場申込書.xlsm]Ⅰ.構成メンバー名簿'!$D$230"},"Ⅰ.構成メンバー名簿","D230"]
[null,null,null,null,null,null,null,null,null,null,null,null,null,null,null,null,null,null,null,null,null,null,null,null,null,null,null,null,null,null,null,{"$f":"Ⅰ.構成メンバー名簿!C231","v":206},{"$f":"CELL(\"address\",Ⅰ.構成メンバー名簿!D231)","v":"'[◆52関東　出場申込書.xlsm]Ⅰ.構成メンバー名簿'!$D$231"},"Ⅰ.構成メンバー名簿","D231"]
[null,null,null,null,null,null,null,null,null,null,null,null,null,null,null,null,null,null,null,null,null,null,null,null,null,null,null,null,null,null,null,{"$f":"Ⅰ.構成メンバー名簿!C232","v":207},{"$f":"CELL(\"address\",Ⅰ.構成メンバー名簿!D232)","v":"'[◆52関東　出場申込書.xlsm]Ⅰ.構成メンバー名簿'!$D$232"},"Ⅰ.構成メンバー名簿","D232"]
[null,null,null,null,null,null,null,null,null,null,null,null,null,null,null,null,null,null,null,null,null,null,null,null,null,null,null,null,null,null,null,{"$f":"Ⅰ.構成メンバー名簿!C233","v":208},{"$f":"CELL(\"address\",Ⅰ.構成メンバー名簿!D233)","v":"'[◆52関東　出場申込書.xlsm]Ⅰ.構成メンバー名簿'!$D$233"},"Ⅰ.構成メンバー名簿","D233"]
[null,null,null,null,null,null,null,null,null,null,null,null,null,null,null,null,null,null,null,null,null,null,null,null,null,null,null,null,null,null,null,{"$f":"Ⅰ.構成メンバー名簿!C234","v":209},{"$f":"CELL(\"address\",Ⅰ.構成メンバー名簿!D234)","v":"'[◆52関東　出場申込書.xlsm]Ⅰ.構成メンバー名簿'!$D$234"},"Ⅰ.構成メンバー名簿","D234"]
[null,null,null,null,null,null,null,null,null,null,null,null,null,null,null,null,null,null,null,null,null,null,null,null,null,null,null,null,null,null,null,{"$f":"Ⅰ.構成メンバー名簿!C235","v":210},{"$f":"CELL(\"address\",Ⅰ.構成メンバー名簿!D235)","v":"'[◆52関東　出場申込書.xlsm]Ⅰ.構成メンバー名簿'!$D$235"},"Ⅰ.構成メンバー名簿","D235"]
[null,null,null,null,null,null,null,null,null,null,null,null,null,null,null,null,null,null,null,null,null,null,null,null,null,null,null,null,null,null,null,{"$f":"Ⅰ.構成メンバー名簿!C236","v":211},{"$f":"CELL(\"address\",Ⅰ.構成メンバー名簿!D236)","v":"'[◆52関東　出場申込書.xlsm]Ⅰ.構成メンバー名簿'!$D$236"},"Ⅰ.構成メンバー名簿","D236"]
[null,null,null,null,null,null,null,null,null,null,null,null,null,null,null,null,null,null,null,null,null,null,null,null,null,null,null,null,null,null,null,{"$f":"Ⅰ.構成メンバー名簿!C237","v":212},{"$f":"CELL(\"address\",Ⅰ.構成メンバー名簿!D237)","v":"'[◆52関東　出場申込書.xlsm]Ⅰ.構成メンバー名簿'!$D$237"},"Ⅰ.構成メンバー名簿","D237"]
[null,null,null,null,null,null,null,null,null,null,null,null,null,null,null,null,null,null,null,null,null,null,null,null,null,null,null,null,null,null,null,{"$f":"Ⅰ.構成メンバー名簿!C238","v":213},{"$f":"CELL(\"address\",Ⅰ.構成メンバー名簿!D238)","v":"'[◆52関東　出場申込書.xlsm]Ⅰ.構成メンバー名簿'!$D$238"},"Ⅰ.構成メンバー名簿","D238"]
[null,null,null,null,null,null,null,null,null,null,null,null,null,null,null,null,null,null,null,null,null,null,null,null,null,null,null,null,null,null,null,{"$f":"Ⅰ.構成メンバー名簿!C239","v":214},{"$f":"CELL(\"address\",Ⅰ.構成メンバー名簿!D239)","v":"'[◆52関東　出場申込書.xlsm]Ⅰ.構成メンバー名簿'!$D$239"},"Ⅰ.構成メンバー名簿","D239"]
[null,null,null,null,null,null,null,null,null,null,null,null,null,null,null,null,null,null,null,null,null,null,null,null,null,null,null,null,null,null,null,{"$f":"Ⅰ.構成メンバー名簿!C240","v":215},{"$f":"CELL(\"address\",Ⅰ.構成メンバー名簿!D240)","v":"'[◆52関東　出場申込書.xlsm]Ⅰ.構成メンバー名簿'!$D$240"},"Ⅰ.構成メンバー名簿","D240"]
[null,null,null,null,null,null,null,null,null,null,null,null,null,null,null,null,null,null,null,null,null,null,null,null,null,null,null,null,null,null,null,{"$f":"Ⅰ.構成メンバー名簿!C241","v":216},{"$f":"CELL(\"address\",Ⅰ.構成メンバー名簿!D241)","v":"'[◆52関東　出場申込書.xlsm]Ⅰ.構成メンバー名簿'!$D$241"},"Ⅰ.構成メンバー名簿","D241"]
[null,null,null,null,null,null,null,null,null,null,null,null,null,null,null,null,null,null,null,null,null,null,null,null,null,null,null,null,null,null,null,{"$f":"Ⅰ.構成メンバー名簿!C242","v":217},{"$f":"CELL(\"address\",Ⅰ.構成メンバー名簿!D242)","v":"'[◆52関東　出場申込書.xlsm]Ⅰ.構成メンバー名簿'!$D$242"},"Ⅰ.構成メンバー名簿","D242"]
[null,null,null,null,null,null,null,null,null,null,null,null,null,null,null,null,null,null,null,null,null,null,null,null,null,null,null,null,null,null,null,{"$f":"Ⅰ.構成メンバー名簿!C243","v":218},{"$f":"CELL(\"address\",Ⅰ.構成メンバー名簿!D243)","v":"'[◆52関東　出場申込書.xlsm]Ⅰ.構成メンバー名簿'!$D$243"},"Ⅰ.構成メンバー名簿","D243"]
[null,null,null,null,null,null,null,null,null,null,null,null,null,null,null,null,null,null,null,null,null,null,null,null,null,null,null,null,null,null,null,{"$f":"Ⅰ.構成メンバー名簿!C244","v":219},{"$f":"CELL(\"address\",Ⅰ.構成メンバー名簿!D244)","v":"'[◆52関東　出場申込書.xlsm]Ⅰ.構成メンバー名簿'!$D$244"},"Ⅰ.構成メンバー名簿","D244"]
[null,null,null,null,null,null,null,null,null,null,null,null,null,null,null,null,null,null,null,null,null,null,null,null,null,null,null,null,null,null,null,{"$f":"Ⅰ.構成メンバー名簿!C245","v":220},{"$f":"CELL(\"address\",Ⅰ.構成メンバー名簿!D245)","v":"'[◆52関東　出場申込書.xlsm]Ⅰ.構成メンバー名簿'!$D$245"},"Ⅰ.構成メンバー名簿","D245"]
[null,null,null,null,null,null,null,null,null,null,null,null,null,null,null,null,null,null,null,null,null,null,null,null,null,null,null,null,null,null,null,{"$f":"Ⅰ.構成メンバー名簿!C246","v":221},{"$f":"CELL(\"address\",Ⅰ.構成メンバー名簿!D246)","v":"'[◆52関東　出場申込書.xlsm]Ⅰ.構成メンバー名簿'!$D$246"},"Ⅰ.構成メンバー名簿","D246"]
[null,null,null,null,null,null,null,null,null,null,null,null,null,null,null,null,null,null,null,null,null,null,null,null,null,null,null,null,null,null,null,{"$f":"Ⅰ.構成メンバー名簿!C247","v":222},{"$f":"CELL(\"address\",Ⅰ.構成メンバー名簿!D247)","v":"'[◆52関東　出場申込書.xlsm]Ⅰ.構成メンバー名簿'!$D$247"},"Ⅰ.構成メンバー名簿","D247"]
[null,null,null,null,null,null,null,null,null,null,null,null,null,null,null,null,null,null,null,null,null,null,null,null,null,null,null,null,null,null,null,{"$f":"Ⅰ.構成メンバー名簿!C248","v":223},{"$f":"CELL(\"address\",Ⅰ.構成メンバー名簿!D248)","v":"'[◆52関東　出場申込書.xlsm]Ⅰ.構成メンバー名簿'!$D$248"},"Ⅰ.構成メンバー名簿",{"$f":"SUBSTITUTE(RIGHT(AG235,LEN(AG235)-FIND(\"!\",AG235)),\"$\",\"\")","v":"D248"}]
[null,null,null,null,null,null,null,null,null,null,null,null,null,null,null,null,null,null,null,null,null,null,null,null,null,null,null,null,null,null,null,{"$f":"Ⅰ.構成メンバー名簿!C249","v":224},{"$f":"CELL(\"address\",Ⅰ.構成メンバー名簿!D249)","v":"'[◆52関東　出場申込書.xlsm]Ⅰ.構成メンバー名簿'!$D$249"},"Ⅰ.構成メンバー名簿","D249"]
[null,null,null,null,null,null,null,null,null,null,null,null,null,null,null,null,null,null,null,null,null,null,null,null,null,null,null,null,null,null,null,{"$f":"Ⅰ.構成メンバー名簿!C250","v":225},{"$f":"CELL(\"address\",Ⅰ.構成メンバー名簿!D250)","v":"'[◆52関東　出場申込書.xlsm]Ⅰ.構成メンバー名簿'!$D$250"},"Ⅰ.構成メンバー名簿","D250"]
[null,null,null,null,null,null,null,null,null,null,null,null,null,null,null,null,null,null,null,null,null,null,null,null,null,null,null,null,null,null,null,{"$f":"Ⅰ.構成メンバー名簿!C251","v":226},{"$f":"CELL(\"address\",Ⅰ.構成メンバー名簿!D251)","v":"'[◆52関東　出場申込書.xlsm]Ⅰ.構成メンバー名簿'!$D$251"},"Ⅰ.構成メンバー名簿","D251"]
[null,null,null,null,null,null,null,null,null,null,null,null,null,null,null,null,null,null,null,null,null,null,null,null,null,null,null,null,null,null,null,{"$f":"Ⅰ.構成メンバー名簿!C252","v":227},{"$f":"CELL(\"address\",Ⅰ.構成メンバー名簿!D252)","v":"'[◆52関東　出場申込書.xlsm]Ⅰ.構成メンバー名簿'!$D$252"},"Ⅰ.構成メンバー名簿","D252"]
[null,null,null,null,null,null,null,null,null,null,null,null,null,null,null,null,null,null,null,null,null,null,null,null,null,null,null,null,null,null,null,{"$f":"Ⅰ.構成メンバー名簿!C253","v":228},{"$f":"CELL(\"address\",Ⅰ.構成メンバー名簿!D253)","v":"'[◆52関東　出場申込書.xlsm]Ⅰ.構成メンバー名簿'!$D$253"},"Ⅰ.構成メンバー名簿","D253"]
[null,null,null,null,null,null,null,null,null,null,null,null,null,null,null,null,null,null,null,null,null,null,null,null,null,null,null,null,null,null,null,{"$f":"Ⅰ.構成メンバー名簿!C254","v":229},{"$f":"CELL(\"address\",Ⅰ.構成メンバー名簿!D254)","v":"'[◆52関東　出場申込書.xlsm]Ⅰ.構成メンバー名簿'!$D$254"},"Ⅰ.構成メンバー名簿","D254"]
[null,null,null,null,null,null,null,null,null,null,null,null,null,null,null,null,null,null,null,null,null,null,null,null,null,null,null,null,null,null,null,{"$f":"Ⅰ.構成メンバー名簿!C255","v":230},{"$f":"CELL(\"address\",Ⅰ.構成メンバー名簿!D255)","v":"'[◆52関東　出場申込書.xlsm]Ⅰ.構成メンバー名簿'!$D$255"},"Ⅰ.構成メンバー名簿","D255"]
[null,null,null,null,null,null,null,null,null,null,null,null,null,null,null,null,null,null,null,null,null,null,null,null,null,null,null,null,null,null,null,{"$f":"Ⅰ.構成メンバー名簿!C256","v":231},{"$f":"CELL(\"address\",Ⅰ.構成メンバー名簿!D256)","v":"'[◆52関東　出場申込書.xlsm]Ⅰ.構成メンバー名簿'!$D$256"},"Ⅰ.構成メンバー名簿","D256"]
[null,null,null,null,null,null,null,null,null,null,null,null,null,null,null,null,null,null,null,null,null,null,null,null,null,null,null,null,null,null,null,{"$f":"Ⅰ.構成メンバー名簿!C257","v":232},{"$f":"CELL(\"address\",Ⅰ.構成メンバー名簿!D257)","v":"'[◆52関東　出場申込書.xlsm]Ⅰ.構成メンバー名簿'!$D$257"},"Ⅰ.構成メンバー名簿","D257"]
[null,null,null,null,null,null,null,null,null,null,null,null,null,null,null,null,null,null,null,null,null,null,null,null,null,null,null,null,null,null,null,{"$f":"Ⅰ.構成メンバー名簿!C258","v":233},{"$f":"CELL(\"address\",Ⅰ.構成メンバー名簿!D258)","v":"'[◆52関東　出場申込書.xlsm]Ⅰ.構成メンバー名簿'!$D$258"},"Ⅰ.構成メンバー名簿","D258"]
[null,null,null,null,null,null,null,null,null,null,null,null,null,null,null,null,null,null,null,null,null,null,null,null,null,null,null,null,null,null,null,{"$f":"Ⅰ.構成メンバー名簿!C259","v":234},{"$f":"CELL(\"address\",Ⅰ.構成メンバー名簿!D259)","v":"'[◆52関東　出場申込書.xlsm]Ⅰ.構成メンバー名簿'!$D$259"},"Ⅰ.構成メンバー名簿","D259"]
[null,null,null,null,null,null,null,null,null,null,null,null,null,null,null,null,null,null,null,null,null,null,null,null,null,null,null,null,null,null,null,{"$f":"Ⅰ.構成メンバー名簿!C260","v":235},{"$f":"CELL(\"address\",Ⅰ.構成メンバー名簿!D260)","v":"'[◆52関東　出場申込書.xlsm]Ⅰ.構成メンバー名簿'!$D$260"},"Ⅰ.構成メンバー名簿","D260"]
[null,null,null,null,null,null,null,null,null,null,null,null,null,null,null,null,null,null,null,null,null,null,null,null,null,null,null,null,null,null,null,{"$f":"Ⅰ.構成メンバー名簿!C261","v":236},{"$f":"CELL(\"address\",Ⅰ.構成メンバー名簿!D261)","v":"'[◆52関東　出場申込書.xlsm]Ⅰ.構成メンバー名簿'!$D$261"},"Ⅰ.構成メンバー名簿","D261"]
[null,null,null,null,null,null,null,null,null,null,null,null,null,null,null,null,null,null,null,null,null,null,null,null,null,null,null,null,null,null,null,{"$f":"Ⅰ.構成メンバー名簿!C262","v":237},{"$f":"CELL(\"address\",Ⅰ.構成メンバー名簿!D262)","v":"'[◆52関東　出場申込書.xlsm]Ⅰ.構成メンバー名簿'!$D$262"},"Ⅰ.構成メンバー名簿","D262"]
[null,null,null,null,null,null,null,null,null,null,null,null,null,null,null,null,null,null,null,null,null,null,null,null,null,null,null,null,null,null,null,{"$f":"Ⅰ.構成メンバー名簿!C263","v":238},{"$f":"CELL(\"address\",Ⅰ.構成メンバー名簿!D263)","v":"'[◆52関東　出場申込書.xlsm]Ⅰ.構成メンバー名簿'!$D$263"},"Ⅰ.構成メンバー名簿","D263"]
[null,null,null,null,null,null,null,null,null,null,null,null,null,null,null,null,null,null,null,null,null,null,null,null,null,null,null,null,null,null,null,{"$f":"Ⅰ.構成メンバー名簿!C264","v":239},{"$f":"CELL(\"address\",Ⅰ.構成メンバー名簿!D264)","v":"'[◆52関東　出場申込書.xlsm]Ⅰ.構成メンバー名簿'!$D$264"},"Ⅰ.構成メンバー名簿","D264"]
[null,null,null,null,null,null,null,null,null,null,null,null,null,null,null,null,null,null,null,null,null,null,null,null,null,null,null,null,null,null,null,{"$f":"Ⅰ.構成メンバー名簿!C265","v":240},{"$f":"CELL(\"address\",Ⅰ.構成メンバー名簿!D265)","v":"'[◆52関東　出場申込書.xlsm]Ⅰ.構成メンバー名簿'!$D$265"},"Ⅰ.構成メンバー名簿","D265"]
[null,null,null,null,null,null,null,null,null,null,null,null,null,null,null,null,null,null,null,null,null,null,null,null,null,null,null,null,null,null,null,{"$f":"Ⅰ.構成メンバー名簿!C266","v":241},{"$f":"CELL(\"address\",Ⅰ.構成メンバー名簿!D266)","v":"'[◆52関東　出場申込書.xlsm]Ⅰ.構成メンバー名簿'!$D$266"},"Ⅰ.構成メンバー名簿","D266"]
[null,null,null,null,null,null,null,null,null,null,null,null,null,null,null,null,null,null,null,null,null,null,null,null,null,null,null,null,null,null,null,{"$f":"Ⅰ.構成メンバー名簿!C267","v":242},{"$f":"CELL(\"address\",Ⅰ.構成メンバー名簿!D267)","v":"'[◆52関東　出場申込書.xlsm]Ⅰ.構成メンバー名簿'!$D$267"},"Ⅰ.構成メンバー名簿","D267"]
[null,null,null,null,null,null,null,null,null,null,null,null,null,null,null,null,null,null,null,null,null,null,null,null,null,null,null,null,null,null,null,{"$f":"Ⅰ.構成メンバー名簿!C268","v":243},{"$f":"CELL(\"address\",Ⅰ.構成メンバー名簿!D268)","v":"'[◆52関東　出場申込書.xlsm]Ⅰ.構成メンバー名簿'!$D$268"},"Ⅰ.構成メンバー名簿","D268"]
[null,null,null,null,null,null,null,null,null,null,null,null,null,null,null,null,null,null,null,null,null,null,null,null,null,null,null,null,null,null,null,{"$f":"Ⅰ.構成メンバー名簿!C269","v":244},{"$f":"CELL(\"address\",Ⅰ.構成メンバー名簿!D269)","v":"'[◆52関東　出場申込書.xlsm]Ⅰ.構成メンバー名簿'!$D$269"},"Ⅰ.構成メンバー名簿","D269"]
[null,null,null,null,null,null,null,null,null,null,null,null,null,null,null,null,null,null,null,null,null,null,null,null,null,null,null,null,null,null,null,{"$f":"Ⅰ.構成メンバー名簿!C270","v":245},{"$f":"CELL(\"address\",Ⅰ.構成メンバー名簿!D270)","v":"'[◆52関東　出場申込書.xlsm]Ⅰ.構成メンバー名簿'!$D$270"},"Ⅰ.構成メンバー名簿","D270"]
[null,null,null,null,null,null,null,null,null,null,null,null,null,null,null,null,null,null,null,null,null,null,null,null,null,null,null,null,null,null,null,{"$f":"Ⅰ.構成メンバー名簿!C271","v":246},{"$f":"CELL(\"address\",Ⅰ.構成メンバー名簿!D271)","v":"'[◆52関東　出場申込書.xlsm]Ⅰ.構成メンバー名簿'!$D$271"},"Ⅰ.構成メンバー名簿","D271"]
[null,null,null,null,null,null,null,null,null,null,null,null,null,null,null,null,null,null,null,null,null,null,null,null,null,null,null,null,null,null,null,{"$f":"Ⅰ.構成メンバー名簿!C272","v":247},{"$f":"CELL(\"address\",Ⅰ.構成メンバー名簿!D272)","v":"'[◆52関東　出場申込書.xlsm]Ⅰ.構成メンバー名簿'!$D$272"},"Ⅰ.構成メンバー名簿","D272"]
[null,null,null,null,null,null,null,null,null,null,null,null,null,null,null,null,null,null,null,null,null,null,null,null,null,null,null,null,null,null,null,{"$f":"Ⅰ.構成メンバー名簿!C273","v":248},{"$f":"CELL(\"address\",Ⅰ.構成メンバー名簿!D273)","v":"'[◆52関東　出場申込書.xlsm]Ⅰ.構成メンバー名簿'!$D$273"},"Ⅰ.構成メンバー名簿","D273"]
[null,null,null,null,null,null,null,null,null,null,null,null,null,null,null,null,null,null,null,null,null,null,null,null,null,null,null,null,null,null,null,{"$f":"Ⅰ.構成メンバー名簿!C274","v":249},{"$f":"CELL(\"address\",Ⅰ.構成メンバー名簿!D274)","v":"'[◆52関東　出場申込書.xlsm]Ⅰ.構成メンバー名簿'!$D$274"},"Ⅰ.構成メンバー名簿","D274"]
[null,null,null,null,null,null,null,null,null,null,null,null,null,null,null,null,null,null,null,null,null,null,null,null,null,null,null,null,null,null,null,{"$f":"Ⅰ.構成メンバー名簿!C275","v":250},{"$f":"CELL(\"address\",Ⅰ.構成メンバー名簿!D275)","v":"'[◆52関東　出場申込書.xlsm]Ⅰ.構成メンバー名簿'!$D$275"},"Ⅰ.構成メンバー名簿","D275"]
[null,null,null,null,null,null,null,null,null,null,null,null,null,null,null,null,null,null,null,null,null,null,null,null,null,null,null,null,null,null,null,{"$f":"Ⅰ.構成メンバー名簿!C26","v":1},{"$f":"CELL(\"address\",Ⅰ.構成メンバー名簿!E26)","v":"'[◆52関東　出場申込書.xlsm]Ⅰ.構成メンバー名簿'!$E$26"},"Ⅰ.構成メンバー名簿","E26"]
[null,null,null,null,null,null,null,null,null,null,null,null,null,null,null,null,null,null,null,null,null,null,null,null,null,null,null,null,null,null,null,{"$f":"Ⅰ.構成メンバー名簿!C27","v":2},{"$f":"CELL(\"address\",Ⅰ.構成メンバー名簿!E27)","v":"'[◆52関東　出場申込書.xlsm]Ⅰ.構成メンバー名簿'!$E$27"},"Ⅰ.構成メンバー名簿","E27"]
[null,null,null,null,null,null,null,null,null,null,null,null,null,null,null,null,null,null,null,null,null,null,null,null,null,null,null,null,null,null,null,{"$f":"Ⅰ.構成メンバー名簿!C28","v":3},{"$f":"CELL(\"address\",Ⅰ.構成メンバー名簿!E28)","v":"'[◆52関東　出場申込書.xlsm]Ⅰ.構成メンバー名簿'!$E$28"},"Ⅰ.構成メンバー名簿","E28"]
[null,null,null,null,null,null,null,null,null,null,null,null,null,null,null,null,null,null,null,null,null,null,null,null,null,null,null,null,null,null,null,{"$f":"Ⅰ.構成メンバー名簿!C29","v":4},{"$f":"CELL(\"address\",Ⅰ.構成メンバー名簿!E29)","v":"'[◆52関東　出場申込書.xlsm]Ⅰ.構成メンバー名簿'!$E$29"},"Ⅰ.構成メンバー名簿","E29"]
[null,null,null,null,null,null,null,null,null,null,null,null,null,null,null,null,null,null,null,null,null,null,null,null,null,null,null,null,null,null,null,{"$f":"Ⅰ.構成メンバー名簿!C30","v":5},{"$f":"CELL(\"address\",Ⅰ.構成メンバー名簿!E30)","v":"'[◆52関東　出場申込書.xlsm]Ⅰ.構成メンバー名簿'!$E$30"},"Ⅰ.構成メンバー名簿","E30"]
[null,null,null,null,null,null,null,null,null,null,null,null,null,null,null,null,null,null,null,null,null,null,null,null,null,null,null,null,null,null,null,{"$f":"Ⅰ.構成メンバー名簿!C31","v":6},{"$f":"CELL(\"address\",Ⅰ.構成メンバー名簿!E31)","v":"'[◆52関東　出場申込書.xlsm]Ⅰ.構成メンバー名簿'!$E$31"},"Ⅰ.構成メンバー名簿","E31"]
[null,null,null,null,null,null,null,null,null,null,null,null,null,null,null,null,null,null,null,null,null,null,null,null,null,null,null,null,null,null,null,{"$f":"Ⅰ.構成メンバー名簿!C32","v":7},{"$f":"CELL(\"address\",Ⅰ.構成メンバー名簿!E32)","v":"'[◆52関東　出場申込書.xlsm]Ⅰ.構成メンバー名簿'!$E$32"},"Ⅰ.構成メンバー名簿","E32"]
[null,null,null,null,null,null,null,null,null,null,null,null,null,null,null,null,null,null,null,null,null,null,null,null,null,null,null,null,null,null,null,{"$f":"Ⅰ.構成メンバー名簿!C33","v":8},{"$f":"CELL(\"address\",Ⅰ.構成メンバー名簿!E33)","v":"'[◆52関東　出場申込書.xlsm]Ⅰ.構成メンバー名簿'!$E$33"},"Ⅰ.構成メンバー名簿","E33"]
[null,null,null,null,null,null,null,null,null,null,null,null,null,null,null,null,null,null,null,null,null,null,null,null,null,null,null,null,null,null,null,{"$f":"Ⅰ.構成メンバー名簿!C34","v":9},{"$f":"CELL(\"address\",Ⅰ.構成メンバー名簿!E34)","v":"'[◆52関東　出場申込書.xlsm]Ⅰ.構成メンバー名簿'!$E$34"},"Ⅰ.構成メンバー名簿","E34"]
[null,null,null,null,null,null,null,null,null,null,null,null,null,null,null,null,null,null,null,null,null,null,null,null,null,null,null,null,null,null,null,{"$f":"Ⅰ.構成メンバー名簿!C35","v":10},{"$f":"CELL(\"address\",Ⅰ.構成メンバー名簿!E35)","v":"'[◆52関東　出場申込書.xlsm]Ⅰ.構成メンバー名簿'!$E$35"},"Ⅰ.構成メンバー名簿","E35"]
[null,null,null,null,null,null,null,null,null,null,null,null,null,null,null,null,null,null,null,null,null,null,null,null,null,null,null,null,null,null,null,{"$f":"Ⅰ.構成メンバー名簿!C36","v":11},{"$f":"CELL(\"address\",Ⅰ.構成メンバー名簿!E36)","v":"'[◆52関東　出場申込書.xlsm]Ⅰ.構成メンバー名簿'!$E$36"},"Ⅰ.構成メンバー名簿","E36"]
[null,null,null,null,null,null,null,null,null,null,null,null,null,null,null,null,null,null,null,null,null,null,null,null,null,null,null,null,null,null,null,{"$f":"Ⅰ.構成メンバー名簿!C37","v":12},{"$f":"CELL(\"address\",Ⅰ.構成メンバー名簿!E37)","v":"'[◆52関東　出場申込書.xlsm]Ⅰ.構成メンバー名簿'!$E$37"},"Ⅰ.構成メンバー名簿","E37"]
[null,null,null,null,null,null,null,null,null,null,null,null,null,null,null,null,null,null,null,null,null,null,null,null,null,null,null,null,null,null,null,{"$f":"Ⅰ.構成メンバー名簿!C38","v":13},{"$f":"CELL(\"address\",Ⅰ.構成メンバー名簿!E38)","v":"'[◆52関東　出場申込書.xlsm]Ⅰ.構成メンバー名簿'!$E$38"},"Ⅰ.構成メンバー名簿","E38"]
[null,null,null,null,null,null,null,null,null,null,null,null,null,null,null,null,null,null,null,null,null,null,null,null,null,null,null,null,null,null,null,{"$f":"Ⅰ.構成メンバー名簿!C39","v":14},{"$f":"CELL(\"address\",Ⅰ.構成メンバー名簿!E39)","v":"'[◆52関東　出場申込書.xlsm]Ⅰ.構成メンバー名簿'!$E$39"},"Ⅰ.構成メンバー名簿","E39"]
[null,null,null,null,null,null,null,null,null,null,null,null,null,null,null,null,null,null,null,null,null,null,null,null,null,null,null,null,null,null,null,{"$f":"Ⅰ.構成メンバー名簿!C40","v":15},{"$f":"CELL(\"address\",Ⅰ.構成メンバー名簿!E40)","v":"'[◆52関東　出場申込書.xlsm]Ⅰ.構成メンバー名簿'!$E$40"},"Ⅰ.構成メンバー名簿","E40"]
[null,null,null,null,null,null,null,null,null,null,null,null,null,null,null,null,null,null,null,null,null,null,null,null,null,null,null,null,null,null,null,{"$f":"Ⅰ.構成メンバー名簿!C41","v":16},{"$f":"CELL(\"address\",Ⅰ.構成メンバー名簿!E41)","v":"'[◆52関東　出場申込書.xlsm]Ⅰ.構成メンバー名簿'!$E$41"},"Ⅰ.構成メンバー名簿","E41"]
[null,null,null,null,null,null,null,null,null,null,null,null,null,null,null,null,null,null,null,null,null,null,null,null,null,null,null,null,null,null,null,{"$f":"Ⅰ.構成メンバー名簿!C42","v":17},{"$f":"CELL(\"address\",Ⅰ.構成メンバー名簿!E42)","v":"'[◆52関東　出場申込書.xlsm]Ⅰ.構成メンバー名簿'!$E$42"},{"$f":"SUBSTITUTE(LEFT(RIGHT(AG279,LEN(AG279)-FIND(\"]\",AG279)),FIND(\"!\",RIGHT(AG279,LEN(AG279)-FIND(\"]\",AG279)))-1),\"'\",\"\")","v":"Ⅰ.構成メンバー名簿"},"E42"]
[null,null,null,null,null,null,null,null,null,null,null,null,null,null,null,null,null,null,null,null,null,null,null,null,null,null,null,null,null,null,null,{"$f":"Ⅰ.構成メンバー名簿!C43","v":18},{"$f":"CELL(\"address\",Ⅰ.構成メンバー名簿!E43)","v":"'[◆52関東　出場申込書.xlsm]Ⅰ.構成メンバー名簿'!$E$43"},"Ⅰ.構成メンバー名簿","E43"]
[null,null,null,null,null,null,null,null,null,null,null,null,null,null,null,null,null,null,null,null,null,null,null,null,null,null,null,null,null,null,null,{"$f":"Ⅰ.構成メンバー名簿!C44","v":19},{"$f":"CELL(\"address\",Ⅰ.構成メンバー名簿!E44)","v":"'[◆52関東　出場申込書.xlsm]Ⅰ.構成メンバー名簿'!$E$44"},"Ⅰ.構成メンバー名簿","E44"]
[null,null,null,null,null,null,null,null,null,null,null,null,null,null,null,null,null,null,null,null,null,null,null,null,null,null,null,null,null,null,null,{"$f":"Ⅰ.構成メンバー名簿!C45","v":20},{"$f":"CELL(\"address\",Ⅰ.構成メンバー名簿!E45)","v":"'[◆52関東　出場申込書.xlsm]Ⅰ.構成メンバー名簿'!$E$45"},"Ⅰ.構成メンバー名簿","E45"]
[null,null,null,null,null,null,null,null,null,null,null,null,null,null,null,null,null,null,null,null,null,null,null,null,null,null,null,null,null,null,null,{"$f":"Ⅰ.構成メンバー名簿!C46","v":21},{"$f":"CELL(\"address\",Ⅰ.構成メンバー名簿!E46)","v":"'[◆52関東　出場申込書.xlsm]Ⅰ.構成メンバー名簿'!$E$46"},"Ⅰ.構成メンバー名簿","E46"]
[null,null,null,null,null,null,null,null,null,null,null,null,null,null,null,null,null,null,null,null,null,null,null,null,null,null,null,null,null,null,null,{"$f":"Ⅰ.構成メンバー名簿!C47","v":22},{"$f":"CELL(\"address\",Ⅰ.構成メンバー名簿!E47)","v":"'[◆52関東　出場申込書.xlsm]Ⅰ.構成メンバー名簿'!$E$47"},"Ⅰ.構成メンバー名簿","E47"]
[null,null,null,null,null,null,null,null,null,null,null,null,null,null,null,null,null,null,null,null,null,null,null,null,null,null,null,null,null,null,null,{"$f":"Ⅰ.構成メンバー名簿!C48","v":23},{"$f":"CELL(\"address\",Ⅰ.構成メンバー名簿!E48)","v":"'[◆52関東　出場申込書.xlsm]Ⅰ.構成メンバー名簿'!$E$48"},"Ⅰ.構成メンバー名簿","E48"]
[null,null,null,null,null,null,null,null,null,null,null,null,null,null,null,null,null,null,null,null,null,null,null,null,null,null,null,null,null,null,null,{"$f":"Ⅰ.構成メンバー名簿!C49","v":24},{"$f":"CELL(\"address\",Ⅰ.構成メンバー名簿!E49)","v":"'[◆52関東　出場申込書.xlsm]Ⅰ.構成メンバー名簿'!$E$49"},"Ⅰ.構成メンバー名簿","E49"]
[null,null,null,null,null,null,null,null,null,null,null,null,null,null,null,null,null,null,null,null,null,null,null,null,null,null,null,null,null,null,null,{"$f":"Ⅰ.構成メンバー名簿!C50","v":25},{"$f":"CELL(\"address\",Ⅰ.構成メンバー名簿!E50)","v":"'[◆52関東　出場申込書.xlsm]Ⅰ.構成メンバー名簿'!$E$50"},"Ⅰ.構成メンバー名簿","E50"]
[null,null,null,null,null,null,null,null,null,null,null,null,null,null,null,null,null,null,null,null,null,null,null,null,null,null,null,null,null,null,null,{"$f":"Ⅰ.構成メンバー名簿!C51","v":26},{"$f":"CELL(\"address\",Ⅰ.構成メンバー名簿!E51)","v":"'[◆52関東　出場申込書.xlsm]Ⅰ.構成メンバー名簿'!$E$51"},"Ⅰ.構成メンバー名簿","E51"]
[null,null,null,null,null,null,null,null,null,null,null,null,null,null,null,null,null,null,null,null,null,null,null,null,null,null,null,null,null,null,null,{"$f":"Ⅰ.構成メンバー名簿!C52","v":27},{"$f":"CELL(\"address\",Ⅰ.構成メンバー名簿!E52)","v":"'[◆52関東　出場申込書.xlsm]Ⅰ.構成メンバー名簿'!$E$52"},"Ⅰ.構成メンバー名簿","E52"]
[null,null,null,null,null,null,null,null,null,null,null,null,null,null,null,null,null,null,null,null,null,null,null,null,null,null,null,null,null,null,null,{"$f":"Ⅰ.構成メンバー名簿!C53","v":28},{"$f":"CELL(\"address\",Ⅰ.構成メンバー名簿!E53)","v":"'[◆52関東　出場申込書.xlsm]Ⅰ.構成メンバー名簿'!$E$53"},"Ⅰ.構成メンバー名簿","E53"]
[null,null,null,null,null,null,null,null,null,null,null,null,null,null,null,null,null,null,null,null,null,null,null,null,null,null,null,null,null,null,null,{"$f":"Ⅰ.構成メンバー名簿!C54","v":29},{"$f":"CELL(\"address\",Ⅰ.構成メンバー名簿!E54)","v":"'[◆52関東　出場申込書.xlsm]Ⅰ.構成メンバー名簿'!$E$54"},"Ⅰ.構成メンバー名簿","E54"]
[null,null,null,null,null,null,null,null,null,null,null,null,null,null,null,null,null,null,null,null,null,null,null,null,null,null,null,null,null,null,null,{"$f":"Ⅰ.構成メンバー名簿!C55","v":30},{"$f":"CELL(\"address\",Ⅰ.構成メンバー名簿!E55)","v":"'[◆52関東　出場申込書.xlsm]Ⅰ.構成メンバー名簿'!$E$55"},"Ⅰ.構成メンバー名簿","E55"]
[null,null,null,null,null,null,null,null,null,null,null,null,null,null,null,null,null,null,null,null,null,null,null,null,null,null,null,null,null,null,null,{"$f":"Ⅰ.構成メンバー名簿!C56","v":31},{"$f":"CELL(\"address\",Ⅰ.構成メンバー名簿!E56)","v":"'[◆52関東　出場申込書.xlsm]Ⅰ.構成メンバー名簿'!$E$56"},"Ⅰ.構成メンバー名簿","E56"]
[null,null,null,null,null,null,null,null,null,null,null,null,null,null,null,null,null,null,null,null,null,null,null,null,null,null,null,null,null,null,null,{"$f":"Ⅰ.構成メンバー名簿!C57","v":32},{"$f":"CELL(\"address\",Ⅰ.構成メンバー名簿!E57)","v":"'[◆52関東　出場申込書.xlsm]Ⅰ.構成メンバー名簿'!$E$57"},"Ⅰ.構成メンバー名簿","E57"]
[null,null,null,null,null,null,null,null,null,null,null,null,null,null,null,null,null,null,null,null,null,null,null,null,null,null,null,null,null,null,null,{"$f":"Ⅰ.構成メンバー名簿!C58","v":33},{"$f":"CELL(\"address\",Ⅰ.構成メンバー名簿!E58)","v":"'[◆52関東　出場申込書.xlsm]Ⅰ.構成メンバー名簿'!$E$58"},"Ⅰ.構成メンバー名簿","E58"]
[null,null,null,null,null,null,null,null,null,null,null,null,null,null,null,null,null,null,null,null,null,null,null,null,null,null,null,null,null,null,null,{"$f":"Ⅰ.構成メンバー名簿!C59","v":34},{"$f":"CELL(\"address\",Ⅰ.構成メンバー名簿!E59)","v":"'[◆52関東　出場申込書.xlsm]Ⅰ.構成メンバー名簿'!$E$59"},"Ⅰ.構成メンバー名簿","E59"]
[null,null,null,null,null,null,null,null,null,null,null,null,null,null,null,null,null,null,null,null,null,null,null,null,null,null,null,null,null,null,null,{"$f":"Ⅰ.構成メンバー名簿!C60","v":35},{"$f":"CELL(\"address\",Ⅰ.構成メンバー名簿!E60)","v":"'[◆52関東　出場申込書.xlsm]Ⅰ.構成メンバー名簿'!$E$60"},"Ⅰ.構成メンバー名簿","E60"]
[null,null,null,null,null,null,null,null,null,null,null,null,null,null,null,null,null,null,null,null,null,null,null,null,null,null,null,null,null,null,null,{"$f":"Ⅰ.構成メンバー名簿!C61","v":36},{"$f":"CELL(\"address\",Ⅰ.構成メンバー名簿!E61)","v":"'[◆52関東　出場申込書.xlsm]Ⅰ.構成メンバー名簿'!$E$61"},"Ⅰ.構成メンバー名簿","E61"]
[null,null,null,null,null,null,null,null,null,null,null,null,null,null,null,null,null,null,null,null,null,null,null,null,null,null,null,null,null,null,null,{"$f":"Ⅰ.構成メンバー名簿!C62","v":37},{"$f":"CELL(\"address\",Ⅰ.構成メンバー名簿!E62)","v":"'[◆52関東　出場申込書.xlsm]Ⅰ.構成メンバー名簿'!$E$62"},"Ⅰ.構成メンバー名簿",{"$f":"SUBSTITUTE(RIGHT(AG299,LEN(AG299)-FIND(\"!\",AG299)),\"$\",\"\")","v":"E62"}]
[null,null,null,null,null,null,null,null,null,null,null,null,null,null,null,null,null,null,null,null,null,null,null,null,null,null,null,null,null,null,null,{"$f":"Ⅰ.構成メンバー名簿!C63","v":38},{"$f":"CELL(\"address\",Ⅰ.構成メンバー名簿!E63)","v":"'[◆52関東　出場申込書.xlsm]Ⅰ.構成メンバー名簿'!$E$63"},"Ⅰ.構成メンバー名簿","E63"]
[null,null,null,null,null,null,null,null,null,null,null,null,null,null,null,null,null,null,null,null,null,null,null,null,null,null,null,null,null,null,null,{"$f":"Ⅰ.構成メンバー名簿!C64","v":39},{"$f":"CELL(\"address\",Ⅰ.構成メンバー名簿!E64)","v":"'[◆52関東　出場申込書.xlsm]Ⅰ.構成メンバー名簿'!$E$64"},"Ⅰ.構成メンバー名簿","E64"]
[null,null,null,null,null,null,null,null,null,null,null,null,null,null,null,null,null,null,null,null,null,null,null,null,null,null,null,null,null,null,null,{"$f":"Ⅰ.構成メンバー名簿!C65","v":40},{"$f":"CELL(\"address\",Ⅰ.構成メンバー名簿!E65)","v":"'[◆52関東　出場申込書.xlsm]Ⅰ.構成メンバー名簿'!$E$65"},"Ⅰ.構成メンバー名簿","E65"]
[null,null,null,null,null,null,null,null,null,null,null,null,null,null,null,null,null,null,null,null,null,null,null,null,null,null,null,null,null,null,null,{"$f":"Ⅰ.構成メンバー名簿!C66","v":41},{"$f":"CELL(\"address\",Ⅰ.構成メンバー名簿!E66)","v":"'[◆52関東　出場申込書.xlsm]Ⅰ.構成メンバー名簿'!$E$66"},"Ⅰ.構成メンバー名簿","E66"]
[null,null,null,null,null,null,null,null,null,null,null,null,null,null,null,null,null,null,null,null,null,null,null,null,null,null,null,null,null,null,null,{"$f":"Ⅰ.構成メンバー名簿!C67","v":42},{"$f":"CELL(\"address\",Ⅰ.構成メンバー名簿!E67)","v":"'[◆52関東　出場申込書.xlsm]Ⅰ.構成メンバー名簿'!$E$67"},"Ⅰ.構成メンバー名簿","E67"]
[null,null,null,null,null,null,null,null,null,null,null,null,null,null,null,null,null,null,null,null,null,null,null,null,null,null,null,null,null,null,null,{"$f":"Ⅰ.構成メンバー名簿!C68","v":43},{"$f":"CELL(\"address\",Ⅰ.構成メンバー名簿!E68)","v":"'[◆52関東　出場申込書.xlsm]Ⅰ.構成メンバー名簿'!$E$68"},"Ⅰ.構成メンバー名簿","E68"]
[null,null,null,null,null,null,null,null,null,null,null,null,null,null,null,null,null,null,null,null,null,null,null,null,null,null,null,null,null,null,null,{"$f":"Ⅰ.構成メンバー名簿!C69","v":44},{"$f":"CELL(\"address\",Ⅰ.構成メンバー名簿!E69)","v":"'[◆52関東　出場申込書.xlsm]Ⅰ.構成メンバー名簿'!$E$69"},"Ⅰ.構成メンバー名簿","E69"]
[null,null,null,null,null,null,null,null,null,null,null,null,null,null,null,null,null,null,null,null,null,null,null,null,null,null,null,null,null,null,null,{"$f":"Ⅰ.構成メンバー名簿!C70","v":45},{"$f":"CELL(\"address\",Ⅰ.構成メンバー名簿!E70)","v":"'[◆52関東　出場申込書.xlsm]Ⅰ.構成メンバー名簿'!$E$70"},"Ⅰ.構成メンバー名簿","E70"]
[null,null,null,null,null,null,null,null,null,null,null,null,null,null,null,null,null,null,null,null,null,null,null,null,null,null,null,null,null,null,null,{"$f":"Ⅰ.構成メンバー名簿!C71","v":46},{"$f":"CELL(\"address\",Ⅰ.構成メンバー名簿!E71)","v":"'[◆52関東　出場申込書.xlsm]Ⅰ.構成メンバー名簿'!$E$71"},"Ⅰ.構成メンバー名簿","E71"]
[null,null,null,null,null,null,null,null,null,null,null,null,null,null,null,null,null,null,null,null,null,null,null,null,null,null,null,null,null,null,null,{"$f":"Ⅰ.構成メンバー名簿!C72","v":47},{"$f":"CELL(\"address\",Ⅰ.構成メンバー名簿!E72)","v":"'[◆52関東　出場申込書.xlsm]Ⅰ.構成メンバー名簿'!$E$72"},"Ⅰ.構成メンバー名簿","E72"]
[null,null,null,null,null,null,null,null,null,null,null,null,null,null,null,null,null,null,null,null,null,null,null,null,null,null,null,null,null,null,null,{"$f":"Ⅰ.構成メンバー名簿!C73","v":48},{"$f":"CELL(\"address\",Ⅰ.構成メンバー名簿!E73)","v":"'[◆52関東　出場申込書.xlsm]Ⅰ.構成メンバー名簿'!$E$73"},"Ⅰ.構成メンバー名簿","E73"]
[null,null,null,null,null,null,null,null,null,null,null,null,null,null,null,null,null,null,null,null,null,null,null,null,null,null,null,null,null,null,null,{"$f":"Ⅰ.構成メンバー名簿!C74","v":49},{"$f":"CELL(\"address\",Ⅰ.構成メンバー名簿!E74)","v":"'[◆52関東　出場申込書.xlsm]Ⅰ.構成メンバー名簿'!$E$74"},"Ⅰ.構成メンバー名簿","E74"]
[null,null,null,null,null,null,null,null,null,null,null,null,null,null,null,null,null,null,null,null,null,null,null,null,null,null,null,null,null,null,null,{"$f":"Ⅰ.構成メンバー名簿!C75","v":50},{"$f":"CELL(\"address\",Ⅰ.構成メンバー名簿!E75)","v":"'[◆52関東　出場申込書.xlsm]Ⅰ.構成メンバー名簿'!$E$75"},"Ⅰ.構成メンバー名簿","E75"]
[null,null,null,null,null,null,null,null,null,null,null,null,null,null,null,null,null,null,null,null,null,null,null,null,null,null,null,null,null,null,null,{"$f":"Ⅰ.構成メンバー名簿!C76","v":51},{"$f":"CELL(\"address\",Ⅰ.構成メンバー名簿!E76)","v":"'[◆52関東　出場申込書.xlsm]Ⅰ.構成メンバー名簿'!$E$76"},"Ⅰ.構成メンバー名簿","E76"]
[null,null,null,null,null,null,null,null,null,null,null,null,null,null,null,null,null,null,null,null,null,null,null,null,null,null,null,null,null,null,null,{"$f":"Ⅰ.構成メンバー名簿!C77","v":52},{"$f":"CELL(\"address\",Ⅰ.構成メンバー名簿!E77)","v":"'[◆52関東　出場申込書.xlsm]Ⅰ.構成メンバー名簿'!$E$77"},"Ⅰ.構成メンバー名簿","E77"]
[null,null,null,null,null,null,null,null,null,null,null,null,null,null,null,null,null,null,null,null,null,null,null,null,null,null,null,null,null,null,null,{"$f":"Ⅰ.構成メンバー名簿!C78","v":53},{"$f":"CELL(\"address\",Ⅰ.構成メンバー名簿!E78)","v":"'[◆52関東　出場申込書.xlsm]Ⅰ.構成メンバー名簿'!$E$78"},"Ⅰ.構成メンバー名簿","E78"]
[null,null,null,null,null,null,null,null,null,null,null,null,null,null,null,null,null,null,null,null,null,null,null,null,null,null,null,null,null,null,null,{"$f":"Ⅰ.構成メンバー名簿!C79","v":54},{"$f":"CELL(\"address\",Ⅰ.構成メンバー名簿!E79)","v":"'[◆52関東　出場申込書.xlsm]Ⅰ.構成メンバー名簿'!$E$79"},"Ⅰ.構成メンバー名簿","E79"]
[null,null,null,null,null,null,null,null,null,null,null,null,null,null,null,null,null,null,null,null,null,null,null,null,null,null,null,null,null,null,null,{"$f":"Ⅰ.構成メンバー名簿!C80","v":55},{"$f":"CELL(\"address\",Ⅰ.構成メンバー名簿!E80)","v":"'[◆52関東　出場申込書.xlsm]Ⅰ.構成メンバー名簿'!$E$80"},"Ⅰ.構成メンバー名簿","E80"]
[null,null,null,null,null,null,null,null,null,null,null,null,null,null,null,null,null,null,null,null,null,null,null,null,null,null,null,null,null,null,null,{"$f":"Ⅰ.構成メンバー名簿!C81","v":56},{"$f":"CELL(\"address\",Ⅰ.構成メンバー名簿!E81)","v":"'[◆52関東　出場申込書.xlsm]Ⅰ.構成メンバー名簿'!$E$81"},"Ⅰ.構成メンバー名簿","E81"]
[null,null,null,null,null,null,null,null,null,null,null,null,null,null,null,null,null,null,null,null,null,null,null,null,null,null,null,null,null,null,null,{"$f":"Ⅰ.構成メンバー名簿!C82","v":57},{"$f":"CELL(\"address\",Ⅰ.構成メンバー名簿!E82)","v":"'[◆52関東　出場申込書.xlsm]Ⅰ.構成メンバー名簿'!$E$82"},"Ⅰ.構成メンバー名簿","E82"]
[null,null,null,null,null,null,null,null,null,null,null,null,null,null,null,null,null,null,null,null,null,null,null,null,null,null,null,null,null,null,null,{"$f":"Ⅰ.構成メンバー名簿!C83","v":58},{"$f":"CELL(\"address\",Ⅰ.構成メンバー名簿!E83)","v":"'[◆52関東　出場申込書.xlsm]Ⅰ.構成メンバー名簿'!$E$83"},"Ⅰ.構成メンバー名簿","E83"]
[null,null,null,null,null,null,null,null,null,null,null,null,null,null,null,null,null,null,null,null,null,null,null,null,null,null,null,null,null,null,null,{"$f":"Ⅰ.構成メンバー名簿!C84","v":59},{"$f":"CELL(\"address\",Ⅰ.構成メンバー名簿!E84)","v":"'[◆52関東　出場申込書.xlsm]Ⅰ.構成メンバー名簿'!$E$84"},"Ⅰ.構成メンバー名簿","E84"]
[null,null,null,null,null,null,null,null,null,null,null,null,null,null,null,null,null,null,null,null,null,null,null,null,null,null,null,null,null,null,null,{"$f":"Ⅰ.構成メンバー名簿!C85","v":60},{"$f":"CELL(\"address\",Ⅰ.構成メンバー名簿!E85)","v":"'[◆52関東　出場申込書.xlsm]Ⅰ.構成メンバー名簿'!$E$85"},"Ⅰ.構成メンバー名簿","E85"]
[null,null,null,null,null,null,null,null,null,null,null,null,null,null,null,null,null,null,null,null,null,null,null,null,null,null,null,null,null,null,null,{"$f":"Ⅰ.構成メンバー名簿!C86","v":61},{"$f":"CELL(\"address\",Ⅰ.構成メンバー名簿!E86)","v":"'[◆52関東　出場申込書.xlsm]Ⅰ.構成メンバー名簿'!$E$86"},"Ⅰ.構成メンバー名簿","E86"]
[null,null,null,null,null,null,null,null,null,null,null,null,null,null,null,null,null,null,null,null,null,null,null,null,null,null,null,null,null,null,null,{"$f":"Ⅰ.構成メンバー名簿!C87","v":62},{"$f":"CELL(\"address\",Ⅰ.構成メンバー名簿!E87)","v":"'[◆52関東　出場申込書.xlsm]Ⅰ.構成メンバー名簿'!$E$87"},"Ⅰ.構成メンバー名簿","E87"]
[null,null,null,null,null,null,null,null,null,null,null,null,null,null,null,null,null,null,null,null,null,null,null,null,null,null,null,null,null,null,null,{"$f":"Ⅰ.構成メンバー名簿!C88","v":63},{"$f":"CELL(\"address\",Ⅰ.構成メンバー名簿!E88)","v":"'[◆52関東　出場申込書.xlsm]Ⅰ.構成メンバー名簿'!$E$88"},"Ⅰ.構成メンバー名簿","E88"]
[null,null,null,null,null,null,null,null,null,null,null,null,null,null,null,null,null,null,null,null,null,null,null,null,null,null,null,null,null,null,null,{"$f":"Ⅰ.構成メンバー名簿!C89","v":64},{"$f":"CELL(\"address\",Ⅰ.構成メンバー名簿!E89)","v":"'[◆52関東　出場申込書.xlsm]Ⅰ.構成メンバー名簿'!$E$89"},"Ⅰ.構成メンバー名簿","E89"]
[null,null,null,null,null,null,null,null,null,null,null,null,null,null,null,null,null,null,null,null,null,null,null,null,null,null,null,null,null,null,null,{"$f":"Ⅰ.構成メンバー名簿!C90","v":65},{"$f":"CELL(\"address\",Ⅰ.構成メンバー名簿!E90)","v":"'[◆52関東　出場申込書.xlsm]Ⅰ.構成メンバー名簿'!$E$90"},"Ⅰ.構成メンバー名簿","E90"]
[null,null,null,null,null,null,null,null,null,null,null,null,null,null,null,null,null,null,null,null,null,null,null,null,null,null,null,null,null,null,null,{"$f":"Ⅰ.構成メンバー名簿!C91","v":66},{"$f":"CELL(\"address\",Ⅰ.構成メンバー名簿!E91)","v":"'[◆52関東　出場申込書.xlsm]Ⅰ.構成メンバー名簿'!$E$91"},"Ⅰ.構成メンバー名簿","E91"]
[null,null,null,null,null,null,null,null,null,null,null,null,null,null,null,null,null,null,null,null,null,null,null,null,null,null,null,null,null,null,null,{"$f":"Ⅰ.構成メンバー名簿!C92","v":67},{"$f":"CELL(\"address\",Ⅰ.構成メンバー名簿!E92)","v":"'[◆52関東　出場申込書.xlsm]Ⅰ.構成メンバー名簿'!$E$92"},"Ⅰ.構成メンバー名簿","E92"]
[null,null,null,null,null,null,null,null,null,null,null,null,null,null,null,null,null,null,null,null,null,null,null,null,null,null,null,null,null,null,null,{"$f":"Ⅰ.構成メンバー名簿!C93","v":68},{"$f":"CELL(\"address\",Ⅰ.構成メンバー名簿!E93)","v":"'[◆52関東　出場申込書.xlsm]Ⅰ.構成メンバー名簿'!$E$93"},"Ⅰ.構成メンバー名簿","E93"]
[null,null,null,null,null,null,null,null,null,null,null,null,null,null,null,null,null,null,null,null,null,null,null,null,null,null,null,null,null,null,null,{"$f":"Ⅰ.構成メンバー名簿!C94","v":69},{"$f":"CELL(\"address\",Ⅰ.構成メンバー名簿!E94)","v":"'[◆52関東　出場申込書.xlsm]Ⅰ.構成メンバー名簿'!$E$94"},"Ⅰ.構成メンバー名簿","E94"]
[null,null,null,null,null,null,null,null,null,null,null,null,null,null,null,null,null,null,null,null,null,null,null,null,null,null,null,null,null,null,null,{"$f":"Ⅰ.構成メンバー名簿!C95","v":70},{"$f":"CELL(\"address\",Ⅰ.構成メンバー名簿!E95)","v":"'[◆52関東　出場申込書.xlsm]Ⅰ.構成メンバー名簿'!$E$95"},"Ⅰ.構成メンバー名簿","E95"]
[null,null,null,null,null,null,null,null,null,null,null,null,null,null,null,null,null,null,null,null,null,null,null,null,null,null,null,null,null,null,null,{"$f":"Ⅰ.構成メンバー名簿!C96","v":71},{"$f":"CELL(\"address\",Ⅰ.構成メンバー名簿!E96)","v":"'[◆52関東　出場申込書.xlsm]Ⅰ.構成メンバー名簿'!$E$96"},"Ⅰ.構成メンバー名簿","E96"]
[null,null,null,null,null,null,null,null,null,null,null,null,null,null,null,null,null,null,null,null,null,null,null,null,null,null,null,null,null,null,null,{"$f":"Ⅰ.構成メンバー名簿!C97","v":72},{"$f":"CELL(\"address\",Ⅰ.構成メンバー名簿!E97)","v":"'[◆52関東　出場申込書.xlsm]Ⅰ.構成メンバー名簿'!$E$97"},"Ⅰ.構成メンバー名簿","E97"]
[null,null,null,null,null,null,null,null,null,null,null,null,null,null,null,null,null,null,null,null,null,null,null,null,null,null,null,null,null,null,null,{"$f":"Ⅰ.構成メンバー名簿!C98","v":73},{"$f":"CELL(\"address\",Ⅰ.構成メンバー名簿!E98)","v":"'[◆52関東　出場申込書.xlsm]Ⅰ.構成メンバー名簿'!$E$98"},"Ⅰ.構成メンバー名簿","E98"]
[null,null,null,null,null,null,null,null,null,null,null,null,null,null,null,null,null,null,null,null,null,null,null,null,null,null,null,null,null,null,null,{"$f":"Ⅰ.構成メンバー名簿!C99","v":74},{"$f":"CELL(\"address\",Ⅰ.構成メンバー名簿!E99)","v":"'[◆52関東　出場申込書.xlsm]Ⅰ.構成メンバー名簿'!$E$99"},"Ⅰ.構成メンバー名簿","E99"]
[null,null,null,null,null,null,null,null,null,null,null,null,null,null,null,null,null,null,null,null,null,null,null,null,null,null,null,null,null,null,null,{"$f":"Ⅰ.構成メンバー名簿!C100","v":75},{"$f":"CELL(\"address\",Ⅰ.構成メンバー名簿!E100)","v":"'[◆52関東　出場申込書.xlsm]Ⅰ.構成メンバー名簿'!$E$100"},"Ⅰ.構成メンバー名簿","E100"]
[null,null,null,null,null,null,null,null,null,null,null,null,null,null,null,null,null,null,null,null,null,null,null,null,null,null,null,null,null,null,null,{"$f":"Ⅰ.構成メンバー名簿!C101","v":76},{"$f":"CELL(\"address\",Ⅰ.構成メンバー名簿!E101)","v":"'[◆52関東　出場申込書.xlsm]Ⅰ.構成メンバー名簿'!$E$101"},"Ⅰ.構成メンバー名簿","E101"]
[null,null,null,null,null,null,null,null,null,null,null,null,null,null,null,null,null,null,null,null,null,null,null,null,null,null,null,null,null,null,null,{"$f":"Ⅰ.構成メンバー名簿!C102","v":77},{"$f":"CELL(\"address\",Ⅰ.構成メンバー名簿!E102)","v":"'[◆52関東　出場申込書.xlsm]Ⅰ.構成メンバー名簿'!$E$102"},"Ⅰ.構成メンバー名簿","E102"]
[null,null,null,null,null,null,null,null,null,null,null,null,null,null,null,null,null,null,null,null,null,null,null,null,null,null,null,null,null,null,null,{"$f":"Ⅰ.構成メンバー名簿!C103","v":78},{"$f":"CELL(\"address\",Ⅰ.構成メンバー名簿!E103)","v":"'[◆52関東　出場申込書.xlsm]Ⅰ.構成メンバー名簿'!$E$103"},"Ⅰ.構成メンバー名簿","E103"]
[null,null,null,null,null,null,null,null,null,null,null,null,null,null,null,null,null,null,null,null,null,null,null,null,null,null,null,null,null,null,null,{"$f":"Ⅰ.構成メンバー名簿!C104","v":79},{"$f":"CELL(\"address\",Ⅰ.構成メンバー名簿!E104)","v":"'[◆52関東　出場申込書.xlsm]Ⅰ.構成メンバー名簿'!$E$104"},"Ⅰ.構成メンバー名簿","E104"]
[null,null,null,null,null,null,null,null,null,null,null,null,null,null,null,null,null,null,null,null,null,null,null,null,null,null,null,null,null,null,null,{"$f":"Ⅰ.構成メンバー名簿!C105","v":80},{"$f":"CELL(\"address\",Ⅰ.構成メンバー名簿!E105)","v":"'[◆52関東　出場申込書.xlsm]Ⅰ.構成メンバー名簿'!$E$105"},"Ⅰ.構成メンバー名簿","E105"]
[null,null,null,null,null,null,null,null,null,null,null,null,null,null,null,null,null,null,null,null,null,null,null,null,null,null,null,null,null,null,null,{"$f":"Ⅰ.構成メンバー名簿!C106","v":81},{"$f":"CELL(\"address\",Ⅰ.構成メンバー名簿!E106)","v":"'[◆52関東　出場申込書.xlsm]Ⅰ.構成メンバー名簿'!$E$106"},{"$f":"SUBSTITUTE(LEFT(RIGHT(AG343,LEN(AG343)-FIND(\"]\",AG343)),FIND(\"!\",RIGHT(AG343,LEN(AG343)-FIND(\"]\",AG343)))-1),\"'\",\"\")","v":"Ⅰ.構成メンバー名簿"},"E106"]
[null,null,null,null,null,null,null,null,null,null,null,null,null,null,null,null,null,null,null,null,null,null,null,null,null,null,null,null,null,null,null,{"$f":"Ⅰ.構成メンバー名簿!C107","v":82},{"$f":"CELL(\"address\",Ⅰ.構成メンバー名簿!E107)","v":"'[◆52関東　出場申込書.xlsm]Ⅰ.構成メンバー名簿'!$E$107"},"Ⅰ.構成メンバー名簿","E107"]
[null,null,null,null,null,null,null,null,null,null,null,null,null,null,null,null,null,null,null,null,null,null,null,null,null,null,null,null,null,null,null,{"$f":"Ⅰ.構成メンバー名簿!C108","v":83},{"$f":"CELL(\"address\",Ⅰ.構成メンバー名簿!E108)","v":"'[◆52関東　出場申込書.xlsm]Ⅰ.構成メンバー名簿'!$E$108"},"Ⅰ.構成メンバー名簿","E108"]
[null,null,null,null,null,null,null,null,null,null,null,null,null,null,null,null,null,null,null,null,null,null,null,null,null,null,null,null,null,null,null,{"$f":"Ⅰ.構成メンバー名簿!C109","v":84},{"$f":"CELL(\"address\",Ⅰ.構成メンバー名簿!E109)","v":"'[◆52関東　出場申込書.xlsm]Ⅰ.構成メンバー名簿'!$E$109"},"Ⅰ.構成メンバー名簿","E109"]
[null,null,null,null,null,null,null,null,null,null,null,null,null,null,null,null,null,null,null,null,null,null,null,null,null,null,null,null,null,null,null,{"$f":"Ⅰ.構成メンバー名簿!C110","v":85},{"$f":"CELL(\"address\",Ⅰ.構成メンバー名簿!E110)","v":"'[◆52関東　出場申込書.xlsm]Ⅰ.構成メンバー名簿'!$E$110"},"Ⅰ.構成メンバー名簿","E110"]
[null,null,null,null,null,null,null,null,null,null,null,null,null,null,null,null,null,null,null,null,null,null,null,null,null,null,null,null,null,null,null,{"$f":"Ⅰ.構成メンバー名簿!C111","v":86},{"$f":"CELL(\"address\",Ⅰ.構成メンバー名簿!E111)","v":"'[◆52関東　出場申込書.xlsm]Ⅰ.構成メンバー名簿'!$E$111"},"Ⅰ.構成メンバー名簿","E111"]
[null,null,null,null,null,null,null,null,null,null,null,null,null,null,null,null,null,null,null,null,null,null,null,null,null,null,null,null,null,null,null,{"$f":"Ⅰ.構成メンバー名簿!C112","v":87},{"$f":"CELL(\"address\",Ⅰ.構成メンバー名簿!E112)","v":"'[◆52関東　出場申込書.xlsm]Ⅰ.構成メンバー名簿'!$E$112"},"Ⅰ.構成メンバー名簿","E112"]
[null,null,null,null,null,null,null,null,null,null,null,null,null,null,null,null,null,null,null,null,null,null,null,null,null,null,null,null,null,null,null,{"$f":"Ⅰ.構成メンバー名簿!C113","v":88},{"$f":"CELL(\"address\",Ⅰ.構成メンバー名簿!E113)","v":"'[◆52関東　出場申込書.xlsm]Ⅰ.構成メンバー名簿'!$E$113"},"Ⅰ.構成メンバー名簿","E113"]
[null,null,null,null,null,null,null,null,null,null,null,null,null,null,null,null,null,null,null,null,null,null,null,null,null,null,null,null,null,null,null,{"$f":"Ⅰ.構成メンバー名簿!C114","v":89},{"$f":"CELL(\"address\",Ⅰ.構成メンバー名簿!E114)","v":"'[◆52関東　出場申込書.xlsm]Ⅰ.構成メンバー名簿'!$E$114"},"Ⅰ.構成メンバー名簿","E114"]
[null,null,null,null,null,null,null,null,null,null,null,null,null,null,null,null,null,null,null,null,null,null,null,null,null,null,null,null,null,null,null,{"$f":"Ⅰ.構成メンバー名簿!C115","v":90},{"$f":"CELL(\"address\",Ⅰ.構成メンバー名簿!E115)","v":"'[◆52関東　出場申込書.xlsm]Ⅰ.構成メンバー名簿'!$E$115"},"Ⅰ.構成メンバー名簿","E115"]
[null,null,null,null,null,null,null,null,null,null,null,null,null,null,null,null,null,null,null,null,null,null,null,null,null,null,null,null,null,null,null,{"$f":"Ⅰ.構成メンバー名簿!C116","v":91},{"$f":"CELL(\"address\",Ⅰ.構成メンバー名簿!E116)","v":"'[◆52関東　出場申込書.xlsm]Ⅰ.構成メンバー名簿'!$E$116"},"Ⅰ.構成メンバー名簿","E116"]
[null,null,null,null,null,null,null,null,null,null,null,null,null,null,null,null,null,null,null,null,null,null,null,null,null,null,null,null,null,null,null,{"$f":"Ⅰ.構成メンバー名簿!C117","v":92},{"$f":"CELL(\"address\",Ⅰ.構成メンバー名簿!E117)","v":"'[◆52関東　出場申込書.xlsm]Ⅰ.構成メンバー名簿'!$E$117"},"Ⅰ.構成メンバー名簿","E117"]
[null,null,null,null,null,null,null,null,null,null,null,null,null,null,null,null,null,null,null,null,null,null,null,null,null,null,null,null,null,null,null,{"$f":"Ⅰ.構成メンバー名簿!C118","v":93},{"$f":"CELL(\"address\",Ⅰ.構成メンバー名簿!E118)","v":"'[◆52関東　出場申込書.xlsm]Ⅰ.構成メンバー名簿'!$E$118"},"Ⅰ.構成メンバー名簿","E118"]
[null,null,null,null,null,null,null,null,null,null,null,null,null,null,null,null,null,null,null,null,null,null,null,null,null,null,null,null,null,null,null,{"$f":"Ⅰ.構成メンバー名簿!C119","v":94},{"$f":"CELL(\"address\",Ⅰ.構成メンバー名簿!E119)","v":"'[◆52関東　出場申込書.xlsm]Ⅰ.構成メンバー名簿'!$E$119"},"Ⅰ.構成メンバー名簿","E119"]
[null,null,null,null,null,null,null,null,null,null,null,null,null,null,null,null,null,null,null,null,null,null,null,null,null,null,null,null,null,null,null,{"$f":"Ⅰ.構成メンバー名簿!C120","v":95},{"$f":"CELL(\"address\",Ⅰ.構成メンバー名簿!E120)","v":"'[◆52関東　出場申込書.xlsm]Ⅰ.構成メンバー名簿'!$E$120"},"Ⅰ.構成メンバー名簿","E120"]
[null,null,null,null,null,null,null,null,null,null,null,null,null,null,null,null,null,null,null,null,null,null,null,null,null,null,null,null,null,null,null,{"$f":"Ⅰ.構成メンバー名簿!C121","v":96},{"$f":"CELL(\"address\",Ⅰ.構成メンバー名簿!E121)","v":"'[◆52関東　出場申込書.xlsm]Ⅰ.構成メンバー名簿'!$E$121"},"Ⅰ.構成メンバー名簿","E121"]
[null,null,null,null,null,null,null,null,null,null,null,null,null,null,null,null,null,null,null,null,null,null,null,null,null,null,null,null,null,null,null,{"$f":"Ⅰ.構成メンバー名簿!C122","v":97},{"$f":"CELL(\"address\",Ⅰ.構成メンバー名簿!E122)","v":"'[◆52関東　出場申込書.xlsm]Ⅰ.構成メンバー名簿'!$E$122"},"Ⅰ.構成メンバー名簿","E122"]
[null,null,null,null,null,null,null,null,null,null,null,null,null,null,null,null,null,null,null,null,null,null,null,null,null,null,null,null,null,null,null,{"$f":"Ⅰ.構成メンバー名簿!C123","v":98},{"$f":"CELL(\"address\",Ⅰ.構成メンバー名簿!E123)","v":"'[◆52関東　出場申込書.xlsm]Ⅰ.構成メンバー名簿'!$E$123"},"Ⅰ.構成メンバー名簿","E123"]
[null,null,null,null,null,null,null,null,null,null,null,null,null,null,null,null,null,null,null,null,null,null,null,null,null,null,null,null,null,null,null,{"$f":"Ⅰ.構成メンバー名簿!C124","v":99},{"$f":"CELL(\"address\",Ⅰ.構成メンバー名簿!E124)","v":"'[◆52関東　出場申込書.xlsm]Ⅰ.構成メンバー名簿'!$E$124"},"Ⅰ.構成メンバー名簿","E124"]
[null,null,null,null,null,null,null,null,null,null,null,null,null,null,null,null,null,null,null,null,null,null,null,null,null,null,null,null,null,null,null,{"$f":"Ⅰ.構成メンバー名簿!C125","v":100},{"$f":"CELL(\"address\",Ⅰ.構成メンバー名簿!E125)","v":"'[◆52関東　出場申込書.xlsm]Ⅰ.構成メンバー名簿'!$E$125"},"Ⅰ.構成メンバー名簿","E125"]
[null,null,null,null,null,null,null,null,null,null,null,null,null,null,null,null,null,null,null,null,null,null,null,null,null,null,null,null,null,null,null,{"$f":"Ⅰ.構成メンバー名簿!C126","v":101},{"$f":"CELL(\"address\",Ⅰ.構成メンバー名簿!E126)","v":"'[◆52関東　出場申込書.xlsm]Ⅰ.構成メンバー名簿'!$E$126"},"Ⅰ.構成メンバー名簿",{"$f":"SUBSTITUTE(RIGHT(AG363,LEN(AG363)-FIND(\"!\",AG363)),\"$\",\"\")","v":"E126"}]
[null,null,null,null,null,null,null,null,null,null,null,null,null,null,null,null,null,null,null,null,null,null,null,null,null,null,null,null,null,null,null,{"$f":"Ⅰ.構成メンバー名簿!C127","v":102},{"$f":"CELL(\"address\",Ⅰ.構成メンバー名簿!E127)","v":"'[◆52関東　出場申込書.xlsm]Ⅰ.構成メンバー名簿'!$E$127"},"Ⅰ.構成メンバー名簿","E127"]
[null,null,null,null,null,null,null,null,null,null,null,null,null,null,null,null,null,null,null,null,null,null,null,null,null,null,null,null,null,null,null,{"$f":"Ⅰ.構成メンバー名簿!C128","v":103},{"$f":"CELL(\"address\",Ⅰ.構成メンバー名簿!E128)","v":"'[◆52関東　出場申込書.xlsm]Ⅰ.構成メンバー名簿'!$E$128"},"Ⅰ.構成メンバー名簿","E128"]
[null,null,null,null,null,null,null,null,null,null,null,null,null,null,null,null,null,null,null,null,null,null,null,null,null,null,null,null,null,null,null,{"$f":"Ⅰ.構成メンバー名簿!C129","v":104},{"$f":"CELL(\"address\",Ⅰ.構成メンバー名簿!E129)","v":"'[◆52関東　出場申込書.xlsm]Ⅰ.構成メンバー名簿'!$E$129"},"Ⅰ.構成メンバー名簿","E129"]
[null,null,null,null,null,null,null,null,null,null,null,null,null,null,null,null,null,null,null,null,null,null,null,null,null,null,null,null,null,null,null,{"$f":"Ⅰ.構成メンバー名簿!C130","v":105},{"$f":"CELL(\"address\",Ⅰ.構成メンバー名簿!E130)","v":"'[◆52関東　出場申込書.xlsm]Ⅰ.構成メンバー名簿'!$E$130"},"Ⅰ.構成メンバー名簿","E130"]
[null,null,null,null,null,null,null,null,null,null,null,null,null,null,null,null,null,null,null,null,null,null,null,null,null,null,null,null,null,null,null,{"$f":"Ⅰ.構成メンバー名簿!C131","v":106},{"$f":"CELL(\"address\",Ⅰ.構成メンバー名簿!E131)","v":"'[◆52関東　出場申込書.xlsm]Ⅰ.構成メンバー名簿'!$E$131"},"Ⅰ.構成メンバー名簿","E131"]
[null,null,null,null,null,null,null,null,null,null,null,null,null,null,null,null,null,null,null,null,null,null,null,null,null,null,null,null,null,null,null,{"$f":"Ⅰ.構成メンバー名簿!C132","v":107},{"$f":"CELL(\"address\",Ⅰ.構成メンバー名簿!E132)","v":"'[◆52関東　出場申込書.xlsm]Ⅰ.構成メンバー名簿'!$E$132"},"Ⅰ.構成メンバー名簿","E132"]
[null,null,null,null,null,null,null,null,null,null,null,null,null,null,null,null,null,null,null,null,null,null,null,null,null,null,null,null,null,null,null,{"$f":"Ⅰ.構成メンバー名簿!C133","v":108},{"$f":"CELL(\"address\",Ⅰ.構成メンバー名簿!E133)","v":"'[◆52関東　出場申込書.xlsm]Ⅰ.構成メンバー名簿'!$E$133"},"Ⅰ.構成メンバー名簿","E133"]
[null,null,null,null,null,null,null,null,null,null,null,null,null,null,null,null,null,null,null,null,null,null,null,null,null,null,null,null,null,null,null,{"$f":"Ⅰ.構成メンバー名簿!C134","v":109},{"$f":"CELL(\"address\",Ⅰ.構成メンバー名簿!E134)","v":"'[◆52関東　出場申込書.xlsm]Ⅰ.構成メンバー名簿'!$E$134"},"Ⅰ.構成メンバー名簿","E134"]
[null,null,null,null,null,null,null,null,null,null,null,null,null,null,null,null,null,null,null,null,null,null,null,null,null,null,null,null,null,null,null,{"$f":"Ⅰ.構成メンバー名簿!C135","v":110},{"$f":"CELL(\"address\",Ⅰ.構成メンバー名簿!E135)","v":"'[◆52関東　出場申込書.xlsm]Ⅰ.構成メンバー名簿'!$E$135"},"Ⅰ.構成メンバー名簿","E135"]
[null,null,null,null,null,null,null,null,null,null,null,null,null,null,null,null,null,null,null,null,null,null,null,null,null,null,null,null,null,null,null,{"$f":"Ⅰ.構成メンバー名簿!C136","v":111},{"$f":"CELL(\"address\",Ⅰ.構成メンバー名簿!E136)","v":"'[◆52関東　出場申込書.xlsm]Ⅰ.構成メンバー名簿'!$E$136"},"Ⅰ.構成メンバー名簿","E136"]
[null,null,null,null,null,null,null,null,null,null,null,null,null,null,null,null,null,null,null,null,null,null,null,null,null,null,null,null,null,null,null,{"$f":"Ⅰ.構成メンバー名簿!C137","v":112},{"$f":"CELL(\"address\",Ⅰ.構成メンバー名簿!E137)","v":"'[◆52関東　出場申込書.xlsm]Ⅰ.構成メンバー名簿'!$E$137"},"Ⅰ.構成メンバー名簿","E137"]
[null,null,null,null,null,null,null,null,null,null,null,null,null,null,null,null,null,null,null,null,null,null,null,null,null,null,null,null,null,null,null,{"$f":"Ⅰ.構成メンバー名簿!C138","v":113},{"$f":"CELL(\"address\",Ⅰ.構成メンバー名簿!E138)","v":"'[◆52関東　出場申込書.xlsm]Ⅰ.構成メンバー名簿'!$E$138"},"Ⅰ.構成メンバー名簿","E138"]
[null,null,null,null,null,null,null,null,null,null,null,null,null,null,null,null,null,null,null,null,null,null,null,null,null,null,null,null,null,null,null,{"$f":"Ⅰ.構成メンバー名簿!C139","v":114},{"$f":"CELL(\"address\",Ⅰ.構成メンバー名簿!E139)","v":"'[◆52関東　出場申込書.xlsm]Ⅰ.構成メンバー名簿'!$E$139"},"Ⅰ.構成メンバー名簿","E139"]
[null,null,null,null,null,null,null,null,null,null,null,null,null,null,null,null,null,null,null,null,null,null,null,null,null,null,null,null,null,null,null,{"$f":"Ⅰ.構成メンバー名簿!C140","v":115},{"$f":"CELL(\"address\",Ⅰ.構成メンバー名簿!E140)","v":"'[◆52関東　出場申込書.xlsm]Ⅰ.構成メンバー名簿'!$E$140"},"Ⅰ.構成メンバー名簿","E140"]
[null,null,null,null,null,null,null,null,null,null,null,null,null,null,null,null,null,null,null,null,null,null,null,null,null,null,null,null,null,null,null,{"$f":"Ⅰ.構成メンバー名簿!C141","v":116},{"$f":"CELL(\"address\",Ⅰ.構成メンバー名簿!E141)","v":"'[◆52関東　出場申込書.xlsm]Ⅰ.構成メンバー名簿'!$E$141"},"Ⅰ.構成メンバー名簿","E141"]
[null,null,null,null,null,null,null,null,null,null,null,null,null,null,null,null,null,null,null,null,null,null,null,null,null,null,null,null,null,null,null,{"$f":"Ⅰ.構成メンバー名簿!C142","v":117},{"$f":"CELL(\"address\",Ⅰ.構成メンバー名簿!E142)","v":"'[◆52関東　出場申込書.xlsm]Ⅰ.構成メンバー名簿'!$E$142"},"Ⅰ.構成メンバー名簿","E142"]
[null,null,null,null,null,null,null,null,null,null,null,null,null,null,null,null,null,null,null,null,null,null,null,null,null,null,null,null,null,null,null,{"$f":"Ⅰ.構成メンバー名簿!C143","v":118},{"$f":"CELL(\"address\",Ⅰ.構成メンバー名簿!E143)","v":"'[◆52関東　出場申込書.xlsm]Ⅰ.構成メンバー名簿'!$E$143"},"Ⅰ.構成メンバー名簿","E143"]
[null,null,null,null,null,null,null,null,null,null,null,null,null,null,null,null,null,null,null,null,null,null,null,null,null,null,null,null,null,null,null,{"$f":"Ⅰ.構成メンバー名簿!C144","v":119},{"$f":"CELL(\"address\",Ⅰ.構成メンバー名簿!E144)","v":"'[◆52関東　出場申込書.xlsm]Ⅰ.構成メンバー名簿'!$E$144"},"Ⅰ.構成メンバー名簿","E144"]
[null,null,null,null,null,null,null,null,null,null,null,null,null,null,null,null,null,null,null,null,null,null,null,null,null,null,null,null,null,null,null,{"$f":"Ⅰ.構成メンバー名簿!C145","v":120},{"$f":"CELL(\"address\",Ⅰ.構成メンバー名簿!E145)","v":"'[◆52関東　出場申込書.xlsm]Ⅰ.構成メンバー名簿'!$E$145"},"Ⅰ.構成メンバー名簿","E145"]
[null,null,null,null,null,null,null,null,null,null,null,null,null,null,null,null,null,null,null,null,null,null,null,null,null,null,null,null,null,null,null,{"$f":"Ⅰ.構成メンバー名簿!C146","v":121},{"$f":"CELL(\"address\",Ⅰ.構成メンバー名簿!E146)","v":"'[◆52関東　出場申込書.xlsm]Ⅰ.構成メンバー名簿'!$E$146"},"Ⅰ.構成メンバー名簿","E146"]
[null,null,null,null,null,null,null,null,null,null,null,null,null,null,null,null,null,null,null,null,null,null,null,null,null,null,null,null,null,null,null,{"$f":"Ⅰ.構成メンバー名簿!C147","v":122},{"$f":"CELL(\"address\",Ⅰ.構成メンバー名簿!E147)","v":"'[◆52関東　出場申込書.xlsm]Ⅰ.構成メンバー名簿'!$E$147"},"Ⅰ.構成メンバー名簿","E147"]
[null,null,null,null,null,null,null,null,null,null,null,null,null,null,null,null,null,null,null,null,null,null,null,null,null,null,null,null,null,null,null,{"$f":"Ⅰ.構成メンバー名簿!C148","v":123},{"$f":"CELL(\"address\",Ⅰ.構成メンバー名簿!E148)","v":"'[◆52関東　出場申込書.xlsm]Ⅰ.構成メンバー名簿'!$E$148"},"Ⅰ.構成メンバー名簿","E148"]
[null,null,null,null,null,null,null,null,null,null,null,null,null,null,null,null,null,null,null,null,null,null,null,null,null,null,null,null,null,null,null,{"$f":"Ⅰ.構成メンバー名簿!C149","v":124},{"$f":"CELL(\"address\",Ⅰ.構成メンバー名簿!E149)","v":"'[◆52関東　出場申込書.xlsm]Ⅰ.構成メンバー名簿'!$E$149"},"Ⅰ.構成メンバー名簿","E149"]
[null,null,null,null,null,null,null,null,null,null,null,null,null,null,null,null,null,null,null,null,null,null,null,null,null,null,null,null,null,null,null,{"$f":"Ⅰ.構成メンバー名簿!C150","v":125},{"$f":"CELL(\"address\",Ⅰ.構成メンバー名簿!E150)","v":"'[◆52関東　出場申込書.xlsm]Ⅰ.構成メンバー名簿'!$E$150"},"Ⅰ.構成メンバー名簿","E150"]
[null,null,null,null,null,null,null,null,null,null,null,null,null,null,null,null,null,null,null,null,null,null,null,null,null,null,null,null,null,null,null,{"$f":"Ⅰ.構成メンバー名簿!C151","v":126},{"$f":"CELL(\"address\",Ⅰ.構成メンバー名簿!E151)","v":"'[◆52関東　出場申込書.xlsm]Ⅰ.構成メンバー名簿'!$E$151"},"Ⅰ.構成メンバー名簿","E151"]
[null,null,null,null,null,null,null,null,null,null,null,null,null,null,null,null,null,null,null,null,null,null,null,null,null,null,null,null,null,null,null,{"$f":"Ⅰ.構成メンバー名簿!C152","v":127},{"$f":"CELL(\"address\",Ⅰ.構成メンバー名簿!E152)","v":"'[◆52関東　出場申込書.xlsm]Ⅰ.構成メンバー名簿'!$E$152"},"Ⅰ.構成メンバー名簿","E152"]
[null,null,null,null,null,null,null,null,null,null,null,null,null,null,null,null,null,null,null,null,null,null,null,null,null,null,null,null,null,null,null,{"$f":"Ⅰ.構成メンバー名簿!C153","v":128},{"$f":"CELL(\"address\",Ⅰ.構成メンバー名簿!E153)","v":"'[◆52関東　出場申込書.xlsm]Ⅰ.構成メンバー名簿'!$E$153"},"Ⅰ.構成メンバー名簿","E153"]
[null,null,null,null,null,null,null,null,null,null,null,null,null,null,null,null,null,null,null,null,null,null,null,null,null,null,null,null,null,null,null,{"$f":"Ⅰ.構成メンバー名簿!C154","v":129},{"$f":"CELL(\"address\",Ⅰ.構成メンバー名簿!E154)","v":"'[◆52関東　出場申込書.xlsm]Ⅰ.構成メンバー名簿'!$E$154"},"Ⅰ.構成メンバー名簿","E154"]
[null,null,null,null,null,null,null,null,null,null,null,null,null,null,null,null,null,null,null,null,null,null,null,null,null,null,null,null,null,null,null,{"$f":"Ⅰ.構成メンバー名簿!C155","v":130},{"$f":"CELL(\"address\",Ⅰ.構成メンバー名簿!E155)","v":"'[◆52関東　出場申込書.xlsm]Ⅰ.構成メンバー名簿'!$E$155"},"Ⅰ.構成メンバー名簿","E155"]
[null,null,null,null,null,null,null,null,null,null,null,null,null,null,null,null,null,null,null,null,null,null,null,null,null,null,null,null,null,null,null,{"$f":"Ⅰ.構成メンバー名簿!C156","v":131},{"$f":"CELL(\"address\",Ⅰ.構成メンバー名簿!E156)","v":"'[◆52関東　出場申込書.xlsm]Ⅰ.構成メンバー名簿'!$E$156"},"Ⅰ.構成メンバー名簿","E156"]
[null,null,null,null,null,null,null,null,null,null,null,null,null,null,null,null,null,null,null,null,null,null,null,null,null,null,null,null,null,null,null,{"$f":"Ⅰ.構成メンバー名簿!C157","v":132},{"$f":"CELL(\"address\",Ⅰ.構成メンバー名簿!E157)","v":"'[◆52関東　出場申込書.xlsm]Ⅰ.構成メンバー名簿'!$E$157"},"Ⅰ.構成メンバー名簿","E157"]
[null,null,null,null,null,null,null,null,null,null,null,null,null,null,null,null,null,null,null,null,null,null,null,null,null,null,null,null,null,null,null,{"$f":"Ⅰ.構成メンバー名簿!C158","v":133},{"$f":"CELL(\"address\",Ⅰ.構成メンバー名簿!E158)","v":"'[◆52関東　出場申込書.xlsm]Ⅰ.構成メンバー名簿'!$E$158"},"Ⅰ.構成メンバー名簿","E158"]
[null,null,null,null,null,null,null,null,null,null,null,null,null,null,null,null,null,null,null,null,null,null,null,null,null,null,null,null,null,null,null,{"$f":"Ⅰ.構成メンバー名簿!C159","v":134},{"$f":"CELL(\"address\",Ⅰ.構成メンバー名簿!E159)","v":"'[◆52関東　出場申込書.xlsm]Ⅰ.構成メンバー名簿'!$E$159"},"Ⅰ.構成メンバー名簿","E159"]
[null,null,null,null,null,null,null,null,null,null,null,null,null,null,null,null,null,null,null,null,null,null,null,null,null,null,null,null,null,null,null,{"$f":"Ⅰ.構成メンバー名簿!C160","v":135},{"$f":"CELL(\"address\",Ⅰ.構成メンバー名簿!E160)","v":"'[◆52関東　出場申込書.xlsm]Ⅰ.構成メンバー名簿'!$E$160"},"Ⅰ.構成メンバー名簿","E160"]
[null,null,null,null,null,null,null,null,null,null,null,null,null,null,null,null,null,null,null,null,null,null,null,null,null,null,null,null,null,null,null,{"$f":"Ⅰ.構成メンバー名簿!C161","v":136},{"$f":"CELL(\"address\",Ⅰ.構成メンバー名簿!E161)","v":"'[◆52関東　出場申込書.xlsm]Ⅰ.構成メンバー名簿'!$E$161"},"Ⅰ.構成メンバー名簿","E161"]
[null,null,null,null,null,null,null,null,null,null,null,null,null,null,null,null,null,null,null,null,null,null,null,null,null,null,null,null,null,null,null,{"$f":"Ⅰ.構成メンバー名簿!C162","v":137},{"$f":"CELL(\"address\",Ⅰ.構成メンバー名簿!E162)","v":"'[◆52関東　出場申込書.xlsm]Ⅰ.構成メンバー名簿'!$E$162"},"Ⅰ.構成メンバー名簿","E162"]
[null,null,null,null,null,null,null,null,null,null,null,null,null,null,null,null,null,null,null,null,null,null,null,null,null,null,null,null,null,null,null,{"$f":"Ⅰ.構成メンバー名簿!C163","v":138},{"$f":"CELL(\"address\",Ⅰ.構成メンバー名簿!E163)","v":"'[◆52関東　出場申込書.xlsm]Ⅰ.構成メンバー名簿'!$E$163"},"Ⅰ.構成メンバー名簿","E163"]
[null,null,null,null,null,null,null,null,null,null,null,null,null,null,null,null,null,null,null,null,null,null,null,null,null,null,null,null,null,null,null,{"$f":"Ⅰ.構成メンバー名簿!C164","v":139},{"$f":"CELL(\"address\",Ⅰ.構成メンバー名簿!E164)","v":"'[◆52関東　出場申込書.xlsm]Ⅰ.構成メンバー名簿'!$E$164"},"Ⅰ.構成メンバー名簿","E164"]
[null,null,null,null,null,null,null,null,null,null,null,null,null,null,null,null,null,null,null,null,null,null,null,null,null,null,null,null,null,null,null,{"$f":"Ⅰ.構成メンバー名簿!C165","v":140},{"$f":"CELL(\"address\",Ⅰ.構成メンバー名簿!E165)","v":"'[◆52関東　出場申込書.xlsm]Ⅰ.構成メンバー名簿'!$E$165"},"Ⅰ.構成メンバー名簿","E165"]
[null,null,null,null,null,null,null,null,null,null,null,null,null,null,null,null,null,null,null,null,null,null,null,null,null,null,null,null,null,null,null,{"$f":"Ⅰ.構成メンバー名簿!C166","v":141},{"$f":"CELL(\"address\",Ⅰ.構成メンバー名簿!E166)","v":"'[◆52関東　出場申込書.xlsm]Ⅰ.構成メンバー名簿'!$E$166"},"Ⅰ.構成メンバー名簿","E166"]
[null,null,null,null,null,null,null,null,null,null,null,null,null,null,null,null,null,null,null,null,null,null,null,null,null,null,null,null,null,null,null,{"$f":"Ⅰ.構成メンバー名簿!C167","v":142},{"$f":"CELL(\"address\",Ⅰ.構成メンバー名簿!E167)","v":"'[◆52関東　出場申込書.xlsm]Ⅰ.構成メンバー名簿'!$E$167"},"Ⅰ.構成メンバー名簿","E167"]
[null,null,null,null,null,null,null,null,null,null,null,null,null,null,null,null,null,null,null,null,null,null,null,null,null,null,null,null,null,null,null,{"$f":"Ⅰ.構成メンバー名簿!C168","v":143},{"$f":"CELL(\"address\",Ⅰ.構成メンバー名簿!E168)","v":"'[◆52関東　出場申込書.xlsm]Ⅰ.構成メンバー名簿'!$E$168"},"Ⅰ.構成メンバー名簿","E168"]
[null,null,null,null,null,null,null,null,null,null,null,null,null,null,null,null,null,null,null,null,null,null,null,null,null,null,null,null,null,null,null,{"$f":"Ⅰ.構成メンバー名簿!C169","v":144},{"$f":"CELL(\"address\",Ⅰ.構成メンバー名簿!E169)","v":"'[◆52関東　出場申込書.xlsm]Ⅰ.構成メンバー名簿'!$E$169"},"Ⅰ.構成メンバー名簿","E169"]
[null,null,null,null,null,null,null,null,null,null,null,null,null,null,null,null,null,null,null,null,null,null,null,null,null,null,null,null,null,null,null,{"$f":"Ⅰ.構成メンバー名簿!C170","v":145},{"$f":"CELL(\"address\",Ⅰ.構成メンバー名簿!E170)","v":"'[◆52関東　出場申込書.xlsm]Ⅰ.構成メンバー名簿'!$E$170"},{"$f":"SUBSTITUTE(LEFT(RIGHT(AG407,LEN(AG407)-FIND(\"]\",AG407)),FIND(\"!\",RIGHT(AG407,LEN(AG407)-FIND(\"]\",AG407)))-1),\"'\",\"\")","v":"Ⅰ.構成メンバー名簿"},"E170"]
[null,null,null,null,null,null,null,null,null,null,null,null,null,null,null,null,null,null,null,null,null,null,null,null,null,null,null,null,null,null,null,{"$f":"Ⅰ.構成メンバー名簿!C171","v":146},{"$f":"CELL(\"address\",Ⅰ.構成メンバー名簿!E171)","v":"'[◆52関東　出場申込書.xlsm]Ⅰ.構成メンバー名簿'!$E$171"},"Ⅰ.構成メンバー名簿","E171"]
[null,null,null,null,null,null,null,null,null,null,null,null,null,null,null,null,null,null,null,null,null,null,null,null,null,null,null,null,null,null,null,{"$f":"Ⅰ.構成メンバー名簿!C172","v":147},{"$f":"CELL(\"address\",Ⅰ.構成メンバー名簿!E172)","v":"'[◆52関東　出場申込書.xlsm]Ⅰ.構成メンバー名簿'!$E$172"},"Ⅰ.構成メンバー名簿","E172"]
[null,null,null,null,null,null,null,null,null,null,null,null,null,null,null,null,null,null,null,null,null,null,null,null,null,null,null,null,null,null,null,{"$f":"Ⅰ.構成メンバー名簿!C173","v":148},{"$f":"CELL(\"address\",Ⅰ.構成メンバー名簿!E173)","v":"'[◆52関東　出場申込書.xlsm]Ⅰ.構成メンバー名簿'!$E$173"},"Ⅰ.構成メンバー名簿","E173"]
[null,null,null,null,null,null,null,null,null,null,null,null,null,null,null,null,null,null,null,null,null,null,null,null,null,null,null,null,null,null,null,{"$f":"Ⅰ.構成メンバー名簿!C174","v":149},{"$f":"CELL(\"address\",Ⅰ.構成メンバー名簿!E174)","v":"'[◆52関東　出場申込書.xlsm]Ⅰ.構成メンバー名簿'!$E$174"},"Ⅰ.構成メンバー名簿","E174"]
[null,null,null,null,null,null,null,null,null,null,null,null,null,null,null,null,null,null,null,null,null,null,null,null,null,null,null,null,null,null,null,{"$f":"Ⅰ.構成メンバー名簿!C175","v":150},{"$f":"CELL(\"address\",Ⅰ.構成メンバー名簿!E175)","v":"'[◆52関東　出場申込書.xlsm]Ⅰ.構成メンバー名簿'!$E$175"},"Ⅰ.構成メンバー名簿","E175"]
[null,null,null,null,null,null,null,null,null,null,null,null,null,null,null,null,null,null,null,null,null,null,null,null,null,null,null,null,null,null,null,{"$f":"Ⅰ.構成メンバー名簿!C176","v":151},{"$f":"CELL(\"address\",Ⅰ.構成メンバー名簿!E176)","v":"'[◆52関東　出場申込書.xlsm]Ⅰ.構成メンバー名簿'!$E$176"},"Ⅰ.構成メンバー名簿","E176"]
[null,null,null,null,null,null,null,null,null,null,null,null,null,null,null,null,null,null,null,null,null,null,null,null,null,null,null,null,null,null,null,{"$f":"Ⅰ.構成メンバー名簿!C177","v":152},{"$f":"CELL(\"address\",Ⅰ.構成メンバー名簿!E177)","v":"'[◆52関東　出場申込書.xlsm]Ⅰ.構成メンバー名簿'!$E$177"},"Ⅰ.構成メンバー名簿","E177"]
[null,null,null,null,null,null,null,null,null,null,null,null,null,null,null,null,null,null,null,null,null,null,null,null,null,null,null,null,null,null,null,{"$f":"Ⅰ.構成メンバー名簿!C178","v":153},{"$f":"CELL(\"address\",Ⅰ.構成メンバー名簿!E178)","v":"'[◆52関東　出場申込書.xlsm]Ⅰ.構成メンバー名簿'!$E$178"},"Ⅰ.構成メンバー名簿","E178"]
[null,null,null,null,null,null,null,null,null,null,null,null,null,null,null,null,null,null,null,null,null,null,null,null,null,null,null,null,null,null,null,{"$f":"Ⅰ.構成メンバー名簿!C179","v":154},{"$f":"CELL(\"address\",Ⅰ.構成メンバー名簿!E179)","v":"'[◆52関東　出場申込書.xlsm]Ⅰ.構成メンバー名簿'!$E$179"},"Ⅰ.構成メンバー名簿","E179"]
[null,null,null,null,null,null,null,null,null,null,null,null,null,null,null,null,null,null,null,null,null,null,null,null,null,null,null,null,null,null,null,{"$f":"Ⅰ.構成メンバー名簿!C180","v":155},{"$f":"CELL(\"address\",Ⅰ.構成メンバー名簿!E180)","v":"'[◆52関東　出場申込書.xlsm]Ⅰ.構成メンバー名簿'!$E$180"},"Ⅰ.構成メンバー名簿","E180"]
[null,null,null,null,null,null,null,null,null,null,null,null,null,null,null,null,null,null,null,null,null,null,null,null,null,null,null,null,null,null,null,{"$f":"Ⅰ.構成メンバー名簿!C181","v":156},{"$f":"CELL(\"address\",Ⅰ.構成メンバー名簿!E181)","v":"'[◆52関東　出場申込書.xlsm]Ⅰ.構成メンバー名簿'!$E$181"},"Ⅰ.構成メンバー名簿","E181"]
[null,null,null,null,null,null,null,null,null,null,null,null,null,null,null,null,null,null,null,null,null,null,null,null,null,null,null,null,null,null,null,{"$f":"Ⅰ.構成メンバー名簿!C182","v":157},{"$f":"CELL(\"address\",Ⅰ.構成メンバー名簿!E182)","v":"'[◆52関東　出場申込書.xlsm]Ⅰ.構成メンバー名簿'!$E$182"},"Ⅰ.構成メンバー名簿","E182"]
[null,null,null,null,null,null,null,null,null,null,null,null,null,null,null,null,null,null,null,null,null,null,null,null,null,null,null,null,null,null,null,{"$f":"Ⅰ.構成メンバー名簿!C183","v":158},{"$f":"CELL(\"address\",Ⅰ.構成メンバー名簿!E183)","v":"'[◆52関東　出場申込書.xlsm]Ⅰ.構成メンバー名簿'!$E$183"},"Ⅰ.構成メンバー名簿","E183"]
[null,null,null,null,null,null,null,null,null,null,null,null,null,null,null,null,null,null,null,null,null,null,null,null,null,null,null,null,null,null,null,{"$f":"Ⅰ.構成メンバー名簿!C184","v":159},{"$f":"CELL(\"address\",Ⅰ.構成メンバー名簿!E184)","v":"'[◆52関東　出場申込書.xlsm]Ⅰ.構成メンバー名簿'!$E$184"},"Ⅰ.構成メンバー名簿","E184"]
[null,null,null,null,null,null,null,null,null,null,null,null,null,null,null,null,null,null,null,null,null,null,null,null,null,null,null,null,null,null,null,{"$f":"Ⅰ.構成メンバー名簿!C185","v":160},{"$f":"CELL(\"address\",Ⅰ.構成メンバー名簿!E185)","v":"'[◆52関東　出場申込書.xlsm]Ⅰ.構成メンバー名簿'!$E$185"},"Ⅰ.構成メンバー名簿","E185"]
[null,null,null,null,null,null,null,null,null,null,null,null,null,null,null,null,null,null,null,null,null,null,null,null,null,null,null,null,null,null,null,{"$f":"Ⅰ.構成メンバー名簿!C186","v":161},{"$f":"CELL(\"address\",Ⅰ.構成メンバー名簿!E186)","v":"'[◆52関東　出場申込書.xlsm]Ⅰ.構成メンバー名簿'!$E$186"},"Ⅰ.構成メンバー名簿","E186"]
[null,null,null,null,null,null,null,null,null,null,null,null,null,null,null,null,null,null,null,null,null,null,null,null,null,null,null,null,null,null,null,{"$f":"Ⅰ.構成メンバー名簿!C187","v":162},{"$f":"CELL(\"address\",Ⅰ.構成メンバー名簿!E187)","v":"'[◆52関東　出場申込書.xlsm]Ⅰ.構成メンバー名簿'!$E$187"},"Ⅰ.構成メンバー名簿","E187"]
[null,null,null,null,null,null,null,null,null,null,null,null,null,null,null,null,null,null,null,null,null,null,null,null,null,null,null,null,null,null,null,{"$f":"Ⅰ.構成メンバー名簿!C188","v":163},{"$f":"CELL(\"address\",Ⅰ.構成メンバー名簿!E188)","v":"'[◆52関東　出場申込書.xlsm]Ⅰ.構成メンバー名簿'!$E$188"},"Ⅰ.構成メンバー名簿","E188"]
[null,null,null,null,null,null,null,null,null,null,null,null,null,null,null,null,null,null,null,null,null,null,null,null,null,null,null,null,null,null,null,{"$f":"Ⅰ.構成メンバー名簿!C189","v":164},{"$f":"CELL(\"address\",Ⅰ.構成メンバー名簿!E189)","v":"'[◆52関東　出場申込書.xlsm]Ⅰ.構成メンバー名簿'!$E$189"},"Ⅰ.構成メンバー名簿","E189"]
[null,null,null,null,null,null,null,null,null,null,null,null,null,null,null,null,null,null,null,null,null,null,null,null,null,null,null,null,null,null,null,{"$f":"Ⅰ.構成メンバー名簿!C190","v":165},{"$f":"CELL(\"address\",Ⅰ.構成メンバー名簿!E190)","v":"'[◆52関東　出場申込書.xlsm]Ⅰ.構成メンバー名簿'!$E$190"},"Ⅰ.構成メンバー名簿",{"$f":"SUBSTITUTE(RIGHT(AG427,LEN(AG427)-FIND(\"!\",AG427)),\"$\",\"\")","v":"E190"}]
[null,null,null,null,null,null,null,null,null,null,null,null,null,null,null,null,null,null,null,null,null,null,null,null,null,null,null,null,null,null,null,{"$f":"Ⅰ.構成メンバー名簿!C191","v":166},{"$f":"CELL(\"address\",Ⅰ.構成メンバー名簿!E191)","v":"'[◆52関東　出場申込書.xlsm]Ⅰ.構成メンバー名簿'!$E$191"},"Ⅰ.構成メンバー名簿","E191"]
[null,null,null,null,null,null,null,null,null,null,null,null,null,null,null,null,null,null,null,null,null,null,null,null,null,null,null,null,null,null,null,{"$f":"Ⅰ.構成メンバー名簿!C192","v":167},{"$f":"CELL(\"address\",Ⅰ.構成メンバー名簿!E192)","v":"'[◆52関東　出場申込書.xlsm]Ⅰ.構成メンバー名簿'!$E$192"},"Ⅰ.構成メンバー名簿","E192"]
[null,null,null,null,null,null,null,null,null,null,null,null,null,null,null,null,null,null,null,null,null,null,null,null,null,null,null,null,null,null,null,{"$f":"Ⅰ.構成メンバー名簿!C193","v":168},{"$f":"CELL(\"address\",Ⅰ.構成メンバー名簿!E193)","v":"'[◆52関東　出場申込書.xlsm]Ⅰ.構成メンバー名簿'!$E$193"},"Ⅰ.構成メンバー名簿","E193"]
[null,null,null,null,null,null,null,null,null,null,null,null,null,null,null,null,null,null,null,null,null,null,null,null,null,null,null,null,null,null,null,{"$f":"Ⅰ.構成メンバー名簿!C194","v":169},{"$f":"CELL(\"address\",Ⅰ.構成メンバー名簿!E194)","v":"'[◆52関東　出場申込書.xlsm]Ⅰ.構成メンバー名簿'!$E$194"},"Ⅰ.構成メンバー名簿","E194"]
[null,null,null,null,null,null,null,null,null,null,null,null,null,null,null,null,null,null,null,null,null,null,null,null,null,null,null,null,null,null,null,{"$f":"Ⅰ.構成メンバー名簿!C195","v":170},{"$f":"CELL(\"address\",Ⅰ.構成メンバー名簿!E195)","v":"'[◆52関東　出場申込書.xlsm]Ⅰ.構成メンバー名簿'!$E$195"},"Ⅰ.構成メンバー名簿","E195"]
[null,null,null,null,null,null,null,null,null,null,null,null,null,null,null,null,null,null,null,null,null,null,null,null,null,null,null,null,null,null,null,{"$f":"Ⅰ.構成メンバー名簿!C196","v":171},{"$f":"CELL(\"address\",Ⅰ.構成メンバー名簿!E196)","v":"'[◆52関東　出場申込書.xlsm]Ⅰ.構成メンバー名簿'!$E$196"},"Ⅰ.構成メンバー名簿","E196"]
[null,null,null,null,null,null,null,null,null,null,null,null,null,null,null,null,null,null,null,null,null,null,null,null,null,null,null,null,null,null,null,{"$f":"Ⅰ.構成メンバー名簿!C197","v":172},{"$f":"CELL(\"address\",Ⅰ.構成メンバー名簿!E197)","v":"'[◆52関東　出場申込書.xlsm]Ⅰ.構成メンバー名簿'!$E$197"},"Ⅰ.構成メンバー名簿","E197"]
[null,null,null,null,null,null,null,null,null,null,null,null,null,null,null,null,null,null,null,null,null,null,null,null,null,null,null,null,null,null,null,{"$f":"Ⅰ.構成メンバー名簿!C198","v":173},{"$f":"CELL(\"address\",Ⅰ.構成メンバー名簿!E198)","v":"'[◆52関東　出場申込書.xlsm]Ⅰ.構成メンバー名簿'!$E$198"},"Ⅰ.構成メンバー名簿","E198"]
[null,null,null,null,null,null,null,null,null,null,null,null,null,null,null,null,null,null,null,null,null,null,null,null,null,null,null,null,null,null,null,{"$f":"Ⅰ.構成メンバー名簿!C199","v":174},{"$f":"CELL(\"address\",Ⅰ.構成メンバー名簿!E199)","v":"'[◆52関東　出場申込書.xlsm]Ⅰ.構成メンバー名簿'!$E$199"},"Ⅰ.構成メンバー名簿","E199"]
[null,null,null,null,null,null,null,null,null,null,null,null,null,null,null,null,null,null,null,null,null,null,null,null,null,null,null,null,null,null,null,{"$f":"Ⅰ.構成メンバー名簿!C200","v":175},{"$f":"CELL(\"address\",Ⅰ.構成メンバー名簿!E200)","v":"'[◆52関東　出場申込書.xlsm]Ⅰ.構成メンバー名簿'!$E$200"},"Ⅰ.構成メンバー名簿","E200"]
[null,null,null,null,null,null,null,null,null,null,null,null,null,null,null,null,null,null,null,null,null,null,null,null,null,null,null,null,null,null,null,{"$f":"Ⅰ.構成メンバー名簿!C201","v":176},{"$f":"CELL(\"address\",Ⅰ.構成メンバー名簿!E201)","v":"'[◆52関東　出場申込書.xlsm]Ⅰ.構成メンバー名簿'!$E$201"},"Ⅰ.構成メンバー名簿","E201"]
[null,null,null,null,null,null,null,null,null,null,null,null,null,null,null,null,null,null,null,null,null,null,null,null,null,null,null,null,null,null,null,{"$f":"Ⅰ.構成メンバー名簿!C202","v":177},{"$f":"CELL(\"address\",Ⅰ.構成メンバー名簿!E202)","v":"'[◆52関東　出場申込書.xlsm]Ⅰ.構成メンバー名簿'!$E$202"},"Ⅰ.構成メンバー名簿","E202"]
[null,null,null,null,null,null,null,null,null,null,null,null,null,null,null,null,null,null,null,null,null,null,null,null,null,null,null,null,null,null,null,{"$f":"Ⅰ.構成メンバー名簿!C203","v":178},{"$f":"CELL(\"address\",Ⅰ.構成メンバー名簿!E203)","v":"'[◆52関東　出場申込書.xlsm]Ⅰ.構成メンバー名簿'!$E$203"},"Ⅰ.構成メンバー名簿","E203"]
[null,null,null,null,null,null,null,null,null,null,null,null,null,null,null,null,null,null,null,null,null,null,null,null,null,null,null,null,null,null,null,{"$f":"Ⅰ.構成メンバー名簿!C204","v":179},{"$f":"CELL(\"address\",Ⅰ.構成メンバー名簿!E204)","v":"'[◆52関東　出場申込書.xlsm]Ⅰ.構成メンバー名簿'!$E$204"},"Ⅰ.構成メンバー名簿","E204"]
[null,null,null,null,null,null,null,null,null,null,null,null,null,null,null,null,null,null,null,null,null,null,null,null,null,null,null,null,null,null,null,{"$f":"Ⅰ.構成メンバー名簿!C205","v":180},{"$f":"CELL(\"address\",Ⅰ.構成メンバー名簿!E205)","v":"'[◆52関東　出場申込書.xlsm]Ⅰ.構成メンバー名簿'!$E$205"},"Ⅰ.構成メンバー名簿","E205"]
[null,null,null,null,null,null,null,null,null,null,null,null,null,null,null,null,null,null,null,null,null,null,null,null,null,null,null,null,null,null,null,{"$f":"Ⅰ.構成メンバー名簿!C206","v":181},{"$f":"CELL(\"address\",Ⅰ.構成メンバー名簿!E206)","v":"'[◆52関東　出場申込書.xlsm]Ⅰ.構成メンバー名簿'!$E$206"},"Ⅰ.構成メンバー名簿","E206"]
[null,null,null,null,null,null,null,null,null,null,null,null,null,null,null,null,null,null,null,null,null,null,null,null,null,null,null,null,null,null,null,{"$f":"Ⅰ.構成メンバー名簿!C207","v":182},{"$f":"CELL(\"address\",Ⅰ.構成メンバー名簿!E207)","v":"'[◆52関東　出場申込書.xlsm]Ⅰ.構成メンバー名簿'!$E$207"},"Ⅰ.構成メンバー名簿","E207"]
[null,null,null,null,null,null,null,null,null,null,null,null,null,null,null,null,null,null,null,null,null,null,null,null,null,null,null,null,null,null,null,{"$f":"Ⅰ.構成メンバー名簿!C208","v":183},{"$f":"CELL(\"address\",Ⅰ.構成メンバー名簿!E208)","v":"'[◆52関東　出場申込書.xlsm]Ⅰ.構成メンバー名簿'!$E$208"},"Ⅰ.構成メンバー名簿","E208"]
[null,null,null,null,null,null,null,null,null,null,null,null,null,null,null,null,null,null,null,null,null,null,null,null,null,null,null,null,null,null,null,{"$f":"Ⅰ.構成メンバー名簿!C209","v":184},{"$f":"CELL(\"address\",Ⅰ.構成メンバー名簿!E209)","v":"'[◆52関東　出場申込書.xlsm]Ⅰ.構成メンバー名簿'!$E$209"},"Ⅰ.構成メンバー名簿","E209"]
[null,null,null,null,null,null,null,null,null,null,null,null,null,null,null,null,null,null,null,null,null,null,null,null,null,null,null,null,null,null,null,{"$f":"Ⅰ.構成メンバー名簿!C210","v":185},{"$f":"CELL(\"address\",Ⅰ.構成メンバー名簿!E210)","v":"'[◆52関東　出場申込書.xlsm]Ⅰ.構成メンバー名簿'!$E$210"},"Ⅰ.構成メンバー名簿","E210"]
[null,null,null,null,null,null,null,null,null,null,null,null,null,null,null,null,null,null,null,null,null,null,null,null,null,null,null,null,null,null,null,{"$f":"Ⅰ.構成メンバー名簿!C211","v":186},{"$f":"CELL(\"address\",Ⅰ.構成メンバー名簿!E211)","v":"'[◆52関東　出場申込書.xlsm]Ⅰ.構成メンバー名簿'!$E$211"},"Ⅰ.構成メンバー名簿","E211"]
[null,null,null,null,null,null,null,null,null,null,null,null,null,null,null,null,null,null,null,null,null,null,null,null,null,null,null,null,null,null,null,{"$f":"Ⅰ.構成メンバー名簿!C212","v":187},{"$f":"CELL(\"address\",Ⅰ.構成メンバー名簿!E212)","v":"'[◆52関東　出場申込書.xlsm]Ⅰ.構成メンバー名簿'!$E$212"},"Ⅰ.構成メンバー名簿","E212"]
[null,null,null,null,null,null,null,null,null,null,null,null,null,null,null,null,null,null,null,null,null,null,null,null,null,null,null,null,null,null,null,{"$f":"Ⅰ.構成メンバー名簿!C213","v":188},{"$f":"CELL(\"address\",Ⅰ.構成メンバー名簿!E213)","v":"'[◆52関東　出場申込書.xlsm]Ⅰ.構成メンバー名簿'!$E$213"},"Ⅰ.構成メンバー名簿","E213"]
[null,null,null,null,null,null,null,null,null,null,null,null,null,null,null,null,null,null,null,null,null,null,null,null,null,null,null,null,null,null,null,{"$f":"Ⅰ.構成メンバー名簿!C214","v":189},{"$f":"CELL(\"address\",Ⅰ.構成メンバー名簿!E214)","v":"'[◆52関東　出場申込書.xlsm]Ⅰ.構成メンバー名簿'!$E$214"},"Ⅰ.構成メンバー名簿","E214"]
[null,null,null,null,null,null,null,null,null,null,null,null,null,null,null,null,null,null,null,null,null,null,null,null,null,null,null,null,null,null,null,{"$f":"Ⅰ.構成メンバー名簿!C215","v":190},{"$f":"CELL(\"address\",Ⅰ.構成メンバー名簿!E215)","v":"'[◆52関東　出場申込書.xlsm]Ⅰ.構成メンバー名簿'!$E$215"},"Ⅰ.構成メンバー名簿","E215"]
[null,null,null,null,null,null,null,null,null,null,null,null,null,null,null,null,null,null,null,null,null,null,null,null,null,null,null,null,null,null,null,{"$f":"Ⅰ.構成メンバー名簿!C216","v":191},{"$f":"CELL(\"address\",Ⅰ.構成メンバー名簿!E216)","v":"'[◆52関東　出場申込書.xlsm]Ⅰ.構成メンバー名簿'!$E$216"},"Ⅰ.構成メンバー名簿","E216"]
[null,null,null,null,null,null,null,null,null,null,null,null,null,null,null,null,null,null,null,null,null,null,null,null,null,null,null,null,null,null,null,{"$f":"Ⅰ.構成メンバー名簿!C217","v":192},{"$f":"CELL(\"address\",Ⅰ.構成メンバー名簿!E217)","v":"'[◆52関東　出場申込書.xlsm]Ⅰ.構成メンバー名簿'!$E$217"},"Ⅰ.構成メンバー名簿","E217"]
[null,null,null,null,null,null,null,null,null,null,null,null,null,null,null,null,null,null,null,null,null,null,null,null,null,null,null,null,null,null,null,{"$f":"Ⅰ.構成メンバー名簿!C218","v":193},{"$f":"CELL(\"address\",Ⅰ.構成メンバー名簿!E218)","v":"'[◆52関東　出場申込書.xlsm]Ⅰ.構成メンバー名簿'!$E$218"},"Ⅰ.構成メンバー名簿","E218"]
[null,null,null,null,null,null,null,null,null,null,null,null,null,null,null,null,null,null,null,null,null,null,null,null,null,null,null,null,null,null,null,{"$f":"Ⅰ.構成メンバー名簿!C219","v":194},{"$f":"CELL(\"address\",Ⅰ.構成メンバー名簿!E219)","v":"'[◆52関東　出場申込書.xlsm]Ⅰ.構成メンバー名簿'!$E$219"},"Ⅰ.構成メンバー名簿","E219"]
[null,null,null,null,null,null,null,null,null,null,null,null,null,null,null,null,null,null,null,null,null,null,null,null,null,null,null,null,null,null,null,{"$f":"Ⅰ.構成メンバー名簿!C220","v":195},{"$f":"CELL(\"address\",Ⅰ.構成メンバー名簿!E220)","v":"'[◆52関東　出場申込書.xlsm]Ⅰ.構成メンバー名簿'!$E$220"},"Ⅰ.構成メンバー名簿","E220"]
[null,null,null,null,null,null,null,null,null,null,null,null,null,null,null,null,null,null,null,null,null,null,null,null,null,null,null,null,null,null,null,{"$f":"Ⅰ.構成メンバー名簿!C221","v":196},{"$f":"CELL(\"address\",Ⅰ.構成メンバー名簿!E221)","v":"'[◆52関東　出場申込書.xlsm]Ⅰ.構成メンバー名簿'!$E$221"},"Ⅰ.構成メンバー名簿","E221"]
[null,null,null,null,null,null,null,null,null,null,null,null,null,null,null,null,null,null,null,null,null,null,null,null,null,null,null,null,null,null,null,{"$f":"Ⅰ.構成メンバー名簿!C222","v":197},{"$f":"CELL(\"address\",Ⅰ.構成メンバー名簿!E222)","v":"'[◆52関東　出場申込書.xlsm]Ⅰ.構成メンバー名簿'!$E$222"},"Ⅰ.構成メンバー名簿","E222"]
[null,null,null,null,null,null,null,null,null,null,null,null,null,null,null,null,null,null,null,null,null,null,null,null,null,null,null,null,null,null,null,{"$f":"Ⅰ.構成メンバー名簿!C223","v":198},{"$f":"CELL(\"address\",Ⅰ.構成メンバー名簿!E223)","v":"'[◆52関東　出場申込書.xlsm]Ⅰ.構成メンバー名簿'!$E$223"},"Ⅰ.構成メンバー名簿","E223"]
[null,null,null,null,null,null,null,null,null,null,null,null,null,null,null,null,null,null,null,null,null,null,null,null,null,null,null,null,null,null,null,{"$f":"Ⅰ.構成メンバー名簿!C224","v":199},{"$f":"CELL(\"address\",Ⅰ.構成メンバー名簿!E224)","v":"'[◆52関東　出場申込書.xlsm]Ⅰ.構成メンバー名簿'!$E$224"},"Ⅰ.構成メンバー名簿","E224"]
[null,null,null,null,null,null,null,null,null,null,null,null,null,null,null,null,null,null,null,null,null,null,null,null,null,null,null,null,null,null,null,{"$f":"Ⅰ.構成メンバー名簿!C225","v":200},{"$f":"CELL(\"address\",Ⅰ.構成メンバー名簿!E225)","v":"'[◆52関東　出場申込書.xlsm]Ⅰ.構成メンバー名簿'!$E$225"},"Ⅰ.構成メンバー名簿","E225"]
[null,null,null,null,null,null,null,null,null,null,null,null,null,null,null,null,null,null,null,null,null,null,null,null,null,null,null,null,null,null,null,{"$f":"Ⅰ.構成メンバー名簿!C226","v":201},{"$f":"CELL(\"address\",Ⅰ.構成メンバー名簿!E226)","v":"'[◆52関東　出場申込書.xlsm]Ⅰ.構成メンバー名簿'!$E$226"},"Ⅰ.構成メンバー名簿","E226"]
[null,null,null,null,null,null,null,null,null,null,null,null,null,null,null,null,null,null,null,null,null,null,null,null,null,null,null,null,null,null,null,{"$f":"Ⅰ.構成メンバー名簿!C227","v":202},{"$f":"CELL(\"address\",Ⅰ.構成メンバー名簿!E227)","v":"'[◆52関東　出場申込書.xlsm]Ⅰ.構成メンバー名簿'!$E$227"},"Ⅰ.構成メンバー名簿","E227"]
[null,null,null,null,null,null,null,null,null,null,null,null,null,null,null,null,null,null,null,null,null,null,null,null,null,null,null,null,null,null,null,{"$f":"Ⅰ.構成メンバー名簿!C228","v":203},{"$f":"CELL(\"address\",Ⅰ.構成メンバー名簿!E228)","v":"'[◆52関東　出場申込書.xlsm]Ⅰ.構成メンバー名簿'!$E$228"},"Ⅰ.構成メンバー名簿","E228"]
[null,null,null,null,null,null,null,null,null,null,null,null,null,null,null,null,null,null,null,null,null,null,null,null,null,null,null,null,null,null,null,{"$f":"Ⅰ.構成メンバー名簿!C229","v":204},{"$f":"CELL(\"address\",Ⅰ.構成メンバー名簿!E229)","v":"'[◆52関東　出場申込書.xlsm]Ⅰ.構成メンバー名簿'!$E$229"},"Ⅰ.構成メンバー名簿","E229"]
[null,null,null,null,null,null,null,null,null,null,null,null,null,null,null,null,null,null,null,null,null,null,null,null,null,null,null,null,null,null,null,{"$f":"Ⅰ.構成メンバー名簿!C230","v":205},{"$f":"CELL(\"address\",Ⅰ.構成メンバー名簿!E230)","v":"'[◆52関東　出場申込書.xlsm]Ⅰ.構成メンバー名簿'!$E$230"},"Ⅰ.構成メンバー名簿","E230"]
[null,null,null,null,null,null,null,null,null,null,null,null,null,null,null,null,null,null,null,null,null,null,null,null,null,null,null,null,null,null,null,{"$f":"Ⅰ.構成メンバー名簿!C231","v":206},{"$f":"CELL(\"address\",Ⅰ.構成メンバー名簿!E231)","v":"'[◆52関東　出場申込書.xlsm]Ⅰ.構成メンバー名簿'!$E$231"},"Ⅰ.構成メンバー名簿","E231"]
[null,null,null,null,null,null,null,null,null,null,null,null,null,null,null,null,null,null,null,null,null,null,null,null,null,null,null,null,null,null,null,{"$f":"Ⅰ.構成メンバー名簿!C232","v":207},{"$f":"CELL(\"address\",Ⅰ.構成メンバー名簿!E232)","v":"'[◆52関東　出場申込書.xlsm]Ⅰ.構成メンバー名簿'!$E$232"},"Ⅰ.構成メンバー名簿","E232"]
[null,null,null,null,null,null,null,null,null,null,null,null,null,null,null,null,null,null,null,null,null,null,null,null,null,null,null,null,null,null,null,{"$f":"Ⅰ.構成メンバー名簿!C233","v":208},{"$f":"CELL(\"address\",Ⅰ.構成メンバー名簿!E233)","v":"'[◆52関東　出場申込書.xlsm]Ⅰ.構成メンバー名簿'!$E$233"},"Ⅰ.構成メンバー名簿","E233"]
[null,null,null,null,null,null,null,null,null,null,null,null,null,null,null,null,null,null,null,null,null,null,null,null,null,null,null,null,null,null,null,{"$f":"Ⅰ.構成メンバー名簿!C234","v":209},{"$f":"CELL(\"address\",Ⅰ.構成メンバー名簿!E234)","v":"'[◆52関東　出場申込書.xlsm]Ⅰ.構成メンバー名簿'!$E$234"},{"$f":"SUBSTITUTE(LEFT(RIGHT(AG471,LEN(AG471)-FIND(\"]\",AG471)),FIND(\"!\",RIGHT(AG471,LEN(AG471)-FIND(\"]\",AG471)))-1),\"'\",\"\")","v":"Ⅰ.構成メンバー名簿"},"E234"]
[null,null,null,null,null,null,null,null,null,null,null,null,null,null,null,null,null,null,null,null,null,null,null,null,null,null,null,null,null,null,null,{"$f":"Ⅰ.構成メンバー名簿!C235","v":210},{"$f":"CELL(\"address\",Ⅰ.構成メンバー名簿!E235)","v":"'[◆52関東　出場申込書.xlsm]Ⅰ.構成メンバー名簿'!$E$235"},"Ⅰ.構成メンバー名簿","E235"]
[null,null,null,null,null,null,null,null,null,null,null,null,null,null,null,null,null,null,null,null,null,null,null,null,null,null,null,null,null,null,null,{"$f":"Ⅰ.構成メンバー名簿!C236","v":211},{"$f":"CELL(\"address\",Ⅰ.構成メンバー名簿!E236)","v":"'[◆52関東　出場申込書.xlsm]Ⅰ.構成メンバー名簿'!$E$236"},"Ⅰ.構成メンバー名簿","E236"]
[null,null,null,null,null,null,null,null,null,null,null,null,null,null,null,null,null,null,null,null,null,null,null,null,null,null,null,null,null,null,null,{"$f":"Ⅰ.構成メンバー名簿!C237","v":212},{"$f":"CELL(\"address\",Ⅰ.構成メンバー名簿!E237)","v":"'[◆52関東　出場申込書.xlsm]Ⅰ.構成メンバー名簿'!$E$237"},"Ⅰ.構成メンバー名簿","E237"]
[null,null,null,null,null,null,null,null,null,null,null,null,null,null,null,null,null,null,null,null,null,null,null,null,null,null,null,null,null,null,null,{"$f":"Ⅰ.構成メンバー名簿!C238","v":213},{"$f":"CELL(\"address\",Ⅰ.構成メンバー名簿!E238)","v":"'[◆52関東　出場申込書.xlsm]Ⅰ.構成メンバー名簿'!$E$238"},"Ⅰ.構成メンバー名簿","E238"]
[null,null,null,null,null,null,null,null,null,null,null,null,null,null,null,null,null,null,null,null,null,null,null,null,null,null,null,null,null,null,null,{"$f":"Ⅰ.構成メンバー名簿!C239","v":214},{"$f":"CELL(\"address\",Ⅰ.構成メンバー名簿!E239)","v":"'[◆52関東　出場申込書.xlsm]Ⅰ.構成メンバー名簿'!$E$239"},"Ⅰ.構成メンバー名簿","E239"]
[null,null,null,null,null,null,null,null,null,null,null,null,null,null,null,null,null,null,null,null,null,null,null,null,null,null,null,null,null,null,null,{"$f":"Ⅰ.構成メンバー名簿!C240","v":215},{"$f":"CELL(\"address\",Ⅰ.構成メンバー名簿!E240)","v":"'[◆52関東　出場申込書.xlsm]Ⅰ.構成メンバー名簿'!$E$240"},"Ⅰ.構成メンバー名簿","E240"]
[null,null,null,null,null,null,null,null,null,null,null,null,null,null,null,null,null,null,null,null,null,null,null,null,null,null,null,null,null,null,null,{"$f":"Ⅰ.構成メンバー名簿!C241","v":216},{"$f":"CELL(\"address\",Ⅰ.構成メンバー名簿!E241)","v":"'[◆52関東　出場申込書.xlsm]Ⅰ.構成メンバー名簿'!$E$241"},"Ⅰ.構成メンバー名簿","E241"]
[null,null,null,null,null,null,null,null,null,null,null,null,null,null,null,null,null,null,null,null,null,null,null,null,null,null,null,null,null,null,null,{"$f":"Ⅰ.構成メンバー名簿!C242","v":217},{"$f":"CELL(\"address\",Ⅰ.構成メンバー名簿!E242)","v":"'[◆52関東　出場申込書.xlsm]Ⅰ.構成メンバー名簿'!$E$242"},"Ⅰ.構成メンバー名簿","E242"]
[null,null,null,null,null,null,null,null,null,null,null,null,null,null,null,null,null,null,null,null,null,null,null,null,null,null,null,null,null,null,null,{"$f":"Ⅰ.構成メンバー名簿!C243","v":218},{"$f":"CELL(\"address\",Ⅰ.構成メンバー名簿!E243)","v":"'[◆52関東　出場申込書.xlsm]Ⅰ.構成メンバー名簿'!$E$243"},"Ⅰ.構成メンバー名簿","E243"]
[null,null,null,null,null,null,null,null,null,null,null,null,null,null,null,null,null,null,null,null,null,null,null,null,null,null,null,null,null,null,null,{"$f":"Ⅰ.構成メンバー名簿!C244","v":219},{"$f":"CELL(\"address\",Ⅰ.構成メンバー名簿!E244)","v":"'[◆52関東　出場申込書.xlsm]Ⅰ.構成メンバー名簿'!$E$244"},"Ⅰ.構成メンバー名簿","E244"]
[null,null,null,null,null,null,null,null,null,null,null,null,null,null,null,null,null,null,null,null,null,null,null,null,null,null,null,null,null,null,null,{"$f":"Ⅰ.構成メンバー名簿!C245","v":220},{"$f":"CELL(\"address\",Ⅰ.構成メンバー名簿!E245)","v":"'[◆52関東　出場申込書.xlsm]Ⅰ.構成メンバー名簿'!$E$245"},"Ⅰ.構成メンバー名簿","E245"]
[null,null,null,null,null,null,null,null,null,null,null,null,null,null,null,null,null,null,null,null,null,null,null,null,null,null,null,null,null,null,null,{"$f":"Ⅰ.構成メンバー名簿!C246","v":221},{"$f":"CELL(\"address\",Ⅰ.構成メンバー名簿!E246)","v":"'[◆52関東　出場申込書.xlsm]Ⅰ.構成メンバー名簿'!$E$246"},"Ⅰ.構成メンバー名簿","E246"]
[null,null,null,null,null,null,null,null,null,null,null,null,null,null,null,null,null,null,null,null,null,null,null,null,null,null,null,null,null,null,null,{"$f":"Ⅰ.構成メンバー名簿!C247","v":222},{"$f":"CELL(\"address\",Ⅰ.構成メンバー名簿!E247)","v":"'[◆52関東　出場申込書.xlsm]Ⅰ.構成メンバー名簿'!$E$247"},"Ⅰ.構成メンバー名簿","E247"]
[null,null,null,null,null,null,null,null,null,null,null,null,null,null,null,null,null,null,null,null,null,null,null,null,null,null,null,null,null,null,null,{"$f":"Ⅰ.構成メンバー名簿!C248","v":223},{"$f":"CELL(\"address\",Ⅰ.構成メンバー名簿!E248)","v":"'[◆52関東　出場申込書.xlsm]Ⅰ.構成メンバー名簿'!$E$248"},"Ⅰ.構成メンバー名簿","E248"]
[null,null,null,null,null,null,null,null,null,null,null,null,null,null,null,null,null,null,null,null,null,null,null,null,null,null,null,null,null,null,null,{"$f":"Ⅰ.構成メンバー名簿!C249","v":224},{"$f":"CELL(\"address\",Ⅰ.構成メンバー名簿!E249)","v":"'[◆52関東　出場申込書.xlsm]Ⅰ.構成メンバー名簿'!$E$249"},"Ⅰ.構成メンバー名簿","E249"]
[null,null,null,null,null,null,null,null,null,null,null,null,null,null,null,null,null,null,null,null,null,null,null,null,null,null,null,null,null,null,null,{"$f":"Ⅰ.構成メンバー名簿!C250","v":225},{"$f":"CELL(\"address\",Ⅰ.構成メンバー名簿!E250)","v":"'[◆52関東　出場申込書.xlsm]Ⅰ.構成メンバー名簿'!$E$250"},"Ⅰ.構成メンバー名簿","E250"]
[null,null,null,null,null,null,null,null,null,null,null,null,null,null,null,null,null,null,null,null,null,null,null,null,null,null,null,null,null,null,null,{"$f":"Ⅰ.構成メンバー名簿!C251","v":226},{"$f":"CELL(\"address\",Ⅰ.構成メンバー名簿!E251)","v":"'[◆52関東　出場申込書.xlsm]Ⅰ.構成メンバー名簿'!$E$251"},"Ⅰ.構成メンバー名簿","E251"]
[null,null,null,null,null,null,null,null,null,null,null,null,null,null,null,null,null,null,null,null,null,null,null,null,null,null,null,null,null,null,null,{"$f":"Ⅰ.構成メンバー名簿!C252","v":227},{"$f":"CELL(\"address\",Ⅰ.構成メンバー名簿!E252)","v":"'[◆52関東　出場申込書.xlsm]Ⅰ.構成メンバー名簿'!$E$252"},"Ⅰ.構成メンバー名簿","E252"]
[null,null,null,null,null,null,null,null,null,null,null,null,null,null,null,null,null,null,null,null,null,null,null,null,null,null,null,null,null,null,null,{"$f":"Ⅰ.構成メンバー名簿!C253","v":228},{"$f":"CELL(\"address\",Ⅰ.構成メンバー名簿!E253)","v":"'[◆52関東　出場申込書.xlsm]Ⅰ.構成メンバー名簿'!$E$253"},"Ⅰ.構成メンバー名簿","E253"]
[null,null,null,null,null,null,null,null,null,null,null,null,null,null,null,null,null,null,null,null,null,null,null,null,null,null,null,null,null,null,null,{"$f":"Ⅰ.構成メンバー名簿!C254","v":229},{"$f":"CELL(\"address\",Ⅰ.構成メンバー名簿!E254)","v":"'[◆52関東　出場申込書.xlsm]Ⅰ.構成メンバー名簿'!$E$254"},"Ⅰ.構成メンバー名簿",{"$f":"SUBSTITUTE(RIGHT(AG491,LEN(AG491)-FIND(\"!\",AG491)),\"$\",\"\")","v":"E254"}]
[null,null,null,null,null,null,null,null,null,null,null,null,null,null,null,null,null,null,null,null,null,null,null,null,null,null,null,null,null,null,null,{"$f":"Ⅰ.構成メンバー名簿!C255","v":230},{"$f":"CELL(\"address\",Ⅰ.構成メンバー名簿!E255)","v":"'[◆52関東　出場申込書.xlsm]Ⅰ.構成メンバー名簿'!$E$255"},"Ⅰ.構成メンバー名簿","E255"]
[null,null,null,null,null,null,null,null,null,null,null,null,null,null,null,null,null,null,null,null,null,null,null,null,null,null,null,null,null,null,null,{"$f":"Ⅰ.構成メンバー名簿!C256","v":231},{"$f":"CELL(\"address\",Ⅰ.構成メンバー名簿!E256)","v":"'[◆52関東　出場申込書.xlsm]Ⅰ.構成メンバー名簿'!$E$256"},"Ⅰ.構成メンバー名簿","E256"]
[null,null,null,null,null,null,null,null,null,null,null,null,null,null,null,null,null,null,null,null,null,null,null,null,null,null,null,null,null,null,null,{"$f":"Ⅰ.構成メンバー名簿!C257","v":232},{"$f":"CELL(\"address\",Ⅰ.構成メンバー名簿!E257)","v":"'[◆52関東　出場申込書.xlsm]Ⅰ.構成メンバー名簿'!$E$257"},"Ⅰ.構成メンバー名簿","E257"]
[null,null,null,null,null,null,null,null,null,null,null,null,null,null,null,null,null,null,null,null,null,null,null,null,null,null,null,null,null,null,null,{"$f":"Ⅰ.構成メンバー名簿!C258","v":233},{"$f":"CELL(\"address\",Ⅰ.構成メンバー名簿!E258)","v":"'[◆52関東　出場申込書.xlsm]Ⅰ.構成メンバー名簿'!$E$258"},"Ⅰ.構成メンバー名簿","E258"]
[null,null,null,null,null,null,null,null,null,null,null,null,null,null,null,null,null,null,null,null,null,null,null,null,null,null,null,null,null,null,null,{"$f":"Ⅰ.構成メンバー名簿!C259","v":234},{"$f":"CELL(\"address\",Ⅰ.構成メンバー名簿!E259)","v":"'[◆52関東　出場申込書.xlsm]Ⅰ.構成メンバー名簿'!$E$259"},"Ⅰ.構成メンバー名簿","E259"]
[null,null,null,null,null,null,null,null,null,null,null,null,null,null,null,null,null,null,null,null,null,null,null,null,null,null,null,null,null,null,null,{"$f":"Ⅰ.構成メンバー名簿!C260","v":235},{"$f":"CELL(\"address\",Ⅰ.構成メンバー名簿!E260)","v":"'[◆52関東　出場申込書.xlsm]Ⅰ.構成メンバー名簿'!$E$260"},"Ⅰ.構成メンバー名簿","E260"]
[null,null,null,null,null,null,null,null,null,null,null,null,null,null,null,null,null,null,null,null,null,null,null,null,null,null,null,null,null,null,null,{"$f":"Ⅰ.構成メンバー名簿!C261","v":236},{"$f":"CELL(\"address\",Ⅰ.構成メンバー名簿!E261)","v":"'[◆52関東　出場申込書.xlsm]Ⅰ.構成メンバー名簿'!$E$261"},"Ⅰ.構成メンバー名簿","E261"]
[null,null,null,null,null,null,null,null,null,null,null,null,null,null,null,null,null,null,null,null,null,null,null,null,null,null,null,null,null,null,null,{"$f":"Ⅰ.構成メンバー名簿!C262","v":237},{"$f":"CELL(\"address\",Ⅰ.構成メンバー名簿!E262)","v":"'[◆52関東　出場申込書.xlsm]Ⅰ.構成メンバー名簿'!$E$262"},"Ⅰ.構成メンバー名簿","E262"]
[null,null,null,null,null,null,null,null,null,null,null,null,null,null,null,null,null,null,null,null,null,null,null,null,null,null,null,null,null,null,null,{"$f":"Ⅰ.構成メンバー名簿!C263","v":238},{"$f":"CELL(\"address\",Ⅰ.構成メンバー名簿!E263)","v":"'[◆52関東　出場申込書.xlsm]Ⅰ.構成メンバー名簿'!$E$263"},"Ⅰ.構成メンバー名簿","E263"]
[null,null,null,null,null,null,null,null,null,null,null,null,null,null,null,null,null,null,null,null,null,null,null,null,null,null,null,null,null,null,null,{"$f":"Ⅰ.構成メンバー名簿!C264","v":239},{"$f":"CELL(\"address\",Ⅰ.構成メンバー名簿!E264)","v":"'[◆52関東　出場申込書.xlsm]Ⅰ.構成メンバー名簿'!$E$264"},"Ⅰ.構成メンバー名簿","E264"]
[null,null,null,null,null,null,null,null,null,null,null,null,null,null,null,null,null,null,null,null,null,null,null,null,null,null,null,null,null,null,null,{"$f":"Ⅰ.構成メンバー名簿!C265","v":240},{"$f":"CELL(\"address\",Ⅰ.構成メンバー名簿!E265)","v":"'[◆52関東　出場申込書.xlsm]Ⅰ.構成メンバー名簿'!$E$265"},"Ⅰ.構成メンバー名簿","E265"]
[null,null,null,null,null,null,null,null,null,null,null,null,null,null,null,null,null,null,null,null,null,null,null,null,null,null,null,null,null,null,null,{"$f":"Ⅰ.構成メンバー名簿!C266","v":241},{"$f":"CELL(\"address\",Ⅰ.構成メンバー名簿!E266)","v":"'[◆52関東　出場申込書.xlsm]Ⅰ.構成メンバー名簿'!$E$266"},"Ⅰ.構成メンバー名簿","E266"]
[null,null,null,null,null,null,null,null,null,null,null,null,null,null,null,null,null,null,null,null,null,null,null,null,null,null,null,null,null,null,null,{"$f":"Ⅰ.構成メンバー名簿!C267","v":242},{"$f":"CELL(\"address\",Ⅰ.構成メンバー名簿!E267)","v":"'[◆52関東　出場申込書.xlsm]Ⅰ.構成メンバー名簿'!$E$267"},"Ⅰ.構成メンバー名簿","E267"]
[null,null,null,null,null,null,null,null,null,null,null,null,null,null,null,null,null,null,null,null,null,null,null,null,null,null,null,null,null,null,null,{"$f":"Ⅰ.構成メンバー名簿!C268","v":243},{"$f":"CELL(\"address\",Ⅰ.構成メンバー名簿!E268)","v":"'[◆52関東　出場申込書.xlsm]Ⅰ.構成メンバー名簿'!$E$268"},"Ⅰ.構成メンバー名簿","E268"]
[null,null,null,null,null,null,null,null,null,null,null,null,null,null,null,null,null,null,null,null,null,null,null,null,null,null,null,null,null,null,null,{"$f":"Ⅰ.構成メンバー名簿!C269","v":244},{"$f":"CELL(\"address\",Ⅰ.構成メンバー名簿!E269)","v":"'[◆52関東　出場申込書.xlsm]Ⅰ.構成メンバー名簿'!$E$269"},"Ⅰ.構成メンバー名簿","E269"]
[null,null,null,null,null,null,null,null,null,null,null,null,null,null,null,null,null,null,null,null,null,null,null,null,null,null,null,null,null,null,null,{"$f":"Ⅰ.構成メンバー名簿!C270","v":245},{"$f":"CELL(\"address\",Ⅰ.構成メンバー名簿!E270)","v":"'[◆52関東　出場申込書.xlsm]Ⅰ.構成メンバー名簿'!$E$270"},"Ⅰ.構成メンバー名簿","E270"]
[null,null,null,null,null,null,null,null,null,null,null,null,null,null,null,null,null,null,null,null,null,null,null,null,null,null,null,null,null,null,null,{"$f":"Ⅰ.構成メンバー名簿!C271","v":246},{"$f":"CELL(\"address\",Ⅰ.構成メンバー名簿!E271)","v":"'[◆52関東　出場申込書.xlsm]Ⅰ.構成メンバー名簿'!$E$271"},"Ⅰ.構成メンバー名簿","E271"]
[null,null,null,null,null,null,null,null,null,null,null,null,null,null,null,null,null,null,null,null,null,null,null,null,null,null,null,null,null,null,null,{"$f":"Ⅰ.構成メンバー名簿!C272","v":247},{"$f":"CELL(\"address\",Ⅰ.構成メンバー名簿!E272)","v":"'[◆52関東　出場申込書.xlsm]Ⅰ.構成メンバー名簿'!$E$272"},"Ⅰ.構成メンバー名簿","E272"]
[null,null,null,null,null,null,null,null,null,null,null,null,null,null,null,null,null,null,null,null,null,null,null,null,null,null,null,null,null,null,null,{"$f":"Ⅰ.構成メンバー名簿!C273","v":248},{"$f":"CELL(\"address\",Ⅰ.構成メンバー名簿!E273)","v":"'[◆52関東　出場申込書.xlsm]Ⅰ.構成メンバー名簿'!$E$273"},"Ⅰ.構成メンバー名簿","E273"]
[null,null,null,null,null,null,null,null,null,null,null,null,null,null,null,null,null,null,null,null,null,null,null,null,null,null,null,null,null,null,null,{"$f":"Ⅰ.構成メンバー名簿!C274","v":249},{"$f":"CELL(\"address\",Ⅰ.構成メンバー名簿!E274)","v":"'[◆52関東　出場申込書.xlsm]Ⅰ.構成メンバー名簿'!$E$274"},"Ⅰ.構成メンバー名簿","E274"]
[null,null,null,null,null,null,null,null,null,null,null,null,null,null,null,null,null,null,null,null,null,null,null,null,null,null,null,null,null,null,null,{"$f":"Ⅰ.構成メンバー名簿!C275","v":250},{"$f":"CELL(\"address\",Ⅰ.構成メンバー名簿!E275)","v":"'[◆52関東　出場申込書.xlsm]Ⅰ.構成メンバー名簿'!$E$275"},"Ⅰ.構成メンバー名簿","E275"]
[null,null,null,null,null,null,null,null,null,null,null,null,null,null,null,null,null,null,null,null,null,null,null,null,null,null,null,null,null,null,null,{"$f":"Ⅰ.構成メンバー名簿!C26","v":1},{"$f":"CELL(\"address\",Ⅰ.構成メンバー名簿!F26)","v":"'[◆52関東　出場申込書.xlsm]Ⅰ.構成メンバー名簿'!$F$26"},"Ⅰ.構成メンバー名簿","F26"]
[null,null,null,null,null,null,null,null,null,null,null,null,null,null,null,null,null,null,null,null,null,null,null,null,null,null,null,null,null,null,null,{"$f":"Ⅰ.構成メンバー名簿!C27","v":2},{"$f":"CELL(\"address\",Ⅰ.構成メンバー名簿!F27)","v":"'[◆52関東　出場申込書.xlsm]Ⅰ.構成メンバー名簿'!$F$27"},"Ⅰ.構成メンバー名簿","F27"]
[null,null,null,null,null,null,null,null,null,null,null,null,null,null,null,null,null,null,null,null,null,null,null,null,null,null,null,null,null,null,null,{"$f":"Ⅰ.構成メンバー名簿!C28","v":3},{"$f":"CELL(\"address\",Ⅰ.構成メンバー名簿!F28)","v":"'[◆52関東　出場申込書.xlsm]Ⅰ.構成メンバー名簿'!$F$28"},"Ⅰ.構成メンバー名簿","F28"]
[null,null,null,null,null,null,null,null,null,null,null,null,null,null,null,null,null,null,null,null,null,null,null,null,null,null,null,null,null,null,null,{"$f":"Ⅰ.構成メンバー名簿!C29","v":4},{"$f":"CELL(\"address\",Ⅰ.構成メンバー名簿!F29)","v":"'[◆52関東　出場申込書.xlsm]Ⅰ.構成メンバー名簿'!$F$29"},"Ⅰ.構成メンバー名簿","F29"]
[null,null,null,null,null,null,null,null,null,null,null,null,null,null,null,null,null,null,null,null,null,null,null,null,null,null,null,null,null,null,null,{"$f":"Ⅰ.構成メンバー名簿!C30","v":5},{"$f":"CELL(\"address\",Ⅰ.構成メンバー名簿!F30)","v":"'[◆52関東　出場申込書.xlsm]Ⅰ.構成メンバー名簿'!$F$30"},"Ⅰ.構成メンバー名簿","F30"]
[null,null,null,null,null,null,null,null,null,null,null,null,null,null,null,null,null,null,null,null,null,null,null,null,null,null,null,null,null,null,null,{"$f":"Ⅰ.構成メンバー名簿!C31","v":6},{"$f":"CELL(\"address\",Ⅰ.構成メンバー名簿!F31)","v":"'[◆52関東　出場申込書.xlsm]Ⅰ.構成メンバー名簿'!$F$31"},"Ⅰ.構成メンバー名簿","F31"]
[null,null,null,null,null,null,null,null,null,null,null,null,null,null,null,null,null,null,null,null,null,null,null,null,null,null,null,null,null,null,null,{"$f":"Ⅰ.構成メンバー名簿!C32","v":7},{"$f":"CELL(\"address\",Ⅰ.構成メンバー名簿!F32)","v":"'[◆52関東　出場申込書.xlsm]Ⅰ.構成メンバー名簿'!$F$32"},"Ⅰ.構成メンバー名簿","F32"]
[null,null,null,null,null,null,null,null,null,null,null,null,null,null,null,null,null,null,null,null,null,null,null,null,null,null,null,null,null,null,null,{"$f":"Ⅰ.構成メンバー名簿!C33","v":8},{"$f":"CELL(\"address\",Ⅰ.構成メンバー名簿!F33)","v":"'[◆52関東　出場申込書.xlsm]Ⅰ.構成メンバー名簿'!$F$33"},"Ⅰ.構成メンバー名簿","F33"]
[null,null,null,null,null,null,null,null,null,null,null,null,null,null,null,null,null,null,null,null,null,null,null,null,null,null,null,null,null,null,null,{"$f":"Ⅰ.構成メンバー名簿!C34","v":9},{"$f":"CELL(\"address\",Ⅰ.構成メンバー名簿!F34)","v":"'[◆52関東　出場申込書.xlsm]Ⅰ.構成メンバー名簿'!$F$34"},"Ⅰ.構成メンバー名簿","F34"]
[null,null,null,null,null,null,null,null,null,null,null,null,null,null,null,null,null,null,null,null,null,null,null,null,null,null,null,null,null,null,null,{"$f":"Ⅰ.構成メンバー名簿!C35","v":10},{"$f":"CELL(\"address\",Ⅰ.構成メンバー名簿!F35)","v":"'[◆52関東　出場申込書.xlsm]Ⅰ.構成メンバー名簿'!$F$35"},"Ⅰ.構成メンバー名簿","F35"]
[null,null,null,null,null,null,null,null,null,null,null,null,null,null,null,null,null,null,null,null,null,null,null,null,null,null,null,null,null,null,null,{"$f":"Ⅰ.構成メンバー名簿!C36","v":11},{"$f":"CELL(\"address\",Ⅰ.構成メンバー名簿!F36)","v":"'[◆52関東　出場申込書.xlsm]Ⅰ.構成メンバー名簿'!$F$36"},"Ⅰ.構成メンバー名簿","F36"]
[null,null,null,null,null,null,null,null,null,null,null,null,null,null,null,null,null,null,null,null,null,null,null,null,null,null,null,null,null,null,null,{"$f":"Ⅰ.構成メンバー名簿!C37","v":12},{"$f":"CELL(\"address\",Ⅰ.構成メンバー名簿!F37)","v":"'[◆52関東　出場申込書.xlsm]Ⅰ.構成メンバー名簿'!$F$37"},"Ⅰ.構成メンバー名簿","F37"]
[null,null,null,null,null,null,null,null,null,null,null,null,null,null,null,null,null,null,null,null,null,null,null,null,null,null,null,null,null,null,null,{"$f":"Ⅰ.構成メンバー名簿!C38","v":13},{"$f":"CELL(\"address\",Ⅰ.構成メンバー名簿!F38)","v":"'[◆52関東　出場申込書.xlsm]Ⅰ.構成メンバー名簿'!$F$38"},"Ⅰ.構成メンバー名簿","F38"]
[null,null,null,null,null,null,null,null,null,null,null,null,null,null,null,null,null,null,null,null,null,null,null,null,null,null,null,null,null,null,null,{"$f":"Ⅰ.構成メンバー名簿!C39","v":14},{"$f":"CELL(\"address\",Ⅰ.構成メンバー名簿!F39)","v":"'[◆52関東　出場申込書.xlsm]Ⅰ.構成メンバー名簿'!$F$39"},"Ⅰ.構成メンバー名簿","F39"]
[null,null,null,null,null,null,null,null,null,null,null,null,null,null,null,null,null,null,null,null,null,null,null,null,null,null,null,null,null,null,null,{"$f":"Ⅰ.構成メンバー名簿!C40","v":15},{"$f":"CELL(\"address\",Ⅰ.構成メンバー名簿!F40)","v":"'[◆52関東　出場申込書.xlsm]Ⅰ.構成メンバー名簿'!$F$40"},"Ⅰ.構成メンバー名簿","F40"]
[null,null,null,null,null,null,null,null,null,null,null,null,null,null,null,null,null,null,null,null,null,null,null,null,null,null,null,null,null,null,null,{"$f":"Ⅰ.構成メンバー名簿!C41","v":16},{"$f":"CELL(\"address\",Ⅰ.構成メンバー名簿!F41)","v":"'[◆52関東　出場申込書.xlsm]Ⅰ.構成メンバー名簿'!$F$41"},"Ⅰ.構成メンバー名簿","F41"]
[null,null,null,null,null,null,null,null,null,null,null,null,null,null,null,null,null,null,null,null,null,null,null,null,null,null,null,null,null,null,null,{"$f":"Ⅰ.構成メンバー名簿!C42","v":17},{"$f":"CELL(\"address\",Ⅰ.構成メンバー名簿!F42)","v":"'[◆52関東　出場申込書.xlsm]Ⅰ.構成メンバー名簿'!$F$42"},"Ⅰ.構成メンバー名簿","F42"]
[null,null,null,null,null,null,null,null,null,null,null,null,null,null,null,null,null,null,null,null,null,null,null,null,null,null,null,null,null,null,null,{"$f":"Ⅰ.構成メンバー名簿!C43","v":18},{"$f":"CELL(\"address\",Ⅰ.構成メンバー名簿!F43)","v":"'[◆52関東　出場申込書.xlsm]Ⅰ.構成メンバー名簿'!$F$43"},"Ⅰ.構成メンバー名簿","F43"]
[null,null,null,null,null,null,null,null,null,null,null,null,null,null,null,null,null,null,null,null,null,null,null,null,null,null,null,null,null,null,null,{"$f":"Ⅰ.構成メンバー名簿!C44","v":19},{"$f":"CELL(\"address\",Ⅰ.構成メンバー名簿!F44)","v":"'[◆52関東　出場申込書.xlsm]Ⅰ.構成メンバー名簿'!$F$44"},"Ⅰ.構成メンバー名簿","F44"]
[null,null,null,null,null,null,null,null,null,null,null,null,null,null,null,null,null,null,null,null,null,null,null,null,null,null,null,null,null,null,null,{"$f":"Ⅰ.構成メンバー名簿!C45","v":20},{"$f":"CELL(\"address\",Ⅰ.構成メンバー名簿!F45)","v":"'[◆52関東　出場申込書.xlsm]Ⅰ.構成メンバー名簿'!$F$45"},"Ⅰ.構成メンバー名簿","F45"]
[null,null,null,null,null,null,null,null,null,null,null,null,null,null,null,null,null,null,null,null,null,null,null,null,null,null,null,null,null,null,null,{"$f":"Ⅰ.構成メンバー名簿!C46","v":21},{"$f":"CELL(\"address\",Ⅰ.構成メンバー名簿!F46)","v":"'[◆52関東　出場申込書.xlsm]Ⅰ.構成メンバー名簿'!$F$46"},"Ⅰ.構成メンバー名簿","F46"]
[null,null,null,null,null,null,null,null,null,null,null,null,null,null,null,null,null,null,null,null,null,null,null,null,null,null,null,null,null,null,null,{"$f":"Ⅰ.構成メンバー名簿!C47","v":22},{"$f":"CELL(\"address\",Ⅰ.構成メンバー名簿!F47)","v":"'[◆52関東　出場申込書.xlsm]Ⅰ.構成メンバー名簿'!$F$47"},"Ⅰ.構成メンバー名簿","F47"]
[null,null,null,null,null,null,null,null,null,null,null,null,null,null,null,null,null,null,null,null,null,null,null,null,null,null,null,null,null,null,null,{"$f":"Ⅰ.構成メンバー名簿!C48","v":23},{"$f":"CELL(\"address\",Ⅰ.構成メンバー名簿!F48)","v":"'[◆52関東　出場申込書.xlsm]Ⅰ.構成メンバー名簿'!$F$48"},{"$f":"SUBSTITUTE(LEFT(RIGHT(AG535,LEN(AG535)-FIND(\"]\",AG535)),FIND(\"!\",RIGHT(AG535,LEN(AG535)-FIND(\"]\",AG535)))-1),\"'\",\"\")","v":"Ⅰ.構成メンバー名簿"},"F48"]
[null,null,null,null,null,null,null,null,null,null,null,null,null,null,null,null,null,null,null,null,null,null,null,null,null,null,null,null,null,null,null,{"$f":"Ⅰ.構成メンバー名簿!C49","v":24},{"$f":"CELL(\"address\",Ⅰ.構成メンバー名簿!F49)","v":"'[◆52関東　出場申込書.xlsm]Ⅰ.構成メンバー名簿'!$F$49"},"Ⅰ.構成メンバー名簿","F49"]
[null,null,null,null,null,null,null,null,null,null,null,null,null,null,null,null,null,null,null,null,null,null,null,null,null,null,null,null,null,null,null,{"$f":"Ⅰ.構成メンバー名簿!C50","v":25},{"$f":"CELL(\"address\",Ⅰ.構成メンバー名簿!F50)","v":"'[◆52関東　出場申込書.xlsm]Ⅰ.構成メンバー名簿'!$F$50"},"Ⅰ.構成メンバー名簿","F50"]
[null,null,null,null,null,null,null,null,null,null,null,null,null,null,null,null,null,null,null,null,null,null,null,null,null,null,null,null,null,null,null,{"$f":"Ⅰ.構成メンバー名簿!C51","v":26},{"$f":"CELL(\"address\",Ⅰ.構成メンバー名簿!F51)","v":"'[◆52関東　出場申込書.xlsm]Ⅰ.構成メンバー名簿'!$F$51"},"Ⅰ.構成メンバー名簿","F51"]
[null,null,null,null,null,null,null,null,null,null,null,null,null,null,null,null,null,null,null,null,null,null,null,null,null,null,null,null,null,null,null,{"$f":"Ⅰ.構成メンバー名簿!C52","v":27},{"$f":"CELL(\"address\",Ⅰ.構成メンバー名簿!F52)","v":"'[◆52関東　出場申込書.xlsm]Ⅰ.構成メンバー名簿'!$F$52"},"Ⅰ.構成メンバー名簿","F52"]
[null,null,null,null,null,null,null,null,null,null,null,null,null,null,null,null,null,null,null,null,null,null,null,null,null,null,null,null,null,null,null,{"$f":"Ⅰ.構成メンバー名簿!C53","v":28},{"$f":"CELL(\"address\",Ⅰ.構成メンバー名簿!F53)","v":"'[◆52関東　出場申込書.xlsm]Ⅰ.構成メンバー名簿'!$F$53"},"Ⅰ.構成メンバー名簿","F53"]
[null,null,null,null,null,null,null,null,null,null,null,null,null,null,null,null,null,null,null,null,null,null,null,null,null,null,null,null,null,null,null,{"$f":"Ⅰ.構成メンバー名簿!C54","v":29},{"$f":"CELL(\"address\",Ⅰ.構成メンバー名簿!F54)","v":"'[◆52関東　出場申込書.xlsm]Ⅰ.構成メンバー名簿'!$F$54"},"Ⅰ.構成メンバー名簿","F54"]
[null,null,null,null,null,null,null,null,null,null,null,null,null,null,null,null,null,null,null,null,null,null,null,null,null,null,null,null,null,null,null,{"$f":"Ⅰ.構成メンバー名簿!C55","v":30},{"$f":"CELL(\"address\",Ⅰ.構成メンバー名簿!F55)","v":"'[◆52関東　出場申込書.xlsm]Ⅰ.構成メンバー名簿'!$F$55"},"Ⅰ.構成メンバー名簿","F55"]
[null,null,null,null,null,null,null,null,null,null,null,null,null,null,null,null,null,null,null,null,null,null,null,null,null,null,null,null,null,null,null,{"$f":"Ⅰ.構成メンバー名簿!C56","v":31},{"$f":"CELL(\"address\",Ⅰ.構成メンバー名簿!F56)","v":"'[◆52関東　出場申込書.xlsm]Ⅰ.構成メンバー名簿'!$F$56"},"Ⅰ.構成メンバー名簿","F56"]
[null,null,null,null,null,null,null,null,null,null,null,null,null,null,null,null,null,null,null,null,null,null,null,null,null,null,null,null,null,null,null,{"$f":"Ⅰ.構成メンバー名簿!C57","v":32},{"$f":"CELL(\"address\",Ⅰ.構成メンバー名簿!F57)","v":"'[◆52関東　出場申込書.xlsm]Ⅰ.構成メンバー名簿'!$F$57"},"Ⅰ.構成メンバー名簿","F57"]
[null,null,null,null,null,null,null,null,null,null,null,null,null,null,null,null,null,null,null,null,null,null,null,null,null,null,null,null,null,null,null,{"$f":"Ⅰ.構成メンバー名簿!C58","v":33},{"$f":"CELL(\"address\",Ⅰ.構成メンバー名簿!F58)","v":"'[◆52関東　出場申込書.xlsm]Ⅰ.構成メンバー名簿'!$F$58"},"Ⅰ.構成メンバー名簿","F58"]
[null,null,null,null,null,null,null,null,null,null,null,null,null,null,null,null,null,null,null,null,null,null,null,null,null,null,null,null,null,null,null,{"$f":"Ⅰ.構成メンバー名簿!C59","v":34},{"$f":"CELL(\"address\",Ⅰ.構成メンバー名簿!F59)","v":"'[◆52関東　出場申込書.xlsm]Ⅰ.構成メンバー名簿'!$F$59"},"Ⅰ.構成メンバー名簿","F59"]
[null,null,null,null,null,null,null,null,null,null,null,null,null,null,null,null,null,null,null,null,null,null,null,null,null,null,null,null,null,null,null,{"$f":"Ⅰ.構成メンバー名簿!C60","v":35},{"$f":"CELL(\"address\",Ⅰ.構成メンバー名簿!F60)","v":"'[◆52関東　出場申込書.xlsm]Ⅰ.構成メンバー名簿'!$F$60"},"Ⅰ.構成メンバー名簿","F60"]
[null,null,null,null,null,null,null,null,null,null,null,null,null,null,null,null,null,null,null,null,null,null,null,null,null,null,null,null,null,null,null,{"$f":"Ⅰ.構成メンバー名簿!C61","v":36},{"$f":"CELL(\"address\",Ⅰ.構成メンバー名簿!F61)","v":"'[◆52関東　出場申込書.xlsm]Ⅰ.構成メンバー名簿'!$F$61"},"Ⅰ.構成メンバー名簿","F61"]
[null,null,null,null,null,null,null,null,null,null,null,null,null,null,null,null,null,null,null,null,null,null,null,null,null,null,null,null,null,null,null,{"$f":"Ⅰ.構成メンバー名簿!C62","v":37},{"$f":"CELL(\"address\",Ⅰ.構成メンバー名簿!F62)","v":"'[◆52関東　出場申込書.xlsm]Ⅰ.構成メンバー名簿'!$F$62"},"Ⅰ.構成メンバー名簿","F62"]
[null,null,null,null,null,null,null,null,null,null,null,null,null,null,null,null,null,null,null,null,null,null,null,null,null,null,null,null,null,null,null,{"$f":"Ⅰ.構成メンバー名簿!C63","v":38},{"$f":"CELL(\"address\",Ⅰ.構成メンバー名簿!F63)","v":"'[◆52関東　出場申込書.xlsm]Ⅰ.構成メンバー名簿'!$F$63"},"Ⅰ.構成メンバー名簿","F63"]
[null,null,null,null,null,null,null,null,null,null,null,null,null,null,null,null,null,null,null,null,null,null,null,null,null,null,null,null,null,null,null,{"$f":"Ⅰ.構成メンバー名簿!C64","v":39},{"$f":"CELL(\"address\",Ⅰ.構成メンバー名簿!F64)","v":"'[◆52関東　出場申込書.xlsm]Ⅰ.構成メンバー名簿'!$F$64"},"Ⅰ.構成メンバー名簿","F64"]
[null,null,null,null,null,null,null,null,null,null,null,null,null,null,null,null,null,null,null,null,null,null,null,null,null,null,null,null,null,null,null,{"$f":"Ⅰ.構成メンバー名簿!C65","v":40},{"$f":"CELL(\"address\",Ⅰ.構成メンバー名簿!F65)","v":"'[◆52関東　出場申込書.xlsm]Ⅰ.構成メンバー名簿'!$F$65"},"Ⅰ.構成メンバー名簿","F65"]
[null,null,null,null,null,null,null,null,null,null,null,null,null,null,null,null,null,null,null,null,null,null,null,null,null,null,null,null,null,null,null,{"$f":"Ⅰ.構成メンバー名簿!C66","v":41},{"$f":"CELL(\"address\",Ⅰ.構成メンバー名簿!F66)","v":"'[◆52関東　出場申込書.xlsm]Ⅰ.構成メンバー名簿'!$F$66"},"Ⅰ.構成メンバー名簿","F66"]
[null,null,null,null,null,null,null,null,null,null,null,null,null,null,null,null,null,null,null,null,null,null,null,null,null,null,null,null,null,null,null,{"$f":"Ⅰ.構成メンバー名簿!C67","v":42},{"$f":"CELL(\"address\",Ⅰ.構成メンバー名簿!F67)","v":"'[◆52関東　出場申込書.xlsm]Ⅰ.構成メンバー名簿'!$F$67"},"Ⅰ.構成メンバー名簿","F67"]
[null,null,null,null,null,null,null,null,null,null,null,null,null,null,null,null,null,null,null,null,null,null,null,null,null,null,null,null,null,null,null,{"$f":"Ⅰ.構成メンバー名簿!C68","v":43},{"$f":"CELL(\"address\",Ⅰ.構成メンバー名簿!F68)","v":"'[◆52関東　出場申込書.xlsm]Ⅰ.構成メンバー名簿'!$F$68"},"Ⅰ.構成メンバー名簿",{"$f":"SUBSTITUTE(RIGHT(AG555,LEN(AG555)-FIND(\"!\",AG555)),\"$\",\"\")","v":"F68"}]
[null,null,null,null,null,null,null,null,null,null,null,null,null,null,null,null,null,null,null,null,null,null,null,null,null,null,null,null,null,null,null,{"$f":"Ⅰ.構成メンバー名簿!C69","v":44},{"$f":"CELL(\"address\",Ⅰ.構成メンバー名簿!F69)","v":"'[◆52関東　出場申込書.xlsm]Ⅰ.構成メンバー名簿'!$F$69"},"Ⅰ.構成メンバー名簿","F69"]
[null,null,null,null,null,null,null,null,null,null,null,null,null,null,null,null,null,null,null,null,null,null,null,null,null,null,null,null,null,null,null,{"$f":"Ⅰ.構成メンバー名簿!C70","v":45},{"$f":"CELL(\"address\",Ⅰ.構成メンバー名簿!F70)","v":"'[◆52関東　出場申込書.xlsm]Ⅰ.構成メンバー名簿'!$F$70"},"Ⅰ.構成メンバー名簿","F70"]
[null,null,null,null,null,null,null,null,null,null,null,null,null,null,null,null,null,null,null,null,null,null,null,null,null,null,null,null,null,null,null,{"$f":"Ⅰ.構成メンバー名簿!C71","v":46},{"$f":"CELL(\"address\",Ⅰ.構成メンバー名簿!F71)","v":"'[◆52関東　出場申込書.xlsm]Ⅰ.構成メンバー名簿'!$F$71"},"Ⅰ.構成メンバー名簿","F71"]
[null,null,null,null,null,null,null,null,null,null,null,null,null,null,null,null,null,null,null,null,null,null,null,null,null,null,null,null,null,null,null,{"$f":"Ⅰ.構成メンバー名簿!C72","v":47},{"$f":"CELL(\"address\",Ⅰ.構成メンバー名簿!F72)","v":"'[◆52関東　出場申込書.xlsm]Ⅰ.構成メンバー名簿'!$F$72"},"Ⅰ.構成メンバー名簿","F72"]
[null,null,null,null,null,null,null,null,null,null,null,null,null,null,null,null,null,null,null,null,null,null,null,null,null,null,null,null,null,null,null,{"$f":"Ⅰ.構成メンバー名簿!C73","v":48},{"$f":"CELL(\"address\",Ⅰ.構成メンバー名簿!F73)","v":"'[◆52関東　出場申込書.xlsm]Ⅰ.構成メンバー名簿'!$F$73"},"Ⅰ.構成メンバー名簿","F73"]
[null,null,null,null,null,null,null,null,null,null,null,null,null,null,null,null,null,null,null,null,null,null,null,null,null,null,null,null,null,null,null,{"$f":"Ⅰ.構成メンバー名簿!C74","v":49},{"$f":"CELL(\"address\",Ⅰ.構成メンバー名簿!F74)","v":"'[◆52関東　出場申込書.xlsm]Ⅰ.構成メンバー名簿'!$F$74"},"Ⅰ.構成メンバー名簿","F74"]
[null,null,null,null,null,null,null,null,null,null,null,null,null,null,null,null,null,null,null,null,null,null,null,null,null,null,null,null,null,null,null,{"$f":"Ⅰ.構成メンバー名簿!C75","v":50},{"$f":"CELL(\"address\",Ⅰ.構成メンバー名簿!F75)","v":"'[◆52関東　出場申込書.xlsm]Ⅰ.構成メンバー名簿'!$F$75"},"Ⅰ.構成メンバー名簿","F75"]
[null,null,null,null,null,null,null,null,null,null,null,null,null,null,null,null,null,null,null,null,null,null,null,null,null,null,null,null,null,null,null,{"$f":"Ⅰ.構成メンバー名簿!C76","v":51},{"$f":"CELL(\"address\",Ⅰ.構成メンバー名簿!F76)","v":"'[◆52関東　出場申込書.xlsm]Ⅰ.構成メンバー名簿'!$F$76"},"Ⅰ.構成メンバー名簿","F76"]
[null,null,null,null,null,null,null,null,null,null,null,null,null,null,null,null,null,null,null,null,null,null,null,null,null,null,null,null,null,null,null,{"$f":"Ⅰ.構成メンバー名簿!C77","v":52},{"$f":"CELL(\"address\",Ⅰ.構成メンバー名簿!F77)","v":"'[◆52関東　出場申込書.xlsm]Ⅰ.構成メンバー名簿'!$F$77"},"Ⅰ.構成メンバー名簿","F77"]
[null,null,null,null,null,null,null,null,null,null,null,null,null,null,null,null,null,null,null,null,null,null,null,null,null,null,null,null,null,null,null,{"$f":"Ⅰ.構成メンバー名簿!C78","v":53},{"$f":"CELL(\"address\",Ⅰ.構成メンバー名簿!F78)","v":"'[◆52関東　出場申込書.xlsm]Ⅰ.構成メンバー名簿'!$F$78"},"Ⅰ.構成メンバー名簿","F78"]
[null,null,null,null,null,null,null,null,null,null,null,null,null,null,null,null,null,null,null,null,null,null,null,null,null,null,null,null,null,null,null,{"$f":"Ⅰ.構成メンバー名簿!C79","v":54},{"$f":"CELL(\"address\",Ⅰ.構成メンバー名簿!F79)","v":"'[◆52関東　出場申込書.xlsm]Ⅰ.構成メンバー名簿'!$F$79"},"Ⅰ.構成メンバー名簿","F79"]
[null,null,null,null,null,null,null,null,null,null,null,null,null,null,null,null,null,null,null,null,null,null,null,null,null,null,null,null,null,null,null,{"$f":"Ⅰ.構成メンバー名簿!C80","v":55},{"$f":"CELL(\"address\",Ⅰ.構成メンバー名簿!F80)","v":"'[◆52関東　出場申込書.xlsm]Ⅰ.構成メンバー名簿'!$F$80"},"Ⅰ.構成メンバー名簿","F80"]
[null,null,null,null,null,null,null,null,null,null,null,null,null,null,null,null,null,null,null,null,null,null,null,null,null,null,null,null,null,null,null,{"$f":"Ⅰ.構成メンバー名簿!C81","v":56},{"$f":"CELL(\"address\",Ⅰ.構成メンバー名簿!F81)","v":"'[◆52関東　出場申込書.xlsm]Ⅰ.構成メンバー名簿'!$F$81"},"Ⅰ.構成メンバー名簿","F81"]
[null,null,null,null,null,null,null,null,null,null,null,null,null,null,null,null,null,null,null,null,null,null,null,null,null,null,null,null,null,null,null,{"$f":"Ⅰ.構成メンバー名簿!C82","v":57},{"$f":"CELL(\"address\",Ⅰ.構成メンバー名簿!F82)","v":"'[◆52関東　出場申込書.xlsm]Ⅰ.構成メンバー名簿'!$F$82"},"Ⅰ.構成メンバー名簿","F82"]
[null,null,null,null,null,null,null,null,null,null,null,null,null,null,null,null,null,null,null,null,null,null,null,null,null,null,null,null,null,null,null,{"$f":"Ⅰ.構成メンバー名簿!C83","v":58},{"$f":"CELL(\"address\",Ⅰ.構成メンバー名簿!F83)","v":"'[◆52関東　出場申込書.xlsm]Ⅰ.構成メンバー名簿'!$F$83"},"Ⅰ.構成メンバー名簿","F83"]
[null,null,null,null,null,null,null,null,null,null,null,null,null,null,null,null,null,null,null,null,null,null,null,null,null,null,null,null,null,null,null,{"$f":"Ⅰ.構成メンバー名簿!C84","v":59},{"$f":"CELL(\"address\",Ⅰ.構成メンバー名簿!F84)","v":"'[◆52関東　出場申込書.xlsm]Ⅰ.構成メンバー名簿'!$F$84"},"Ⅰ.構成メンバー名簿","F84"]
[null,null,null,null,null,null,null,null,null,null,null,null,null,null,null,null,null,null,null,null,null,null,null,null,null,null,null,null,null,null,null,{"$f":"Ⅰ.構成メンバー名簿!C85","v":60},{"$f":"CELL(\"address\",Ⅰ.構成メンバー名簿!F85)","v":"'[◆52関東　出場申込書.xlsm]Ⅰ.構成メンバー名簿'!$F$85"},"Ⅰ.構成メンバー名簿","F85"]
[null,null,null,null,null,null,null,null,null,null,null,null,null,null,null,null,null,null,null,null,null,null,null,null,null,null,null,null,null,null,null,{"$f":"Ⅰ.構成メンバー名簿!C86","v":61},{"$f":"CELL(\"address\",Ⅰ.構成メンバー名簿!F86)","v":"'[◆52関東　出場申込書.xlsm]Ⅰ.構成メンバー名簿'!$F$86"},"Ⅰ.構成メンバー名簿","F86"]
[null,null,null,null,null,null,null,null,null,null,null,null,null,null,null,null,null,null,null,null,null,null,null,null,null,null,null,null,null,null,null,{"$f":"Ⅰ.構成メンバー名簿!C87","v":62},{"$f":"CELL(\"address\",Ⅰ.構成メンバー名簿!F87)","v":"'[◆52関東　出場申込書.xlsm]Ⅰ.構成メンバー名簿'!$F$87"},"Ⅰ.構成メンバー名簿","F87"]
[null,null,null,null,null,null,null,null,null,null,null,null,null,null,null,null,null,null,null,null,null,null,null,null,null,null,null,null,null,null,null,{"$f":"Ⅰ.構成メンバー名簿!C88","v":63},{"$f":"CELL(\"address\",Ⅰ.構成メンバー名簿!F88)","v":"'[◆52関東　出場申込書.xlsm]Ⅰ.構成メンバー名簿'!$F$88"},"Ⅰ.構成メンバー名簿","F88"]
[null,null,null,null,null,null,null,null,null,null,null,null,null,null,null,null,null,null,null,null,null,null,null,null,null,null,null,null,null,null,null,{"$f":"Ⅰ.構成メンバー名簿!C89","v":64},{"$f":"CELL(\"address\",Ⅰ.構成メンバー名簿!F89)","v":"'[◆52関東　出場申込書.xlsm]Ⅰ.構成メンバー名簿'!$F$89"},"Ⅰ.構成メンバー名簿","F89"]
[null,null,null,null,null,null,null,null,null,null,null,null,null,null,null,null,null,null,null,null,null,null,null,null,null,null,null,null,null,null,null,{"$f":"Ⅰ.構成メンバー名簿!C90","v":65},{"$f":"CELL(\"address\",Ⅰ.構成メンバー名簿!F90)","v":"'[◆52関東　出場申込書.xlsm]Ⅰ.構成メンバー名簿'!$F$90"},"Ⅰ.構成メンバー名簿","F90"]
[null,null,null,null,null,null,null,null,null,null,null,null,null,null,null,null,null,null,null,null,null,null,null,null,null,null,null,null,null,null,null,{"$f":"Ⅰ.構成メンバー名簿!C91","v":66},{"$f":"CELL(\"address\",Ⅰ.構成メンバー名簿!F91)","v":"'[◆52関東　出場申込書.xlsm]Ⅰ.構成メンバー名簿'!$F$91"},"Ⅰ.構成メンバー名簿","F91"]
[null,null,null,null,null,null,null,null,null,null,null,null,null,null,null,null,null,null,null,null,null,null,null,null,null,null,null,null,null,null,null,{"$f":"Ⅰ.構成メンバー名簿!C92","v":67},{"$f":"CELL(\"address\",Ⅰ.構成メンバー名簿!F92)","v":"'[◆52関東　出場申込書.xlsm]Ⅰ.構成メンバー名簿'!$F$92"},"Ⅰ.構成メンバー名簿","F92"]
[null,null,null,null,null,null,null,null,null,null,null,null,null,null,null,null,null,null,null,null,null,null,null,null,null,null,null,null,null,null,null,{"$f":"Ⅰ.構成メンバー名簿!C93","v":68},{"$f":"CELL(\"address\",Ⅰ.構成メンバー名簿!F93)","v":"'[◆52関東　出場申込書.xlsm]Ⅰ.構成メンバー名簿'!$F$93"},"Ⅰ.構成メンバー名簿","F93"]
[null,null,null,null,null,null,null,null,null,null,null,null,null,null,null,null,null,null,null,null,null,null,null,null,null,null,null,null,null,null,null,{"$f":"Ⅰ.構成メンバー名簿!C94","v":69},{"$f":"CELL(\"address\",Ⅰ.構成メンバー名簿!F94)","v":"'[◆52関東　出場申込書.xlsm]Ⅰ.構成メンバー名簿'!$F$94"},"Ⅰ.構成メンバー名簿","F94"]
[null,null,null,null,null,null,null,null,null,null,null,null,null,null,null,null,null,null,null,null,null,null,null,null,null,null,null,null,null,null,null,{"$f":"Ⅰ.構成メンバー名簿!C95","v":70},{"$f":"CELL(\"address\",Ⅰ.構成メンバー名簿!F95)","v":"'[◆52関東　出場申込書.xlsm]Ⅰ.構成メンバー名簿'!$F$95"},"Ⅰ.構成メンバー名簿","F95"]
[null,null,null,null,null,null,null,null,null,null,null,null,null,null,null,null,null,null,null,null,null,null,null,null,null,null,null,null,null,null,null,{"$f":"Ⅰ.構成メンバー名簿!C96","v":71},{"$f":"CELL(\"address\",Ⅰ.構成メンバー名簿!F96)","v":"'[◆52関東　出場申込書.xlsm]Ⅰ.構成メンバー名簿'!$F$96"},"Ⅰ.構成メンバー名簿","F96"]
[null,null,null,null,null,null,null,null,null,null,null,null,null,null,null,null,null,null,null,null,null,null,null,null,null,null,null,null,null,null,null,{"$f":"Ⅰ.構成メンバー名簿!C97","v":72},{"$f":"CELL(\"address\",Ⅰ.構成メンバー名簿!F97)","v":"'[◆52関東　出場申込書.xlsm]Ⅰ.構成メンバー名簿'!$F$97"},"Ⅰ.構成メンバー名簿","F97"]
[null,null,null,null,null,null,null,null,null,null,null,null,null,null,null,null,null,null,null,null,null,null,null,null,null,null,null,null,null,null,null,{"$f":"Ⅰ.構成メンバー名簿!C98","v":73},{"$f":"CELL(\"address\",Ⅰ.構成メンバー名簿!F98)","v":"'[◆52関東　出場申込書.xlsm]Ⅰ.構成メンバー名簿'!$F$98"},"Ⅰ.構成メンバー名簿","F98"]
[null,null,null,null,null,null,null,null,null,null,null,null,null,null,null,null,null,null,null,null,null,null,null,null,null,null,null,null,null,null,null,{"$f":"Ⅰ.構成メンバー名簿!C99","v":74},{"$f":"CELL(\"address\",Ⅰ.構成メンバー名簿!F99)","v":"'[◆52関東　出場申込書.xlsm]Ⅰ.構成メンバー名簿'!$F$99"},"Ⅰ.構成メンバー名簿","F99"]
[null,null,null,null,null,null,null,null,null,null,null,null,null,null,null,null,null,null,null,null,null,null,null,null,null,null,null,null,null,null,null,{"$f":"Ⅰ.構成メンバー名簿!C100","v":75},{"$f":"CELL(\"address\",Ⅰ.構成メンバー名簿!F100)","v":"'[◆52関東　出場申込書.xlsm]Ⅰ.構成メンバー名簿'!$F$100"},"Ⅰ.構成メンバー名簿","F100"]
[null,null,null,null,null,null,null,null,null,null,null,null,null,null,null,null,null,null,null,null,null,null,null,null,null,null,null,null,null,null,null,{"$f":"Ⅰ.構成メンバー名簿!C101","v":76},{"$f":"CELL(\"address\",Ⅰ.構成メンバー名簿!F101)","v":"'[◆52関東　出場申込書.xlsm]Ⅰ.構成メンバー名簿'!$F$101"},"Ⅰ.構成メンバー名簿","F101"]
[null,null,null,null,null,null,null,null,null,null,null,null,null,null,null,null,null,null,null,null,null,null,null,null,null,null,null,null,null,null,null,{"$f":"Ⅰ.構成メンバー名簿!C102","v":77},{"$f":"CELL(\"address\",Ⅰ.構成メンバー名簿!F102)","v":"'[◆52関東　出場申込書.xlsm]Ⅰ.構成メンバー名簿'!$F$102"},"Ⅰ.構成メンバー名簿","F102"]
[null,null,null,null,null,null,null,null,null,null,null,null,null,null,null,null,null,null,null,null,null,null,null,null,null,null,null,null,null,null,null,{"$f":"Ⅰ.構成メンバー名簿!C103","v":78},{"$f":"CELL(\"address\",Ⅰ.構成メンバー名簿!F103)","v":"'[◆52関東　出場申込書.xlsm]Ⅰ.構成メンバー名簿'!$F$103"},"Ⅰ.構成メンバー名簿","F103"]
[null,null,null,null,null,null,null,null,null,null,null,null,null,null,null,null,null,null,null,null,null,null,null,null,null,null,null,null,null,null,null,{"$f":"Ⅰ.構成メンバー名簿!C104","v":79},{"$f":"CELL(\"address\",Ⅰ.構成メンバー名簿!F104)","v":"'[◆52関東　出場申込書.xlsm]Ⅰ.構成メンバー名簿'!$F$104"},"Ⅰ.構成メンバー名簿","F104"]
[null,null,null,null,null,null,null,null,null,null,null,null,null,null,null,null,null,null,null,null,null,null,null,null,null,null,null,null,null,null,null,{"$f":"Ⅰ.構成メンバー名簿!C105","v":80},{"$f":"CELL(\"address\",Ⅰ.構成メンバー名簿!F105)","v":"'[◆52関東　出場申込書.xlsm]Ⅰ.構成メンバー名簿'!$F$105"},"Ⅰ.構成メンバー名簿","F105"]
[null,null,null,null,null,null,null,null,null,null,null,null,null,null,null,null,null,null,null,null,null,null,null,null,null,null,null,null,null,null,null,{"$f":"Ⅰ.構成メンバー名簿!C106","v":81},{"$f":"CELL(\"address\",Ⅰ.構成メンバー名簿!F106)","v":"'[◆52関東　出場申込書.xlsm]Ⅰ.構成メンバー名簿'!$F$106"},"Ⅰ.構成メンバー名簿","F106"]
[null,null,null,null,null,null,null,null,null,null,null,null,null,null,null,null,null,null,null,null,null,null,null,null,null,null,null,null,null,null,null,{"$f":"Ⅰ.構成メンバー名簿!C107","v":82},{"$f":"CELL(\"address\",Ⅰ.構成メンバー名簿!F107)","v":"'[◆52関東　出場申込書.xlsm]Ⅰ.構成メンバー名簿'!$F$107"},"Ⅰ.構成メンバー名簿","F107"]
[null,null,null,null,null,null,null,null,null,null,null,null,null,null,null,null,null,null,null,null,null,null,null,null,null,null,null,null,null,null,null,{"$f":"Ⅰ.構成メンバー名簿!C108","v":83},{"$f":"CELL(\"address\",Ⅰ.構成メンバー名簿!F108)","v":"'[◆52関東　出場申込書.xlsm]Ⅰ.構成メンバー名簿'!$F$108"},"Ⅰ.構成メンバー名簿","F108"]
[null,null,null,null,null,null,null,null,null,null,null,null,null,null,null,null,null,null,null,null,null,null,null,null,null,null,null,null,null,null,null,{"$f":"Ⅰ.構成メンバー名簿!C109","v":84},{"$f":"CELL(\"address\",Ⅰ.構成メンバー名簿!F109)","v":"'[◆52関東　出場申込書.xlsm]Ⅰ.構成メンバー名簿'!$F$109"},"Ⅰ.構成メンバー名簿","F109"]
[null,null,null,null,null,null,null,null,null,null,null,null,null,null,null,null,null,null,null,null,null,null,null,null,null,null,null,null,null,null,null,{"$f":"Ⅰ.構成メンバー名簿!C110","v":85},{"$f":"CELL(\"address\",Ⅰ.構成メンバー名簿!F110)","v":"'[◆52関東　出場申込書.xlsm]Ⅰ.構成メンバー名簿'!$F$110"},"Ⅰ.構成メンバー名簿","F110"]
[null,null,null,null,null,null,null,null,null,null,null,null,null,null,null,null,null,null,null,null,null,null,null,null,null,null,null,null,null,null,null,{"$f":"Ⅰ.構成メンバー名簿!C111","v":86},{"$f":"CELL(\"address\",Ⅰ.構成メンバー名簿!F111)","v":"'[◆52関東　出場申込書.xlsm]Ⅰ.構成メンバー名簿'!$F$111"},"Ⅰ.構成メンバー名簿","F111"]
[null,null,null,null,null,null,null,null,null,null,null,null,null,null,null,null,null,null,null,null,null,null,null,null,null,null,null,null,null,null,null,{"$f":"Ⅰ.構成メンバー名簿!C112","v":87},{"$f":"CELL(\"address\",Ⅰ.構成メンバー名簿!F112)","v":"'[◆52関東　出場申込書.xlsm]Ⅰ.構成メンバー名簿'!$F$112"},{"$f":"SUBSTITUTE(LEFT(RIGHT(AG599,LEN(AG599)-FIND(\"]\",AG599)),FIND(\"!\",RIGHT(AG599,LEN(AG599)-FIND(\"]\",AG599)))-1),\"'\",\"\")","v":"Ⅰ.構成メンバー名簿"},"F112"]
[null,null,null,null,null,null,null,null,null,null,null,null,null,null,null,null,null,null,null,null,null,null,null,null,null,null,null,null,null,null,null,{"$f":"Ⅰ.構成メンバー名簿!C113","v":88},{"$f":"CELL(\"address\",Ⅰ.構成メンバー名簿!F113)","v":"'[◆52関東　出場申込書.xlsm]Ⅰ.構成メンバー名簿'!$F$113"},"Ⅰ.構成メンバー名簿","F113"]
[null,null,null,null,null,null,null,null,null,null,null,null,null,null,null,null,null,null,null,null,null,null,null,null,null,null,null,null,null,null,null,{"$f":"Ⅰ.構成メンバー名簿!C114","v":89},{"$f":"CELL(\"address\",Ⅰ.構成メンバー名簿!F114)","v":"'[◆52関東　出場申込書.xlsm]Ⅰ.構成メンバー名簿'!$F$114"},"Ⅰ.構成メンバー名簿","F114"]
[null,null,null,null,null,null,null,null,null,null,null,null,null,null,null,null,null,null,null,null,null,null,null,null,null,null,null,null,null,null,null,{"$f":"Ⅰ.構成メンバー名簿!C115","v":90},{"$f":"CELL(\"address\",Ⅰ.構成メンバー名簿!F115)","v":"'[◆52関東　出場申込書.xlsm]Ⅰ.構成メンバー名簿'!$F$115"},"Ⅰ.構成メンバー名簿","F115"]
[null,null,null,null,null,null,null,null,null,null,null,null,null,null,null,null,null,null,null,null,null,null,null,null,null,null,null,null,null,null,null,{"$f":"Ⅰ.構成メンバー名簿!C116","v":91},{"$f":"CELL(\"address\",Ⅰ.構成メンバー名簿!F116)","v":"'[◆52関東　出場申込書.xlsm]Ⅰ.構成メンバー名簿'!$F$116"},"Ⅰ.構成メンバー名簿","F116"]
[null,null,null,null,null,null,null,null,null,null,null,null,null,null,null,null,null,null,null,null,null,null,null,null,null,null,null,null,null,null,null,{"$f":"Ⅰ.構成メンバー名簿!C117","v":92},{"$f":"CELL(\"address\",Ⅰ.構成メンバー名簿!F117)","v":"'[◆52関東　出場申込書.xlsm]Ⅰ.構成メンバー名簿'!$F$117"},"Ⅰ.構成メンバー名簿","F117"]
[null,null,null,null,null,null,null,null,null,null,null,null,null,null,null,null,null,null,null,null,null,null,null,null,null,null,null,null,null,null,null,{"$f":"Ⅰ.構成メンバー名簿!C118","v":93},{"$f":"CELL(\"address\",Ⅰ.構成メンバー名簿!F118)","v":"'[◆52関東　出場申込書.xlsm]Ⅰ.構成メンバー名簿'!$F$118"},"Ⅰ.構成メンバー名簿","F118"]
[null,null,null,null,null,null,null,null,null,null,null,null,null,null,null,null,null,null,null,null,null,null,null,null,null,null,null,null,null,null,null,{"$f":"Ⅰ.構成メンバー名簿!C119","v":94},{"$f":"CELL(\"address\",Ⅰ.構成メンバー名簿!F119)","v":"'[◆52関東　出場申込書.xlsm]Ⅰ.構成メンバー名簿'!$F$119"},"Ⅰ.構成メンバー名簿","F119"]
[null,null,null,null,null,null,null,null,null,null,null,null,null,null,null,null,null,null,null,null,null,null,null,null,null,null,null,null,null,null,null,{"$f":"Ⅰ.構成メンバー名簿!C120","v":95},{"$f":"CELL(\"address\",Ⅰ.構成メンバー名簿!F120)","v":"'[◆52関東　出場申込書.xlsm]Ⅰ.構成メンバー名簿'!$F$120"},"Ⅰ.構成メンバー名簿","F120"]
[null,null,null,null,null,null,null,null,null,null,null,null,null,null,null,null,null,null,null,null,null,null,null,null,null,null,null,null,null,null,null,{"$f":"Ⅰ.構成メンバー名簿!C121","v":96},{"$f":"CELL(\"address\",Ⅰ.構成メンバー名簿!F121)","v":"'[◆52関東　出場申込書.xlsm]Ⅰ.構成メンバー名簿'!$F$121"},"Ⅰ.構成メンバー名簿","F121"]
[null,null,null,null,null,null,null,null,null,null,null,null,null,null,null,null,null,null,null,null,null,null,null,null,null,null,null,null,null,null,null,{"$f":"Ⅰ.構成メンバー名簿!C122","v":97},{"$f":"CELL(\"address\",Ⅰ.構成メンバー名簿!F122)","v":"'[◆52関東　出場申込書.xlsm]Ⅰ.構成メンバー名簿'!$F$122"},"Ⅰ.構成メンバー名簿","F122"]
[null,null,null,null,null,null,null,null,null,null,null,null,null,null,null,null,null,null,null,null,null,null,null,null,null,null,null,null,null,null,null,{"$f":"Ⅰ.構成メンバー名簿!C123","v":98},{"$f":"CELL(\"address\",Ⅰ.構成メンバー名簿!F123)","v":"'[◆52関東　出場申込書.xlsm]Ⅰ.構成メンバー名簿'!$F$123"},"Ⅰ.構成メンバー名簿","F123"]
[null,null,null,null,null,null,null,null,null,null,null,null,null,null,null,null,null,null,null,null,null,null,null,null,null,null,null,null,null,null,null,{"$f":"Ⅰ.構成メンバー名簿!C124","v":99},{"$f":"CELL(\"address\",Ⅰ.構成メンバー名簿!F124)","v":"'[◆52関東　出場申込書.xlsm]Ⅰ.構成メンバー名簿'!$F$124"},"Ⅰ.構成メンバー名簿","F124"]
[null,null,null,null,null,null,null,null,null,null,null,null,null,null,null,null,null,null,null,null,null,null,null,null,null,null,null,null,null,null,null,{"$f":"Ⅰ.構成メンバー名簿!C125","v":100},{"$f":"CELL(\"address\",Ⅰ.構成メンバー名簿!F125)","v":"'[◆52関東　出場申込書.xlsm]Ⅰ.構成メンバー名簿'!$F$125"},"Ⅰ.構成メンバー名簿","F125"]
[null,null,null,null,null,null,null,null,null,null,null,null,null,null,null,null,null,null,null,null,null,null,null,null,null,null,null,null,null,null,null,{"$f":"Ⅰ.構成メンバー名簿!C126","v":101},{"$f":"CELL(\"address\",Ⅰ.構成メンバー名簿!F126)","v":"'[◆52関東　出場申込書.xlsm]Ⅰ.構成メンバー名簿'!$F$126"},"Ⅰ.構成メンバー名簿","F126"]
[null,null,null,null,null,null,null,null,null,null,null,null,null,null,null,null,null,null,null,null,null,null,null,null,null,null,null,null,null,null,null,{"$f":"Ⅰ.構成メンバー名簿!C127","v":102},{"$f":"CELL(\"address\",Ⅰ.構成メンバー名簿!F127)","v":"'[◆52関東　出場申込書.xlsm]Ⅰ.構成メンバー名簿'!$F$127"},"Ⅰ.構成メンバー名簿","F127"]
[null,null,null,null,null,null,null,null,null,null,null,null,null,null,null,null,null,null,null,null,null,null,null,null,null,null,null,null,null,null,null,{"$f":"Ⅰ.構成メンバー名簿!C128","v":103},{"$f":"CELL(\"address\",Ⅰ.構成メンバー名簿!F128)","v":"'[◆52関東　出場申込書.xlsm]Ⅰ.構成メンバー名簿'!$F$128"},"Ⅰ.構成メンバー名簿","F128"]
[null,null,null,null,null,null,null,null,null,null,null,null,null,null,null,null,null,null,null,null,null,null,null,null,null,null,null,null,null,null,null,{"$f":"Ⅰ.構成メンバー名簿!C129","v":104},{"$f":"CELL(\"address\",Ⅰ.構成メンバー名簿!F129)","v":"'[◆52関東　出場申込書.xlsm]Ⅰ.構成メンバー名簿'!$F$129"},"Ⅰ.構成メンバー名簿","F129"]
[null,null,null,null,null,null,null,null,null,null,null,null,null,null,null,null,null,null,null,null,null,null,null,null,null,null,null,null,null,null,null,{"$f":"Ⅰ.構成メンバー名簿!C130","v":105},{"$f":"CELL(\"address\",Ⅰ.構成メンバー名簿!F130)","v":"'[◆52関東　出場申込書.xlsm]Ⅰ.構成メンバー名簿'!$F$130"},"Ⅰ.構成メンバー名簿","F130"]
[null,null,null,null,null,null,null,null,null,null,null,null,null,null,null,null,null,null,null,null,null,null,null,null,null,null,null,null,null,null,null,{"$f":"Ⅰ.構成メンバー名簿!C131","v":106},{"$f":"CELL(\"address\",Ⅰ.構成メンバー名簿!F131)","v":"'[◆52関東　出場申込書.xlsm]Ⅰ.構成メンバー名簿'!$F$131"},"Ⅰ.構成メンバー名簿","F131"]
[null,null,null,null,null,null,null,null,null,null,null,null,null,null,null,null,null,null,null,null,null,null,null,null,null,null,null,null,null,null,null,{"$f":"Ⅰ.構成メンバー名簿!C132","v":107},{"$f":"CELL(\"address\",Ⅰ.構成メンバー名簿!F132)","v":"'[◆52関東　出場申込書.xlsm]Ⅰ.構成メンバー名簿'!$F$132"},"Ⅰ.構成メンバー名簿",{"$f":"SUBSTITUTE(RIGHT(AG619,LEN(AG619)-FIND(\"!\",AG619)),\"$\",\"\")","v":"F132"}]
[null,null,null,null,null,null,null,null,null,null,null,null,null,null,null,null,null,null,null,null,null,null,null,null,null,null,null,null,null,null,null,{"$f":"Ⅰ.構成メンバー名簿!C133","v":108},{"$f":"CELL(\"address\",Ⅰ.構成メンバー名簿!F133)","v":"'[◆52関東　出場申込書.xlsm]Ⅰ.構成メンバー名簿'!$F$133"},"Ⅰ.構成メンバー名簿","F133"]
[null,null,null,null,null,null,null,null,null,null,null,null,null,null,null,null,null,null,null,null,null,null,null,null,null,null,null,null,null,null,null,{"$f":"Ⅰ.構成メンバー名簿!C134","v":109},{"$f":"CELL(\"address\",Ⅰ.構成メンバー名簿!F134)","v":"'[◆52関東　出場申込書.xlsm]Ⅰ.構成メンバー名簿'!$F$134"},"Ⅰ.構成メンバー名簿","F134"]
[null,null,null,null,null,null,null,null,null,null,null,null,null,null,null,null,null,null,null,null,null,null,null,null,null,null,null,null,null,null,null,{"$f":"Ⅰ.構成メンバー名簿!C135","v":110},{"$f":"CELL(\"address\",Ⅰ.構成メンバー名簿!F135)","v":"'[◆52関東　出場申込書.xlsm]Ⅰ.構成メンバー名簿'!$F$135"},"Ⅰ.構成メンバー名簿","F135"]
[null,null,null,null,null,null,null,null,null,null,null,null,null,null,null,null,null,null,null,null,null,null,null,null,null,null,null,null,null,null,null,{"$f":"Ⅰ.構成メンバー名簿!C136","v":111},{"$f":"CELL(\"address\",Ⅰ.構成メンバー名簿!F136)","v":"'[◆52関東　出場申込書.xlsm]Ⅰ.構成メンバー名簿'!$F$136"},"Ⅰ.構成メンバー名簿","F136"]
[null,null,null,null,null,null,null,null,null,null,null,null,null,null,null,null,null,null,null,null,null,null,null,null,null,null,null,null,null,null,null,{"$f":"Ⅰ.構成メンバー名簿!C137","v":112},{"$f":"CELL(\"address\",Ⅰ.構成メンバー名簿!F137)","v":"'[◆52関東　出場申込書.xlsm]Ⅰ.構成メンバー名簿'!$F$137"},"Ⅰ.構成メンバー名簿","F137"]
[null,null,null,null,null,null,null,null,null,null,null,null,null,null,null,null,null,null,null,null,null,null,null,null,null,null,null,null,null,null,null,{"$f":"Ⅰ.構成メンバー名簿!C138","v":113},{"$f":"CELL(\"address\",Ⅰ.構成メンバー名簿!F138)","v":"'[◆52関東　出場申込書.xlsm]Ⅰ.構成メンバー名簿'!$F$138"},"Ⅰ.構成メンバー名簿","F138"]
[null,null,null,null,null,null,null,null,null,null,null,null,null,null,null,null,null,null,null,null,null,null,null,null,null,null,null,null,null,null,null,{"$f":"Ⅰ.構成メンバー名簿!C139","v":114},{"$f":"CELL(\"address\",Ⅰ.構成メンバー名簿!F139)","v":"'[◆52関東　出場申込書.xlsm]Ⅰ.構成メンバー名簿'!$F$139"},"Ⅰ.構成メンバー名簿","F139"]
[null,null,null,null,null,null,null,null,null,null,null,null,null,null,null,null,null,null,null,null,null,null,null,null,null,null,null,null,null,null,null,{"$f":"Ⅰ.構成メンバー名簿!C140","v":115},{"$f":"CELL(\"address\",Ⅰ.構成メンバー名簿!F140)","v":"'[◆52関東　出場申込書.xlsm]Ⅰ.構成メンバー名簿'!$F$140"},"Ⅰ.構成メンバー名簿","F140"]
[null,null,null,null,null,null,null,null,null,null,null,null,null,null,null,null,null,null,null,null,null,null,null,null,null,null,null,null,null,null,null,{"$f":"Ⅰ.構成メンバー名簿!C141","v":116},{"$f":"CELL(\"address\",Ⅰ.構成メンバー名簿!F141)","v":"'[◆52関東　出場申込書.xlsm]Ⅰ.構成メンバー名簿'!$F$141"},"Ⅰ.構成メンバー名簿","F141"]
[null,null,null,null,null,null,null,null,null,null,null,null,null,null,null,null,null,null,null,null,null,null,null,null,null,null,null,null,null,null,null,{"$f":"Ⅰ.構成メンバー名簿!C142","v":117},{"$f":"CELL(\"address\",Ⅰ.構成メンバー名簿!F142)","v":"'[◆52関東　出場申込書.xlsm]Ⅰ.構成メンバー名簿'!$F$142"},"Ⅰ.構成メンバー名簿","F142"]
[null,null,null,null,null,null,null,null,null,null,null,null,null,null,null,null,null,null,null,null,null,null,null,null,null,null,null,null,null,null,null,{"$f":"Ⅰ.構成メンバー名簿!C143","v":118},{"$f":"CELL(\"address\",Ⅰ.構成メンバー名簿!F143)","v":"'[◆52関東　出場申込書.xlsm]Ⅰ.構成メンバー名簿'!$F$143"},"Ⅰ.構成メンバー名簿","F143"]
[null,null,null,null,null,null,null,null,null,null,null,null,null,null,null,null,null,null,null,null,null,null,null,null,null,null,null,null,null,null,null,{"$f":"Ⅰ.構成メンバー名簿!C144","v":119},{"$f":"CELL(\"address\",Ⅰ.構成メンバー名簿!F144)","v":"'[◆52関東　出場申込書.xlsm]Ⅰ.構成メンバー名簿'!$F$144"},"Ⅰ.構成メンバー名簿","F144"]
[null,null,null,null,null,null,null,null,null,null,null,null,null,null,null,null,null,null,null,null,null,null,null,null,null,null,null,null,null,null,null,{"$f":"Ⅰ.構成メンバー名簿!C145","v":120},{"$f":"CELL(\"address\",Ⅰ.構成メンバー名簿!F145)","v":"'[◆52関東　出場申込書.xlsm]Ⅰ.構成メンバー名簿'!$F$145"},"Ⅰ.構成メンバー名簿","F145"]
[null,null,null,null,null,null,null,null,null,null,null,null,null,null,null,null,null,null,null,null,null,null,null,null,null,null,null,null,null,null,null,{"$f":"Ⅰ.構成メンバー名簿!C146","v":121},{"$f":"CELL(\"address\",Ⅰ.構成メンバー名簿!F146)","v":"'[◆52関東　出場申込書.xlsm]Ⅰ.構成メンバー名簿'!$F$146"},"Ⅰ.構成メンバー名簿","F146"]
[null,null,null,null,null,null,null,null,null,null,null,null,null,null,null,null,null,null,null,null,null,null,null,null,null,null,null,null,null,null,null,{"$f":"Ⅰ.構成メンバー名簿!C147","v":122},{"$f":"CELL(\"address\",Ⅰ.構成メンバー名簿!F147)","v":"'[◆52関東　出場申込書.xlsm]Ⅰ.構成メンバー名簿'!$F$147"},"Ⅰ.構成メンバー名簿","F147"]
[null,null,null,null,null,null,null,null,null,null,null,null,null,null,null,null,null,null,null,null,null,null,null,null,null,null,null,null,null,null,null,{"$f":"Ⅰ.構成メンバー名簿!C148","v":123},{"$f":"CELL(\"address\",Ⅰ.構成メンバー名簿!F148)","v":"'[◆52関東　出場申込書.xlsm]Ⅰ.構成メンバー名簿'!$F$148"},"Ⅰ.構成メンバー名簿","F148"]
[null,null,null,null,null,null,null,null,null,null,null,null,null,null,null,null,null,null,null,null,null,null,null,null,null,null,null,null,null,null,null,{"$f":"Ⅰ.構成メンバー名簿!C149","v":124},{"$f":"CELL(\"address\",Ⅰ.構成メンバー名簿!F149)","v":"'[◆52関東　出場申込書.xlsm]Ⅰ.構成メンバー名簿'!$F$149"},"Ⅰ.構成メンバー名簿","F149"]
[null,null,null,null,null,null,null,null,null,null,null,null,null,null,null,null,null,null,null,null,null,null,null,null,null,null,null,null,null,null,null,{"$f":"Ⅰ.構成メンバー名簿!C150","v":125},{"$f":"CELL(\"address\",Ⅰ.構成メンバー名簿!F150)","v":"'[◆52関東　出場申込書.xlsm]Ⅰ.構成メンバー名簿'!$F$150"},"Ⅰ.構成メンバー名簿","F150"]
[null,null,null,null,null,null,null,null,null,null,null,null,null,null,null,null,null,null,null,null,null,null,null,null,null,null,null,null,null,null,null,{"$f":"Ⅰ.構成メンバー名簿!C151","v":126},{"$f":"CELL(\"address\",Ⅰ.構成メンバー名簿!F151)","v":"'[◆52関東　出場申込書.xlsm]Ⅰ.構成メンバー名簿'!$F$151"},"Ⅰ.構成メンバー名簿","F151"]
[null,null,null,null,null,null,null,null,null,null,null,null,null,null,null,null,null,null,null,null,null,null,null,null,null,null,null,null,null,null,null,{"$f":"Ⅰ.構成メンバー名簿!C152","v":127},{"$f":"CELL(\"address\",Ⅰ.構成メンバー名簿!F152)","v":"'[◆52関東　出場申込書.xlsm]Ⅰ.構成メンバー名簿'!$F$152"},"Ⅰ.構成メンバー名簿","F152"]
[null,null,null,null,null,null,null,null,null,null,null,null,null,null,null,null,null,null,null,null,null,null,null,null,null,null,null,null,null,null,null,{"$f":"Ⅰ.構成メンバー名簿!C153","v":128},{"$f":"CELL(\"address\",Ⅰ.構成メンバー名簿!F153)","v":"'[◆52関東　出場申込書.xlsm]Ⅰ.構成メンバー名簿'!$F$153"},"Ⅰ.構成メンバー名簿","F153"]
[null,null,null,null,null,null,null,null,null,null,null,null,null,null,null,null,null,null,null,null,null,null,null,null,null,null,null,null,null,null,null,{"$f":"Ⅰ.構成メンバー名簿!C154","v":129},{"$f":"CELL(\"address\",Ⅰ.構成メンバー名簿!F154)","v":"'[◆52関東　出場申込書.xlsm]Ⅰ.構成メンバー名簿'!$F$154"},"Ⅰ.構成メンバー名簿","F154"]
[null,null,null,null,null,null,null,null,null,null,null,null,null,null,null,null,null,null,null,null,null,null,null,null,null,null,null,null,null,null,null,{"$f":"Ⅰ.構成メンバー名簿!C155","v":130},{"$f":"CELL(\"address\",Ⅰ.構成メンバー名簿!F155)","v":"'[◆52関東　出場申込書.xlsm]Ⅰ.構成メンバー名簿'!$F$155"},"Ⅰ.構成メンバー名簿","F155"]
[null,null,null,null,null,null,null,null,null,null,null,null,null,null,null,null,null,null,null,null,null,null,null,null,null,null,null,null,null,null,null,{"$f":"Ⅰ.構成メンバー名簿!C156","v":131},{"$f":"CELL(\"address\",Ⅰ.構成メンバー名簿!F156)","v":"'[◆52関東　出場申込書.xlsm]Ⅰ.構成メンバー名簿'!$F$156"},"Ⅰ.構成メンバー名簿","F156"]
[null,null,null,null,null,null,null,null,null,null,null,null,null,null,null,null,null,null,null,null,null,null,null,null,null,null,null,null,null,null,null,{"$f":"Ⅰ.構成メンバー名簿!C157","v":132},{"$f":"CELL(\"address\",Ⅰ.構成メンバー名簿!F157)","v":"'[◆52関東　出場申込書.xlsm]Ⅰ.構成メンバー名簿'!$F$157"},"Ⅰ.構成メンバー名簿","F157"]
[null,null,null,null,null,null,null,null,null,null,null,null,null,null,null,null,null,null,null,null,null,null,null,null,null,null,null,null,null,null,null,{"$f":"Ⅰ.構成メンバー名簿!C158","v":133},{"$f":"CELL(\"address\",Ⅰ.構成メンバー名簿!F158)","v":"'[◆52関東　出場申込書.xlsm]Ⅰ.構成メンバー名簿'!$F$158"},"Ⅰ.構成メンバー名簿","F158"]
[null,null,null,null,null,null,null,null,null,null,null,null,null,null,null,null,null,null,null,null,null,null,null,null,null,null,null,null,null,null,null,{"$f":"Ⅰ.構成メンバー名簿!C159","v":134},{"$f":"CELL(\"address\",Ⅰ.構成メンバー名簿!F159)","v":"'[◆52関東　出場申込書.xlsm]Ⅰ.構成メンバー名簿'!$F$159"},"Ⅰ.構成メンバー名簿","F159"]
[null,null,null,null,null,null,null,null,null,null,null,null,null,null,null,null,null,null,null,null,null,null,null,null,null,null,null,null,null,null,null,{"$f":"Ⅰ.構成メンバー名簿!C160","v":135},{"$f":"CELL(\"address\",Ⅰ.構成メンバー名簿!F160)","v":"'[◆52関東　出場申込書.xlsm]Ⅰ.構成メンバー名簿'!$F$160"},"Ⅰ.構成メンバー名簿","F160"]
[null,null,null,null,null,null,null,null,null,null,null,null,null,null,null,null,null,null,null,null,null,null,null,null,null,null,null,null,null,null,null,{"$f":"Ⅰ.構成メンバー名簿!C161","v":136},{"$f":"CELL(\"address\",Ⅰ.構成メンバー名簿!F161)","v":"'[◆52関東　出場申込書.xlsm]Ⅰ.構成メンバー名簿'!$F$161"},"Ⅰ.構成メンバー名簿","F161"]
[null,null,null,null,null,null,null,null,null,null,null,null,null,null,null,null,null,null,null,null,null,null,null,null,null,null,null,null,null,null,null,{"$f":"Ⅰ.構成メンバー名簿!C162","v":137},{"$f":"CELL(\"address\",Ⅰ.構成メンバー名簿!F162)","v":"'[◆52関東　出場申込書.xlsm]Ⅰ.構成メンバー名簿'!$F$162"},"Ⅰ.構成メンバー名簿","F162"]
[null,null,null,null,null,null,null,null,null,null,null,null,null,null,null,null,null,null,null,null,null,null,null,null,null,null,null,null,null,null,null,{"$f":"Ⅰ.構成メンバー名簿!C163","v":138},{"$f":"CELL(\"address\",Ⅰ.構成メンバー名簿!F163)","v":"'[◆52関東　出場申込書.xlsm]Ⅰ.構成メンバー名簿'!$F$163"},"Ⅰ.構成メンバー名簿","F163"]
[null,null,null,null,null,null,null,null,null,null,null,null,null,null,null,null,null,null,null,null,null,null,null,null,null,null,null,null,null,null,null,{"$f":"Ⅰ.構成メンバー名簿!C164","v":139},{"$f":"CELL(\"address\",Ⅰ.構成メンバー名簿!F164)","v":"'[◆52関東　出場申込書.xlsm]Ⅰ.構成メンバー名簿'!$F$164"},"Ⅰ.構成メンバー名簿","F164"]
[null,null,null,null,null,null,null,null,null,null,null,null,null,null,null,null,null,null,null,null,null,null,null,null,null,null,null,null,null,null,null,{"$f":"Ⅰ.構成メンバー名簿!C165","v":140},{"$f":"CELL(\"address\",Ⅰ.構成メンバー名簿!F165)","v":"'[◆52関東　出場申込書.xlsm]Ⅰ.構成メンバー名簿'!$F$165"},"Ⅰ.構成メンバー名簿","F165"]
[null,null,null,null,null,null,null,null,null,null,null,null,null,null,null,null,null,null,null,null,null,null,null,null,null,null,null,null,null,null,null,{"$f":"Ⅰ.構成メンバー名簿!C166","v":141},{"$f":"CELL(\"address\",Ⅰ.構成メンバー名簿!F166)","v":"'[◆52関東　出場申込書.xlsm]Ⅰ.構成メンバー名簿'!$F$166"},"Ⅰ.構成メンバー名簿","F166"]
[null,null,null,null,null,null,null,null,null,null,null,null,null,null,null,null,null,null,null,null,null,null,null,null,null,null,null,null,null,null,null,{"$f":"Ⅰ.構成メンバー名簿!C167","v":142},{"$f":"CELL(\"address\",Ⅰ.構成メンバー名簿!F167)","v":"'[◆52関東　出場申込書.xlsm]Ⅰ.構成メンバー名簿'!$F$167"},"Ⅰ.構成メンバー名簿","F167"]
[null,null,null,null,null,null,null,null,null,null,null,null,null,null,null,null,null,null,null,null,null,null,null,null,null,null,null,null,null,null,null,{"$f":"Ⅰ.構成メンバー名簿!C168","v":143},{"$f":"CELL(\"address\",Ⅰ.構成メンバー名簿!F168)","v":"'[◆52関東　出場申込書.xlsm]Ⅰ.構成メンバー名簿'!$F$168"},"Ⅰ.構成メンバー名簿","F168"]
[null,null,null,null,null,null,null,null,null,null,null,null,null,null,null,null,null,null,null,null,null,null,null,null,null,null,null,null,null,null,null,{"$f":"Ⅰ.構成メンバー名簿!C169","v":144},{"$f":"CELL(\"address\",Ⅰ.構成メンバー名簿!F169)","v":"'[◆52関東　出場申込書.xlsm]Ⅰ.構成メンバー名簿'!$F$169"},"Ⅰ.構成メンバー名簿","F169"]
[null,null,null,null,null,null,null,null,null,null,null,null,null,null,null,null,null,null,null,null,null,null,null,null,null,null,null,null,null,null,null,{"$f":"Ⅰ.構成メンバー名簿!C170","v":145},{"$f":"CELL(\"address\",Ⅰ.構成メンバー名簿!F170)","v":"'[◆52関東　出場申込書.xlsm]Ⅰ.構成メンバー名簿'!$F$170"},"Ⅰ.構成メンバー名簿","F170"]
[null,null,null,null,null,null,null,null,null,null,null,null,null,null,null,null,null,null,null,null,null,null,null,null,null,null,null,null,null,null,null,{"$f":"Ⅰ.構成メンバー名簿!C171","v":146},{"$f":"CELL(\"address\",Ⅰ.構成メンバー名簿!F171)","v":"'[◆52関東　出場申込書.xlsm]Ⅰ.構成メンバー名簿'!$F$171"},"Ⅰ.構成メンバー名簿","F171"]
[null,null,null,null,null,null,null,null,null,null,null,null,null,null,null,null,null,null,null,null,null,null,null,null,null,null,null,null,null,null,null,{"$f":"Ⅰ.構成メンバー名簿!C172","v":147},{"$f":"CELL(\"address\",Ⅰ.構成メンバー名簿!F172)","v":"'[◆52関東　出場申込書.xlsm]Ⅰ.構成メンバー名簿'!$F$172"},"Ⅰ.構成メンバー名簿","F172"]
[null,null,null,null,null,null,null,null,null,null,null,null,null,null,null,null,null,null,null,null,null,null,null,null,null,null,null,null,null,null,null,{"$f":"Ⅰ.構成メンバー名簿!C173","v":148},{"$f":"CELL(\"address\",Ⅰ.構成メンバー名簿!F173)","v":"'[◆52関東　出場申込書.xlsm]Ⅰ.構成メンバー名簿'!$F$173"},"Ⅰ.構成メンバー名簿","F173"]
[null,null,null,null,null,null,null,null,null,null,null,null,null,null,null,null,null,null,null,null,null,null,null,null,null,null,null,null,null,null,null,{"$f":"Ⅰ.構成メンバー名簿!C174","v":149},{"$f":"CELL(\"address\",Ⅰ.構成メンバー名簿!F174)","v":"'[◆52関東　出場申込書.xlsm]Ⅰ.構成メンバー名簿'!$F$174"},"Ⅰ.構成メンバー名簿","F174"]
[null,null,null,null,null,null,null,null,null,null,null,null,null,null,null,null,null,null,null,null,null,null,null,null,null,null,null,null,null,null,null,{"$f":"Ⅰ.構成メンバー名簿!C175","v":150},{"$f":"CELL(\"address\",Ⅰ.構成メンバー名簿!F175)","v":"'[◆52関東　出場申込書.xlsm]Ⅰ.構成メンバー名簿'!$F$175"},"Ⅰ.構成メンバー名簿","F175"]
[null,null,null,null,null,null,null,null,null,null,null,null,null,null,null,null,null,null,null,null,null,null,null,null,null,null,null,null,null,null,null,{"$f":"Ⅰ.構成メンバー名簿!C176","v":151},{"$f":"CELL(\"address\",Ⅰ.構成メンバー名簿!F176)","v":"'[◆52関東　出場申込書.xlsm]Ⅰ.構成メンバー名簿'!$F$176"},{"$f":"SUBSTITUTE(LEFT(RIGHT(AG663,LEN(AG663)-FIND(\"]\",AG663)),FIND(\"!\",RIGHT(AG663,LEN(AG663)-FIND(\"]\",AG663)))-1),\"'\",\"\")","v":"Ⅰ.構成メンバー名簿"},"F176"]
[null,null,null,null,null,null,null,null,null,null,null,null,null,null,null,null,null,null,null,null,null,null,null,null,null,null,null,null,null,null,null,{"$f":"Ⅰ.構成メンバー名簿!C177","v":152},{"$f":"CELL(\"address\",Ⅰ.構成メンバー名簿!F177)","v":"'[◆52関東　出場申込書.xlsm]Ⅰ.構成メンバー名簿'!$F$177"},"Ⅰ.構成メンバー名簿","F177"]
[null,null,null,null,null,null,null,null,null,null,null,null,null,null,null,null,null,null,null,null,null,null,null,null,null,null,null,null,null,null,null,{"$f":"Ⅰ.構成メンバー名簿!C178","v":153},{"$f":"CELL(\"address\",Ⅰ.構成メンバー名簿!F178)","v":"'[◆52関東　出場申込書.xlsm]Ⅰ.構成メンバー名簿'!$F$178"},"Ⅰ.構成メンバー名簿","F178"]
[null,null,null,null,null,null,null,null,null,null,null,null,null,null,null,null,null,null,null,null,null,null,null,null,null,null,null,null,null,null,null,{"$f":"Ⅰ.構成メンバー名簿!C179","v":154},{"$f":"CELL(\"address\",Ⅰ.構成メンバー名簿!F179)","v":"'[◆52関東　出場申込書.xlsm]Ⅰ.構成メンバー名簿'!$F$179"},"Ⅰ.構成メンバー名簿","F179"]
[null,null,null,null,null,null,null,null,null,null,null,null,null,null,null,null,null,null,null,null,null,null,null,null,null,null,null,null,null,null,null,{"$f":"Ⅰ.構成メンバー名簿!C180","v":155},{"$f":"CELL(\"address\",Ⅰ.構成メンバー名簿!F180)","v":"'[◆52関東　出場申込書.xlsm]Ⅰ.構成メンバー名簿'!$F$180"},"Ⅰ.構成メンバー名簿","F180"]
[null,null,null,null,null,null,null,null,null,null,null,null,null,null,null,null,null,null,null,null,null,null,null,null,null,null,null,null,null,null,null,{"$f":"Ⅰ.構成メンバー名簿!C181","v":156},{"$f":"CELL(\"address\",Ⅰ.構成メンバー名簿!F181)","v":"'[◆52関東　出場申込書.xlsm]Ⅰ.構成メンバー名簿'!$F$181"},"Ⅰ.構成メンバー名簿","F181"]
[null,null,null,null,null,null,null,null,null,null,null,null,null,null,null,null,null,null,null,null,null,null,null,null,null,null,null,null,null,null,null,{"$f":"Ⅰ.構成メンバー名簿!C182","v":157},{"$f":"CELL(\"address\",Ⅰ.構成メンバー名簿!F182)","v":"'[◆52関東　出場申込書.xlsm]Ⅰ.構成メンバー名簿'!$F$182"},"Ⅰ.構成メンバー名簿","F182"]
[null,null,null,null,null,null,null,null,null,null,null,null,null,null,null,null,null,null,null,null,null,null,null,null,null,null,null,null,null,null,null,{"$f":"Ⅰ.構成メンバー名簿!C183","v":158},{"$f":"CELL(\"address\",Ⅰ.構成メンバー名簿!F183)","v":"'[◆52関東　出場申込書.xlsm]Ⅰ.構成メンバー名簿'!$F$183"},"Ⅰ.構成メンバー名簿","F183"]
[null,null,null,null,null,null,null,null,null,null,null,null,null,null,null,null,null,null,null,null,null,null,null,null,null,null,null,null,null,null,null,{"$f":"Ⅰ.構成メンバー名簿!C184","v":159},{"$f":"CELL(\"address\",Ⅰ.構成メンバー名簿!F184)","v":"'[◆52関東　出場申込書.xlsm]Ⅰ.構成メンバー名簿'!$F$184"},"Ⅰ.構成メンバー名簿","F184"]
[null,null,null,null,null,null,null,null,null,null,null,null,null,null,null,null,null,null,null,null,null,null,null,null,null,null,null,null,null,null,null,{"$f":"Ⅰ.構成メンバー名簿!C185","v":160},{"$f":"CELL(\"address\",Ⅰ.構成メンバー名簿!F185)","v":"'[◆52関東　出場申込書.xlsm]Ⅰ.構成メンバー名簿'!$F$185"},"Ⅰ.構成メンバー名簿","F185"]
[null,null,null,null,null,null,null,null,null,null,null,null,null,null,null,null,null,null,null,null,null,null,null,null,null,null,null,null,null,null,null,{"$f":"Ⅰ.構成メンバー名簿!C186","v":161},{"$f":"CELL(\"address\",Ⅰ.構成メンバー名簿!F186)","v":"'[◆52関東　出場申込書.xlsm]Ⅰ.構成メンバー名簿'!$F$186"},"Ⅰ.構成メンバー名簿","F186"]
[null,null,null,null,null,null,null,null,null,null,null,null,null,null,null,null,null,null,null,null,null,null,null,null,null,null,null,null,null,null,null,{"$f":"Ⅰ.構成メンバー名簿!C187","v":162},{"$f":"CELL(\"address\",Ⅰ.構成メンバー名簿!F187)","v":"'[◆52関東　出場申込書.xlsm]Ⅰ.構成メンバー名簿'!$F$187"},"Ⅰ.構成メンバー名簿","F187"]
[null,null,null,null,null,null,null,null,null,null,null,null,null,null,null,null,null,null,null,null,null,null,null,null,null,null,null,null,null,null,null,{"$f":"Ⅰ.構成メンバー名簿!C188","v":163},{"$f":"CELL(\"address\",Ⅰ.構成メンバー名簿!F188)","v":"'[◆52関東　出場申込書.xlsm]Ⅰ.構成メンバー名簿'!$F$188"},"Ⅰ.構成メンバー名簿","F188"]
[null,null,null,null,null,null,null,null,null,null,null,null,null,null,null,null,null,null,null,null,null,null,null,null,null,null,null,null,null,null,null,{"$f":"Ⅰ.構成メンバー名簿!C189","v":164},{"$f":"CELL(\"address\",Ⅰ.構成メンバー名簿!F189)","v":"'[◆52関東　出場申込書.xlsm]Ⅰ.構成メンバー名簿'!$F$189"},"Ⅰ.構成メンバー名簿","F189"]
[null,null,null,null,null,null,null,null,null,null,null,null,null,null,null,null,null,null,null,null,null,null,null,null,null,null,null,null,null,null,null,{"$f":"Ⅰ.構成メンバー名簿!C190","v":165},{"$f":"CELL(\"address\",Ⅰ.構成メンバー名簿!F190)","v":"'[◆52関東　出場申込書.xlsm]Ⅰ.構成メンバー名簿'!$F$190"},"Ⅰ.構成メンバー名簿","F190"]
[null,null,null,null,null,null,null,null,null,null,null,null,null,null,null,null,null,null,null,null,null,null,null,null,null,null,null,null,null,null,null,{"$f":"Ⅰ.構成メンバー名簿!C191","v":166},{"$f":"CELL(\"address\",Ⅰ.構成メンバー名簿!F191)","v":"'[◆52関東　出場申込書.xlsm]Ⅰ.構成メンバー名簿'!$F$191"},"Ⅰ.構成メンバー名簿","F191"]
[null,null,null,null,null,null,null,null,null,null,null,null,null,null,null,null,null,null,null,null,null,null,null,null,null,null,null,null,null,null,null,{"$f":"Ⅰ.構成メンバー名簿!C192","v":167},{"$f":"CELL(\"address\",Ⅰ.構成メンバー名簿!F192)","v":"'[◆52関東　出場申込書.xlsm]Ⅰ.構成メンバー名簿'!$F$192"},"Ⅰ.構成メンバー名簿","F192"]
[null,null,null,null,null,null,null,null,null,null,null,null,null,null,null,null,null,null,null,null,null,null,null,null,null,null,null,null,null,null,null,{"$f":"Ⅰ.構成メンバー名簿!C193","v":168},{"$f":"CELL(\"address\",Ⅰ.構成メンバー名簿!F193)","v":"'[◆52関東　出場申込書.xlsm]Ⅰ.構成メンバー名簿'!$F$193"},"Ⅰ.構成メンバー名簿","F193"]
[null,null,null,null,null,null,null,null,null,null,null,null,null,null,null,null,null,null,null,null,null,null,null,null,null,null,null,null,null,null,null,{"$f":"Ⅰ.構成メンバー名簿!C194","v":169},{"$f":"CELL(\"address\",Ⅰ.構成メンバー名簿!F194)","v":"'[◆52関東　出場申込書.xlsm]Ⅰ.構成メンバー名簿'!$F$194"},"Ⅰ.構成メンバー名簿","F194"]
[null,null,null,null,null,null,null,null,null,null,null,null,null,null,null,null,null,null,null,null,null,null,null,null,null,null,null,null,null,null,null,{"$f":"Ⅰ.構成メンバー名簿!C195","v":170},{"$f":"CELL(\"address\",Ⅰ.構成メンバー名簿!F195)","v":"'[◆52関東　出場申込書.xlsm]Ⅰ.構成メンバー名簿'!$F$195"},"Ⅰ.構成メンバー名簿","F195"]
[null,null,null,null,null,null,null,null,null,null,null,null,null,null,null,null,null,null,null,null,null,null,null,null,null,null,null,null,null,null,null,{"$f":"Ⅰ.構成メンバー名簿!C196","v":171},{"$f":"CELL(\"address\",Ⅰ.構成メンバー名簿!F196)","v":"'[◆52関東　出場申込書.xlsm]Ⅰ.構成メンバー名簿'!$F$196"},"Ⅰ.構成メンバー名簿",{"$f":"SUBSTITUTE(RIGHT(AG683,LEN(AG683)-FIND(\"!\",AG683)),\"$\",\"\")","v":"F196"}]
[null,null,null,null,null,null,null,null,null,null,null,null,null,null,null,null,null,null,null,null,null,null,null,null,null,null,null,null,null,null,null,{"$f":"Ⅰ.構成メンバー名簿!C197","v":172},{"$f":"CELL(\"address\",Ⅰ.構成メンバー名簿!F197)","v":"'[◆52関東　出場申込書.xlsm]Ⅰ.構成メンバー名簿'!$F$197"},"Ⅰ.構成メンバー名簿","F197"]
[null,null,null,null,null,null,null,null,null,null,null,null,null,null,null,null,null,null,null,null,null,null,null,null,null,null,null,null,null,null,null,{"$f":"Ⅰ.構成メンバー名簿!C198","v":173},{"$f":"CELL(\"address\",Ⅰ.構成メンバー名簿!F198)","v":"'[◆52関東　出場申込書.xlsm]Ⅰ.構成メンバー名簿'!$F$198"},"Ⅰ.構成メンバー名簿","F198"]
[null,null,null,null,null,null,null,null,null,null,null,null,null,null,null,null,null,null,null,null,null,null,null,null,null,null,null,null,null,null,null,{"$f":"Ⅰ.構成メンバー名簿!C199","v":174},{"$f":"CELL(\"address\",Ⅰ.構成メンバー名簿!F199)","v":"'[◆52関東　出場申込書.xlsm]Ⅰ.構成メンバー名簿'!$F$199"},"Ⅰ.構成メンバー名簿","F199"]
[null,null,null,null,null,null,null,null,null,null,null,null,null,null,null,null,null,null,null,null,null,null,null,null,null,null,null,null,null,null,null,{"$f":"Ⅰ.構成メンバー名簿!C200","v":175},{"$f":"CELL(\"address\",Ⅰ.構成メンバー名簿!F200)","v":"'[◆52関東　出場申込書.xlsm]Ⅰ.構成メンバー名簿'!$F$200"},"Ⅰ.構成メンバー名簿","F200"]
[null,null,null,null,null,null,null,null,null,null,null,null,null,null,null,null,null,null,null,null,null,null,null,null,null,null,null,null,null,null,null,{"$f":"Ⅰ.構成メンバー名簿!C201","v":176},{"$f":"CELL(\"address\",Ⅰ.構成メンバー名簿!F201)","v":"'[◆52関東　出場申込書.xlsm]Ⅰ.構成メンバー名簿'!$F$201"},"Ⅰ.構成メンバー名簿","F201"]
[null,null,null,null,null,null,null,null,null,null,null,null,null,null,null,null,null,null,null,null,null,null,null,null,null,null,null,null,null,null,null,{"$f":"Ⅰ.構成メンバー名簿!C202","v":177},{"$f":"CELL(\"address\",Ⅰ.構成メンバー名簿!F202)","v":"'[◆52関東　出場申込書.xlsm]Ⅰ.構成メンバー名簿'!$F$202"},"Ⅰ.構成メンバー名簿","F202"]
[null,null,null,null,null,null,null,null,null,null,null,null,null,null,null,null,null,null,null,null,null,null,null,null,null,null,null,null,null,null,null,{"$f":"Ⅰ.構成メンバー名簿!C203","v":178},{"$f":"CELL(\"address\",Ⅰ.構成メンバー名簿!F203)","v":"'[◆52関東　出場申込書.xlsm]Ⅰ.構成メンバー名簿'!$F$203"},"Ⅰ.構成メンバー名簿","F203"]
[null,null,null,null,null,null,null,null,null,null,null,null,null,null,null,null,null,null,null,null,null,null,null,null,null,null,null,null,null,null,null,{"$f":"Ⅰ.構成メンバー名簿!C204","v":179},{"$f":"CELL(\"address\",Ⅰ.構成メンバー名簿!F204)","v":"'[◆52関東　出場申込書.xlsm]Ⅰ.構成メンバー名簿'!$F$204"},"Ⅰ.構成メンバー名簿","F204"]
[null,null,null,null,null,null,null,null,null,null,null,null,null,null,null,null,null,null,null,null,null,null,null,null,null,null,null,null,null,null,null,{"$f":"Ⅰ.構成メンバー名簿!C205","v":180},{"$f":"CELL(\"address\",Ⅰ.構成メンバー名簿!F205)","v":"'[◆52関東　出場申込書.xlsm]Ⅰ.構成メンバー名簿'!$F$205"},"Ⅰ.構成メンバー名簿","F205"]
[null,null,null,null,null,null,null,null,null,null,null,null,null,null,null,null,null,null,null,null,null,null,null,null,null,null,null,null,null,null,null,{"$f":"Ⅰ.構成メンバー名簿!C206","v":181},{"$f":"CELL(\"address\",Ⅰ.構成メンバー名簿!F206)","v":"'[◆52関東　出場申込書.xlsm]Ⅰ.構成メンバー名簿'!$F$206"},"Ⅰ.構成メンバー名簿","F206"]
[null,null,null,null,null,null,null,null,null,null,null,null,null,null,null,null,null,null,null,null,null,null,null,null,null,null,null,null,null,null,null,{"$f":"Ⅰ.構成メンバー名簿!C207","v":182},{"$f":"CELL(\"address\",Ⅰ.構成メンバー名簿!F207)","v":"'[◆52関東　出場申込書.xlsm]Ⅰ.構成メンバー名簿'!$F$207"},"Ⅰ.構成メンバー名簿","F207"]
[null,null,null,null,null,null,null,null,null,null,null,null,null,null,null,null,null,null,null,null,null,null,null,null,null,null,null,null,null,null,null,{"$f":"Ⅰ.構成メンバー名簿!C208","v":183},{"$f":"CELL(\"address\",Ⅰ.構成メンバー名簿!F208)","v":"'[◆52関東　出場申込書.xlsm]Ⅰ.構成メンバー名簿'!$F$208"},"Ⅰ.構成メンバー名簿","F208"]
[null,null,null,null,null,null,null,null,null,null,null,null,null,null,null,null,null,null,null,null,null,null,null,null,null,null,null,null,null,null,null,{"$f":"Ⅰ.構成メンバー名簿!C209","v":184},{"$f":"CELL(\"address\",Ⅰ.構成メンバー名簿!F209)","v":"'[◆52関東　出場申込書.xlsm]Ⅰ.構成メンバー名簿'!$F$209"},"Ⅰ.構成メンバー名簿","F209"]
[null,null,null,null,null,null,null,null,null,null,null,null,null,null,null,null,null,null,null,null,null,null,null,null,null,null,null,null,null,null,null,{"$f":"Ⅰ.構成メンバー名簿!C210","v":185},{"$f":"CELL(\"address\",Ⅰ.構成メンバー名簿!F210)","v":"'[◆52関東　出場申込書.xlsm]Ⅰ.構成メンバー名簿'!$F$210"},"Ⅰ.構成メンバー名簿","F210"]
[null,null,null,null,null,null,null,null,null,null,null,null,null,null,null,null,null,null,null,null,null,null,null,null,null,null,null,null,null,null,null,{"$f":"Ⅰ.構成メンバー名簿!C211","v":186},{"$f":"CELL(\"address\",Ⅰ.構成メンバー名簿!F211)","v":"'[◆52関東　出場申込書.xlsm]Ⅰ.構成メンバー名簿'!$F$211"},"Ⅰ.構成メンバー名簿","F211"]
[null,null,null,null,null,null,null,null,null,null,null,null,null,null,null,null,null,null,null,null,null,null,null,null,null,null,null,null,null,null,null,{"$f":"Ⅰ.構成メンバー名簿!C212","v":187},{"$f":"CELL(\"address\",Ⅰ.構成メンバー名簿!F212)","v":"'[◆52関東　出場申込書.xlsm]Ⅰ.構成メンバー名簿'!$F$212"},"Ⅰ.構成メンバー名簿","F212"]
[null,null,null,null,null,null,null,null,null,null,null,null,null,null,null,null,null,null,null,null,null,null,null,null,null,null,null,null,null,null,null,{"$f":"Ⅰ.構成メンバー名簿!C213","v":188},{"$f":"CELL(\"address\",Ⅰ.構成メンバー名簿!F213)","v":"'[◆52関東　出場申込書.xlsm]Ⅰ.構成メンバー名簿'!$F$213"},"Ⅰ.構成メンバー名簿","F213"]
[null,null,null,null,null,null,null,null,null,null,null,null,null,null,null,null,null,null,null,null,null,null,null,null,null,null,null,null,null,null,null,{"$f":"Ⅰ.構成メンバー名簿!C214","v":189},{"$f":"CELL(\"address\",Ⅰ.構成メンバー名簿!F214)","v":"'[◆52関東　出場申込書.xlsm]Ⅰ.構成メンバー名簿'!$F$214"},"Ⅰ.構成メンバー名簿","F214"]
[null,null,null,null,null,null,null,null,null,null,null,null,null,null,null,null,null,null,null,null,null,null,null,null,null,null,null,null,null,null,null,{"$f":"Ⅰ.構成メンバー名簿!C215","v":190},{"$f":"CELL(\"address\",Ⅰ.構成メンバー名簿!F215)","v":"'[◆52関東　出場申込書.xlsm]Ⅰ.構成メンバー名簿'!$F$215"},"Ⅰ.構成メンバー名簿","F215"]
[null,null,null,null,null,null,null,null,null,null,null,null,null,null,null,null,null,null,null,null,null,null,null,null,null,null,null,null,null,null,null,{"$f":"Ⅰ.構成メンバー名簿!C216","v":191},{"$f":"CELL(\"address\",Ⅰ.構成メンバー名簿!F216)","v":"'[◆52関東　出場申込書.xlsm]Ⅰ.構成メンバー名簿'!$F$216"},"Ⅰ.構成メンバー名簿","F216"]
[null,null,null,null,null,null,null,null,null,null,null,null,null,null,null,null,null,null,null,null,null,null,null,null,null,null,null,null,null,null,null,{"$f":"Ⅰ.構成メンバー名簿!C217","v":192},{"$f":"CELL(\"address\",Ⅰ.構成メンバー名簿!F217)","v":"'[◆52関東　出場申込書.xlsm]Ⅰ.構成メンバー名簿'!$F$217"},"Ⅰ.構成メンバー名簿","F217"]
[null,null,null,null,null,null,null,null,null,null,null,null,null,null,null,null,null,null,null,null,null,null,null,null,null,null,null,null,null,null,null,{"$f":"Ⅰ.構成メンバー名簿!C218","v":193},{"$f":"CELL(\"address\",Ⅰ.構成メンバー名簿!F218)","v":"'[◆52関東　出場申込書.xlsm]Ⅰ.構成メンバー名簿'!$F$218"},"Ⅰ.構成メンバー名簿","F218"]
[null,null,null,null,null,null,null,null,null,null,null,null,null,null,null,null,null,null,null,null,null,null,null,null,null,null,null,null,null,null,null,{"$f":"Ⅰ.構成メンバー名簿!C219","v":194},{"$f":"CELL(\"address\",Ⅰ.構成メンバー名簿!F219)","v":"'[◆52関東　出場申込書.xlsm]Ⅰ.構成メンバー名簿'!$F$219"},"Ⅰ.構成メンバー名簿","F219"]
[null,null,null,null,null,null,null,null,null,null,null,null,null,null,null,null,null,null,null,null,null,null,null,null,null,null,null,null,null,null,null,{"$f":"Ⅰ.構成メンバー名簿!C220","v":195},{"$f":"CELL(\"address\",Ⅰ.構成メンバー名簿!F220)","v":"'[◆52関東　出場申込書.xlsm]Ⅰ.構成メンバー名簿'!$F$220"},"Ⅰ.構成メンバー名簿","F220"]
[null,null,null,null,null,null,null,null,null,null,null,null,null,null,null,null,null,null,null,null,null,null,null,null,null,null,null,null,null,null,null,{"$f":"Ⅰ.構成メンバー名簿!C221","v":196},{"$f":"CELL(\"address\",Ⅰ.構成メンバー名簿!F221)","v":"'[◆52関東　出場申込書.xlsm]Ⅰ.構成メンバー名簿'!$F$221"},"Ⅰ.構成メンバー名簿","F221"]
[null,null,null,null,null,null,null,null,null,null,null,null,null,null,null,null,null,null,null,null,null,null,null,null,null,null,null,null,null,null,null,{"$f":"Ⅰ.構成メンバー名簿!C222","v":197},{"$f":"CELL(\"address\",Ⅰ.構成メンバー名簿!F222)","v":"'[◆52関東　出場申込書.xlsm]Ⅰ.構成メンバー名簿'!$F$222"},"Ⅰ.構成メンバー名簿","F222"]
[null,null,null,null,null,null,null,null,null,null,null,null,null,null,null,null,null,null,null,null,null,null,null,null,null,null,null,null,null,null,null,{"$f":"Ⅰ.構成メンバー名簿!C223","v":198},{"$f":"CELL(\"address\",Ⅰ.構成メンバー名簿!F223)","v":"'[◆52関東　出場申込書.xlsm]Ⅰ.構成メンバー名簿'!$F$223"},"Ⅰ.構成メンバー名簿","F223"]
[null,null,null,null,null,null,null,null,null,null,null,null,null,null,null,null,null,null,null,null,null,null,null,null,null,null,null,null,null,null,null,{"$f":"Ⅰ.構成メンバー名簿!C224","v":199},{"$f":"CELL(\"address\",Ⅰ.構成メンバー名簿!F224)","v":"'[◆52関東　出場申込書.xlsm]Ⅰ.構成メンバー名簿'!$F$224"},"Ⅰ.構成メンバー名簿","F224"]
[null,null,null,null,null,null,null,null,null,null,null,null,null,null,null,null,null,null,null,null,null,null,null,null,null,null,null,null,null,null,null,{"$f":"Ⅰ.構成メンバー名簿!C225","v":200},{"$f":"CELL(\"address\",Ⅰ.構成メンバー名簿!F225)","v":"'[◆52関東　出場申込書.xlsm]Ⅰ.構成メンバー名簿'!$F$225"},"Ⅰ.構成メンバー名簿","F225"]
[null,null,null,null,null,null,null,null,null,null,null,null,null,null,null,null,null,null,null,null,null,null,null,null,null,null,null,null,null,null,null,{"$f":"Ⅰ.構成メンバー名簿!C226","v":201},{"$f":"CELL(\"address\",Ⅰ.構成メンバー名簿!F226)","v":"'[◆52関東　出場申込書.xlsm]Ⅰ.構成メンバー名簿'!$F$226"},"Ⅰ.構成メンバー名簿","F226"]
[null,null,null,null,null,null,null,null,null,null,null,null,null,null,null,null,null,null,null,null,null,null,null,null,null,null,null,null,null,null,null,{"$f":"Ⅰ.構成メンバー名簿!C227","v":202},{"$f":"CELL(\"address\",Ⅰ.構成メンバー名簿!F227)","v":"'[◆52関東　出場申込書.xlsm]Ⅰ.構成メンバー名簿'!$F$227"},"Ⅰ.構成メンバー名簿","F227"]
[null,null,null,null,null,null,null,null,null,null,null,null,null,null,null,null,null,null,null,null,null,null,null,null,null,null,null,null,null,null,null,{"$f":"Ⅰ.構成メンバー名簿!C228","v":203},{"$f":"CELL(\"address\",Ⅰ.構成メンバー名簿!F228)","v":"'[◆52関東　出場申込書.xlsm]Ⅰ.構成メンバー名簿'!$F$228"},"Ⅰ.構成メンバー名簿","F228"]
[null,null,null,null,null,null,null,null,null,null,null,null,null,null,null,null,null,null,null,null,null,null,null,null,null,null,null,null,null,null,null,{"$f":"Ⅰ.構成メンバー名簿!C229","v":204},{"$f":"CELL(\"address\",Ⅰ.構成メンバー名簿!F229)","v":"'[◆52関東　出場申込書.xlsm]Ⅰ.構成メンバー名簿'!$F$229"},"Ⅰ.構成メンバー名簿","F229"]
[null,null,null,null,null,null,null,null,null,null,null,null,null,null,null,null,null,null,null,null,null,null,null,null,null,null,null,null,null,null,null,{"$f":"Ⅰ.構成メンバー名簿!C230","v":205},{"$f":"CELL(\"address\",Ⅰ.構成メンバー名簿!F230)","v":"'[◆52関東　出場申込書.xlsm]Ⅰ.構成メンバー名簿'!$F$230"},"Ⅰ.構成メンバー名簿","F230"]
[null,null,null,null,null,null,null,null,null,null,null,null,null,null,null,null,null,null,null,null,null,null,null,null,null,null,null,null,null,null,null,{"$f":"Ⅰ.構成メンバー名簿!C231","v":206},{"$f":"CELL(\"address\",Ⅰ.構成メンバー名簿!F231)","v":"'[◆52関東　出場申込書.xlsm]Ⅰ.構成メンバー名簿'!$F$231"},"Ⅰ.構成メンバー名簿","F231"]
[null,null,null,null,null,null,null,null,null,null,null,null,null,null,null,null,null,null,null,null,null,null,null,null,null,null,null,null,null,null,null,{"$f":"Ⅰ.構成メンバー名簿!C232","v":207},{"$f":"CELL(\"address\",Ⅰ.構成メンバー名簿!F232)","v":"'[◆52関東　出場申込書.xlsm]Ⅰ.構成メンバー名簿'!$F$232"},"Ⅰ.構成メンバー名簿","F232"]
[null,null,null,null,null,null,null,null,null,null,null,null,null,null,null,null,null,null,null,null,null,null,null,null,null,null,null,null,null,null,null,{"$f":"Ⅰ.構成メンバー名簿!C233","v":208},{"$f":"CELL(\"address\",Ⅰ.構成メンバー名簿!F233)","v":"'[◆52関東　出場申込書.xlsm]Ⅰ.構成メンバー名簿'!$F$233"},"Ⅰ.構成メンバー名簿","F233"]
[null,null,null,null,null,null,null,null,null,null,null,null,null,null,null,null,null,null,null,null,null,null,null,null,null,null,null,null,null,null,null,{"$f":"Ⅰ.構成メンバー名簿!C234","v":209},{"$f":"CELL(\"address\",Ⅰ.構成メンバー名簿!F234)","v":"'[◆52関東　出場申込書.xlsm]Ⅰ.構成メンバー名簿'!$F$234"},"Ⅰ.構成メンバー名簿","F234"]
[null,null,null,null,null,null,null,null,null,null,null,null,null,null,null,null,null,null,null,null,null,null,null,null,null,null,null,null,null,null,null,{"$f":"Ⅰ.構成メンバー名簿!C235","v":210},{"$f":"CELL(\"address\",Ⅰ.構成メンバー名簿!F235)","v":"'[◆52関東　出場申込書.xlsm]Ⅰ.構成メンバー名簿'!$F$235"},"Ⅰ.構成メンバー名簿","F235"]
[null,null,null,null,null,null,null,null,null,null,null,null,null,null,null,null,null,null,null,null,null,null,null,null,null,null,null,null,null,null,null,{"$f":"Ⅰ.構成メンバー名簿!C236","v":211},{"$f":"CELL(\"address\",Ⅰ.構成メンバー名簿!F236)","v":"'[◆52関東　出場申込書.xlsm]Ⅰ.構成メンバー名簿'!$F$236"},"Ⅰ.構成メンバー名簿","F236"]
[null,null,null,null,null,null,null,null,null,null,null,null,null,null,null,null,null,null,null,null,null,null,null,null,null,null,null,null,null,null,null,{"$f":"Ⅰ.構成メンバー名簿!C237","v":212},{"$f":"CELL(\"address\",Ⅰ.構成メンバー名簿!F237)","v":"'[◆52関東　出場申込書.xlsm]Ⅰ.構成メンバー名簿'!$F$237"},"Ⅰ.構成メンバー名簿","F237"]
[null,null,null,null,null,null,null,null,null,null,null,null,null,null,null,null,null,null,null,null,null,null,null,null,null,null,null,null,null,null,null,{"$f":"Ⅰ.構成メンバー名簿!C238","v":213},{"$f":"CELL(\"address\",Ⅰ.構成メンバー名簿!F238)","v":"'[◆52関東　出場申込書.xlsm]Ⅰ.構成メンバー名簿'!$F$238"},"Ⅰ.構成メンバー名簿","F238"]
[null,null,null,null,null,null,null,null,null,null,null,null,null,null,null,null,null,null,null,null,null,null,null,null,null,null,null,null,null,null,null,{"$f":"Ⅰ.構成メンバー名簿!C239","v":214},{"$f":"CELL(\"address\",Ⅰ.構成メンバー名簿!F239)","v":"'[◆52関東　出場申込書.xlsm]Ⅰ.構成メンバー名簿'!$F$239"},"Ⅰ.構成メンバー名簿","F239"]
[null,null,null,null,null,null,null,null,null,null,null,null,null,null,null,null,null,null,null,null,null,null,null,null,null,null,null,null,null,null,null,{"$f":"Ⅰ.構成メンバー名簿!C240","v":215},{"$f":"CELL(\"address\",Ⅰ.構成メンバー名簿!F240)","v":"'[◆52関東　出場申込書.xlsm]Ⅰ.構成メンバー名簿'!$F$240"},{"$f":"SUBSTITUTE(LEFT(RIGHT(AG727,LEN(AG727)-FIND(\"]\",AG727)),FIND(\"!\",RIGHT(AG727,LEN(AG727)-FIND(\"]\",AG727)))-1),\"'\",\"\")","v":"Ⅰ.構成メンバー名簿"},"F240"]
[null,null,null,null,null,null,null,null,null,null,null,null,null,null,null,null,null,null,null,null,null,null,null,null,null,null,null,null,null,null,null,{"$f":"Ⅰ.構成メンバー名簿!C241","v":216},{"$f":"CELL(\"address\",Ⅰ.構成メンバー名簿!F241)","v":"'[◆52関東　出場申込書.xlsm]Ⅰ.構成メンバー名簿'!$F$241"},"Ⅰ.構成メンバー名簿","F241"]
[null,null,null,null,null,null,null,null,null,null,null,null,null,null,null,null,null,null,null,null,null,null,null,null,null,null,null,null,null,null,null,{"$f":"Ⅰ.構成メンバー名簿!C242","v":217},{"$f":"CELL(\"address\",Ⅰ.構成メンバー名簿!F242)","v":"'[◆52関東　出場申込書.xlsm]Ⅰ.構成メンバー名簿'!$F$242"},"Ⅰ.構成メンバー名簿","F242"]
[null,null,null,null,null,null,null,null,null,null,null,null,null,null,null,null,null,null,null,null,null,null,null,null,null,null,null,null,null,null,null,{"$f":"Ⅰ.構成メンバー名簿!C243","v":218},{"$f":"CELL(\"address\",Ⅰ.構成メンバー名簿!F243)","v":"'[◆52関東　出場申込書.xlsm]Ⅰ.構成メンバー名簿'!$F$243"},"Ⅰ.構成メンバー名簿","F243"]
[null,null,null,null,null,null,null,null,null,null,null,null,null,null,null,null,null,null,null,null,null,null,null,null,null,null,null,null,null,null,null,{"$f":"Ⅰ.構成メンバー名簿!C244","v":219},{"$f":"CELL(\"address\",Ⅰ.構成メンバー名簿!F244)","v":"'[◆52関東　出場申込書.xlsm]Ⅰ.構成メンバー名簿'!$F$244"},"Ⅰ.構成メンバー名簿","F244"]
[null,null,null,null,null,null,null,null,null,null,null,null,null,null,null,null,null,null,null,null,null,null,null,null,null,null,null,null,null,null,null,{"$f":"Ⅰ.構成メンバー名簿!C245","v":220},{"$f":"CELL(\"address\",Ⅰ.構成メンバー名簿!F245)","v":"'[◆52関東　出場申込書.xlsm]Ⅰ.構成メンバー名簿'!$F$245"},"Ⅰ.構成メンバー名簿","F245"]
[null,null,null,null,null,null,null,null,null,null,null,null,null,null,null,null,null,null,null,null,null,null,null,null,null,null,null,null,null,null,null,{"$f":"Ⅰ.構成メンバー名簿!C246","v":221},{"$f":"CELL(\"address\",Ⅰ.構成メンバー名簿!F246)","v":"'[◆52関東　出場申込書.xlsm]Ⅰ.構成メンバー名簿'!$F$246"},"Ⅰ.構成メンバー名簿","F246"]
[null,null,null,null,null,null,null,null,null,null,null,null,null,null,null,null,null,null,null,null,null,null,null,null,null,null,null,null,null,null,null,{"$f":"Ⅰ.構成メンバー名簿!C247","v":222},{"$f":"CELL(\"address\",Ⅰ.構成メンバー名簿!F247)","v":"'[◆52関東　出場申込書.xlsm]Ⅰ.構成メンバー名簿'!$F$247"},"Ⅰ.構成メンバー名簿","F247"]
[null,null,null,null,null,null,null,null,null,null,null,null,null,null,null,null,null,null,null,null,null,null,null,null,null,null,null,null,null,null,null,{"$f":"Ⅰ.構成メンバー名簿!C248","v":223},{"$f":"CELL(\"address\",Ⅰ.構成メンバー名簿!F248)","v":"'[◆52関東　出場申込書.xlsm]Ⅰ.構成メンバー名簿'!$F$248"},"Ⅰ.構成メンバー名簿","F248"]
[null,null,null,null,null,null,null,null,null,null,null,null,null,null,null,null,null,null,null,null,null,null,null,null,null,null,null,null,null,null,null,{"$f":"Ⅰ.構成メンバー名簿!C249","v":224},{"$f":"CELL(\"address\",Ⅰ.構成メンバー名簿!F249)","v":"'[◆52関東　出場申込書.xlsm]Ⅰ.構成メンバー名簿'!$F$249"},"Ⅰ.構成メンバー名簿","F249"]
[null,null,null,null,null,null,null,null,null,null,null,null,null,null,null,null,null,null,null,null,null,null,null,null,null,null,null,null,null,null,null,{"$f":"Ⅰ.構成メンバー名簿!C250","v":225},{"$f":"CELL(\"address\",Ⅰ.構成メンバー名簿!F250)","v":"'[◆52関東　出場申込書.xlsm]Ⅰ.構成メンバー名簿'!$F$250"},"Ⅰ.構成メンバー名簿","F250"]
[null,null,null,null,null,null,null,null,null,null,null,null,null,null,null,null,null,null,null,null,null,null,null,null,null,null,null,null,null,null,null,{"$f":"Ⅰ.構成メンバー名簿!C251","v":226},{"$f":"CELL(\"address\",Ⅰ.構成メンバー名簿!F251)","v":"'[◆52関東　出場申込書.xlsm]Ⅰ.構成メンバー名簿'!$F$251"},"Ⅰ.構成メンバー名簿","F251"]
[null,null,null,null,null,null,null,null,null,null,null,null,null,null,null,null,null,null,null,null,null,null,null,null,null,null,null,null,null,null,null,{"$f":"Ⅰ.構成メンバー名簿!C252","v":227},{"$f":"CELL(\"address\",Ⅰ.構成メンバー名簿!F252)","v":"'[◆52関東　出場申込書.xlsm]Ⅰ.構成メンバー名簿'!$F$252"},"Ⅰ.構成メンバー名簿","F252"]
[null,null,null,null,null,null,null,null,null,null,null,null,null,null,null,null,null,null,null,null,null,null,null,null,null,null,null,null,null,null,null,{"$f":"Ⅰ.構成メンバー名簿!C253","v":228},{"$f":"CELL(\"address\",Ⅰ.構成メンバー名簿!F253)","v":"'[◆52関東　出場申込書.xlsm]Ⅰ.構成メンバー名簿'!$F$253"},"Ⅰ.構成メンバー名簿","F253"]
[null,null,null,null,null,null,null,null,null,null,null,null,null,null,null,null,null,null,null,null,null,null,null,null,null,null,null,null,null,null,null,{"$f":"Ⅰ.構成メンバー名簿!C254","v":229},{"$f":"CELL(\"address\",Ⅰ.構成メンバー名簿!F254)","v":"'[◆52関東　出場申込書.xlsm]Ⅰ.構成メンバー名簿'!$F$254"},"Ⅰ.構成メンバー名簿","F254"]
[null,null,null,null,null,null,null,null,null,null,null,null,null,null,null,null,null,null,null,null,null,null,null,null,null,null,null,null,null,null,null,{"$f":"Ⅰ.構成メンバー名簿!C255","v":230},{"$f":"CELL(\"address\",Ⅰ.構成メンバー名簿!F255)","v":"'[◆52関東　出場申込書.xlsm]Ⅰ.構成メンバー名簿'!$F$255"},"Ⅰ.構成メンバー名簿","F255"]
[null,null,null,null,null,null,null,null,null,null,null,null,null,null,null,null,null,null,null,null,null,null,null,null,null,null,null,null,null,null,null,{"$f":"Ⅰ.構成メンバー名簿!C256","v":231},{"$f":"CELL(\"address\",Ⅰ.構成メンバー名簿!F256)","v":"'[◆52関東　出場申込書.xlsm]Ⅰ.構成メンバー名簿'!$F$256"},"Ⅰ.構成メンバー名簿","F256"]
[null,null,null,null,null,null,null,null,null,null,null,null,null,null,null,null,null,null,null,null,null,null,null,null,null,null,null,null,null,null,null,{"$f":"Ⅰ.構成メンバー名簿!C257","v":232},{"$f":"CELL(\"address\",Ⅰ.構成メンバー名簿!F257)","v":"'[◆52関東　出場申込書.xlsm]Ⅰ.構成メンバー名簿'!$F$257"},"Ⅰ.構成メンバー名簿","F257"]
[null,null,null,null,null,null,null,null,null,null,null,null,null,null,null,null,null,null,null,null,null,null,null,null,null,null,null,null,null,null,null,{"$f":"Ⅰ.構成メンバー名簿!C258","v":233},{"$f":"CELL(\"address\",Ⅰ.構成メンバー名簿!F258)","v":"'[◆52関東　出場申込書.xlsm]Ⅰ.構成メンバー名簿'!$F$258"},"Ⅰ.構成メンバー名簿","F258"]
[null,null,null,null,null,null,null,null,null,null,null,null,null,null,null,null,null,null,null,null,null,null,null,null,null,null,null,null,null,null,null,{"$f":"Ⅰ.構成メンバー名簿!C259","v":234},{"$f":"CELL(\"address\",Ⅰ.構成メンバー名簿!F259)","v":"'[◆52関東　出場申込書.xlsm]Ⅰ.構成メンバー名簿'!$F$259"},"Ⅰ.構成メンバー名簿","F259"]
[null,null,null,null,null,null,null,null,null,null,null,null,null,null,null,null,null,null,null,null,null,null,null,null,null,null,null,null,null,null,null,{"$f":"Ⅰ.構成メンバー名簿!C260","v":235},{"$f":"CELL(\"address\",Ⅰ.構成メンバー名簿!F260)","v":"'[◆52関東　出場申込書.xlsm]Ⅰ.構成メンバー名簿'!$F$260"},"Ⅰ.構成メンバー名簿",{"$f":"SUBSTITUTE(RIGHT(AG747,LEN(AG747)-FIND(\"!\",AG747)),\"$\",\"\")","v":"F260"}]
[null,null,null,null,null,null,null,null,null,null,null,null,null,null,null,null,null,null,null,null,null,null,null,null,null,null,null,null,null,null,null,{"$f":"Ⅰ.構成メンバー名簿!C261","v":236},{"$f":"CELL(\"address\",Ⅰ.構成メンバー名簿!F261)","v":"'[◆52関東　出場申込書.xlsm]Ⅰ.構成メンバー名簿'!$F$261"},"Ⅰ.構成メンバー名簿","F261"]
[null,null,null,null,null,null,null,null,null,null,null,null,null,null,null,null,null,null,null,null,null,null,null,null,null,null,null,null,null,null,null,{"$f":"Ⅰ.構成メンバー名簿!C262","v":237},{"$f":"CELL(\"address\",Ⅰ.構成メンバー名簿!F262)","v":"'[◆52関東　出場申込書.xlsm]Ⅰ.構成メンバー名簿'!$F$262"},"Ⅰ.構成メンバー名簿","F262"]
[null,null,null,null,null,null,null,null,null,null,null,null,null,null,null,null,null,null,null,null,null,null,null,null,null,null,null,null,null,null,null,{"$f":"Ⅰ.構成メンバー名簿!C263","v":238},{"$f":"CELL(\"address\",Ⅰ.構成メンバー名簿!F263)","v":"'[◆52関東　出場申込書.xlsm]Ⅰ.構成メンバー名簿'!$F$263"},"Ⅰ.構成メンバー名簿","F263"]
[null,null,null,null,null,null,null,null,null,null,null,null,null,null,null,null,null,null,null,null,null,null,null,null,null,null,null,null,null,null,null,{"$f":"Ⅰ.構成メンバー名簿!C264","v":239},{"$f":"CELL(\"address\",Ⅰ.構成メンバー名簿!F264)","v":"'[◆52関東　出場申込書.xlsm]Ⅰ.構成メンバー名簿'!$F$264"},"Ⅰ.構成メンバー名簿","F264"]
[null,null,null,null,null,null,null,null,null,null,null,null,null,null,null,null,null,null,null,null,null,null,null,null,null,null,null,null,null,null,null,{"$f":"Ⅰ.構成メンバー名簿!C265","v":240},{"$f":"CELL(\"address\",Ⅰ.構成メンバー名簿!F265)","v":"'[◆52関東　出場申込書.xlsm]Ⅰ.構成メンバー名簿'!$F$265"},"Ⅰ.構成メンバー名簿","F265"]
[null,null,null,null,null,null,null,null,null,null,null,null,null,null,null,null,null,null,null,null,null,null,null,null,null,null,null,null,null,null,null,{"$f":"Ⅰ.構成メンバー名簿!C266","v":241},{"$f":"CELL(\"address\",Ⅰ.構成メンバー名簿!F266)","v":"'[◆52関東　出場申込書.xlsm]Ⅰ.構成メンバー名簿'!$F$266"},"Ⅰ.構成メンバー名簿","F266"]
[null,null,null,null,null,null,null,null,null,null,null,null,null,null,null,null,null,null,null,null,null,null,null,null,null,null,null,null,null,null,null,{"$f":"Ⅰ.構成メンバー名簿!C267","v":242},{"$f":"CELL(\"address\",Ⅰ.構成メンバー名簿!F267)","v":"'[◆52関東　出場申込書.xlsm]Ⅰ.構成メンバー名簿'!$F$267"},"Ⅰ.構成メンバー名簿","F267"]
[null,null,null,null,null,null,null,null,null,null,null,null,null,null,null,null,null,null,null,null,null,null,null,null,null,null,null,null,null,null,null,{"$f":"Ⅰ.構成メンバー名簿!C268","v":243},{"$f":"CELL(\"address\",Ⅰ.構成メンバー名簿!F268)","v":"'[◆52関東　出場申込書.xlsm]Ⅰ.構成メンバー名簿'!$F$268"},"Ⅰ.構成メンバー名簿","F268"]
[null,null,null,null,null,null,null,null,null,null,null,null,null,null,null,null,null,null,null,null,null,null,null,null,null,null,null,null,null,null,null,{"$f":"Ⅰ.構成メンバー名簿!C269","v":244},{"$f":"CELL(\"address\",Ⅰ.構成メンバー名簿!F269)","v":"'[◆52関東　出場申込書.xlsm]Ⅰ.構成メンバー名簿'!$F$269"},"Ⅰ.構成メンバー名簿","F269"]
[null,null,null,null,null,null,null,null,null,null,null,null,null,null,null,null,null,null,null,null,null,null,null,null,null,null,null,null,null,null,null,{"$f":"Ⅰ.構成メンバー名簿!C270","v":245},{"$f":"CELL(\"address\",Ⅰ.構成メンバー名簿!F270)","v":"'[◆52関東　出場申込書.xlsm]Ⅰ.構成メンバー名簿'!$F$270"},"Ⅰ.構成メンバー名簿","F270"]
[null,null,null,null,null,null,null,null,null,null,null,null,null,null,null,null,null,null,null,null,null,null,null,null,null,null,null,null,null,null,null,{"$f":"Ⅰ.構成メンバー名簿!C271","v":246},{"$f":"CELL(\"address\",Ⅰ.構成メンバー名簿!F271)","v":"'[◆52関東　出場申込書.xlsm]Ⅰ.構成メンバー名簿'!$F$271"},"Ⅰ.構成メンバー名簿","F271"]
[null,null,null,null,null,null,null,null,null,null,null,null,null,null,null,null,null,null,null,null,null,null,null,null,null,null,null,null,null,null,null,{"$f":"Ⅰ.構成メンバー名簿!C272","v":247},{"$f":"CELL(\"address\",Ⅰ.構成メンバー名簿!F272)","v":"'[◆52関東　出場申込書.xlsm]Ⅰ.構成メンバー名簿'!$F$272"},"Ⅰ.構成メンバー名簿","F272"]
[null,null,null,null,null,null,null,null,null,null,null,null,null,null,null,null,null,null,null,null,null,null,null,null,null,null,null,null,null,null,null,{"$f":"Ⅰ.構成メンバー名簿!C273","v":248},{"$f":"CELL(\"address\",Ⅰ.構成メンバー名簿!F273)","v":"'[◆52関東　出場申込書.xlsm]Ⅰ.構成メンバー名簿'!$F$273"},"Ⅰ.構成メンバー名簿","F273"]
[null,null,null,null,null,null,null,null,null,null,null,null,null,null,null,null,null,null,null,null,null,null,null,null,null,null,null,null,null,null,null,{"$f":"Ⅰ.構成メンバー名簿!C274","v":249},{"$f":"CELL(\"address\",Ⅰ.構成メンバー名簿!F274)","v":"'[◆52関東　出場申込書.xlsm]Ⅰ.構成メンバー名簿'!$F$274"},"Ⅰ.構成メンバー名簿","F274"]
[null,null,null,null,null,null,null,null,null,null,null,null,null,null,null,null,null,null,null,null,null,null,null,null,null,null,null,null,null,null,null,{"$f":"Ⅰ.構成メンバー名簿!C275","v":250},{"$f":"CELL(\"address\",Ⅰ.構成メンバー名簿!F275)","v":"'[◆52関東　出場申込書.xlsm]Ⅰ.構成メンバー名簿'!$F$275"},"Ⅰ.構成メンバー名簿","F275"]
[null,null,null,null,null,"※リストから選択して下さい",null,null,null,null,null,null,null,null,null,null,null,null,null,null,null,null,null,null,null,null,null,null,null,null,null,{"$f":"Ⅰ.構成メンバー名簿!C26","v":1},{"$f":"CELL(\"address\",Ⅰ.構成メンバー名簿!G26)","v":"'[◆52関東　出場申込書.xlsm]Ⅰ.構成メンバー名簿'!$G$26"},"Ⅰ.構成メンバー名簿","G26"]
[null,null,null,null,null,"※リストから選択して下さい",null,null,null,null,null,null,null,null,null,null,null,null,null,null,null,null,null,null,null,null,null,null,null,null,null,{"$f":"Ⅰ.構成メンバー名簿!C27","v":2},{"$f":"CELL(\"address\",Ⅰ.構成メンバー名簿!G27)","v":"'[◆52関東　出場申込書.xlsm]Ⅰ.構成メンバー名簿'!$G$27"},"Ⅰ.構成メンバー名簿","G27"]
[null,null,null,null,null,"※リストから選択して下さい",null,null,null,null,null,null,null,null,null,null,null,null,null,null,null,null,null,null,null,null,null,null,null,null,null,{"$f":"Ⅰ.構成メンバー名簿!C28","v":3},{"$f":"CELL(\"address\",Ⅰ.構成メンバー名簿!G28)","v":"'[◆52関東　出場申込書.xlsm]Ⅰ.構成メンバー名簿'!$G$28"},"Ⅰ.構成メンバー名簿","G28"]
[null,null,null,null,null,"※リストから選択して下さい",null,null,null,null,null,null,null,null,null,null,null,null,null,null,null,null,null,null,null,null,null,null,null,null,null,{"$f":"Ⅰ.構成メンバー名簿!C29","v":4},{"$f":"CELL(\"address\",Ⅰ.構成メンバー名簿!G29)","v":"'[◆52関東　出場申込書.xlsm]Ⅰ.構成メンバー名簿'!$G$29"},"Ⅰ.構成メンバー名簿","G29"]
[null,null,null,null,null,"※リストから選択して下さい",null,null,null,null,null,null,null,null,null,null,null,null,null,null,null,null,null,null,null,null,null,null,null,null,null,{"$f":"Ⅰ.構成メンバー名簿!C30","v":5},{"$f":"CELL(\"address\",Ⅰ.構成メンバー名簿!G30)","v":"'[◆52関東　出場申込書.xlsm]Ⅰ.構成メンバー名簿'!$G$30"},"Ⅰ.構成メンバー名簿","G30"]
[null,null,null,null,null,"※リストから選択して下さい",null,null,null,null,null,null,null,null,null,null,null,null,null,null,null,null,null,null,null,null,null,null,null,null,null,{"$f":"Ⅰ.構成メンバー名簿!C31","v":6},{"$f":"CELL(\"address\",Ⅰ.構成メンバー名簿!G31)","v":"'[◆52関東　出場申込書.xlsm]Ⅰ.構成メンバー名簿'!$G$31"},"Ⅰ.構成メンバー名簿","G31"]
[null,null,null,null,null,"※リストから選択して下さい",null,null,null,null,null,null,null,null,null,null,null,null,null,null,null,null,null,null,null,null,null,null,null,null,null,{"$f":"Ⅰ.構成メンバー名簿!C32","v":7},{"$f":"CELL(\"address\",Ⅰ.構成メンバー名簿!G32)","v":"'[◆52関東　出場申込書.xlsm]Ⅰ.構成メンバー名簿'!$G$32"},"Ⅰ.構成メンバー名簿","G32"]
[null,null,null,null,null,"※リストから選択して下さい",null,null,null,null,null,null,null,null,null,null,null,null,null,null,null,null,null,null,null,null,null,null,null,null,null,{"$f":"Ⅰ.構成メンバー名簿!C33","v":8},{"$f":"CELL(\"address\",Ⅰ.構成メンバー名簿!G33)","v":"'[◆52関東　出場申込書.xlsm]Ⅰ.構成メンバー名簿'!$G$33"},"Ⅰ.構成メンバー名簿","G33"]
[null,null,null,null,null,"※リストから選択して下さい",null,null,null,null,null,null,null,null,null,null,null,null,null,null,null,null,null,null,null,null,null,null,null,null,null,{"$f":"Ⅰ.構成メンバー名簿!C34","v":9},{"$f":"CELL(\"address\",Ⅰ.構成メンバー名簿!G34)","v":"'[◆52関東　出場申込書.xlsm]Ⅰ.構成メンバー名簿'!$G$34"},"Ⅰ.構成メンバー名簿","G34"]
[null,null,null,null,null,"※リストから選択して下さい",null,null,null,null,null,null,null,null,null,null,null,null,null,null,null,null,null,null,null,null,null,null,null,null,null,{"$f":"Ⅰ.構成メンバー名簿!C35","v":10},{"$f":"CELL(\"address\",Ⅰ.構成メンバー名簿!G35)","v":"'[◆52関東　出場申込書.xlsm]Ⅰ.構成メンバー名簿'!$G$35"},"Ⅰ.構成メンバー名簿","G35"]
[null,null,null,null,null,"※リストから選択して下さい",null,null,null,null,null,null,null,null,null,null,null,null,null,null,null,null,null,null,null,null,null,null,null,null,null,{"$f":"Ⅰ.構成メンバー名簿!C36","v":11},{"$f":"CELL(\"address\",Ⅰ.構成メンバー名簿!G36)","v":"'[◆52関東　出場申込書.xlsm]Ⅰ.構成メンバー名簿'!$G$36"},"Ⅰ.構成メンバー名簿","G36"]
[null,null,null,null,null,"※リストから選択して下さい",null,null,null,null,null,null,null,null,null,null,null,null,null,null,null,null,null,null,null,null,null,null,null,null,null,{"$f":"Ⅰ.構成メンバー名簿!C37","v":12},{"$f":"CELL(\"address\",Ⅰ.構成メンバー名簿!G37)","v":"'[◆52関東　出場申込書.xlsm]Ⅰ.構成メンバー名簿'!$G$37"},"Ⅰ.構成メンバー名簿","G37"]
[null,null,null,null,null,"※リストから選択して下さい",null,null,null,null,null,null,null,null,null,null,null,null,null,null,null,null,null,null,null,null,null,null,null,null,null,{"$f":"Ⅰ.構成メンバー名簿!C38","v":13},{"$f":"CELL(\"address\",Ⅰ.構成メンバー名簿!G38)","v":"'[◆52関東　出場申込書.xlsm]Ⅰ.構成メンバー名簿'!$G$38"},"Ⅰ.構成メンバー名簿","G38"]
[null,null,null,null,null,"※リストから選択して下さい",null,null,null,null,null,null,null,null,null,null,null,null,null,null,null,null,null,null,null,null,null,null,null,null,null,{"$f":"Ⅰ.構成メンバー名簿!C39","v":14},{"$f":"CELL(\"address\",Ⅰ.構成メンバー名簿!G39)","v":"'[◆52関東　出場申込書.xlsm]Ⅰ.構成メンバー名簿'!$G$39"},"Ⅰ.構成メンバー名簿","G39"]
[null,null,null,null,null,"※リストから選択して下さい",null,null,null,null,null,null,null,null,null,null,null,null,null,null,null,null,null,null,null,null,null,null,null,null,null,{"$f":"Ⅰ.構成メンバー名簿!C40","v":15},{"$f":"CELL(\"address\",Ⅰ.構成メンバー名簿!G40)","v":"'[◆52関東　出場申込書.xlsm]Ⅰ.構成メンバー名簿'!$G$40"},"Ⅰ.構成メンバー名簿","G40"]
[null,null,null,null,null,"※リストから選択して下さい",null,null,null,null,null,null,null,null,null,null,null,null,null,null,null,null,null,null,null,null,null,null,null,null,null,{"$f":"Ⅰ.構成メンバー名簿!C41","v":16},{"$f":"CELL(\"address\",Ⅰ.構成メンバー名簿!G41)","v":"'[◆52関東　出場申込書.xlsm]Ⅰ.構成メンバー名簿'!$G$41"},"Ⅰ.構成メンバー名簿","G41"]
[null,null,null,null,null,"※リストから選択して下さい",null,null,null,null,null,null,null,null,null,null,null,null,null,null,null,null,null,null,null,null,null,null,null,null,null,{"$f":"Ⅰ.構成メンバー名簿!C42","v":17},{"$f":"CELL(\"address\",Ⅰ.構成メンバー名簿!G42)","v":"'[◆52関東　出場申込書.xlsm]Ⅰ.構成メンバー名簿'!$G$42"},"Ⅰ.構成メンバー名簿","G42"]
[null,null,null,null,null,"※リストから選択して下さい",null,null,null,null,null,null,null,null,null,null,null,null,null,null,null,null,null,null,null,null,null,null,null,null,null,{"$f":"Ⅰ.構成メンバー名簿!C43","v":18},{"$f":"CELL(\"address\",Ⅰ.構成メンバー名簿!G43)","v":"'[◆52関東　出場申込書.xlsm]Ⅰ.構成メンバー名簿'!$G$43"},"Ⅰ.構成メンバー名簿","G43"]
[null,null,null,null,null,"※リストから選択して下さい",null,null,null,null,null,null,null,null,null,null,null,null,null,null,null,null,null,null,null,null,null,null,null,null,null,{"$f":"Ⅰ.構成メンバー名簿!C44","v":19},{"$f":"CELL(\"address\",Ⅰ.構成メンバー名簿!G44)","v":"'[◆52関東　出場申込書.xlsm]Ⅰ.構成メンバー名簿'!$G$44"},"Ⅰ.構成メンバー名簿","G44"]
[null,null,null,null,null,"※リストから選択して下さい",null,null,null,null,null,null,null,null,null,null,null,null,null,null,null,null,null,null,null,null,null,null,null,null,null,{"$f":"Ⅰ.構成メンバー名簿!C45","v":20},{"$f":"CELL(\"address\",Ⅰ.構成メンバー名簿!G45)","v":"'[◆52関東　出場申込書.xlsm]Ⅰ.構成メンバー名簿'!$G$45"},"Ⅰ.構成メンバー名簿","G45"]
[null,null,null,null,null,"※リストから選択して下さい",null,null,null,null,null,null,null,null,null,null,null,null,null,null,null,null,null,null,null,null,null,null,null,null,null,{"$f":"Ⅰ.構成メンバー名簿!C46","v":21},{"$f":"CELL(\"address\",Ⅰ.構成メンバー名簿!G46)","v":"'[◆52関東　出場申込書.xlsm]Ⅰ.構成メンバー名簿'!$G$46"},"Ⅰ.構成メンバー名簿","G46"]
[null,null,null,null,null,"※リストから選択して下さい",null,null,null,null,null,null,null,null,null,null,null,null,null,null,null,null,null,null,null,null,null,null,null,null,null,{"$f":"Ⅰ.構成メンバー名簿!C47","v":22},{"$f":"CELL(\"address\",Ⅰ.構成メンバー名簿!G47)","v":"'[◆52関東　出場申込書.xlsm]Ⅰ.構成メンバー名簿'!$G$47"},"Ⅰ.構成メンバー名簿","G47"]
[null,null,null,null,null,"※リストから選択して下さい",null,null,null,null,null,null,null,null,null,null,null,null,null,null,null,null,null,null,null,null,null,null,null,null,null,{"$f":"Ⅰ.構成メンバー名簿!C48","v":23},{"$f":"CELL(\"address\",Ⅰ.構成メンバー名簿!G48)","v":"'[◆52関東　出場申込書.xlsm]Ⅰ.構成メンバー名簿'!$G$48"},"Ⅰ.構成メンバー名簿","G48"]
[null,null,null,null,null,"※リストから選択して下さい",null,null,null,null,null,null,null,null,null,null,null,null,null,null,null,null,null,null,null,null,null,null,null,null,null,{"$f":"Ⅰ.構成メンバー名簿!C49","v":24},{"$f":"CELL(\"address\",Ⅰ.構成メンバー名簿!G49)","v":"'[◆52関東　出場申込書.xlsm]Ⅰ.構成メンバー名簿'!$G$49"},"Ⅰ.構成メンバー名簿","G49"]
[null,null,null,null,null,"※リストから選択して下さい",null,null,null,null,null,null,null,null,null,null,null,null,null,null,null,null,null,null,null,null,null,null,null,null,null,{"$f":"Ⅰ.構成メンバー名簿!C50","v":25},{"$f":"CELL(\"address\",Ⅰ.構成メンバー名簿!G50)","v":"'[◆52関東　出場申込書.xlsm]Ⅰ.構成メンバー名簿'!$G$50"},"Ⅰ.構成メンバー名簿","G50"]
[null,null,null,null,null,"※リストから選択して下さい",null,null,null,null,null,null,null,null,null,null,null,null,null,null,null,null,null,null,null,null,null,null,null,null,null,{"$f":"Ⅰ.構成メンバー名簿!C51","v":26},{"$f":"CELL(\"address\",Ⅰ.構成メンバー名簿!G51)","v":"'[◆52関東　出場申込書.xlsm]Ⅰ.構成メンバー名簿'!$G$51"},"Ⅰ.構成メンバー名簿","G51"]
[null,null,null,null,null,"※リストから選択して下さい",null,null,null,null,null,null,null,null,null,null,null,null,null,null,null,null,null,null,null,null,null,null,null,null,null,{"$f":"Ⅰ.構成メンバー名簿!C52","v":27},{"$f":"CELL(\"address\",Ⅰ.構成メンバー名簿!G52)","v":"'[◆52関東　出場申込書.xlsm]Ⅰ.構成メンバー名簿'!$G$52"},"Ⅰ.構成メンバー名簿","G52"]
[null,null,null,null,null,"※リストから選択して下さい",null,null,null,null,null,null,null,null,null,null,null,null,null,null,null,null,null,null,null,null,null,null,null,null,null,{"$f":"Ⅰ.構成メンバー名簿!C53","v":28},{"$f":"CELL(\"address\",Ⅰ.構成メンバー名簿!G53)","v":"'[◆52関東　出場申込書.xlsm]Ⅰ.構成メンバー名簿'!$G$53"},"Ⅰ.構成メンバー名簿","G53"]
[null,null,null,null,null,"※リストから選択して下さい",null,null,null,null,null,null,null,null,null,null,null,null,null,null,null,null,null,null,null,null,null,null,null,null,null,{"$f":"Ⅰ.構成メンバー名簿!C54","v":29},{"$f":"CELL(\"address\",Ⅰ.構成メンバー名簿!G54)","v":"'[◆52関東　出場申込書.xlsm]Ⅰ.構成メンバー名簿'!$G$54"},{"$f":"SUBSTITUTE(LEFT(RIGHT(AG791,LEN(AG791)-FIND(\"]\",AG791)),FIND(\"!\",RIGHT(AG791,LEN(AG791)-FIND(\"]\",AG791)))-1),\"'\",\"\")","v":"Ⅰ.構成メンバー名簿"},"G54"]
[null,null,null,null,null,"※リストから選択して下さい",null,null,null,null,null,null,null,null,null,null,null,null,null,null,null,null,null,null,null,null,null,null,null,null,null,{"$f":"Ⅰ.構成メンバー名簿!C55","v":30},{"$f":"CELL(\"address\",Ⅰ.構成メンバー名簿!G55)","v":"'[◆52関東　出場申込書.xlsm]Ⅰ.構成メンバー名簿'!$G$55"},"Ⅰ.構成メンバー名簿","G55"]
[null,null,null,null,null,"※リストから選択して下さい",null,null,null,null,null,null,null,null,null,null,null,null,null,null,null,null,null,null,null,null,null,null,null,null,null,{"$f":"Ⅰ.構成メンバー名簿!C56","v":31},{"$f":"CELL(\"address\",Ⅰ.構成メンバー名簿!G56)","v":"'[◆52関東　出場申込書.xlsm]Ⅰ.構成メンバー名簿'!$G$56"},"Ⅰ.構成メンバー名簿","G56"]
[null,null,null,null,null,"※リストから選択して下さい",null,null,null,null,null,null,null,null,null,null,null,null,null,null,null,null,null,null,null,null,null,null,null,null,null,{"$f":"Ⅰ.構成メンバー名簿!C57","v":32},{"$f":"CELL(\"address\",Ⅰ.構成メンバー名簿!G57)","v":"'[◆52関東　出場申込書.xlsm]Ⅰ.構成メンバー名簿'!$G$57"},"Ⅰ.構成メンバー名簿","G57"]
[null,null,null,null,null,"※リストから選択して下さい",null,null,null,null,null,null,null,null,null,null,null,null,null,null,null,null,null,null,null,null,null,null,null,null,null,{"$f":"Ⅰ.構成メンバー名簿!C58","v":33},{"$f":"CELL(\"address\",Ⅰ.構成メンバー名簿!G58)","v":"'[◆52関東　出場申込書.xlsm]Ⅰ.構成メンバー名簿'!$G$58"},"Ⅰ.構成メンバー名簿","G58"]
[null,null,null,null,null,"※リストから選択して下さい",null,null,null,null,null,null,null,null,null,null,null,null,null,null,null,null,null,null,null,null,null,null,null,null,null,{"$f":"Ⅰ.構成メンバー名簿!C59","v":34},{"$f":"CELL(\"address\",Ⅰ.構成メンバー名簿!G59)","v":"'[◆52関東　出場申込書.xlsm]Ⅰ.構成メンバー名簿'!$G$59"},"Ⅰ.構成メンバー名簿","G59"]
[null,null,null,null,null,"※リストから選択して下さい",null,null,null,null,null,null,null,null,null,null,null,null,null,null,null,null,null,null,null,null,null,null,null,null,null,{"$f":"Ⅰ.構成メンバー名簿!C60","v":35},{"$f":"CELL(\"address\",Ⅰ.構成メンバー名簿!G60)","v":"'[◆52関東　出場申込書.xlsm]Ⅰ.構成メンバー名簿'!$G$60"},"Ⅰ.構成メンバー名簿","G60"]
[null,null,null,null,null,"※リストから選択して下さい",null,null,null,null,null,null,null,null,null,null,null,null,null,null,null,null,null,null,null,null,null,null,null,null,null,{"$f":"Ⅰ.構成メンバー名簿!C61","v":36},{"$f":"CELL(\"address\",Ⅰ.構成メンバー名簿!G61)","v":"'[◆52関東　出場申込書.xlsm]Ⅰ.構成メンバー名簿'!$G$61"},"Ⅰ.構成メンバー名簿","G61"]
[null,null,null,null,null,"※リストから選択して下さい",null,null,null,null,null,null,null,null,null,null,null,null,null,null,null,null,null,null,null,null,null,null,null,null,null,{"$f":"Ⅰ.構成メンバー名簿!C62","v":37},{"$f":"CELL(\"address\",Ⅰ.構成メンバー名簿!G62)","v":"'[◆52関東　出場申込書.xlsm]Ⅰ.構成メンバー名簿'!$G$62"},"Ⅰ.構成メンバー名簿","G62"]
[null,null,null,null,null,"※リストから選択して下さい",null,null,null,null,null,null,null,null,null,null,null,null,null,null,null,null,null,null,null,null,null,null,null,null,null,{"$f":"Ⅰ.構成メンバー名簿!C63","v":38},{"$f":"CELL(\"address\",Ⅰ.構成メンバー名簿!G63)","v":"'[◆52関東　出場申込書.xlsm]Ⅰ.構成メンバー名簿'!$G$63"},"Ⅰ.構成メンバー名簿","G63"]
[null,null,null,null,null,"※リストから選択して下さい",null,null,null,null,null,null,null,null,null,null,null,null,null,null,null,null,null,null,null,null,null,null,null,null,null,{"$f":"Ⅰ.構成メンバー名簿!C64","v":39},{"$f":"CELL(\"address\",Ⅰ.構成メンバー名簿!G64)","v":"'[◆52関東　出場申込書.xlsm]Ⅰ.構成メンバー名簿'!$G$64"},"Ⅰ.構成メンバー名簿","G64"]
[null,null,null,null,null,"※リストから選択して下さい",null,null,null,null,null,null,null,null,null,null,null,null,null,null,null,null,null,null,null,null,null,null,null,null,null,{"$f":"Ⅰ.構成メンバー名簿!C65","v":40},{"$f":"CELL(\"address\",Ⅰ.構成メンバー名簿!G65)","v":"'[◆52関東　出場申込書.xlsm]Ⅰ.構成メンバー名簿'!$G$65"},"Ⅰ.構成メンバー名簿","G65"]
[null,null,null,null,null,"※リストから選択して下さい",null,null,null,null,null,null,null,null,null,null,null,null,null,null,null,null,null,null,null,null,null,null,null,null,null,{"$f":"Ⅰ.構成メンバー名簿!C66","v":41},{"$f":"CELL(\"address\",Ⅰ.構成メンバー名簿!G66)","v":"'[◆52関東　出場申込書.xlsm]Ⅰ.構成メンバー名簿'!$G$66"},"Ⅰ.構成メンバー名簿","G66"]
[null,null,null,null,null,"※リストから選択して下さい",null,null,null,null,null,null,null,null,null,null,null,null,null,null,null,null,null,null,null,null,null,null,null,null,null,{"$f":"Ⅰ.構成メンバー名簿!C67","v":42},{"$f":"CELL(\"address\",Ⅰ.構成メンバー名簿!G67)","v":"'[◆52関東　出場申込書.xlsm]Ⅰ.構成メンバー名簿'!$G$67"},"Ⅰ.構成メンバー名簿","G67"]
[null,null,null,null,null,"※リストから選択して下さい",null,null,null,null,null,null,null,null,null,null,null,null,null,null,null,null,null,null,null,null,null,null,null,null,null,{"$f":"Ⅰ.構成メンバー名簿!C68","v":43},{"$f":"CELL(\"address\",Ⅰ.構成メンバー名簿!G68)","v":"'[◆52関東　出場申込書.xlsm]Ⅰ.構成メンバー名簿'!$G$68"},"Ⅰ.構成メンバー名簿","G68"]
[null,null,null,null,null,"※リストから選択して下さい",null,null,null,null,null,null,null,null,null,null,null,null,null,null,null,null,null,null,null,null,null,null,null,null,null,{"$f":"Ⅰ.構成メンバー名簿!C69","v":44},{"$f":"CELL(\"address\",Ⅰ.構成メンバー名簿!G69)","v":"'[◆52関東　出場申込書.xlsm]Ⅰ.構成メンバー名簿'!$G$69"},"Ⅰ.構成メンバー名簿","G69"]
[null,null,null,null,null,"※リストから選択して下さい",null,null,null,null,null,null,null,null,null,null,null,null,null,null,null,null,null,null,null,null,null,null,null,null,null,{"$f":"Ⅰ.構成メンバー名簿!C70","v":45},{"$f":"CELL(\"address\",Ⅰ.構成メンバー名簿!G70)","v":"'[◆52関東　出場申込書.xlsm]Ⅰ.構成メンバー名簿'!$G$70"},"Ⅰ.構成メンバー名簿","G70"]
[null,null,null,null,null,"※リストから選択して下さい",null,null,null,null,null,null,null,null,null,null,null,null,null,null,null,null,null,null,null,null,null,null,null,null,null,{"$f":"Ⅰ.構成メンバー名簿!C71","v":46},{"$f":"CELL(\"address\",Ⅰ.構成メンバー名簿!G71)","v":"'[◆52関東　出場申込書.xlsm]Ⅰ.構成メンバー名簿'!$G$71"},"Ⅰ.構成メンバー名簿","G71"]
[null,null,null,null,null,"※リストから選択して下さい",null,null,null,null,null,null,null,null,null,null,null,null,null,null,null,null,null,null,null,null,null,null,null,null,null,{"$f":"Ⅰ.構成メンバー名簿!C72","v":47},{"$f":"CELL(\"address\",Ⅰ.構成メンバー名簿!G72)","v":"'[◆52関東　出場申込書.xlsm]Ⅰ.構成メンバー名簿'!$G$72"},"Ⅰ.構成メンバー名簿","G72"]
[null,null,null,null,null,"※リストから選択して下さい",null,null,null,null,null,null,null,null,null,null,null,null,null,null,null,null,null,null,null,null,null,null,null,null,null,{"$f":"Ⅰ.構成メンバー名簿!C73","v":48},{"$f":"CELL(\"address\",Ⅰ.構成メンバー名簿!G73)","v":"'[◆52関東　出場申込書.xlsm]Ⅰ.構成メンバー名簿'!$G$73"},"Ⅰ.構成メンバー名簿","G73"]
[null,null,null,null,null,"※リストから選択して下さい",null,null,null,null,null,null,null,null,null,null,null,null,null,null,null,null,null,null,null,null,null,null,null,null,null,{"$f":"Ⅰ.構成メンバー名簿!C74","v":49},{"$f":"CELL(\"address\",Ⅰ.構成メンバー名簿!G74)","v":"'[◆52関東　出場申込書.xlsm]Ⅰ.構成メンバー名簿'!$G$74"},"Ⅰ.構成メンバー名簿",{"$f":"SUBSTITUTE(RIGHT(AG811,LEN(AG811)-FIND(\"!\",AG811)),\"$\",\"\")","v":"G74"}]
[null,null,null,null,null,"※リストから選択して下さい",null,null,null,null,null,null,null,null,null,null,null,null,null,null,null,null,null,null,null,null,null,null,null,null,null,{"$f":"Ⅰ.構成メンバー名簿!C75","v":50},{"$f":"CELL(\"address\",Ⅰ.構成メンバー名簿!G75)","v":"'[◆52関東　出場申込書.xlsm]Ⅰ.構成メンバー名簿'!$G$75"},"Ⅰ.構成メンバー名簿","G75"]
[null,null,null,null,null,"※リストから選択して下さい",null,null,null,null,null,null,null,null,null,null,null,null,null,null,null,null,null,null,null,null,null,null,null,null,null,{"$f":"Ⅰ.構成メンバー名簿!C76","v":51},{"$f":"CELL(\"address\",Ⅰ.構成メンバー名簿!G76)","v":"'[◆52関東　出場申込書.xlsm]Ⅰ.構成メンバー名簿'!$G$76"},"Ⅰ.構成メンバー名簿","G76"]
[null,null,null,null,null,"※リストから選択して下さい",null,null,null,null,null,null,null,null,null,null,null,null,null,null,null,null,null,null,null,null,null,null,null,null,null,{"$f":"Ⅰ.構成メンバー名簿!C77","v":52},{"$f":"CELL(\"address\",Ⅰ.構成メンバー名簿!G77)","v":"'[◆52関東　出場申込書.xlsm]Ⅰ.構成メンバー名簿'!$G$77"},"Ⅰ.構成メンバー名簿","G77"]
[null,null,null,null,null,"※リストから選択して下さい",null,null,null,null,null,null,null,null,null,null,null,null,null,null,null,null,null,null,null,null,null,null,null,null,null,{"$f":"Ⅰ.構成メンバー名簿!C78","v":53},{"$f":"CELL(\"address\",Ⅰ.構成メンバー名簿!G78)","v":"'[◆52関東　出場申込書.xlsm]Ⅰ.構成メンバー名簿'!$G$78"},"Ⅰ.構成メンバー名簿","G78"]
[null,null,null,null,null,"※リストから選択して下さい",null,null,null,null,null,null,null,null,null,null,null,null,null,null,null,null,null,null,null,null,null,null,null,null,null,{"$f":"Ⅰ.構成メンバー名簿!C79","v":54},{"$f":"CELL(\"address\",Ⅰ.構成メンバー名簿!G79)","v":"'[◆52関東　出場申込書.xlsm]Ⅰ.構成メンバー名簿'!$G$79"},"Ⅰ.構成メンバー名簿","G79"]
[null,null,null,null,null,"※リストから選択して下さい",null,null,null,null,null,null,null,null,null,null,null,null,null,null,null,null,null,null,null,null,null,null,null,null,null,{"$f":"Ⅰ.構成メンバー名簿!C80","v":55},{"$f":"CELL(\"address\",Ⅰ.構成メンバー名簿!G80)","v":"'[◆52関東　出場申込書.xlsm]Ⅰ.構成メンバー名簿'!$G$80"},"Ⅰ.構成メンバー名簿","G80"]
[null,null,null,null,null,"※リストから選択して下さい",null,null,null,null,null,null,null,null,null,null,null,null,null,null,null,null,null,null,null,null,null,null,null,null,null,{"$f":"Ⅰ.構成メンバー名簿!C81","v":56},{"$f":"CELL(\"address\",Ⅰ.構成メンバー名簿!G81)","v":"'[◆52関東　出場申込書.xlsm]Ⅰ.構成メンバー名簿'!$G$81"},"Ⅰ.構成メンバー名簿","G81"]
[null,null,null,null,null,"※リストから選択して下さい",null,null,null,null,null,null,null,null,null,null,null,null,null,null,null,null,null,null,null,null,null,null,null,null,null,{"$f":"Ⅰ.構成メンバー名簿!C82","v":57},{"$f":"CELL(\"address\",Ⅰ.構成メンバー名簿!G82)","v":"'[◆52関東　出場申込書.xlsm]Ⅰ.構成メンバー名簿'!$G$82"},"Ⅰ.構成メンバー名簿","G82"]
[null,null,null,null,null,"※リストから選択して下さい",null,null,null,null,null,null,null,null,null,null,null,null,null,null,null,null,null,null,null,null,null,null,null,null,null,{"$f":"Ⅰ.構成メンバー名簿!C83","v":58},{"$f":"CELL(\"address\",Ⅰ.構成メンバー名簿!G83)","v":"'[◆52関東　出場申込書.xlsm]Ⅰ.構成メンバー名簿'!$G$83"},"Ⅰ.構成メンバー名簿","G83"]
[null,null,null,null,null,"※リストから選択して下さい",null,null,null,null,null,null,null,null,null,null,null,null,null,null,null,null,null,null,null,null,null,null,null,null,null,{"$f":"Ⅰ.構成メンバー名簿!C84","v":59},{"$f":"CELL(\"address\",Ⅰ.構成メンバー名簿!G84)","v":"'[◆52関東　出場申込書.xlsm]Ⅰ.構成メンバー名簿'!$G$84"},"Ⅰ.構成メンバー名簿","G84"]
[null,null,null,null,null,"※リストから選択して下さい",null,null,null,null,null,null,null,null,null,null,null,null,null,null,null,null,null,null,null,null,null,null,null,null,null,{"$f":"Ⅰ.構成メンバー名簿!C85","v":60},{"$f":"CELL(\"address\",Ⅰ.構成メンバー名簿!G85)","v":"'[◆52関東　出場申込書.xlsm]Ⅰ.構成メンバー名簿'!$G$85"},"Ⅰ.構成メンバー名簿","G85"]
[null,null,null,null,null,"※リストから選択して下さい",null,null,null,null,null,null,null,null,null,null,null,null,null,null,null,null,null,null,null,null,null,null,null,null,null,{"$f":"Ⅰ.構成メンバー名簿!C86","v":61},{"$f":"CELL(\"address\",Ⅰ.構成メンバー名簿!G86)","v":"'[◆52関東　出場申込書.xlsm]Ⅰ.構成メンバー名簿'!$G$86"},"Ⅰ.構成メンバー名簿","G86"]
[null,null,null,null,null,"※リストから選択して下さい",null,null,null,null,null,null,null,null,null,null,null,null,null,null,null,null,null,null,null,null,null,null,null,null,null,{"$f":"Ⅰ.構成メンバー名簿!C87","v":62},{"$f":"CELL(\"address\",Ⅰ.構成メンバー名簿!G87)","v":"'[◆52関東　出場申込書.xlsm]Ⅰ.構成メンバー名簿'!$G$87"},"Ⅰ.構成メンバー名簿","G87"]
[null,null,null,null,null,"※リストから選択して下さい",null,null,null,null,null,null,null,null,null,null,null,null,null,null,null,null,null,null,null,null,null,null,null,null,null,{"$f":"Ⅰ.構成メンバー名簿!C88","v":63},{"$f":"CELL(\"address\",Ⅰ.構成メンバー名簿!G88)","v":"'[◆52関東　出場申込書.xlsm]Ⅰ.構成メンバー名簿'!$G$88"},"Ⅰ.構成メンバー名簿","G88"]
[null,null,null,null,null,"※リストから選択して下さい",null,null,null,null,null,null,null,null,null,null,null,null,null,null,null,null,null,null,null,null,null,null,null,null,null,{"$f":"Ⅰ.構成メンバー名簿!C89","v":64},{"$f":"CELL(\"address\",Ⅰ.構成メンバー名簿!G89)","v":"'[◆52関東　出場申込書.xlsm]Ⅰ.構成メンバー名簿'!$G$89"},"Ⅰ.構成メンバー名簿","G89"]
[null,null,null,null,null,"※リストから選択して下さい",null,null,null,null,null,null,null,null,null,null,null,null,null,null,null,null,null,null,null,null,null,null,null,null,null,{"$f":"Ⅰ.構成メンバー名簿!C90","v":65},{"$f":"CELL(\"address\",Ⅰ.構成メンバー名簿!G90)","v":"'[◆52関東　出場申込書.xlsm]Ⅰ.構成メンバー名簿'!$G$90"},"Ⅰ.構成メンバー名簿","G90"]
[null,null,null,null,null,"※リストから選択して下さい",null,null,null,null,null,null,null,null,null,null,null,null,null,null,null,null,null,null,null,null,null,null,null,null,null,{"$f":"Ⅰ.構成メンバー名簿!C91","v":66},{"$f":"CELL(\"address\",Ⅰ.構成メンバー名簿!G91)","v":"'[◆52関東　出場申込書.xlsm]Ⅰ.構成メンバー名簿'!$G$91"},"Ⅰ.構成メンバー名簿","G91"]
[null,null,null,null,null,"※リストから選択して下さい",null,null,null,null,null,null,null,null,null,null,null,null,null,null,null,null,null,null,null,null,null,null,null,null,null,{"$f":"Ⅰ.構成メンバー名簿!C92","v":67},{"$f":"CELL(\"address\",Ⅰ.構成メンバー名簿!G92)","v":"'[◆52関東　出場申込書.xlsm]Ⅰ.構成メンバー名簿'!$G$92"},"Ⅰ.構成メンバー名簿","G92"]
[null,null,null,null,null,"※リストから選択して下さい",null,null,null,null,null,null,null,null,null,null,null,null,null,null,null,null,null,null,null,null,null,null,null,null,null,{"$f":"Ⅰ.構成メンバー名簿!C93","v":68},{"$f":"CELL(\"address\",Ⅰ.構成メンバー名簿!G93)","v":"'[◆52関東　出場申込書.xlsm]Ⅰ.構成メンバー名簿'!$G$93"},"Ⅰ.構成メンバー名簿","G93"]
[null,null,null,null,null,"※リストから選択して下さい",null,null,null,null,null,null,null,null,null,null,null,null,null,null,null,null,null,null,null,null,null,null,null,null,null,{"$f":"Ⅰ.構成メンバー名簿!C94","v":69},{"$f":"CELL(\"address\",Ⅰ.構成メンバー名簿!G94)","v":"'[◆52関東　出場申込書.xlsm]Ⅰ.構成メンバー名簿'!$G$94"},"Ⅰ.構成メンバー名簿","G94"]
[null,null,null,null,null,"※リストから選択して下さい",null,null,null,null,null,null,null,null,null,null,null,null,null,null,null,null,null,null,null,null,null,null,null,null,null,{"$f":"Ⅰ.構成メンバー名簿!C95","v":70},{"$f":"CELL(\"address\",Ⅰ.構成メンバー名簿!G95)","v":"'[◆52関東　出場申込書.xlsm]Ⅰ.構成メンバー名簿'!$G$95"},"Ⅰ.構成メンバー名簿","G95"]
[null,null,null,null,null,"※リストから選択して下さい",null,null,null,null,null,null,null,null,null,null,null,null,null,null,null,null,null,null,null,null,null,null,null,null,null,{"$f":"Ⅰ.構成メンバー名簿!C96","v":71},{"$f":"CELL(\"address\",Ⅰ.構成メンバー名簿!G96)","v":"'[◆52関東　出場申込書.xlsm]Ⅰ.構成メンバー名簿'!$G$96"},"Ⅰ.構成メンバー名簿","G96"]
[null,null,null,null,null,"※リストから選択して下さい",null,null,null,null,null,null,null,null,null,null,null,null,null,null,null,null,null,null,null,null,null,null,null,null,null,{"$f":"Ⅰ.構成メンバー名簿!C97","v":72},{"$f":"CELL(\"address\",Ⅰ.構成メンバー名簿!G97)","v":"'[◆52関東　出場申込書.xlsm]Ⅰ.構成メンバー名簿'!$G$97"},"Ⅰ.構成メンバー名簿","G97"]
[null,null,null,null,null,"※リストから選択して下さい",null,null,null,null,null,null,null,null,null,null,null,null,null,null,null,null,null,null,null,null,null,null,null,null,null,{"$f":"Ⅰ.構成メンバー名簿!C98","v":73},{"$f":"CELL(\"address\",Ⅰ.構成メンバー名簿!G98)","v":"'[◆52関東　出場申込書.xlsm]Ⅰ.構成メンバー名簿'!$G$98"},"Ⅰ.構成メンバー名簿","G98"]
[null,null,null,null,null,"※リストから選択して下さい",null,null,null,null,null,null,null,null,null,null,null,null,null,null,null,null,null,null,null,null,null,null,null,null,null,{"$f":"Ⅰ.構成メンバー名簿!C99","v":74},{"$f":"CELL(\"address\",Ⅰ.構成メンバー名簿!G99)","v":"'[◆52関東　出場申込書.xlsm]Ⅰ.構成メンバー名簿'!$G$99"},"Ⅰ.構成メンバー名簿","G99"]
[null,null,null,null,null,"※リストから選択して下さい",null,null,null,null,null,null,null,null,null,null,null,null,null,null,null,null,null,null,null,null,null,null,null,null,null,{"$f":"Ⅰ.構成メンバー名簿!C100","v":75},{"$f":"CELL(\"address\",Ⅰ.構成メンバー名簿!G100)","v":"'[◆52関東　出場申込書.xlsm]Ⅰ.構成メンバー名簿'!$G$100"},"Ⅰ.構成メンバー名簿","G100"]
[null,null,null,null,null,"※リストから選択して下さい",null,null,null,null,null,null,null,null,null,null,null,null,null,null,null,null,null,null,null,null,null,null,null,null,null,{"$f":"Ⅰ.構成メンバー名簿!C101","v":76},{"$f":"CELL(\"address\",Ⅰ.構成メンバー名簿!G101)","v":"'[◆52関東　出場申込書.xlsm]Ⅰ.構成メンバー名簿'!$G$101"},"Ⅰ.構成メンバー名簿","G101"]
[null,null,null,null,null,"※リストから選択して下さい",null,null,null,null,null,null,null,null,null,null,null,null,null,null,null,null,null,null,null,null,null,null,null,null,null,{"$f":"Ⅰ.構成メンバー名簿!C102","v":77},{"$f":"CELL(\"address\",Ⅰ.構成メンバー名簿!G102)","v":"'[◆52関東　出場申込書.xlsm]Ⅰ.構成メンバー名簿'!$G$102"},"Ⅰ.構成メンバー名簿","G102"]
[null,null,null,null,null,"※リストから選択して下さい",null,null,null,null,null,null,null,null,null,null,null,null,null,null,null,null,null,null,null,null,null,null,null,null,null,{"$f":"Ⅰ.構成メンバー名簿!C103","v":78},{"$f":"CELL(\"address\",Ⅰ.構成メンバー名簿!G103)","v":"'[◆52関東　出場申込書.xlsm]Ⅰ.構成メンバー名簿'!$G$103"},"Ⅰ.構成メンバー名簿","G103"]
[null,null,null,null,null,"※リストから選択して下さい",null,null,null,null,null,null,null,null,null,null,null,null,null,null,null,null,null,null,null,null,null,null,null,null,null,{"$f":"Ⅰ.構成メンバー名簿!C104","v":79},{"$f":"CELL(\"address\",Ⅰ.構成メンバー名簿!G104)","v":"'[◆52関東　出場申込書.xlsm]Ⅰ.構成メンバー名簿'!$G$104"},"Ⅰ.構成メンバー名簿","G104"]
[null,null,null,null,null,"※リストから選択して下さい",null,null,null,null,null,null,null,null,null,null,null,null,null,null,null,null,null,null,null,null,null,null,null,null,null,{"$f":"Ⅰ.構成メンバー名簿!C105","v":80},{"$f":"CELL(\"address\",Ⅰ.構成メンバー名簿!G105)","v":"'[◆52関東　出場申込書.xlsm]Ⅰ.構成メンバー名簿'!$G$105"},"Ⅰ.構成メンバー名簿","G105"]
[null,null,null,null,null,"※リストから選択して下さい",null,null,null,null,null,null,null,null,null,null,null,null,null,null,null,null,null,null,null,null,null,null,null,null,null,{"$f":"Ⅰ.構成メンバー名簿!C106","v":81},{"$f":"CELL(\"address\",Ⅰ.構成メンバー名簿!G106)","v":"'[◆52関東　出場申込書.xlsm]Ⅰ.構成メンバー名簿'!$G$106"},"Ⅰ.構成メンバー名簿","G106"]
[null,null,null,null,null,"※リストから選択して下さい",null,null,null,null,null,null,null,null,null,null,null,null,null,null,null,null,null,null,null,null,null,null,null,null,null,{"$f":"Ⅰ.構成メンバー名簿!C107","v":82},{"$f":"CELL(\"address\",Ⅰ.構成メンバー名簿!G107)","v":"'[◆52関東　出場申込書.xlsm]Ⅰ.構成メンバー名簿'!$G$107"},"Ⅰ.構成メンバー名簿","G107"]
[null,null,null,null,null,"※リストから選択して下さい",null,null,null,null,null,null,null,null,null,null,null,null,null,null,null,null,null,null,null,null,null,null,null,null,null,{"$f":"Ⅰ.構成メンバー名簿!C108","v":83},{"$f":"CELL(\"address\",Ⅰ.構成メンバー名簿!G108)","v":"'[◆52関東　出場申込書.xlsm]Ⅰ.構成メンバー名簿'!$G$108"},"Ⅰ.構成メンバー名簿","G108"]
[null,null,null,null,null,"※リストから選択して下さい",null,null,null,null,null,null,null,null,null,null,null,null,null,null,null,null,null,null,null,null,null,null,null,null,null,{"$f":"Ⅰ.構成メンバー名簿!C109","v":84},{"$f":"CELL(\"address\",Ⅰ.構成メンバー名簿!G109)","v":"'[◆52関東　出場申込書.xlsm]Ⅰ.構成メンバー名簿'!$G$109"},"Ⅰ.構成メンバー名簿","G109"]
[null,null,null,null,null,"※リストから選択して下さい",null,null,null,null,null,null,null,null,null,null,null,null,null,null,null,null,null,null,null,null,null,null,null,null,null,{"$f":"Ⅰ.構成メンバー名簿!C110","v":85},{"$f":"CELL(\"address\",Ⅰ.構成メンバー名簿!G110)","v":"'[◆52関東　出場申込書.xlsm]Ⅰ.構成メンバー名簿'!$G$110"},"Ⅰ.構成メンバー名簿","G110"]
[null,null,null,null,null,"※リストから選択して下さい",null,null,null,null,null,null,null,null,null,null,null,null,null,null,null,null,null,null,null,null,null,null,null,null,null,{"$f":"Ⅰ.構成メンバー名簿!C111","v":86},{"$f":"CELL(\"address\",Ⅰ.構成メンバー名簿!G111)","v":"'[◆52関東　出場申込書.xlsm]Ⅰ.構成メンバー名簿'!$G$111"},"Ⅰ.構成メンバー名簿","G111"]
[null,null,null,null,null,"※リストから選択して下さい",null,null,null,null,null,null,null,null,null,null,null,null,null,null,null,null,null,null,null,null,null,null,null,null,null,{"$f":"Ⅰ.構成メンバー名簿!C112","v":87},{"$f":"CELL(\"address\",Ⅰ.構成メンバー名簿!G112)","v":"'[◆52関東　出場申込書.xlsm]Ⅰ.構成メンバー名簿'!$G$112"},"Ⅰ.構成メンバー名簿","G112"]
[null,null,null,null,null,"※リストから選択して下さい",null,null,null,null,null,null,null,null,null,null,null,null,null,null,null,null,null,null,null,null,null,null,null,null,null,{"$f":"Ⅰ.構成メンバー名簿!C113","v":88},{"$f":"CELL(\"address\",Ⅰ.構成メンバー名簿!G113)","v":"'[◆52関東　出場申込書.xlsm]Ⅰ.構成メンバー名簿'!$G$113"},"Ⅰ.構成メンバー名簿","G113"]
[null,null,null,null,null,"※リストから選択して下さい",null,null,null,null,null,null,null,null,null,null,null,null,null,null,null,null,null,null,null,null,null,null,null,null,null,{"$f":"Ⅰ.構成メンバー名簿!C114","v":89},{"$f":"CELL(\"address\",Ⅰ.構成メンバー名簿!G114)","v":"'[◆52関東　出場申込書.xlsm]Ⅰ.構成メンバー名簿'!$G$114"},"Ⅰ.構成メンバー名簿","G114"]
[null,null,null,null,null,"※リストから選択して下さい",null,null,null,null,null,null,null,null,null,null,null,null,null,null,null,null,null,null,null,null,null,null,null,null,null,{"$f":"Ⅰ.構成メンバー名簿!C115","v":90},{"$f":"CELL(\"address\",Ⅰ.構成メンバー名簿!G115)","v":"'[◆52関東　出場申込書.xlsm]Ⅰ.構成メンバー名簿'!$G$115"},"Ⅰ.構成メンバー名簿","G115"]
[null,null,null,null,null,"※リストから選択して下さい",null,null,null,null,null,null,null,null,null,null,null,null,null,null,null,null,null,null,null,null,null,null,null,null,null,{"$f":"Ⅰ.構成メンバー名簿!C116","v":91},{"$f":"CELL(\"address\",Ⅰ.構成メンバー名簿!G116)","v":"'[◆52関東　出場申込書.xlsm]Ⅰ.構成メンバー名簿'!$G$116"},"Ⅰ.構成メンバー名簿","G116"]
[null,null,null,null,null,"※リストから選択して下さい",null,null,null,null,null,null,null,null,null,null,null,null,null,null,null,null,null,null,null,null,null,null,null,null,null,{"$f":"Ⅰ.構成メンバー名簿!C117","v":92},{"$f":"CELL(\"address\",Ⅰ.構成メンバー名簿!G117)","v":"'[◆52関東　出場申込書.xlsm]Ⅰ.構成メンバー名簿'!$G$117"},"Ⅰ.構成メンバー名簿","G117"]
[null,null,null,null,null,"※リストから選択して下さい",null,null,null,null,null,null,null,null,null,null,null,null,null,null,null,null,null,null,null,null,null,null,null,null,null,{"$f":"Ⅰ.構成メンバー名簿!C118","v":93},{"$f":"CELL(\"address\",Ⅰ.構成メンバー名簿!G118)","v":"'[◆52関東　出場申込書.xlsm]Ⅰ.構成メンバー名簿'!$G$118"},{"$f":"SUBSTITUTE(LEFT(RIGHT(AG855,LEN(AG855)-FIND(\"]\",AG855)),FIND(\"!\",RIGHT(AG855,LEN(AG855)-FIND(\"]\",AG855)))-1),\"'\",\"\")","v":"Ⅰ.構成メンバー名簿"},"G118"]
[null,null,null,null,null,"※リストから選択して下さい",null,null,null,null,null,null,null,null,null,null,null,null,null,null,null,null,null,null,null,null,null,null,null,null,null,{"$f":"Ⅰ.構成メンバー名簿!C119","v":94},{"$f":"CELL(\"address\",Ⅰ.構成メンバー名簿!G119)","v":"'[◆52関東　出場申込書.xlsm]Ⅰ.構成メンバー名簿'!$G$119"},"Ⅰ.構成メンバー名簿","G119"]
[null,null,null,null,null,"※リストから選択して下さい",null,null,null,null,null,null,null,null,null,null,null,null,null,null,null,null,null,null,null,null,null,null,null,null,null,{"$f":"Ⅰ.構成メンバー名簿!C120","v":95},{"$f":"CELL(\"address\",Ⅰ.構成メンバー名簿!G120)","v":"'[◆52関東　出場申込書.xlsm]Ⅰ.構成メンバー名簿'!$G$120"},"Ⅰ.構成メンバー名簿","G120"]
[null,null,null,null,null,"※リストから選択して下さい",null,null,null,null,null,null,null,null,null,null,null,null,null,null,null,null,null,null,null,null,null,null,null,null,null,{"$f":"Ⅰ.構成メンバー名簿!C121","v":96},{"$f":"CELL(\"address\",Ⅰ.構成メンバー名簿!G121)","v":"'[◆52関東　出場申込書.xlsm]Ⅰ.構成メンバー名簿'!$G$121"},"Ⅰ.構成メンバー名簿","G121"]
[null,null,null,null,null,"※リストから選択して下さい",null,null,null,null,null,null,null,null,null,null,null,null,null,null,null,null,null,null,null,null,null,null,null,null,null,{"$f":"Ⅰ.構成メンバー名簿!C122","v":97},{"$f":"CELL(\"address\",Ⅰ.構成メンバー名簿!G122)","v":"'[◆52関東　出場申込書.xlsm]Ⅰ.構成メンバー名簿'!$G$122"},"Ⅰ.構成メンバー名簿","G122"]
[null,null,null,null,null,"※リストから選択して下さい",null,null,null,null,null,null,null,null,null,null,null,null,null,null,null,null,null,null,null,null,null,null,null,null,null,{"$f":"Ⅰ.構成メンバー名簿!C123","v":98},{"$f":"CELL(\"address\",Ⅰ.構成メンバー名簿!G123)","v":"'[◆52関東　出場申込書.xlsm]Ⅰ.構成メンバー名簿'!$G$123"},"Ⅰ.構成メンバー名簿","G123"]
[null,null,null,null,null,"※リストから選択して下さい",null,null,null,null,null,null,null,null,null,null,null,null,null,null,null,null,null,null,null,null,null,null,null,null,null,{"$f":"Ⅰ.構成メンバー名簿!C124","v":99},{"$f":"CELL(\"address\",Ⅰ.構成メンバー名簿!G124)","v":"'[◆52関東　出場申込書.xlsm]Ⅰ.構成メンバー名簿'!$G$124"},"Ⅰ.構成メンバー名簿","G124"]
[null,null,null,null,null,"※リストから選択して下さい",null,null,null,null,null,null,null,null,null,null,null,null,null,null,null,null,null,null,null,null,null,null,null,null,null,{"$f":"Ⅰ.構成メンバー名簿!C125","v":100},{"$f":"CELL(\"address\",Ⅰ.構成メンバー名簿!G125)","v":"'[◆52関東　出場申込書.xlsm]Ⅰ.構成メンバー名簿'!$G$125"},"Ⅰ.構成メンバー名簿","G125"]
[null,null,null,null,null,"※リストから選択して下さい",null,null,null,null,null,null,null,null,null,null,null,null,null,null,null,null,null,null,null,null,null,null,null,null,null,{"$f":"Ⅰ.構成メンバー名簿!C126","v":101},{"$f":"CELL(\"address\",Ⅰ.構成メンバー名簿!G126)","v":"'[◆52関東　出場申込書.xlsm]Ⅰ.構成メンバー名簿'!$G$126"},"Ⅰ.構成メンバー名簿","G126"]
[null,null,null,null,null,"※リストから選択して下さい",null,null,null,null,null,null,null,null,null,null,null,null,null,null,null,null,null,null,null,null,null,null,null,null,null,{"$f":"Ⅰ.構成メンバー名簿!C127","v":102},{"$f":"CELL(\"address\",Ⅰ.構成メンバー名簿!G127)","v":"'[◆52関東　出場申込書.xlsm]Ⅰ.構成メンバー名簿'!$G$127"},"Ⅰ.構成メンバー名簿","G127"]
[null,null,null,null,null,"※リストから選択して下さい",null,null,null,null,null,null,null,null,null,null,null,null,null,null,null,null,null,null,null,null,null,null,null,null,null,{"$f":"Ⅰ.構成メンバー名簿!C128","v":103},{"$f":"CELL(\"address\",Ⅰ.構成メンバー名簿!G128)","v":"'[◆52関東　出場申込書.xlsm]Ⅰ.構成メンバー名簿'!$G$128"},"Ⅰ.構成メンバー名簿","G128"]
[null,null,null,null,null,"※リストから選択して下さい",null,null,null,null,null,null,null,null,null,null,null,null,null,null,null,null,null,null,null,null,null,null,null,null,null,{"$f":"Ⅰ.構成メンバー名簿!C129","v":104},{"$f":"CELL(\"address\",Ⅰ.構成メンバー名簿!G129)","v":"'[◆52関東　出場申込書.xlsm]Ⅰ.構成メンバー名簿'!$G$129"},"Ⅰ.構成メンバー名簿","G129"]
[null,null,null,null,null,"※リストから選択して下さい",null,null,null,null,null,null,null,null,null,null,null,null,null,null,null,null,null,null,null,null,null,null,null,null,null,{"$f":"Ⅰ.構成メンバー名簿!C130","v":105},{"$f":"CELL(\"address\",Ⅰ.構成メンバー名簿!G130)","v":"'[◆52関東　出場申込書.xlsm]Ⅰ.構成メンバー名簿'!$G$130"},"Ⅰ.構成メンバー名簿","G130"]
[null,null,null,null,null,"※リストから選択して下さい",null,null,null,null,null,null,null,null,null,null,null,null,null,null,null,null,null,null,null,null,null,null,null,null,null,{"$f":"Ⅰ.構成メンバー名簿!C131","v":106},{"$f":"CELL(\"address\",Ⅰ.構成メンバー名簿!G131)","v":"'[◆52関東　出場申込書.xlsm]Ⅰ.構成メンバー名簿'!$G$131"},"Ⅰ.構成メンバー名簿","G131"]
[null,null,null,null,null,"※リストから選択して下さい",null,null,null,null,null,null,null,null,null,null,null,null,null,null,null,null,null,null,null,null,null,null,null,null,null,{"$f":"Ⅰ.構成メンバー名簿!C132","v":107},{"$f":"CELL(\"address\",Ⅰ.構成メンバー名簿!G132)","v":"'[◆52関東　出場申込書.xlsm]Ⅰ.構成メンバー名簿'!$G$132"},"Ⅰ.構成メンバー名簿","G132"]
[null,null,null,null,null,"※リストから選択して下さい",null,null,null,null,null,null,null,null,null,null,null,null,null,null,null,null,null,null,null,null,null,null,null,null,null,{"$f":"Ⅰ.構成メンバー名簿!C133","v":108},{"$f":"CELL(\"address\",Ⅰ.構成メンバー名簿!G133)","v":"'[◆52関東　出場申込書.xlsm]Ⅰ.構成メンバー名簿'!$G$133"},"Ⅰ.構成メンバー名簿","G133"]
[null,null,null,null,null,"※リストから選択して下さい",null,null,null,null,null,null,null,null,null,null,null,null,null,null,null,null,null,null,null,null,null,null,null,null,null,{"$f":"Ⅰ.構成メンバー名簿!C134","v":109},{"$f":"CELL(\"address\",Ⅰ.構成メンバー名簿!G134)","v":"'[◆52関東　出場申込書.xlsm]Ⅰ.構成メンバー名簿'!$G$134"},"Ⅰ.構成メンバー名簿","G134"]
[null,null,null,null,null,"※リストから選択して下さい",null,null,null,null,null,null,null,null,null,null,null,null,null,null,null,null,null,null,null,null,null,null,null,null,null,{"$f":"Ⅰ.構成メンバー名簿!C135","v":110},{"$f":"CELL(\"address\",Ⅰ.構成メンバー名簿!G135)","v":"'[◆52関東　出場申込書.xlsm]Ⅰ.構成メンバー名簿'!$G$135"},"Ⅰ.構成メンバー名簿","G135"]
[null,null,null,null,null,"※リストから選択して下さい",null,null,null,null,null,null,null,null,null,null,null,null,null,null,null,null,null,null,null,null,null,null,null,null,null,{"$f":"Ⅰ.構成メンバー名簿!C136","v":111},{"$f":"CELL(\"address\",Ⅰ.構成メンバー名簿!G136)","v":"'[◆52関東　出場申込書.xlsm]Ⅰ.構成メンバー名簿'!$G$136"},"Ⅰ.構成メンバー名簿","G136"]
[null,null,null,null,null,"※リストから選択して下さい",null,null,null,null,null,null,null,null,null,null,null,null,null,null,null,null,null,null,null,null,null,null,null,null,null,{"$f":"Ⅰ.構成メンバー名簿!C137","v":112},{"$f":"CELL(\"address\",Ⅰ.構成メンバー名簿!G137)","v":"'[◆52関東　出場申込書.xlsm]Ⅰ.構成メンバー名簿'!$G$137"},"Ⅰ.構成メンバー名簿","G137"]
[null,null,null,null,null,"※リストから選択して下さい",null,null,null,null,null,null,null,null,null,null,null,null,null,null,null,null,null,null,null,null,null,null,null,null,null,{"$f":"Ⅰ.構成メンバー名簿!C138","v":113},{"$f":"CELL(\"address\",Ⅰ.構成メンバー名簿!G138)","v":"'[◆52関東　出場申込書.xlsm]Ⅰ.構成メンバー名簿'!$G$138"},"Ⅰ.構成メンバー名簿",{"$f":"SUBSTITUTE(RIGHT(AG875,LEN(AG875)-FIND(\"!\",AG875)),\"$\",\"\")","v":"G138"}]
[null,null,null,null,null,"※リストから選択して下さい",null,null,null,null,null,null,null,null,null,null,null,null,null,null,null,null,null,null,null,null,null,null,null,null,null,{"$f":"Ⅰ.構成メンバー名簿!C139","v":114},{"$f":"CELL(\"address\",Ⅰ.構成メンバー名簿!G139)","v":"'[◆52関東　出場申込書.xlsm]Ⅰ.構成メンバー名簿'!$G$139"},"Ⅰ.構成メンバー名簿","G139"]
[null,null,null,null,null,"※リストから選択して下さい",null,null,null,null,null,null,null,null,null,null,null,null,null,null,null,null,null,null,null,null,null,null,null,null,null,{"$f":"Ⅰ.構成メンバー名簿!C140","v":115},{"$f":"CELL(\"address\",Ⅰ.構成メンバー名簿!G140)","v":"'[◆52関東　出場申込書.xlsm]Ⅰ.構成メンバー名簿'!$G$140"},"Ⅰ.構成メンバー名簿","G140"]
[null,null,null,null,null,"※リストから選択して下さい",null,null,null,null,null,null,null,null,null,null,null,null,null,null,null,null,null,null,null,null,null,null,null,null,null,{"$f":"Ⅰ.構成メンバー名簿!C141","v":116},{"$f":"CELL(\"address\",Ⅰ.構成メンバー名簿!G141)","v":"'[◆52関東　出場申込書.xlsm]Ⅰ.構成メンバー名簿'!$G$141"},"Ⅰ.構成メンバー名簿","G141"]
[null,null,null,null,null,"※リストから選択して下さい",null,null,null,null,null,null,null,null,null,null,null,null,null,null,null,null,null,null,null,null,null,null,null,null,null,{"$f":"Ⅰ.構成メンバー名簿!C142","v":117},{"$f":"CELL(\"address\",Ⅰ.構成メンバー名簿!G142)","v":"'[◆52関東　出場申込書.xlsm]Ⅰ.構成メンバー名簿'!$G$142"},"Ⅰ.構成メンバー名簿","G142"]
[null,null,null,null,null,"※リストから選択して下さい",null,null,null,null,null,null,null,null,null,null,null,null,null,null,null,null,null,null,null,null,null,null,null,null,null,{"$f":"Ⅰ.構成メンバー名簿!C143","v":118},{"$f":"CELL(\"address\",Ⅰ.構成メンバー名簿!G143)","v":"'[◆52関東　出場申込書.xlsm]Ⅰ.構成メンバー名簿'!$G$143"},"Ⅰ.構成メンバー名簿","G143"]
[null,null,null,null,null,"※リストから選択して下さい",null,null,null,null,null,null,null,null,null,null,null,null,null,null,null,null,null,null,null,null,null,null,null,null,null,{"$f":"Ⅰ.構成メンバー名簿!C144","v":119},{"$f":"CELL(\"address\",Ⅰ.構成メンバー名簿!G144)","v":"'[◆52関東　出場申込書.xlsm]Ⅰ.構成メンバー名簿'!$G$144"},"Ⅰ.構成メンバー名簿","G144"]
[null,null,null,null,null,"※リストから選択して下さい",null,null,null,null,null,null,null,null,null,null,null,null,null,null,null,null,null,null,null,null,null,null,null,null,null,{"$f":"Ⅰ.構成メンバー名簿!C145","v":120},{"$f":"CELL(\"address\",Ⅰ.構成メンバー名簿!G145)","v":"'[◆52関東　出場申込書.xlsm]Ⅰ.構成メンバー名簿'!$G$145"},"Ⅰ.構成メンバー名簿","G145"]
[null,null,null,null,null,"※リストから選択して下さい",null,null,null,null,null,null,null,null,null,null,null,null,null,null,null,null,null,null,null,null,null,null,null,null,null,{"$f":"Ⅰ.構成メンバー名簿!C146","v":121},{"$f":"CELL(\"address\",Ⅰ.構成メンバー名簿!G146)","v":"'[◆52関東　出場申込書.xlsm]Ⅰ.構成メンバー名簿'!$G$146"},"Ⅰ.構成メンバー名簿","G146"]
[null,null,null,null,null,"※リストから選択して下さい",null,null,null,null,null,null,null,null,null,null,null,null,null,null,null,null,null,null,null,null,null,null,null,null,null,{"$f":"Ⅰ.構成メンバー名簿!C147","v":122},{"$f":"CELL(\"address\",Ⅰ.構成メンバー名簿!G147)","v":"'[◆52関東　出場申込書.xlsm]Ⅰ.構成メンバー名簿'!$G$147"},"Ⅰ.構成メンバー名簿","G147"]
[null,null,null,null,null,"※リストから選択して下さい",null,null,null,null,null,null,null,null,null,null,null,null,null,null,null,null,null,null,null,null,null,null,null,null,null,{"$f":"Ⅰ.構成メンバー名簿!C148","v":123},{"$f":"CELL(\"address\",Ⅰ.構成メンバー名簿!G148)","v":"'[◆52関東　出場申込書.xlsm]Ⅰ.構成メンバー名簿'!$G$148"},"Ⅰ.構成メンバー名簿","G148"]
[null,null,null,null,null,"※リストから選択して下さい",null,null,null,null,null,null,null,null,null,null,null,null,null,null,null,null,null,null,null,null,null,null,null,null,null,{"$f":"Ⅰ.構成メンバー名簿!C149","v":124},{"$f":"CELL(\"address\",Ⅰ.構成メンバー名簿!G149)","v":"'[◆52関東　出場申込書.xlsm]Ⅰ.構成メンバー名簿'!$G$149"},"Ⅰ.構成メンバー名簿","G149"]
[null,null,null,null,null,"※リストから選択して下さい",null,null,null,null,null,null,null,null,null,null,null,null,null,null,null,null,null,null,null,null,null,null,null,null,null,{"$f":"Ⅰ.構成メンバー名簿!C150","v":125},{"$f":"CELL(\"address\",Ⅰ.構成メンバー名簿!G150)","v":"'[◆52関東　出場申込書.xlsm]Ⅰ.構成メンバー名簿'!$G$150"},"Ⅰ.構成メンバー名簿","G150"]
[null,null,null,null,null,"※リストから選択して下さい",null,null,null,null,null,null,null,null,null,null,null,null,null,null,null,null,null,null,null,null,null,null,null,null,null,{"$f":"Ⅰ.構成メンバー名簿!C151","v":126},{"$f":"CELL(\"address\",Ⅰ.構成メンバー名簿!G151)","v":"'[◆52関東　出場申込書.xlsm]Ⅰ.構成メンバー名簿'!$G$151"},"Ⅰ.構成メンバー名簿","G151"]
[null,null,null,null,null,"※リストから選択して下さい",null,null,null,null,null,null,null,null,null,null,null,null,null,null,null,null,null,null,null,null,null,null,null,null,null,{"$f":"Ⅰ.構成メンバー名簿!C152","v":127},{"$f":"CELL(\"address\",Ⅰ.構成メンバー名簿!G152)","v":"'[◆52関東　出場申込書.xlsm]Ⅰ.構成メンバー名簿'!$G$152"},"Ⅰ.構成メンバー名簿","G152"]
[null,null,null,null,null,"※リストから選択して下さい",null,null,null,null,null,null,null,null,null,null,null,null,null,null,null,null,null,null,null,null,null,null,null,null,null,{"$f":"Ⅰ.構成メンバー名簿!C153","v":128},{"$f":"CELL(\"address\",Ⅰ.構成メンバー名簿!G153)","v":"'[◆52関東　出場申込書.xlsm]Ⅰ.構成メンバー名簿'!$G$153"},"Ⅰ.構成メンバー名簿","G153"]
[null,null,null,null,null,"※リストから選択して下さい",null,null,null,null,null,null,null,null,null,null,null,null,null,null,null,null,null,null,null,null,null,null,null,null,null,{"$f":"Ⅰ.構成メンバー名簿!C154","v":129},{"$f":"CELL(\"address\",Ⅰ.構成メンバー名簿!G154)","v":"'[◆52関東　出場申込書.xlsm]Ⅰ.構成メンバー名簿'!$G$154"},"Ⅰ.構成メンバー名簿","G154"]
[null,null,null,null,null,"※リストから選択して下さい",null,null,null,null,null,null,null,null,null,null,null,null,null,null,null,null,null,null,null,null,null,null,null,null,null,{"$f":"Ⅰ.構成メンバー名簿!C155","v":130},{"$f":"CELL(\"address\",Ⅰ.構成メンバー名簿!G155)","v":"'[◆52関東　出場申込書.xlsm]Ⅰ.構成メンバー名簿'!$G$155"},"Ⅰ.構成メンバー名簿","G155"]
[null,null,null,null,null,"※リストから選択して下さい",null,null,null,null,null,null,null,null,null,null,null,null,null,null,null,null,null,null,null,null,null,null,null,null,null,{"$f":"Ⅰ.構成メンバー名簿!C156","v":131},{"$f":"CELL(\"address\",Ⅰ.構成メンバー名簿!G156)","v":"'[◆52関東　出場申込書.xlsm]Ⅰ.構成メンバー名簿'!$G$156"},"Ⅰ.構成メンバー名簿","G156"]
[null,null,null,null,null,"※リストから選択して下さい",null,null,null,null,null,null,null,null,null,null,null,null,null,null,null,null,null,null,null,null,null,null,null,null,null,{"$f":"Ⅰ.構成メンバー名簿!C157","v":132},{"$f":"CELL(\"address\",Ⅰ.構成メンバー名簿!G157)","v":"'[◆52関東　出場申込書.xlsm]Ⅰ.構成メンバー名簿'!$G$157"},"Ⅰ.構成メンバー名簿","G157"]
[null,null,null,null,null,"※リストから選択して下さい",null,null,null,null,null,null,null,null,null,null,null,null,null,null,null,null,null,null,null,null,null,null,null,null,null,{"$f":"Ⅰ.構成メンバー名簿!C158","v":133},{"$f":"CELL(\"address\",Ⅰ.構成メンバー名簿!G158)","v":"'[◆52関東　出場申込書.xlsm]Ⅰ.構成メンバー名簿'!$G$158"},"Ⅰ.構成メンバー名簿","G158"]
[null,null,null,null,null,"※リストから選択して下さい",null,null,null,null,null,null,null,null,null,null,null,null,null,null,null,null,null,null,null,null,null,null,null,null,null,{"$f":"Ⅰ.構成メンバー名簿!C159","v":134},{"$f":"CELL(\"address\",Ⅰ.構成メンバー名簿!G159)","v":"'[◆52関東　出場申込書.xlsm]Ⅰ.構成メンバー名簿'!$G$159"},"Ⅰ.構成メンバー名簿","G159"]
[null,null,null,null,null,"※リストから選択して下さい",null,null,null,null,null,null,null,null,null,null,null,null,null,null,null,null,null,null,null,null,null,null,null,null,null,{"$f":"Ⅰ.構成メンバー名簿!C160","v":135},{"$f":"CELL(\"address\",Ⅰ.構成メンバー名簿!G160)","v":"'[◆52関東　出場申込書.xlsm]Ⅰ.構成メンバー名簿'!$G$160"},"Ⅰ.構成メンバー名簿","G160"]
[null,null,null,null,null,"※リストから選択して下さい",null,null,null,null,null,null,null,null,null,null,null,null,null,null,null,null,null,null,null,null,null,null,null,null,null,{"$f":"Ⅰ.構成メンバー名簿!C161","v":136},{"$f":"CELL(\"address\",Ⅰ.構成メンバー名簿!G161)","v":"'[◆52関東　出場申込書.xlsm]Ⅰ.構成メンバー名簿'!$G$161"},"Ⅰ.構成メンバー名簿","G161"]
[null,null,null,null,null,"※リストから選択して下さい",null,null,null,null,null,null,null,null,null,null,null,null,null,null,null,null,null,null,null,null,null,null,null,null,null,{"$f":"Ⅰ.構成メンバー名簿!C162","v":137},{"$f":"CELL(\"address\",Ⅰ.構成メンバー名簿!G162)","v":"'[◆52関東　出場申込書.xlsm]Ⅰ.構成メンバー名簿'!$G$162"},"Ⅰ.構成メンバー名簿","G162"]
[null,null,null,null,null,"※リストから選択して下さい",null,null,null,null,null,null,null,null,null,null,null,null,null,null,null,null,null,null,null,null,null,null,null,null,null,{"$f":"Ⅰ.構成メンバー名簿!C163","v":138},{"$f":"CELL(\"address\",Ⅰ.構成メンバー名簿!G163)","v":"'[◆52関東　出場申込書.xlsm]Ⅰ.構成メンバー名簿'!$G$163"},"Ⅰ.構成メンバー名簿","G163"]
[null,null,null,null,null,"※リストから選択して下さい",null,null,null,null,null,null,null,null,null,null,null,null,null,null,null,null,null,null,null,null,null,null,null,null,null,{"$f":"Ⅰ.構成メンバー名簿!C164","v":139},{"$f":"CELL(\"address\",Ⅰ.構成メンバー名簿!G164)","v":"'[◆52関東　出場申込書.xlsm]Ⅰ.構成メンバー名簿'!$G$164"},"Ⅰ.構成メンバー名簿","G164"]
[null,null,null,null,null,"※リストから選択して下さい",null,null,null,null,null,null,null,null,null,null,null,null,null,null,null,null,null,null,null,null,null,null,null,null,null,{"$f":"Ⅰ.構成メンバー名簿!C165","v":140},{"$f":"CELL(\"address\",Ⅰ.構成メンバー名簿!G165)","v":"'[◆52関東　出場申込書.xlsm]Ⅰ.構成メンバー名簿'!$G$165"},"Ⅰ.構成メンバー名簿","G165"]
[null,null,null,null,null,"※リストから選択して下さい",null,null,null,null,null,null,null,null,null,null,null,null,null,null,null,null,null,null,null,null,null,null,null,null,null,{"$f":"Ⅰ.構成メンバー名簿!C166","v":141},{"$f":"CELL(\"address\",Ⅰ.構成メンバー名簿!G166)","v":"'[◆52関東　出場申込書.xlsm]Ⅰ.構成メンバー名簿'!$G$166"},"Ⅰ.構成メンバー名簿","G166"]
[null,null,null,null,null,"※リストから選択して下さい",null,null,null,null,null,null,null,null,null,null,null,null,null,null,null,null,null,null,null,null,null,null,null,null,null,{"$f":"Ⅰ.構成メンバー名簿!C167","v":142},{"$f":"CELL(\"address\",Ⅰ.構成メンバー名簿!G167)","v":"'[◆52関東　出場申込書.xlsm]Ⅰ.構成メンバー名簿'!$G$167"},"Ⅰ.構成メンバー名簿","G167"]
[null,null,null,null,null,"※リストから選択して下さい",null,null,null,null,null,null,null,null,null,null,null,null,null,null,null,null,null,null,null,null,null,null,null,null,null,{"$f":"Ⅰ.構成メンバー名簿!C168","v":143},{"$f":"CELL(\"address\",Ⅰ.構成メンバー名簿!G168)","v":"'[◆52関東　出場申込書.xlsm]Ⅰ.構成メンバー名簿'!$G$168"},"Ⅰ.構成メンバー名簿","G168"]
[null,null,null,null,null,"※リストから選択して下さい",null,null,null,null,null,null,null,null,null,null,null,null,null,null,null,null,null,null,null,null,null,null,null,null,null,{"$f":"Ⅰ.構成メンバー名簿!C169","v":144},{"$f":"CELL(\"address\",Ⅰ.構成メンバー名簿!G169)","v":"'[◆52関東　出場申込書.xlsm]Ⅰ.構成メンバー名簿'!$G$169"},"Ⅰ.構成メンバー名簿","G169"]
[null,null,null,null,null,"※リストから選択して下さい",null,null,null,null,null,null,null,null,null,null,null,null,null,null,null,null,null,null,null,null,null,null,null,null,null,{"$f":"Ⅰ.構成メンバー名簿!C170","v":145},{"$f":"CELL(\"address\",Ⅰ.構成メンバー名簿!G170)","v":"'[◆52関東　出場申込書.xlsm]Ⅰ.構成メンバー名簿'!$G$170"},"Ⅰ.構成メンバー名簿","G170"]
[null,null,null,null,null,"※リストから選択して下さい",null,null,null,null,null,null,null,null,null,null,null,null,null,null,null,null,null,null,null,null,null,null,null,null,null,{"$f":"Ⅰ.構成メンバー名簿!C171","v":146},{"$f":"CELL(\"address\",Ⅰ.構成メンバー名簿!G171)","v":"'[◆52関東　出場申込書.xlsm]Ⅰ.構成メンバー名簿'!$G$171"},"Ⅰ.構成メンバー名簿","G171"]
[null,null,null,null,null,"※リストから選択して下さい",null,null,null,null,null,null,null,null,null,null,null,null,null,null,null,null,null,null,null,null,null,null,null,null,null,{"$f":"Ⅰ.構成メンバー名簿!C172","v":147},{"$f":"CELL(\"address\",Ⅰ.構成メンバー名簿!G172)","v":"'[◆52関東　出場申込書.xlsm]Ⅰ.構成メンバー名簿'!$G$172"},"Ⅰ.構成メンバー名簿","G172"]
[null,null,null,null,null,"※リストから選択して下さい",null,null,null,null,null,null,null,null,null,null,null,null,null,null,null,null,null,null,null,null,null,null,null,null,null,{"$f":"Ⅰ.構成メンバー名簿!C173","v":148},{"$f":"CELL(\"address\",Ⅰ.構成メンバー名簿!G173)","v":"'[◆52関東　出場申込書.xlsm]Ⅰ.構成メンバー名簿'!$G$173"},"Ⅰ.構成メンバー名簿","G173"]
[null,null,null,null,null,"※リストから選択して下さい",null,null,null,null,null,null,null,null,null,null,null,null,null,null,null,null,null,null,null,null,null,null,null,null,null,{"$f":"Ⅰ.構成メンバー名簿!C174","v":149},{"$f":"CELL(\"address\",Ⅰ.構成メンバー名簿!G174)","v":"'[◆52関東　出場申込書.xlsm]Ⅰ.構成メンバー名簿'!$G$174"},"Ⅰ.構成メンバー名簿","G174"]
[null,null,null,null,null,"※リストから選択して下さい",null,null,null,null,null,null,null,null,null,null,null,null,null,null,null,null,null,null,null,null,null,null,null,null,null,{"$f":"Ⅰ.構成メンバー名簿!C175","v":150},{"$f":"CELL(\"address\",Ⅰ.構成メンバー名簿!G175)","v":"'[◆52関東　出場申込書.xlsm]Ⅰ.構成メンバー名簿'!$G$175"},"Ⅰ.構成メンバー名簿","G175"]
[null,null,null,null,null,"※リストから選択して下さい",null,null,null,null,null,null,null,null,null,null,null,null,null,null,null,null,null,null,null,null,null,null,null,null,null,{"$f":"Ⅰ.構成メンバー名簿!C176","v":151},{"$f":"CELL(\"address\",Ⅰ.構成メンバー名簿!G176)","v":"'[◆52関東　出場申込書.xlsm]Ⅰ.構成メンバー名簿'!$G$176"},"Ⅰ.構成メンバー名簿","G176"]
[null,null,null,null,null,"※リストから選択して下さい",null,null,null,null,null,null,null,null,null,null,null,null,null,null,null,null,null,null,null,null,null,null,null,null,null,{"$f":"Ⅰ.構成メンバー名簿!C177","v":152},{"$f":"CELL(\"address\",Ⅰ.構成メンバー名簿!G177)","v":"'[◆52関東　出場申込書.xlsm]Ⅰ.構成メンバー名簿'!$G$177"},"Ⅰ.構成メンバー名簿","G177"]
[null,null,null,null,null,"※リストから選択して下さい",null,null,null,null,null,null,null,null,null,null,null,null,null,null,null,null,null,null,null,null,null,null,null,null,null,{"$f":"Ⅰ.構成メンバー名簿!C178","v":153},{"$f":"CELL(\"address\",Ⅰ.構成メンバー名簿!G178)","v":"'[◆52関東　出場申込書.xlsm]Ⅰ.構成メンバー名簿'!$G$178"},"Ⅰ.構成メンバー名簿","G178"]
[null,null,null,null,null,"※リストから選択して下さい",null,null,null,null,null,null,null,null,null,null,null,null,null,null,null,null,null,null,null,null,null,null,null,null,null,{"$f":"Ⅰ.構成メンバー名簿!C179","v":154},{"$f":"CELL(\"address\",Ⅰ.構成メンバー名簿!G179)","v":"'[◆52関東　出場申込書.xlsm]Ⅰ.構成メンバー名簿'!$G$179"},"Ⅰ.構成メンバー名簿","G179"]
[null,null,null,null,null,"※リストから選択して下さい",null,null,null,null,null,null,null,null,null,null,null,null,null,null,null,null,null,null,null,null,null,null,null,null,null,{"$f":"Ⅰ.構成メンバー名簿!C180","v":155},{"$f":"CELL(\"address\",Ⅰ.構成メンバー名簿!G180)","v":"'[◆52関東　出場申込書.xlsm]Ⅰ.構成メンバー名簿'!$G$180"},"Ⅰ.構成メンバー名簿","G180"]
[null,null,null,null,null,"※リストから選択して下さい",null,null,null,null,null,null,null,null,null,null,null,null,null,null,null,null,null,null,null,null,null,null,null,null,null,{"$f":"Ⅰ.構成メンバー名簿!C181","v":156},{"$f":"CELL(\"address\",Ⅰ.構成メンバー名簿!G181)","v":"'[◆52関東　出場申込書.xlsm]Ⅰ.構成メンバー名簿'!$G$181"},"Ⅰ.構成メンバー名簿","G181"]
[null,null,null,null,null,"※リストから選択して下さい",null,null,null,null,null,null,null,null,null,null,null,null,null,null,null,null,null,null,null,null,null,null,null,null,null,{"$f":"Ⅰ.構成メンバー名簿!C182","v":157},{"$f":"CELL(\"address\",Ⅰ.構成メンバー名簿!G182)","v":"'[◆52関東　出場申込書.xlsm]Ⅰ.構成メンバー名簿'!$G$182"},{"$f":"SUBSTITUTE(LEFT(RIGHT(AG919,LEN(AG919)-FIND(\"]\",AG919)),FIND(\"!\",RIGHT(AG919,LEN(AG919)-FIND(\"]\",AG919)))-1),\"'\",\"\")","v":"Ⅰ.構成メンバー名簿"},"G182"]
[null,null,null,null,null,"※リストから選択して下さい",null,null,null,null,null,null,null,null,null,null,null,null,null,null,null,null,null,null,null,null,null,null,null,null,null,{"$f":"Ⅰ.構成メンバー名簿!C183","v":158},{"$f":"CELL(\"address\",Ⅰ.構成メンバー名簿!G183)","v":"'[◆52関東　出場申込書.xlsm]Ⅰ.構成メンバー名簿'!$G$183"},"Ⅰ.構成メンバー名簿","G183"]
[null,null,null,null,null,"※リストから選択して下さい",null,null,null,null,null,null,null,null,null,null,null,null,null,null,null,null,null,null,null,null,null,null,null,null,null,{"$f":"Ⅰ.構成メンバー名簿!C184","v":159},{"$f":"CELL(\"address\",Ⅰ.構成メンバー名簿!G184)","v":"'[◆52関東　出場申込書.xlsm]Ⅰ.構成メンバー名簿'!$G$184"},"Ⅰ.構成メンバー名簿","G184"]
[null,null,null,null,null,"※リストから選択して下さい",null,null,null,null,null,null,null,null,null,null,null,null,null,null,null,null,null,null,null,null,null,null,null,null,null,{"$f":"Ⅰ.構成メンバー名簿!C185","v":160},{"$f":"CELL(\"address\",Ⅰ.構成メンバー名簿!G185)","v":"'[◆52関東　出場申込書.xlsm]Ⅰ.構成メンバー名簿'!$G$185"},"Ⅰ.構成メンバー名簿","G185"]
[null,null,null,null,null,"※リストから選択して下さい",null,null,null,null,null,null,null,null,null,null,null,null,null,null,null,null,null,null,null,null,null,null,null,null,null,{"$f":"Ⅰ.構成メンバー名簿!C186","v":161},{"$f":"CELL(\"address\",Ⅰ.構成メンバー名簿!G186)","v":"'[◆52関東　出場申込書.xlsm]Ⅰ.構成メンバー名簿'!$G$186"},"Ⅰ.構成メンバー名簿","G186"]
[null,null,null,null,null,"※リストから選択して下さい",null,null,null,null,null,null,null,null,null,null,null,null,null,null,null,null,null,null,null,null,null,null,null,null,null,{"$f":"Ⅰ.構成メンバー名簿!C187","v":162},{"$f":"CELL(\"address\",Ⅰ.構成メンバー名簿!G187)","v":"'[◆52関東　出場申込書.xlsm]Ⅰ.構成メンバー名簿'!$G$187"},"Ⅰ.構成メンバー名簿","G187"]
[null,null,null,null,null,"※リストから選択して下さい",null,null,null,null,null,null,null,null,null,null,null,null,null,null,null,null,null,null,null,null,null,null,null,null,null,{"$f":"Ⅰ.構成メンバー名簿!C188","v":163},{"$f":"CELL(\"address\",Ⅰ.構成メンバー名簿!G188)","v":"'[◆52関東　出場申込書.xlsm]Ⅰ.構成メンバー名簿'!$G$188"},"Ⅰ.構成メンバー名簿","G188"]
[null,null,null,null,null,"※リストから選択して下さい",null,null,null,null,null,null,null,null,null,null,null,null,null,null,null,null,null,null,null,null,null,null,null,null,null,{"$f":"Ⅰ.構成メンバー名簿!C189","v":164},{"$f":"CELL(\"address\",Ⅰ.構成メンバー名簿!G189)","v":"'[◆52関東　出場申込書.xlsm]Ⅰ.構成メンバー名簿'!$G$189"},"Ⅰ.構成メンバー名簿","G189"]
[null,null,null,null,null,"※リストから選択して下さい",null,null,null,null,null,null,null,null,null,null,null,null,null,null,null,null,null,null,null,null,null,null,null,null,null,{"$f":"Ⅰ.構成メンバー名簿!C190","v":165},{"$f":"CELL(\"address\",Ⅰ.構成メンバー名簿!G190)","v":"'[◆52関東　出場申込書.xlsm]Ⅰ.構成メンバー名簿'!$G$190"},"Ⅰ.構成メンバー名簿","G190"]
[null,null,null,null,null,"※リストから選択して下さい",null,null,null,null,null,null,null,null,null,null,null,null,null,null,null,null,null,null,null,null,null,null,null,null,null,{"$f":"Ⅰ.構成メンバー名簿!C191","v":166},{"$f":"CELL(\"address\",Ⅰ.構成メンバー名簿!G191)","v":"'[◆52関東　出場申込書.xlsm]Ⅰ.構成メンバー名簿'!$G$191"},"Ⅰ.構成メンバー名簿","G191"]
[null,null,null,null,null,"※リストから選択して下さい",null,null,null,null,null,null,null,null,null,null,null,null,null,null,null,null,null,null,null,null,null,null,null,null,null,{"$f":"Ⅰ.構成メンバー名簿!C192","v":167},{"$f":"CELL(\"address\",Ⅰ.構成メンバー名簿!G192)","v":"'[◆52関東　出場申込書.xlsm]Ⅰ.構成メンバー名簿'!$G$192"},"Ⅰ.構成メンバー名簿","G192"]
[null,null,null,null,null,"※リストから選択して下さい",null,null,null,null,null,null,null,null,null,null,null,null,null,null,null,null,null,null,null,null,null,null,null,null,null,{"$f":"Ⅰ.構成メンバー名簿!C193","v":168},{"$f":"CELL(\"address\",Ⅰ.構成メンバー名簿!G193)","v":"'[◆52関東　出場申込書.xlsm]Ⅰ.構成メンバー名簿'!$G$193"},"Ⅰ.構成メンバー名簿","G193"]
[null,null,null,null,null,"※リストから選択して下さい",null,null,null,null,null,null,null,null,null,null,null,null,null,null,null,null,null,null,null,null,null,null,null,null,null,{"$f":"Ⅰ.構成メンバー名簿!C194","v":169},{"$f":"CELL(\"address\",Ⅰ.構成メンバー名簿!G194)","v":"'[◆52関東　出場申込書.xlsm]Ⅰ.構成メンバー名簿'!$G$194"},"Ⅰ.構成メンバー名簿","G194"]
[null,null,null,null,null,"※リストから選択して下さい",null,null,null,null,null,null,null,null,null,null,null,null,null,null,null,null,null,null,null,null,null,null,null,null,null,{"$f":"Ⅰ.構成メンバー名簿!C195","v":170},{"$f":"CELL(\"address\",Ⅰ.構成メンバー名簿!G195)","v":"'[◆52関東　出場申込書.xlsm]Ⅰ.構成メンバー名簿'!$G$195"},"Ⅰ.構成メンバー名簿","G195"]
[null,null,null,null,null,"※リストから選択して下さい",null,null,null,null,null,null,null,null,null,null,null,null,null,null,null,null,null,null,null,null,null,null,null,null,null,{"$f":"Ⅰ.構成メンバー名簿!C196","v":171},{"$f":"CELL(\"address\",Ⅰ.構成メンバー名簿!G196)","v":"'[◆52関東　出場申込書.xlsm]Ⅰ.構成メンバー名簿'!$G$196"},"Ⅰ.構成メンバー名簿","G196"]
[null,null,null,null,null,"※リストから選択して下さい",null,null,null,null,null,null,null,null,null,null,null,null,null,null,null,null,null,null,null,null,null,null,null,null,null,{"$f":"Ⅰ.構成メンバー名簿!C197","v":172},{"$f":"CELL(\"address\",Ⅰ.構成メンバー名簿!G197)","v":"'[◆52関東　出場申込書.xlsm]Ⅰ.構成メンバー名簿'!$G$197"},"Ⅰ.構成メンバー名簿","G197"]
[null,null,null,null,null,"※リストから選択して下さい",null,null,null,null,null,null,null,null,null,null,null,null,null,null,null,null,null,null,null,null,null,null,null,null,null,{"$f":"Ⅰ.構成メンバー名簿!C198","v":173},{"$f":"CELL(\"address\",Ⅰ.構成メンバー名簿!G198)","v":"'[◆52関東　出場申込書.xlsm]Ⅰ.構成メンバー名簿'!$G$198"},"Ⅰ.構成メンバー名簿","G198"]
[null,null,null,null,null,"※リストから選択して下さい",null,null,null,null,null,null,null,null,null,null,null,null,null,null,null,null,null,null,null,null,null,null,null,null,null,{"$f":"Ⅰ.構成メンバー名簿!C199","v":174},{"$f":"CELL(\"address\",Ⅰ.構成メンバー名簿!G199)","v":"'[◆52関東　出場申込書.xlsm]Ⅰ.構成メンバー名簿'!$G$199"},"Ⅰ.構成メンバー名簿","G199"]
[null,null,null,null,null,"※リストから選択して下さい",null,null,null,null,null,null,null,null,null,null,null,null,null,null,null,null,null,null,null,null,null,null,null,null,null,{"$f":"Ⅰ.構成メンバー名簿!C200","v":175},{"$f":"CELL(\"address\",Ⅰ.構成メンバー名簿!G200)","v":"'[◆52関東　出場申込書.xlsm]Ⅰ.構成メンバー名簿'!$G$200"},"Ⅰ.構成メンバー名簿","G200"]
[null,null,null,null,null,"※リストから選択して下さい",null,null,null,null,null,null,null,null,null,null,null,null,null,null,null,null,null,null,null,null,null,null,null,null,null,{"$f":"Ⅰ.構成メンバー名簿!C201","v":176},{"$f":"CELL(\"address\",Ⅰ.構成メンバー名簿!G201)","v":"'[◆52関東　出場申込書.xlsm]Ⅰ.構成メンバー名簿'!$G$201"},"Ⅰ.構成メンバー名簿","G201"]
[null,null,null,null,null,"※リストから選択して下さい",null,null,null,null,null,null,null,null,null,null,null,null,null,null,null,null,null,null,null,null,null,null,null,null,null,{"$f":"Ⅰ.構成メンバー名簿!C202","v":177},{"$f":"CELL(\"address\",Ⅰ.構成メンバー名簿!G202)","v":"'[◆52関東　出場申込書.xlsm]Ⅰ.構成メンバー名簿'!$G$202"},"Ⅰ.構成メンバー名簿",{"$f":"SUBSTITUTE(RIGHT(AG939,LEN(AG939)-FIND(\"!\",AG939)),\"$\",\"\")","v":"G202"}]
[null,null,null,null,null,"※リストから選択して下さい",null,null,null,null,null,null,null,null,null,null,null,null,null,null,null,null,null,null,null,null,null,null,null,null,null,{"$f":"Ⅰ.構成メンバー名簿!C203","v":178},{"$f":"CELL(\"address\",Ⅰ.構成メンバー名簿!G203)","v":"'[◆52関東　出場申込書.xlsm]Ⅰ.構成メンバー名簿'!$G$203"},"Ⅰ.構成メンバー名簿","G203"]
[null,null,null,null,null,"※リストから選択して下さい",null,null,null,null,null,null,null,null,null,null,null,null,null,null,null,null,null,null,null,null,null,null,null,null,null,{"$f":"Ⅰ.構成メンバー名簿!C204","v":179},{"$f":"CELL(\"address\",Ⅰ.構成メンバー名簿!G204)","v":"'[◆52関東　出場申込書.xlsm]Ⅰ.構成メンバー名簿'!$G$204"},"Ⅰ.構成メンバー名簿","G204"]
[null,null,null,null,null,"※リストから選択して下さい",null,null,null,null,null,null,null,null,null,null,null,null,null,null,null,null,null,null,null,null,null,null,null,null,null,{"$f":"Ⅰ.構成メンバー名簿!C205","v":180},{"$f":"CELL(\"address\",Ⅰ.構成メンバー名簿!G205)","v":"'[◆52関東　出場申込書.xlsm]Ⅰ.構成メンバー名簿'!$G$205"},"Ⅰ.構成メンバー名簿","G205"]
[null,null,null,null,null,"※リストから選択して下さい",null,null,null,null,null,null,null,null,null,null,null,null,null,null,null,null,null,null,null,null,null,null,null,null,null,{"$f":"Ⅰ.構成メンバー名簿!C206","v":181},{"$f":"CELL(\"address\",Ⅰ.構成メンバー名簿!G206)","v":"'[◆52関東　出場申込書.xlsm]Ⅰ.構成メンバー名簿'!$G$206"},"Ⅰ.構成メンバー名簿","G206"]
[null,null,null,null,null,"※リストから選択して下さい",null,null,null,null,null,null,null,null,null,null,null,null,null,null,null,null,null,null,null,null,null,null,null,null,null,{"$f":"Ⅰ.構成メンバー名簿!C207","v":182},{"$f":"CELL(\"address\",Ⅰ.構成メンバー名簿!G207)","v":"'[◆52関東　出場申込書.xlsm]Ⅰ.構成メンバー名簿'!$G$207"},"Ⅰ.構成メンバー名簿","G207"]
[null,null,null,null,null,"※リストから選択して下さい",null,null,null,null,null,null,null,null,null,null,null,null,null,null,null,null,null,null,null,null,null,null,null,null,null,{"$f":"Ⅰ.構成メンバー名簿!C208","v":183},{"$f":"CELL(\"address\",Ⅰ.構成メンバー名簿!G208)","v":"'[◆52関東　出場申込書.xlsm]Ⅰ.構成メンバー名簿'!$G$208"},"Ⅰ.構成メンバー名簿","G208"]
[null,null,null,null,null,"※リストから選択して下さい",null,null,null,null,null,null,null,null,null,null,null,null,null,null,null,null,null,null,null,null,null,null,null,null,null,{"$f":"Ⅰ.構成メンバー名簿!C209","v":184},{"$f":"CELL(\"address\",Ⅰ.構成メンバー名簿!G209)","v":"'[◆52関東　出場申込書.xlsm]Ⅰ.構成メンバー名簿'!$G$209"},"Ⅰ.構成メンバー名簿","G209"]
[null,null,null,null,null,"※リストから選択して下さい",null,null,null,null,null,null,null,null,null,null,null,null,null,null,null,null,null,null,null,null,null,null,null,null,null,{"$f":"Ⅰ.構成メンバー名簿!C210","v":185},{"$f":"CELL(\"address\",Ⅰ.構成メンバー名簿!G210)","v":"'[◆52関東　出場申込書.xlsm]Ⅰ.構成メンバー名簿'!$G$210"},"Ⅰ.構成メンバー名簿","G210"]
[null,null,null,null,null,"※リストから選択して下さい",null,null,null,null,null,null,null,null,null,null,null,null,null,null,null,null,null,null,null,null,null,null,null,null,null,{"$f":"Ⅰ.構成メンバー名簿!C211","v":186},{"$f":"CELL(\"address\",Ⅰ.構成メンバー名簿!G211)","v":"'[◆52関東　出場申込書.xlsm]Ⅰ.構成メンバー名簿'!$G$211"},"Ⅰ.構成メンバー名簿","G211"]
[null,null,null,null,null,"※リストから選択して下さい",null,null,null,null,null,null,null,null,null,null,null,null,null,null,null,null,null,null,null,null,null,null,null,null,null,{"$f":"Ⅰ.構成メンバー名簿!C212","v":187},{"$f":"CELL(\"address\",Ⅰ.構成メンバー名簿!G212)","v":"'[◆52関東　出場申込書.xlsm]Ⅰ.構成メンバー名簿'!$G$212"},"Ⅰ.構成メンバー名簿","G212"]
[null,null,null,null,null,"※リストから選択して下さい",null,null,null,null,null,null,null,null,null,null,null,null,null,null,null,null,null,null,null,null,null,null,null,null,null,{"$f":"Ⅰ.構成メンバー名簿!C213","v":188},{"$f":"CELL(\"address\",Ⅰ.構成メンバー名簿!G213)","v":"'[◆52関東　出場申込書.xlsm]Ⅰ.構成メンバー名簿'!$G$213"},"Ⅰ.構成メンバー名簿","G213"]
[null,null,null,null,null,"※リストから選択して下さい",null,null,null,null,null,null,null,null,null,null,null,null,null,null,null,null,null,null,null,null,null,null,null,null,null,{"$f":"Ⅰ.構成メンバー名簿!C214","v":189},{"$f":"CELL(\"address\",Ⅰ.構成メンバー名簿!G214)","v":"'[◆52関東　出場申込書.xlsm]Ⅰ.構成メンバー名簿'!$G$214"},"Ⅰ.構成メンバー名簿","G214"]
[null,null,null,null,null,"※リストから選択して下さい",null,null,null,null,null,null,null,null,null,null,null,null,null,null,null,null,null,null,null,null,null,null,null,null,null,{"$f":"Ⅰ.構成メンバー名簿!C215","v":190},{"$f":"CELL(\"address\",Ⅰ.構成メンバー名簿!G215)","v":"'[◆52関東　出場申込書.xlsm]Ⅰ.構成メンバー名簿'!$G$215"},"Ⅰ.構成メンバー名簿","G215"]
[null,null,null,null,null,"※リストから選択して下さい",null,null,null,null,null,null,null,null,null,null,null,null,null,null,null,null,null,null,null,null,null,null,null,null,null,{"$f":"Ⅰ.構成メンバー名簿!C216","v":191},{"$f":"CELL(\"address\",Ⅰ.構成メンバー名簿!G216)","v":"'[◆52関東　出場申込書.xlsm]Ⅰ.構成メンバー名簿'!$G$216"},"Ⅰ.構成メンバー名簿","G216"]
[null,null,null,null,null,"※リストから選択して下さい",null,null,null,null,null,null,null,null,null,null,null,null,null,null,null,null,null,null,null,null,null,null,null,null,null,{"$f":"Ⅰ.構成メンバー名簿!C217","v":192},{"$f":"CELL(\"address\",Ⅰ.構成メンバー名簿!G217)","v":"'[◆52関東　出場申込書.xlsm]Ⅰ.構成メンバー名簿'!$G$217"},"Ⅰ.構成メンバー名簿","G217"]
[null,null,null,null,null,"※リストから選択して下さい",null,null,null,null,null,null,null,null,null,null,null,null,null,null,null,null,null,null,null,null,null,null,null,null,null,{"$f":"Ⅰ.構成メンバー名簿!C218","v":193},{"$f":"CELL(\"address\",Ⅰ.構成メンバー名簿!G218)","v":"'[◆52関東　出場申込書.xlsm]Ⅰ.構成メンバー名簿'!$G$218"},"Ⅰ.構成メンバー名簿","G218"]
[null,null,null,null,null,"※リストから選択して下さい",null,null,null,null,null,null,null,null,null,null,null,null,null,null,null,null,null,null,null,null,null,null,null,null,null,{"$f":"Ⅰ.構成メンバー名簿!C219","v":194},{"$f":"CELL(\"address\",Ⅰ.構成メンバー名簿!G219)","v":"'[◆52関東　出場申込書.xlsm]Ⅰ.構成メンバー名簿'!$G$219"},"Ⅰ.構成メンバー名簿","G219"]
[null,null,null,null,null,"※リストから選択して下さい",null,null,null,null,null,null,null,null,null,null,null,null,null,null,null,null,null,null,null,null,null,null,null,null,null,{"$f":"Ⅰ.構成メンバー名簿!C220","v":195},{"$f":"CELL(\"address\",Ⅰ.構成メンバー名簿!G220)","v":"'[◆52関東　出場申込書.xlsm]Ⅰ.構成メンバー名簿'!$G$220"},"Ⅰ.構成メンバー名簿","G220"]
[null,null,null,null,null,"※リストから選択して下さい",null,null,null,null,null,null,null,null,null,null,null,null,null,null,null,null,null,null,null,null,null,null,null,null,null,{"$f":"Ⅰ.構成メンバー名簿!C221","v":196},{"$f":"CELL(\"address\",Ⅰ.構成メンバー名簿!G221)","v":"'[◆52関東　出場申込書.xlsm]Ⅰ.構成メンバー名簿'!$G$221"},"Ⅰ.構成メンバー名簿","G221"]
[null,null,null,null,null,"※リストから選択して下さい",null,null,null,null,null,null,null,null,null,null,null,null,null,null,null,null,null,null,null,null,null,null,null,null,null,{"$f":"Ⅰ.構成メンバー名簿!C222","v":197},{"$f":"CELL(\"address\",Ⅰ.構成メンバー名簿!G222)","v":"'[◆52関東　出場申込書.xlsm]Ⅰ.構成メンバー名簿'!$G$222"},"Ⅰ.構成メンバー名簿","G222"]
[null,null,null,null,null,"※リストから選択して下さい",null,null,null,null,null,null,null,null,null,null,null,null,null,null,null,null,null,null,null,null,null,null,null,null,null,{"$f":"Ⅰ.構成メンバー名簿!C223","v":198},{"$f":"CELL(\"address\",Ⅰ.構成メンバー名簿!G223)","v":"'[◆52関東　出場申込書.xlsm]Ⅰ.構成メンバー名簿'!$G$223"},"Ⅰ.構成メンバー名簿","G223"]
[null,null,null,null,null,"※リストから選択して下さい",null,null,null,null,null,null,null,null,null,null,null,null,null,null,null,null,null,null,null,null,null,null,null,null,null,{"$f":"Ⅰ.構成メンバー名簿!C224","v":199},{"$f":"CELL(\"address\",Ⅰ.構成メンバー名簿!G224)","v":"'[◆52関東　出場申込書.xlsm]Ⅰ.構成メンバー名簿'!$G$224"},"Ⅰ.構成メンバー名簿","G224"]
[null,null,null,null,null,"※リストから選択して下さい",null,null,null,null,null,null,null,null,null,null,null,null,null,null,null,null,null,null,null,null,null,null,null,null,null,{"$f":"Ⅰ.構成メンバー名簿!C225","v":200},{"$f":"CELL(\"address\",Ⅰ.構成メンバー名簿!G225)","v":"'[◆52関東　出場申込書.xlsm]Ⅰ.構成メンバー名簿'!$G$225"},"Ⅰ.構成メンバー名簿","G225"]
[null,null,null,null,null,"※リストから選択して下さい",null,null,null,null,null,null,null,null,null,null,null,null,null,null,null,null,null,null,null,null,null,null,null,null,null,{"$f":"Ⅰ.構成メンバー名簿!C226","v":201},{"$f":"CELL(\"address\",Ⅰ.構成メンバー名簿!G226)","v":"'[◆52関東　出場申込書.xlsm]Ⅰ.構成メンバー名簿'!$G$226"},"Ⅰ.構成メンバー名簿","G226"]
[null,null,null,null,null,"※リストから選択して下さい",null,null,null,null,null,null,null,null,null,null,null,null,null,null,null,null,null,null,null,null,null,null,null,null,null,{"$f":"Ⅰ.構成メンバー名簿!C227","v":202},{"$f":"CELL(\"address\",Ⅰ.構成メンバー名簿!G227)","v":"'[◆52関東　出場申込書.xlsm]Ⅰ.構成メンバー名簿'!$G$227"},"Ⅰ.構成メンバー名簿","G227"]
[null,null,null,null,null,"※リストから選択して下さい",null,null,null,null,null,null,null,null,null,null,null,null,null,null,null,null,null,null,null,null,null,null,null,null,null,{"$f":"Ⅰ.構成メンバー名簿!C228","v":203},{"$f":"CELL(\"address\",Ⅰ.構成メンバー名簿!G228)","v":"'[◆52関東　出場申込書.xlsm]Ⅰ.構成メンバー名簿'!$G$228"},"Ⅰ.構成メンバー名簿","G228"]
[null,null,null,null,null,"※リストから選択して下さい",null,null,null,null,null,null,null,null,null,null,null,null,null,null,null,null,null,null,null,null,null,null,null,null,null,{"$f":"Ⅰ.構成メンバー名簿!C229","v":204},{"$f":"CELL(\"address\",Ⅰ.構成メンバー名簿!G229)","v":"'[◆52関東　出場申込書.xlsm]Ⅰ.構成メンバー名簿'!$G$229"},"Ⅰ.構成メンバー名簿","G229"]
[null,null,null,null,null,"※リストから選択して下さい",null,null,null,null,null,null,null,null,null,null,null,null,null,null,null,null,null,null,null,null,null,null,null,null,null,{"$f":"Ⅰ.構成メンバー名簿!C230","v":205},{"$f":"CELL(\"address\",Ⅰ.構成メンバー名簿!G230)","v":"'[◆52関東　出場申込書.xlsm]Ⅰ.構成メンバー名簿'!$G$230"},"Ⅰ.構成メンバー名簿","G230"]
[null,null,null,null,null,"※リストから選択して下さい",null,null,null,null,null,null,null,null,null,null,null,null,null,null,null,null,null,null,null,null,null,null,null,null,null,{"$f":"Ⅰ.構成メンバー名簿!C231","v":206},{"$f":"CELL(\"address\",Ⅰ.構成メンバー名簿!G231)","v":"'[◆52関東　出場申込書.xlsm]Ⅰ.構成メンバー名簿'!$G$231"},"Ⅰ.構成メンバー名簿","G231"]
[null,null,null,null,null,"※リストから選択して下さい",null,null,null,null,null,null,null,null,null,null,null,null,null,null,null,null,null,null,null,null,null,null,null,null,null,{"$f":"Ⅰ.構成メンバー名簿!C232","v":207},{"$f":"CELL(\"address\",Ⅰ.構成メンバー名簿!G232)","v":"'[◆52関東　出場申込書.xlsm]Ⅰ.構成メンバー名簿'!$G$232"},"Ⅰ.構成メンバー名簿","G232"]
[null,null,null,null,null,"※リストから選択して下さい",null,null,null,null,null,null,null,null,null,null,null,null,null,null,null,null,null,null,null,null,null,null,null,null,null,{"$f":"Ⅰ.構成メンバー名簿!C233","v":208},{"$f":"CELL(\"address\",Ⅰ.構成メンバー名簿!G233)","v":"'[◆52関東　出場申込書.xlsm]Ⅰ.構成メンバー名簿'!$G$233"},"Ⅰ.構成メンバー名簿","G233"]
[null,null,null,null,null,"※リストから選択して下さい",null,null,null,null,null,null,null,null,null,null,null,null,null,null,null,null,null,null,null,null,null,null,null,null,null,{"$f":"Ⅰ.構成メンバー名簿!C234","v":209},{"$f":"CELL(\"address\",Ⅰ.構成メンバー名簿!G234)","v":"'[◆52関東　出場申込書.xlsm]Ⅰ.構成メンバー名簿'!$G$234"},"Ⅰ.構成メンバー名簿","G234"]
[null,null,null,null,null,"※リストから選択して下さい",null,null,null,null,null,null,null,null,null,null,null,null,null,null,null,null,null,null,null,null,null,null,null,null,null,{"$f":"Ⅰ.構成メンバー名簿!C235","v":210},{"$f":"CELL(\"address\",Ⅰ.構成メンバー名簿!G235)","v":"'[◆52関東　出場申込書.xlsm]Ⅰ.構成メンバー名簿'!$G$235"},"Ⅰ.構成メンバー名簿","G235"]
[null,null,null,null,null,"※リストから選択して下さい",null,null,null,null,null,null,null,null,null,null,null,null,null,null,null,null,null,null,null,null,null,null,null,null,null,{"$f":"Ⅰ.構成メンバー名簿!C236","v":211},{"$f":"CELL(\"address\",Ⅰ.構成メンバー名簿!G236)","v":"'[◆52関東　出場申込書.xlsm]Ⅰ.構成メンバー名簿'!$G$236"},"Ⅰ.構成メンバー名簿","G236"]
[null,null,null,null,null,"※リストから選択して下さい",null,null,null,null,null,null,null,null,null,null,null,null,null,null,null,null,null,null,null,null,null,null,null,null,null,{"$f":"Ⅰ.構成メンバー名簿!C237","v":212},{"$f":"CELL(\"address\",Ⅰ.構成メンバー名簿!G237)","v":"'[◆52関東　出場申込書.xlsm]Ⅰ.構成メンバー名簿'!$G$237"},"Ⅰ.構成メンバー名簿","G237"]
[null,null,null,null,null,"※リストから選択して下さい",null,null,null,null,null,null,null,null,null,null,null,null,null,null,null,null,null,null,null,null,null,null,null,null,null,{"$f":"Ⅰ.構成メンバー名簿!C238","v":213},{"$f":"CELL(\"address\",Ⅰ.構成メンバー名簿!G238)","v":"'[◆52関東　出場申込書.xlsm]Ⅰ.構成メンバー名簿'!$G$238"},"Ⅰ.構成メンバー名簿","G238"]
[null,null,null,null,null,"※リストから選択して下さい",null,null,null,null,null,null,null,null,null,null,null,null,null,null,null,null,null,null,null,null,null,null,null,null,null,{"$f":"Ⅰ.構成メンバー名簿!C239","v":214},{"$f":"CELL(\"address\",Ⅰ.構成メンバー名簿!G239)","v":"'[◆52関東　出場申込書.xlsm]Ⅰ.構成メンバー名簿'!$G$239"},"Ⅰ.構成メンバー名簿","G239"]
[null,null,null,null,null,"※リストから選択して下さい",null,null,null,null,null,null,null,null,null,null,null,null,null,null,null,null,null,null,null,null,null,null,null,null,null,{"$f":"Ⅰ.構成メンバー名簿!C240","v":215},{"$f":"CELL(\"address\",Ⅰ.構成メンバー名簿!G240)","v":"'[◆52関東　出場申込書.xlsm]Ⅰ.構成メンバー名簿'!$G$240"},"Ⅰ.構成メンバー名簿","G240"]
[null,null,null,null,null,"※リストから選択して下さい",null,null,null,null,null,null,null,null,null,null,null,null,null,null,null,null,null,null,null,null,null,null,null,null,null,{"$f":"Ⅰ.構成メンバー名簿!C241","v":216},{"$f":"CELL(\"address\",Ⅰ.構成メンバー名簿!G241)","v":"'[◆52関東　出場申込書.xlsm]Ⅰ.構成メンバー名簿'!$G$241"},"Ⅰ.構成メンバー名簿","G241"]
[null,null,null,null,null,"※リストから選択して下さい",null,null,null,null,null,null,null,null,null,null,null,null,null,null,null,null,null,null,null,null,null,null,null,null,null,{"$f":"Ⅰ.構成メンバー名簿!C242","v":217},{"$f":"CELL(\"address\",Ⅰ.構成メンバー名簿!G242)","v":"'[◆52関東　出場申込書.xlsm]Ⅰ.構成メンバー名簿'!$G$242"},"Ⅰ.構成メンバー名簿","G242"]
[null,null,null,null,null,"※リストから選択して下さい",null,null,null,null,null,null,null,null,null,null,null,null,null,null,null,null,null,null,null,null,null,null,null,null,null,{"$f":"Ⅰ.構成メンバー名簿!C243","v":218},{"$f":"CELL(\"address\",Ⅰ.構成メンバー名簿!G243)","v":"'[◆52関東　出場申込書.xlsm]Ⅰ.構成メンバー名簿'!$G$243"},"Ⅰ.構成メンバー名簿","G243"]
[null,null,null,null,null,"※リストから選択して下さい",null,null,null,null,null,null,null,null,null,null,null,null,null,null,null,null,null,null,null,null,null,null,null,null,null,{"$f":"Ⅰ.構成メンバー名簿!C244","v":219},{"$f":"CELL(\"address\",Ⅰ.構成メンバー名簿!G244)","v":"'[◆52関東　出場申込書.xlsm]Ⅰ.構成メンバー名簿'!$G$244"},"Ⅰ.構成メンバー名簿","G244"]
[null,null,null,null,null,"※リストから選択して下さい",null,null,null,null,null,null,null,null,null,null,null,null,null,null,null,null,null,null,null,null,null,null,null,null,null,{"$f":"Ⅰ.構成メンバー名簿!C245","v":220},{"$f":"CELL(\"address\",Ⅰ.構成メンバー名簿!G245)","v":"'[◆52関東　出場申込書.xlsm]Ⅰ.構成メンバー名簿'!$G$245"},"Ⅰ.構成メンバー名簿","G245"]
[null,null,null,null,null,"※リストから選択して下さい",null,null,null,null,null,null,null,null,null,null,null,null,null,null,null,null,null,null,null,null,null,null,null,null,null,{"$f":"Ⅰ.構成メンバー名簿!C246","v":221},{"$f":"CELL(\"address\",Ⅰ.構成メンバー名簿!G246)","v":"'[◆52関東　出場申込書.xlsm]Ⅰ.構成メンバー名簿'!$G$246"},{"$f":"SUBSTITUTE(LEFT(RIGHT(AG983,LEN(AG983)-FIND(\"]\",AG983)),FIND(\"!\",RIGHT(AG983,LEN(AG983)-FIND(\"]\",AG983)))-1),\"'\",\"\")","v":"Ⅰ.構成メンバー名簿"},"G246"]
[null,null,null,null,null,"※リストから選択して下さい",null,null,null,null,null,null,null,null,null,null,null,null,null,null,null,null,null,null,null,null,null,null,null,null,null,{"$f":"Ⅰ.構成メンバー名簿!C247","v":222},{"$f":"CELL(\"address\",Ⅰ.構成メンバー名簿!G247)","v":"'[◆52関東　出場申込書.xlsm]Ⅰ.構成メンバー名簿'!$G$247"},"Ⅰ.構成メンバー名簿","G247"]
[null,null,null,null,null,"※リストから選択して下さい",null,null,null,null,null,null,null,null,null,null,null,null,null,null,null,null,null,null,null,null,null,null,null,null,null,{"$f":"Ⅰ.構成メンバー名簿!C248","v":223},{"$f":"CELL(\"address\",Ⅰ.構成メンバー名簿!G248)","v":"'[◆52関東　出場申込書.xlsm]Ⅰ.構成メンバー名簿'!$G$248"},"Ⅰ.構成メンバー名簿","G248"]
[null,null,null,null,null,"※リストから選択して下さい",null,null,null,null,null,null,null,null,null,null,null,null,null,null,null,null,null,null,null,null,null,null,null,null,null,{"$f":"Ⅰ.構成メンバー名簿!C249","v":224},{"$f":"CELL(\"address\",Ⅰ.構成メンバー名簿!G249)","v":"'[◆52関東　出場申込書.xlsm]Ⅰ.構成メンバー名簿'!$G$249"},"Ⅰ.構成メンバー名簿","G249"]
[null,null,null,null,null,"※リストから選択して下さい",null,null,null,null,null,null,null,null,null,null,null,null,null,null,null,null,null,null,null,null,null,null,null,null,null,{"$f":"Ⅰ.構成メンバー名簿!C250","v":225},{"$f":"CELL(\"address\",Ⅰ.構成メンバー名簿!G250)","v":"'[◆52関東　出場申込書.xlsm]Ⅰ.構成メンバー名簿'!$G$250"},"Ⅰ.構成メンバー名簿","G250"]
[null,null,null,null,null,"※リストから選択して下さい",null,null,null,null,null,null,null,null,null,null,null,null,null,null,null,null,null,null,null,null,null,null,null,null,null,{"$f":"Ⅰ.構成メンバー名簿!C251","v":226},{"$f":"CELL(\"address\",Ⅰ.構成メンバー名簿!G251)","v":"'[◆52関東　出場申込書.xlsm]Ⅰ.構成メンバー名簿'!$G$251"},"Ⅰ.構成メンバー名簿","G251"]
[null,null,null,null,null,"※リストから選択して下さい",null,null,null,null,null,null,null,null,null,null,null,null,null,null,null,null,null,null,null,null,null,null,null,null,null,{"$f":"Ⅰ.構成メンバー名簿!C252","v":227},{"$f":"CELL(\"address\",Ⅰ.構成メンバー名簿!G252)","v":"'[◆52関東　出場申込書.xlsm]Ⅰ.構成メンバー名簿'!$G$252"},"Ⅰ.構成メンバー名簿","G252"]
[null,null,null,null,null,"※リストから選択して下さい",null,null,null,null,null,null,null,null,null,null,null,null,null,null,null,null,null,null,null,null,null,null,null,null,null,{"$f":"Ⅰ.構成メンバー名簿!C253","v":228},{"$f":"CELL(\"address\",Ⅰ.構成メンバー名簿!G253)","v":"'[◆52関東　出場申込書.xlsm]Ⅰ.構成メンバー名簿'!$G$253"},"Ⅰ.構成メンバー名簿","G253"]
[null,null,null,null,null,"※リストから選択して下さい",null,null,null,null,null,null,null,null,null,null,null,null,null,null,null,null,null,null,null,null,null,null,null,null,null,{"$f":"Ⅰ.構成メンバー名簿!C254","v":229},{"$f":"CELL(\"address\",Ⅰ.構成メンバー名簿!G254)","v":"'[◆52関東　出場申込書.xlsm]Ⅰ.構成メンバー名簿'!$G$254"},"Ⅰ.構成メンバー名簿","G254"]
[null,null,null,null,null,"※リストから選択して下さい",null,null,null,null,null,null,null,null,null,null,null,null,null,null,null,null,null,null,null,null,null,null,null,null,null,{"$f":"Ⅰ.構成メンバー名簿!C255","v":230},{"$f":"CELL(\"address\",Ⅰ.構成メンバー名簿!G255)","v":"'[◆52関東　出場申込書.xlsm]Ⅰ.構成メンバー名簿'!$G$255"},"Ⅰ.構成メンバー名簿","G255"]
[null,null,null,null,null,"※リストから選択して下さい",null,null,null,null,null,null,null,null,null,null,null,null,null,null,null,null,null,null,null,null,null,null,null,null,null,{"$f":"Ⅰ.構成メンバー名簿!C256","v":231},{"$f":"CELL(\"address\",Ⅰ.構成メンバー名簿!G256)","v":"'[◆52関東　出場申込書.xlsm]Ⅰ.構成メンバー名簿'!$G$256"},"Ⅰ.構成メンバー名簿","G256"]
[null,null,null,null,null,"※リストから選択して下さい",null,null,null,null,null,null,null,null,null,null,null,null,null,null,null,null,null,null,null,null,null,null,null,null,null,{"$f":"Ⅰ.構成メンバー名簿!C257","v":232},{"$f":"CELL(\"address\",Ⅰ.構成メンバー名簿!G257)","v":"'[◆52関東　出場申込書.xlsm]Ⅰ.構成メンバー名簿'!$G$257"},"Ⅰ.構成メンバー名簿","G257"]
[null,null,null,null,null,"※リストから選択して下さい",null,null,null,null,null,null,null,null,null,null,null,null,null,null,null,null,null,null,null,null,null,null,null,null,null,{"$f":"Ⅰ.構成メンバー名簿!C258","v":233},{"$f":"CELL(\"address\",Ⅰ.構成メンバー名簿!G258)","v":"'[◆52関東　出場申込書.xlsm]Ⅰ.構成メンバー名簿'!$G$258"},"Ⅰ.構成メンバー名簿","G258"]
[null,null,null,null,null,"※リストから選択して下さい",null,null,null,null,null,null,null,null,null,null,null,null,null,null,null,null,null,null,null,null,null,null,null,null,null,{"$f":"Ⅰ.構成メンバー名簿!C259","v":234},{"$f":"CELL(\"address\",Ⅰ.構成メンバー名簿!G259)","v":"'[◆52関東　出場申込書.xlsm]Ⅰ.構成メンバー名簿'!$G$259"},"Ⅰ.構成メンバー名簿","G259"]
[null,null,null,null,null,"※リストから選択して下さい",null,null,null,null,null,null,null,null,null,null,null,null,null,null,null,null,null,null,null,null,null,null,null,null,null,{"$f":"Ⅰ.構成メンバー名簿!C260","v":235},{"$f":"CELL(\"address\",Ⅰ.構成メンバー名簿!G260)","v":"'[◆52関東　出場申込書.xlsm]Ⅰ.構成メンバー名簿'!$G$260"},"Ⅰ.構成メンバー名簿","G260"]
[null,null,null,null,null,"※リストから選択して下さい",null,null,null,null,null,null,null,null,null,null,null,null,null,null,null,null,null,null,null,null,null,null,null,null,null,{"$f":"Ⅰ.構成メンバー名簿!C261","v":236},{"$f":"CELL(\"address\",Ⅰ.構成メンバー名簿!G261)","v":"'[◆52関東　出場申込書.xlsm]Ⅰ.構成メンバー名簿'!$G$261"},"Ⅰ.構成メンバー名簿","G261"]
[null,null,null,null,null,"※リストから選択して下さい",null,null,null,null,null,null,null,null,null,null,null,null,null,null,null,null,null,null,null,null,null,null,null,null,null,{"$f":"Ⅰ.構成メンバー名簿!C262","v":237},{"$f":"CELL(\"address\",Ⅰ.構成メンバー名簿!G262)","v":"'[◆52関東　出場申込書.xlsm]Ⅰ.構成メンバー名簿'!$G$262"},"Ⅰ.構成メンバー名簿","G262"]
[null,null,null,null,null,"※リストから選択して下さい",null,null,null,null,null,null,null,null,null,null,null,null,null,null,null,null,null,null,null,null,null,null,null,null,null,{"$f":"Ⅰ.構成メンバー名簿!C263","v":238},{"$f":"CELL(\"address\",Ⅰ.構成メンバー名簿!G263)","v":"'[◆52関東　出場申込書.xlsm]Ⅰ.構成メンバー名簿'!$G$263"},"Ⅰ.構成メンバー名簿","G263"]
[null,null,null,null,null,"※リストから選択して下さい",null,null,null,null,null,null,null,null,null,null,null,null,null,null,null,null,null,null,null,null,null,null,null,null,null,{"$f":"Ⅰ.構成メンバー名簿!C264","v":239},{"$f":"CELL(\"address\",Ⅰ.構成メンバー名簿!G264)","v":"'[◆52関東　出場申込書.xlsm]Ⅰ.構成メンバー名簿'!$G$264"},"Ⅰ.構成メンバー名簿","G264"]
[null,null,null,null,null,"※リストから選択して下さい",null,null,null,null,null,null,null,null,null,null,null,null,null,null,null,null,null,null,null,null,null,null,null,null,null,{"$f":"Ⅰ.構成メンバー名簿!C265","v":240},{"$f":"CELL(\"address\",Ⅰ.構成メンバー名簿!G265)","v":"'[◆52関東　出場申込書.xlsm]Ⅰ.構成メンバー名簿'!$G$265"},"Ⅰ.構成メンバー名簿","G265"]
[null,null,null,null,null,"※リストから選択して下さい",null,null,null,null,null,null,null,null,null,null,null,null,null,null,null,null,null,null,null,null,null,null,null,null,null,{"$f":"Ⅰ.構成メンバー名簿!C266","v":241},{"$f":"CELL(\"address\",Ⅰ.構成メンバー名簿!G266)","v":"'[◆52関東　出場申込書.xlsm]Ⅰ.構成メンバー名簿'!$G$266"},"Ⅰ.構成メンバー名簿",{"$f":"SUBSTITUTE(RIGHT(AG1003,LEN(AG1003)-FIND(\"!\",AG1003)),\"$\",\"\")","v":"G266"}]
[null,null,null,null,null,"※リストから選択して下さい",null,null,null,null,null,null,null,null,null,null,null,null,null,null,null,null,null,null,null,null,null,null,null,null,null,{"$f":"Ⅰ.構成メンバー名簿!C267","v":242},{"$f":"CELL(\"address\",Ⅰ.構成メンバー名簿!G267)","v":"'[◆52関東　出場申込書.xlsm]Ⅰ.構成メンバー名簿'!$G$267"},"Ⅰ.構成メンバー名簿","G267"]
[null,null,null,null,null,"※リストから選択して下さい",null,null,null,null,null,null,null,null,null,null,null,null,null,null,null,null,null,null,null,null,null,null,null,null,null,{"$f":"Ⅰ.構成メンバー名簿!C268","v":243},{"$f":"CELL(\"address\",Ⅰ.構成メンバー名簿!G268)","v":"'[◆52関東　出場申込書.xlsm]Ⅰ.構成メンバー名簿'!$G$268"},"Ⅰ.構成メンバー名簿","G268"]
[null,null,null,null,null,"※リストから選択して下さい",null,null,null,null,null,null,null,null,null,null,null,null,null,null,null,null,null,null,null,null,null,null,null,null,null,{"$f":"Ⅰ.構成メンバー名簿!C269","v":244},{"$f":"CELL(\"address\",Ⅰ.構成メンバー名簿!G269)","v":"'[◆52関東　出場申込書.xlsm]Ⅰ.構成メンバー名簿'!$G$269"},"Ⅰ.構成メンバー名簿","G269"]
[null,null,null,null,null,"※リストから選択して下さい",null,null,null,null,null,null,null,null,null,null,null,null,null,null,null,null,null,null,null,null,null,null,null,null,null,{"$f":"Ⅰ.構成メンバー名簿!C270","v":245},{"$f":"CELL(\"address\",Ⅰ.構成メンバー名簿!G270)","v":"'[◆52関東　出場申込書.xlsm]Ⅰ.構成メンバー名簿'!$G$270"},"Ⅰ.構成メンバー名簿","G270"]
[null,null,null,null,null,"※リストから選択して下さい",null,null,null,null,null,null,null,null,null,null,null,null,null,null,null,null,null,null,null,null,null,null,null,null,null,{"$f":"Ⅰ.構成メンバー名簿!C271","v":246},{"$f":"CELL(\"address\",Ⅰ.構成メンバー名簿!G271)","v":"'[◆52関東　出場申込書.xlsm]Ⅰ.構成メンバー名簿'!$G$271"},"Ⅰ.構成メンバー名簿","G271"]
[null,null,null,null,null,"※リストから選択して下さい",null,null,null,null,null,null,null,null,null,null,null,null,null,null,null,null,null,null,null,null,null,null,null,null,null,{"$f":"Ⅰ.構成メンバー名簿!C272","v":247},{"$f":"CELL(\"address\",Ⅰ.構成メンバー名簿!G272)","v":"'[◆52関東　出場申込書.xlsm]Ⅰ.構成メンバー名簿'!$G$272"},"Ⅰ.構成メンバー名簿","G272"]
[null,null,null,null,null,"※リストから選択して下さい",null,null,null,null,null,null,null,null,null,null,null,null,null,null,null,null,null,null,null,null,null,null,null,null,null,{"$f":"Ⅰ.構成メンバー名簿!C273","v":248},{"$f":"CELL(\"address\",Ⅰ.構成メンバー名簿!G273)","v":"'[◆52関東　出場申込書.xlsm]Ⅰ.構成メンバー名簿'!$G$273"},"Ⅰ.構成メンバー名簿","G273"]
[null,null,null,null,null,"※リストから選択して下さい",null,null,null,null,null,null,null,null,null,null,null,null,null,null,null,null,null,null,null,null,null,null,null,null,null,{"$f":"Ⅰ.構成メンバー名簿!C274","v":249},{"$f":"CELL(\"address\",Ⅰ.構成メンバー名簿!G274)","v":"'[◆52関東　出場申込書.xlsm]Ⅰ.構成メンバー名簿'!$G$274"},"Ⅰ.構成メンバー名簿","G274"]
[null,null,null,null,null,"※リストから選択して下さい",null,null,null,null,null,null,null,null,null,null,null,null,null,null,null,null,null,null,null,null,null,null,null,null,null,{"$f":"Ⅰ.構成メンバー名簿!C275","v":250},{"$f":"CELL(\"address\",Ⅰ.構成メンバー名簿!G275)","v":"'[◆52関東　出場申込書.xlsm]Ⅰ.構成メンバー名簿'!$G$275"},"Ⅰ.構成メンバー名簿","G275"]
[null,null,null,null,null,"※リストから選択して下さい",null,null,null,null,null,null,null,null,null,null,null,null,null,null,null,null,null,null,null,null,null,null,null,null,null,{"$f":"Ⅱ.入力用!B4","v":"推薦都県名"},{"$f":"CELL(\"address\",Ⅱ.入力用!I4)","v":"'[◆52関東　出場申込書.xlsm]Ⅱ.入力用'!$I$4"},{"$f":"SUBSTITUTE(LEFT(RIGHT(AG1013,LEN(AG1013)-FIND(\"]\",AG1013)),FIND(\"!\",RIGHT(AG1013,LEN(AG1013)-FIND(\"]\",AG1013)))-1),\"'\",\"\")","v":"Ⅱ.入力用"},{"$f":"SUBSTITUTE(RIGHT(AG1013,LEN(AG1013)-FIND(\"!\",AG1013)),\"$\",\"\")","v":"I4"}]
[null,null,null,null,null,null,null,null,null,null,null,null,null,null,null,null,null,null,null,null,null,null,null,null,null,null,null,null,null,null,null,{"$f":"Ⅱ.入力用!B6","v":"団体名"},{"$f":"CELL(\"address\",Ⅱ.入力用!I6)","v":"'[◆52関東　出場申込書.xlsm]Ⅱ.入力用'!$I$6"},{"$f":"SUBSTITUTE(LEFT(RIGHT(AG1014,LEN(AG1014)-FIND(\"]\",AG1014)),FIND(\"!\",RIGHT(AG1014,LEN(AG1014)-FIND(\"]\",AG1014)))-1),\"'\",\"\")","v":"Ⅱ.入力用"},{"$f":"SUBSTITUTE(RIGHT(AG1014,LEN(AG1014)-FIND(\"!\",AG1014)),\"$\",\"\")","v":"I6"}]
[null,null,null,null,null,null,null,null,null,null,null,null,null,null,null,null,null,null,null,null,null,null,null,null,null,null,null,null,null,null,null,{"$f":"Ⅱ.入力用!A8","v":"代表者 役職/氏名"},{"$f":"CELL(\"address\",Ⅱ.入力用!I8)","v":"'[◆52関東　出場申込書.xlsm]Ⅱ.入力用'!$I$8"},"Ⅱ.入力用","I8"]
[null,null,null,null,null,null,null,null,null,null,null,null,null,null,null,null,null,null,null,null,null,null,null,null,null,null,null,null,null,null,null,{"$f":"Ⅱ.入力用!A8","v":"代表者 役職/氏名"},{"$f":"CELL(\"address\",Ⅱ.入力用!N8)","v":"'[◆52関東　出場申込書.xlsm]Ⅱ.入力用'!$N$8"},"Ⅱ.入力用","N8"]
[null,null,null,null,null,null,null,null,null,null,null,null,null,null,null,null,null,null,null,null,null,null,null,null,null,null,null,null,null,null,null,{"$f":"Ⅱ.入力用!B11","v":"〒"},{"$f":"CELL(\"address\",Ⅱ.入力用!I11)","v":"'[◆52関東　出場申込書.xlsm]Ⅱ.入力用'!$I$11"},"Ⅱ.入力用","I11"]
[null,null,null,null,null,null,null,null,null,null,null,null,null,null,null,null,null,null,null,null,null,null,null,null,null,null,null,null,null,null,null,{"$f":"Ⅱ.入力用!B12","v":"住所"},{"$f":"CELL(\"address\",Ⅱ.入力用!I12)","v":"'[◆52関東　出場申込書.xlsm]Ⅱ.入力用'!$I$12"},"Ⅱ.入力用","I12"]
[null,null,null,null,null,null,null,null,null,null,null,null,null,null,null,null,null,null,null,null,null,null,null,null,null,null,null,null,null,null,null,{"$f":"Ⅱ.入力用!B13","v":"氏名"},{"$f":"CELL(\"address\",Ⅱ.入力用!I13)","v":"'[◆52関東　出場申込書.xlsm]Ⅱ.入力用'!$I$13"},"Ⅱ.入力用","I13"]
[null,null,null,null,null,null,null,null,null,null,null,null,null,null,null,null,null,null,null,null,null,null,null,null,null,null,null,null,null,null,null,{"$f":"Ⅱ.入力用!B14","v":"氏名ふりがな"},{"$f":"CELL(\"address\",Ⅱ.入力用!I14)","v":"'[◆52関東　出場申込書.xlsm]Ⅱ.入力用'!$I$14"},"Ⅱ.入力用","I14"]
[null,null,null,null,null,null,null,null,null,null,null,null,null,null,null,null,null,null,null,null,null,null,null,null,null,null,null,null,null,null,null,{"$f":"Ⅱ.入力用!B15","v":"電話番号"},{"$f":"CELL(\"address\",Ⅱ.入力用!I15)","v":"'[◆52関東　出場申込書.xlsm]Ⅱ.入力用'!$I$15"},"Ⅱ.入力用","I15"]
[null,null,null,null,null,null,null,null,null,null,null,null,null,null,null,null,null,null,null,null,null,null,null,null,null,null,null,null,null,null,null,{"$f":"Ⅱ.入力用!B16","v":"FAX"},{"$f":"CELL(\"address\",Ⅱ.入力用!I16)","v":"'[◆52関東　出場申込書.xlsm]Ⅱ.入力用'!$I$16"},"Ⅱ.入力用","I16"]
[null,null,null,null,null,null,null,null,null,null,null,null,null,null,null,null,null,null,null,null,null,null,null,null,null,null,null,null,null,null,null,{"$f":"Ⅱ.入力用!B17","v":"携帯電話"},{"$f":"CELL(\"address\",Ⅱ.入力用!I17)","v":"'[◆52関東　出場申込書.xlsm]Ⅱ.入力用'!$I$17"},"Ⅱ.入力用","I17"]
[null,null,null,null,null,null,null,null,null,null,null,null,null,null,null,null,null,null,null,null,null,null,null,null,null,null,null,null,null,null,null,{"$f":"Ⅱ.入力用!B18","v":"E-mail(PC)"},{"$f":"CELL(\"address\",Ⅱ.入力用!I18)","v":"'[◆52関東　出場申込書.xlsm]Ⅱ.入力用'!$I$18"},"Ⅱ.入力用","I18"]
[null,null,null,null,null,"※リストから選択して下さい",null,null,null,null,null,null,null,null,null,null,null,null,null,null,null,null,null,null,null,null,null,null,null,null,null,{"$f":"Ⅱ.入力用!B21","v":"連絡先について"},{"$f":"CELL(\"address\",Ⅱ.入力用!I21)","v":"'[◆52関東　出場申込書.xlsm]Ⅱ.入力用'!$I$21"},"Ⅱ.入力用","I21"]
[null,null,null,null,null,null,null,null,null,null,null,null,null,null,null,null,null,null,null,null,null,null,null,null,null,null,null,null,null,null,null,{"$f":"Ⅱ.入力用!B23","v":"氏名"},{"$f":"CELL(\"address\",Ⅱ.入力用!I23)","v":"'[◆52関東　出場申込書.xlsm]Ⅱ.入力用'!$I$23"},"Ⅱ.入力用","I23"]
[null,null,null,null,null,null,null,null,null,null,null,null,null,null,null,null,null,null,null,null,null,null,null,null,null,null,null,null,null,null,null,{"$f":"Ⅱ.入力用!B24","v":"氏名ふりがな"},{"$f":"CELL(\"address\",Ⅱ.入力用!I24)","v":"'[◆52関東　出場申込書.xlsm]Ⅱ.入力用'!$I$24"},"Ⅱ.入力用","I24"]
[null,null,null,null,null,null,null,null,null,null,null,null,null,null,null,null,null,null,null,null,null,null,null,null,null,null,null,null,null,null,null,{"$f":"Ⅱ.入力用!B25","v":"携帯電話"},{"$f":"CELL(\"address\",Ⅱ.入力用!I25)","v":"'[◆52関東　出場申込書.xlsm]Ⅱ.入力用'!$I$25"},"Ⅱ.入力用","I25"]
[null,null,null,null,null,"※リストから選択して下さい",null,null,null,null,null,null,null,null,null,null,null,null,null,null,null,null,null,null,null,null,null,null,null,null,null,{"$f":"Ⅱ.入力用!B30","v":"構成"},{"$f":"CELL(\"address\",Ⅱ.入力用!I30)","v":"'[◆52関東　出場申込書.xlsm]Ⅱ.入力用'!$I$30"},"Ⅱ.入力用","I30"]
[null,null,null,null,null,"※リストから選択して下さい",null,null,null,null,null,null,null,null,null,null,null,null,null,null,null,null,null,null,null,null,null,null,null,null,null,{"$f":"Ⅱ.入力用!B31","v":"編成"},{"$f":"CELL(\"address\",Ⅱ.入力用!I31)","v":"'[◆52関東　出場申込書.xlsm]Ⅱ.入力用'!$I$31"},"Ⅱ.入力用","I31"]
[null,null,null,null,null,"※リストから選択して下さい",null,null,null,null,null,null,null,null,null,null,null,null,null,null,null,null,null,null,null,null,null,null,null,null,null,{"$f":"Ⅱ.入力用!B34","v":"カラーガードの有無"},{"$f":"CELL(\"address\",Ⅱ.入力用!J34)","v":"'[◆52関東　出場申込書.xlsm]Ⅱ.入力用'!$J$34"},"Ⅱ.入力用","J34"]
[null,null,null,null,null,"※リストから選択して下さい",null,null,null,null,null,null,null,null,null,null,null,null,null,null,null,null,null,null,null,null,null,null,null,null,null,{"$f":"Ⅱ.入力用!B35","v":"楽器編成"},{"$f":"CELL(\"address\",Ⅱ.入力用!J35)","v":"'[◆52関東　出場申込書.xlsm]Ⅱ.入力用'!$J$35"},"Ⅱ.入力用","J35"]
[null,null,null,null,null,null,null,null,null,null,null,null,null,null,null,null,null,null,null,null,null,null,null,null,null,null,null,null,null,null,null,{"$f":"Ⅱ.入力用!B45","v":"■登録引率者"},{"$f":"CELL(\"address\",Ⅱ.入力用!I47)","v":"'[◆52関東　出場申込書.xlsm]Ⅱ.入力用'!$I$47"},"Ⅱ.入力用","I47"]
[null,null,null,null,null,null,null,null,null,null,null,null,null,null,null,null,null,null,null,null,null,null,null,null,null,null,null,null,null,null,null,{"$f":"Ⅱ.入力用!E48","v":2},{"$f":"CELL(\"address\",Ⅱ.入力用!I48)","v":"'[◆52関東　出場申込書.xlsm]Ⅱ.入力用'!$I$48"},"Ⅱ.入力用","I48"]
[null,null,null,null,null,null,null,null,null,null,null,null,null,null,null,null,null,null,null,null,null,null,null,null,null,null,null,null,null,null,null,{"$f":"Ⅱ.入力用!E49","v":3},{"$f":"CELL(\"address\",Ⅱ.入力用!I49)","v":"'[◆52関東　出場申込書.xlsm]Ⅱ.入力用'!$I$49"},"Ⅱ.入力用","I49"]
[null,null,null,null,null,null,null,null,null,null,null,null,null,null,null,null,null,null,null,null,null,null,null,null,null,null,null,null,null,null,null,{"$f":"Ⅱ.入力用!E50","v":4},{"$f":"CELL(\"address\",Ⅱ.入力用!I50)","v":"'[◆52関東　出場申込書.xlsm]Ⅱ.入力用'!$I$50"},"Ⅱ.入力用","I50"]
[null,null,null,null,null,null,null,null,null,null,null,null,null,null,null,null,null,null,null,null,null,null,null,null,null,null,null,null,null,null,null,{"$f":"Ⅱ.入力用!B63","v":"払込日"},{"$f":"CELL(\"address\",Ⅱ.入力用!I63)","v":"'[◆52関東　出場申込書.xlsm]Ⅱ.入力用'!$I$63"},"Ⅱ.入力用","I63"]
[null,null,null,null,null,"※リストから選択して下さい",null,null,null,null,null,null,null,null,null,null,null,null,null,null,null,null,null,null,null,null,null,null,null,null,null,{"$f":"Ⅱ.入力用!B70","v":"■使用楽曲数"},{"$f":"CELL(\"address\",Ⅱ.入力用!I70)","v":"'[◆52関東　出場申込書.xlsm]Ⅱ.入力用'!$I$70"},"Ⅱ.入力用","I70",{"$f":"'@'!AG4","v":10},"行とばし"]
[null,null,null,null,null,null,null,null,null,null,null,null,null,null,null,null,null,null,null,null,null,null,null,null,null,null,null,null,null,null,null,{"$f":"OFFSET(Ⅱ.入力用!$F$74,$AJ$1038*(AJ1039-1),0)","v":"1曲目"},{"$f":"CELL(\"address\",OFFSET(Ⅱ.入力用!$I$75,$AJ$1038*(AJ1039-1),0))","v":"'[◆52関東　出場申込書.xlsm]Ⅱ.入力用'!$I$75"},"Ⅱ.入力用","I75",{"$f":"'@'!AG3","v":1},"曲目"]
[null,null,null,null,null,null,null,null,null,null,null,null,null,null,null,null,null,null,null,null,null,null,null,null,null,null,null,null,null,null,null,{"$f":"OFFSET(Ⅱ.入力用!$Y$74,$AJ$1038*(AJ1039-1),0)","v":"作曲者"},{"$f":"CELL(\"address\",OFFSET(Ⅱ.入力用!$Y$75,$AJ$1038*(AJ1039-1),0))","v":"'[◆52関東　出場申込書.xlsm]Ⅱ.入力用'!$Y$75"},"Ⅱ.入力用","Y75"]
[null,null,null,null,null,null,null,null,null,null,null,null,null,null,null,null,null,null,null,null,null,null,null,null,null,null,null,null,null,null,null,{"$f":"OFFSET(Ⅱ.入力用!$AF$74,$AJ$1038*(AJ1039-1),0)","v":"出版社"},{"$f":"CELL(\"address\",OFFSET(Ⅱ.入力用!$AF$75,$AJ$1038*(AJ1039-1),0))","v":"'[◆52関東　出場申込書.xlsm]Ⅱ.入力用'!$AF$75"},"Ⅱ.入力用","AF75"]
[null,null,null,null,null,"※リストから選択して下さい",null,null,null,null,null,null,null,null,null,null,null,null,null,null,null,null,null,null,null,null,null,null,null,null,null,{"$f":"OFFSET(Ⅱ.入力用!$I$76,$AJ$1038*(AJ1039-1),0)","v":"１．音楽著作権使用許諾申請の必要有無について"},{"$f":"CELL(\"address\",OFFSET(Ⅱ.入力用!$T$76,$AJ$1038*(AJ1039-1),0))","v":"'[◆52関東　出場申込書.xlsm]Ⅱ.入力用'!$T$76"},"Ⅱ.入力用","T76"]
[null,null,null,null,null,"※リストから選択して下さい",null,null,null,null,null,null,null,null,null,null,null,null,null,null,null,null,null,null,null,null,null,null,null,null,null,{"$f":"OFFSET(Ⅱ.入力用!$I$77,$AJ$1038*(AJ1039-1),0)","v":"２．使用許諾の必要が無い場合"},{"$f":"CELL(\"address\",OFFSET(Ⅱ.入力用!$P$77,$AJ$1038*(AJ1039-1),0))","v":"'[◆52関東　出場申込書.xlsm]Ⅱ.入力用'!$P$77"},"Ⅱ.入力用","P77"]
[null,null,null,null,null,null,null,null,null,null,null,null,null,null,null,null,null,null,null,null,null,null,null,null,null,null,null,null,null,null,null,{"$f":"OFFSET(Ⅱ.入力用!$I$77,$AJ$1038*(AJ1039-1),0)","v":"２．使用許諾の必要が無い場合"},{"$f":"CELL(\"address\",OFFSET(Ⅱ.入力用!$Z$77,$AJ$1038*(AJ1039-1),0))","v":"'[◆52関東　出場申込書.xlsm]Ⅱ.入力用'!$Z$77"},"Ⅱ.入力用","Z77"]
[null,null,null,null,null,"※リストから選択して下さい",null,null,null,null,null,null,null,null,null,null,null,null,null,null,null,null,null,null,null,null,null,null,null,null,null,{"$f":"OFFSET(Ⅱ.入力用!$I$78,$AJ$1038*(AJ1039-1),0)","v":"３．編曲使用許諾の必要な場合"},{"$f":"CELL(\"address\",OFFSET(Ⅱ.入力用!$P$78,$AJ$1038*(AJ1039-1),0))","v":"'[◆52関東　出場申込書.xlsm]Ⅱ.入力用'!$P$78"},"Ⅱ.入力用","P78"]
[null,null,null,null,null,null,null,null,null,null,null,null,null,null,null,null,null,null,null,null,null,null,null,null,null,null,null,null,null,null,null,null,{"$f":"CELL(\"address\",OFFSET(Ⅱ.入力用!$P$78,$AJ$1038*(AJ1039-1),0))","v":"'[◆52関東　出場申込書.xlsm]Ⅱ.入力用'!$P$78"},"Ⅱ.入力用",{"$f":"SUBSTITUTE(RIGHT(AG1046,LEN(AG1046)-FIND(\"!\",AG1046)),\"$\",\"\")","v":"P78"}]
[null,null,null,null,null,null,null,null,null,null,null,null,null,null,null,null,null,null,null,null,null,null,null,null,null,null,null,null,null,null,null,null,{"$f":"CELL(\"address\",OFFSET(Ⅱ.入力用!$P$78,$AJ$1038*(AJ1039-1),0))","v":"'[◆52関東　出場申込書.xlsm]Ⅱ.入力用'!$P$78"},"Ⅱ.入力用","P78"]
[null,null,null,null,null,null,null,null,null,null,null,null,null,null,null,null,null,null,null,null,null,null,null,null,null,null,null,null,null,null,null,null,{"$f":"CELL(\"address\",OFFSET(Ⅱ.入力用!$P$78,$AJ$1038*(AJ1039-1),0))","v":"'[◆52関東　出場申込書.xlsm]Ⅱ.入力用'!$P$78"},"Ⅱ.入力用","P78"]
[null,null,null,null,null,null,null,null,null,null,null,null,null,null,null,null,null,null,null,null,null,null,null,null,null,null,null,null,null,null,null,null,{"$f":"CELL(\"address\",OFFSET(Ⅱ.入力用!$P$78,$AJ$1038*(AJ1039-1),0))","v":"'[◆52関東　出場申込書.xlsm]Ⅱ.入力用'!$P$78"},"Ⅱ.入力用","P78"]
[null,null,null,null,null,null,null,null,null,null,null,null,null,null,null,null,null,null,null,null,null,null,null,null,null,null,null,null,null,null,null,null,{"$f":"CELL(\"address\",OFFSET(Ⅱ.入力用!$P$78,$AJ$1038*(AJ1039-1),0))","v":"'[◆52関東　出場申込書.xlsm]Ⅱ.入力用'!$P$78"},"Ⅱ.入力用","P78"]
[null,null,null,null,null,null,null,null,null,null,null,null,null,null,null,null,null,null,null,null,null,null,null,null,null,null,null,null,null,null,null,{"$f":"OFFSET(Ⅱ.入力用!$Z$78,$AJ$1038*(AJ1039-1),0)","v":"確認日"},{"$f":"CELL(\"address\",OFFSET(Ⅱ.入力用!$AE$78,$AJ$1038*(AJ1039-1),0))","v":"'[◆52関東　出場申込書.xlsm]Ⅱ.入力用'!$AE$78"},{"$f":"SUBSTITUTE(LEFT(RIGHT(AG1051,LEN(AG1051)-FIND(\"]\",AG1051)),FIND(\"!\",RIGHT(AG1051,LEN(AG1051)-FIND(\"]\",AG1051)))-1),\"'\",\"\")","v":"Ⅱ.入力用"},"AE78"]
[null,null,null,null,null,null,null,null,null,null,null,null,null,null,null,null,null,null,null,null,null,null,null,null,null,null,null,null,null,null,null,{"$f":"OFFSET(Ⅱ.入力用!$AB$79,$AJ$1038*(AJ1039-1),0)","v":"社名"},{"$f":"CELL(\"address\",OFFSET(Ⅱ.入力用!$AE$79,$AJ$1038*(AJ1039-1),0))","v":"'[◆52関東　出場申込書.xlsm]Ⅱ.入力用'!$AE$79"},"Ⅱ.入力用","AE79"]
[null,null,null,null,null,null,null,null,null,null,null,null,null,null,null,null,null,null,null,null,null,null,null,null,null,null,null,null,null,null,null,{"$f":"OFFSET(Ⅱ.入力用!$AB$80,$AJ$1038*(AJ1039-1),0)","v":"担当者名"},{"$f":"CELL(\"address\",OFFSET(Ⅱ.入力用!$AE$80,$AJ$1038*(AJ1039-1),0))","v":"'[◆52関東　出場申込書.xlsm]Ⅱ.入力用'!$AE$80"},"Ⅱ.入力用","AE80"]
[null,null,null,null,null,null,null,null,null,null,null,null,null,null,null,null,null,null,null,null,null,null,null,null,null,null,null,null,null,null,null,{"$f":"OFFSET(Ⅱ.入力用!$AB$81,$AJ$1038*(AJ1039-1),0)","v":"電話番号"},{"$f":"CELL(\"address\",OFFSET(Ⅱ.入力用!$AE$81,$AJ$1038*(AJ1039-1),0))","v":"'[◆52関東　出場申込書.xlsm]Ⅱ.入力用'!$AE$81"},"Ⅱ.入力用","AE81"]
[null,null,null,null,null,null,null,null,null,null,null,null,null,null,null,null,null,null,null,null,null,null,null,null,null,null,null,null,null,null,null,{"$f":"OFFSET(Ⅱ.入力用!$Z$82,$AJ$1038*(AJ1039-1),0)","v":" 出演団体担当者名"},{"$f":"CELL(\"address\",OFFSET(Ⅱ.入力用!$AE$82,$AJ$1038*(AJ1039-1),0))","v":"'[◆52関東　出場申込書.xlsm]Ⅱ.入力用'!$AE$82"},"Ⅱ.入力用","AE82"]
[null,null,null,null,null,"※リストから選択して下さい",null,null,null,null,null,null,null,null,null,null,null,null,null,null,null,null,null,null,null,null,null,null,null,null,null,{"$f":"OFFSET(Ⅱ.入力用!$Z$83,$AJ$1038*(AJ1039-1),0)","v":"使用料"},{"$f":"CELL(\"address\",OFFSET(Ⅱ.入力用!$AE$83,$AJ$1038*(AJ1039-1),0))","v":"'[◆52関東　出場申込書.xlsm]Ⅱ.入力用'!$AE$83"},"Ⅱ.入力用","AE83"]
[null,null,null,null,null,null,null,null,null,null,null,null,null,null,null,null,null,null,null,null,null,null,null,null,null,null,null,null,null,null,null,{"$f":"OFFSET(Ⅱ.入力用!$F$74,$AJ$1038*(AJ1057-1),0)","v":"2曲目"},{"$f":"CELL(\"address\",OFFSET(Ⅱ.入力用!$I$75,$AJ$1038*(AJ1057-1),0))","v":"'[◆52関東　出場申込書.xlsm]Ⅱ.入力用'!$I$85"},"Ⅱ.入力用","I85",{"$f":"AJ1039+1","v":2},"曲目"]
[null,null,null,null,null,null,null,null,null,null,null,null,null,null,null,null,null,null,null,null,null,null,null,null,null,null,null,null,null,null,null,{"$f":"OFFSET(Ⅱ.入力用!$Y$74,$AJ$1038*(AJ1057-1),0)","v":"作曲者"},{"$f":"CELL(\"address\",OFFSET(Ⅱ.入力用!$Y$75,$AJ$1038*(AJ1057-1),0))","v":"'[◆52関東　出場申込書.xlsm]Ⅱ.入力用'!$Y$85"},"Ⅱ.入力用","Y85"]
[null,null,null,null,null,null,null,null,null,null,null,null,null,null,null,null,null,null,null,null,null,null,null,null,null,null,null,null,null,null,null,{"$f":"OFFSET(Ⅱ.入力用!$AF$74,$AJ$1038*(AJ1057-1),0)","v":"出版社"},{"$f":"CELL(\"address\",OFFSET(Ⅱ.入力用!$AF$75,$AJ$1038*(AJ1057-1),0))","v":"'[◆52関東　出場申込書.xlsm]Ⅱ.入力用'!$AF$85"},"Ⅱ.入力用","AF85"]
[null,null,null,null,null,"※リストから選択して下さい",null,null,null,null,null,null,null,null,null,null,null,null,null,null,null,null,null,null,null,null,null,null,null,null,null,{"$f":"OFFSET(Ⅱ.入力用!$I$76,$AJ$1038*(AJ1057-1),0)","v":"１．音楽著作権使用許諾申請の必要有無について"},{"$f":"CELL(\"address\",OFFSET(Ⅱ.入力用!$T$76,$AJ$1038*(AJ1057-1),0))","v":"'[◆52関東　出場申込書.xlsm]Ⅱ.入力用'!$T$86"},"Ⅱ.入力用","T86"]
[null,null,null,null,null,"※リストから選択して下さい",null,null,null,null,null,null,null,null,null,null,null,null,null,null,null,null,null,null,null,null,null,null,null,null,null,{"$f":"OFFSET(Ⅱ.入力用!$I$77,$AJ$1038*(AJ1057-1),0)","v":"２．使用許諾の必要が無い場合"},{"$f":"CELL(\"address\",OFFSET(Ⅱ.入力用!$P$77,$AJ$1038*(AJ1057-1),0))","v":"'[◆52関東　出場申込書.xlsm]Ⅱ.入力用'!$P$87"},"Ⅱ.入力用","P87"]
[null,null,null,null,null,null,null,null,null,null,null,null,null,null,null,null,null,null,null,null,null,null,null,null,null,null,null,null,null,null,null,{"$f":"OFFSET(Ⅱ.入力用!$I$77,$AJ$1038*(AJ1057-1),0)","v":"２．使用許諾の必要が無い場合"},{"$f":"CELL(\"address\",OFFSET(Ⅱ.入力用!$Z$77,$AJ$1038*(AJ1057-1),0))","v":"'[◆52関東　出場申込書.xlsm]Ⅱ.入力用'!$Z$87"},"Ⅱ.入力用","Z87"]
[null,null,null,null,null,"※リストから選択して下さい",null,null,null,null,null,null,null,null,null,null,null,null,null,null,null,null,null,null,null,null,null,null,null,null,null,{"$f":"OFFSET(Ⅱ.入力用!$I$78,$AJ$1038*(AJ1057-1),0)","v":"３．編曲使用許諾の必要な場合"},{"$f":"CELL(\"address\",OFFSET(Ⅱ.入力用!$P$78,$AJ$1038*(AJ1057-1),0))","v":"'[◆52関東　出場申込書.xlsm]Ⅱ.入力用'!$P$88"},"Ⅱ.入力用","P88"]
[null,null,null,null,null,null,null,null,null,null,null,null,null,null,null,null,null,null,null,null,null,null,null,null,null,null,null,null,null,null,null,null,{"$f":"CELL(\"address\",OFFSET(Ⅱ.入力用!$P$78,$AJ$1038*(AJ1057-1),0))","v":"'[◆52関東　出場申込書.xlsm]Ⅱ.入力用'!$P$88"},"Ⅱ.入力用","P88"]
[null,null,null,null,null,null,null,null,null,null,null,null,null,null,null,null,null,null,null,null,null,null,null,null,null,null,null,null,null,null,null,null,{"$f":"CELL(\"address\",OFFSET(Ⅱ.入力用!$P$78,$AJ$1038*(AJ1057-1),0))","v":"'[◆52関東　出場申込書.xlsm]Ⅱ.入力用'!$P$88"},"Ⅱ.入力用","P88"]
[null,null,null,null,null,null,null,null,null,null,null,null,null,null,null,null,null,null,null,null,null,null,null,null,null,null,null,null,null,null,null,null,{"$f":"CELL(\"address\",OFFSET(Ⅱ.入力用!$P$78,$AJ$1038*(AJ1057-1),0))","v":"'[◆52関東　出場申込書.xlsm]Ⅱ.入力用'!$P$88"},"Ⅱ.入力用","P88"]
[null,null,null,null,null,null,null,null,null,null,null,null,null,null,null,null,null,null,null,null,null,null,null,null,null,null,null,null,null,null,null,null,{"$f":"CELL(\"address\",OFFSET(Ⅱ.入力用!$P$78,$AJ$1038*(AJ1057-1),0))","v":"'[◆52関東　出場申込書.xlsm]Ⅱ.入力用'!$P$88"},"Ⅱ.入力用","P88"]
[null,null,null,null,null,null,null,null,null,null,null,null,null,null,null,null,null,null,null,null,null,null,null,null,null,null,null,null,null,null,null,null,{"$f":"CELL(\"address\",OFFSET(Ⅱ.入力用!$P$78,$AJ$1038*(AJ1057-1),0))","v":"'[◆52関東　出場申込書.xlsm]Ⅱ.入力用'!$P$88"},"Ⅱ.入力用","P88"]
[null,null,null,null,null,null,null,null,null,null,null,null,null,null,null,null,null,null,null,null,null,null,null,null,null,null,null,null,null,null,null,{"$f":"OFFSET(Ⅱ.入力用!$Z$78,$AJ$1038*(AJ1057-1),0)","v":"確認日"},{"$f":"CELL(\"address\",OFFSET(Ⅱ.入力用!$AE$78,$AJ$1038*(AJ1057-1),0))","v":"'[◆52関東　出場申込書.xlsm]Ⅱ.入力用'!$AE$88"},"Ⅱ.入力用","AE88"]
[null,null,null,null,null,null,null,null,null,null,null,null,null,null,null,null,null,null,null,null,null,null,null,null,null,null,null,null,null,null,null,{"$f":"OFFSET(Ⅱ.入力用!$AB$79,$AJ$1038*(AJ1057-1),0)","v":"社名"},{"$f":"CELL(\"address\",OFFSET(Ⅱ.入力用!$AE$79,$AJ$1038*(AJ1057-1),0))","v":"'[◆52関東　出場申込書.xlsm]Ⅱ.入力用'!$AE$89"},"Ⅱ.入力用","AE89"]
[null,null,null,null,null,null,null,null,null,null,null,null,null,null,null,null,null,null,null,null,null,null,null,null,null,null,null,null,null,null,null,{"$f":"OFFSET(Ⅱ.入力用!$AB$80,$AJ$1038*(AJ1057-1),0)","v":"担当者名"},{"$f":"CELL(\"address\",OFFSET(Ⅱ.入力用!$AE$80,$AJ$1038*(AJ1057-1),0))","v":"'[◆52関東　出場申込書.xlsm]Ⅱ.入力用'!$AE$90"},"Ⅱ.入力用","AE90"]
[null,null,null,null,null,null,null,null,null,null,null,null,null,null,null,null,null,null,null,null,null,null,null,null,null,null,null,null,null,null,null,{"$f":"OFFSET(Ⅱ.入力用!$AB$81,$AJ$1038*(AJ1057-1),0)","v":"電話番号"},{"$f":"CELL(\"address\",OFFSET(Ⅱ.入力用!$AE$81,$AJ$1038*(AJ1057-1),0))","v":"'[◆52関東　出場申込書.xlsm]Ⅱ.入力用'!$AE$91"},"Ⅱ.入力用","AE91"]
[null,null,null,null,null,null,null,null,null,null,null,null,null,null,null,null,null,null,null,null,null,null,null,null,null,null,null,null,null,null,null,{"$f":"OFFSET(Ⅱ.入力用!$Z$82,$AJ$1038*(AJ1057-1),0)","v":" 出演団体担当者名"},{"$f":"CELL(\"address\",OFFSET(Ⅱ.入力用!$AE$82,$AJ$1038*(AJ1057-1),0))","v":"'[◆52関東　出場申込書.xlsm]Ⅱ.入力用'!$AE$92"},"Ⅱ.入力用","AE92"]
[null,null,null,null,null,"※リストから選択して下さい",null,null,null,null,null,null,null,null,null,null,null,null,null,null,null,null,null,null,null,null,null,null,null,null,null,{"$f":"OFFSET(Ⅱ.入力用!$Z$83,$AJ$1038*(AJ1057-1),0)","v":"使用料"},{"$f":"CELL(\"address\",OFFSET(Ⅱ.入力用!$AE$83,$AJ$1038*(AJ1057-1),0))","v":"'[◆52関東　出場申込書.xlsm]Ⅱ.入力用'!$AE$93"},"Ⅱ.入力用","AE93"]
[null,null,null,null,null,null,null,null,null,null,null,null,null,null,null,null,null,null,null,null,null,null,null,null,null,null,null,null,null,null,null,{"$f":"OFFSET(Ⅱ.入力用!$F$74,$AJ$1038*(AJ1075-1),0)","v":"3曲目"},{"$f":"CELL(\"address\",OFFSET(Ⅱ.入力用!$I$75,$AJ$1038*(AJ1075-1),0))","v":"'[◆52関東　出場申込書.xlsm]Ⅱ.入力用'!$I$95"},"Ⅱ.入力用","I95",{"$f":"AJ1057+1","v":3},"曲目"]
[null,null,null,null,null,null,null,null,null,null,null,null,null,null,null,null,null,null,null,null,null,null,null,null,null,null,null,null,null,null,null,{"$f":"OFFSET(Ⅱ.入力用!$Y$74,$AJ$1038*(AJ1075-1),0)","v":"作曲者"},{"$f":"CELL(\"address\",OFFSET(Ⅱ.入力用!$Y$75,$AJ$1038*(AJ1075-1),0))","v":"'[◆52関東　出場申込書.xlsm]Ⅱ.入力用'!$Y$95"},"Ⅱ.入力用","Y95"]
[null,null,null,null,null,null,null,null,null,null,null,null,null,null,null,null,null,null,null,null,null,null,null,null,null,null,null,null,null,null,null,{"$f":"OFFSET(Ⅱ.入力用!$AF$74,$AJ$1038*(AJ1075-1),0)","v":"出版社"},{"$f":"CELL(\"address\",OFFSET(Ⅱ.入力用!$AF$75,$AJ$1038*(AJ1075-1),0))","v":"'[◆52関東　出場申込書.xlsm]Ⅱ.入力用'!$AF$95"},"Ⅱ.入力用","AF95"]
[null,null,null,null,null,"※リストから選択して下さい",null,null,null,null,null,null,null,null,null,null,null,null,null,null,null,null,null,null,null,null,null,null,null,null,null,{"$f":"OFFSET(Ⅱ.入力用!$I$76,$AJ$1038*(AJ1075-1),0)","v":"１．音楽著作権使用許諾申請の必要有無について"},{"$f":"CELL(\"address\",OFFSET(Ⅱ.入力用!$T$76,$AJ$1038*(AJ1075-1),0))","v":"'[◆52関東　出場申込書.xlsm]Ⅱ.入力用'!$T$96"},"Ⅱ.入力用","T96"]
[null,null,null,null,null,"※リストから選択して下さい",null,null,null,null,null,null,null,null,null,null,null,null,null,null,null,null,null,null,null,null,null,null,null,null,null,{"$f":"OFFSET(Ⅱ.入力用!$I$77,$AJ$1038*(AJ1075-1),0)","v":"２．使用許諾の必要が無い場合"},{"$f":"CELL(\"address\",OFFSET(Ⅱ.入力用!$P$77,$AJ$1038*(AJ1075-1),0))","v":"'[◆52関東　出場申込書.xlsm]Ⅱ.入力用'!$P$97"},"Ⅱ.入力用","P97"]
[null,null,null,null,null,null,null,null,null,null,null,null,null,null,null,null,null,null,null,null,null,null,null,null,null,null,null,null,null,null,null,{"$f":"OFFSET(Ⅱ.入力用!$I$77,$AJ$1038*(AJ1075-1),0)","v":"２．使用許諾の必要が無い場合"},{"$f":"CELL(\"address\",OFFSET(Ⅱ.入力用!$Z$77,$AJ$1038*(AJ1075-1),0))","v":"'[◆52関東　出場申込書.xlsm]Ⅱ.入力用'!$Z$97"},"Ⅱ.入力用","Z97"]
[null,null,null,null,null,"※リストから選択して下さい",null,null,null,null,null,null,null,null,null,null,null,null,null,null,null,null,null,null,null,null,null,null,null,null,null,{"$f":"OFFSET(Ⅱ.入力用!$I$78,$AJ$1038*(AJ1075-1),0)","v":"３．編曲使用許諾の必要な場合"},{"$f":"CELL(\"address\",OFFSET(Ⅱ.入力用!$P$78,$AJ$1038*(AJ1075-1),0))","v":"'[◆52関東　出場申込書.xlsm]Ⅱ.入力用'!$P$98"},"Ⅱ.入力用","P98"]
[null,null,null,null,null,null,null,null,null,null,null,null,null,null,null,null,null,null,null,null,null,null,null,null,null,null,null,null,null,null,null,null,{"$f":"CELL(\"address\",OFFSET(Ⅱ.入力用!$P$78,$AJ$1038*(AJ1075-1),0))","v":"'[◆52関東　出場申込書.xlsm]Ⅱ.入力用'!$P$98"},"Ⅱ.入力用","P98"]
[null,null,null,null,null,null,null,null,null,null,null,null,null,null,null,null,null,null,null,null,null,null,null,null,null,null,null,null,null,null,null,null,{"$f":"CELL(\"address\",OFFSET(Ⅱ.入力用!$P$78,$AJ$1038*(AJ1075-1),0))","v":"'[◆52関東　出場申込書.xlsm]Ⅱ.入力用'!$P$98"},"Ⅱ.入力用","P98"]
[null,null,null,null,null,null,null,null,null,null,null,null,null,null,null,null,null,null,null,null,null,null,null,null,null,null,null,null,null,null,null,null,{"$f":"CELL(\"address\",OFFSET(Ⅱ.入力用!$P$78,$AJ$1038*(AJ1075-1),0))","v":"'[◆52関東　出場申込書.xlsm]Ⅱ.入力用'!$P$98"},"Ⅱ.入力用","P98"]
[null,null,null,null,null,null,null,null,null,null,null,null,null,null,null,null,null,null,null,null,null,null,null,null,null,null,null,null,null,null,null,null,{"$f":"CELL(\"address\",OFFSET(Ⅱ.入力用!$P$78,$AJ$1038*(AJ1075-1),0))","v":"'[◆52関東　出場申込書.xlsm]Ⅱ.入力用'!$P$98"},"Ⅱ.入力用","P98"]
[null,null,null,null,null,null,null,null,null,null,null,null,null,null,null,null,null,null,null,null,null,null,null,null,null,null,null,null,null,null,null,null,{"$f":"CELL(\"address\",OFFSET(Ⅱ.入力用!$P$78,$AJ$1038*(AJ1075-1),0))","v":"'[◆52関東　出場申込書.xlsm]Ⅱ.入力用'!$P$98"},"Ⅱ.入力用","P98"]
[null,null,null,null,null,null,null,null,null,null,null,null,null,null,null,null,null,null,null,null,null,null,null,null,null,null,null,null,null,null,null,{"$f":"OFFSET(Ⅱ.入力用!$Z$78,$AJ$1038*(AJ1075-1),0)","v":"確認日"},{"$f":"CELL(\"address\",OFFSET(Ⅱ.入力用!$AE$78,$AJ$1038*(AJ1075-1),0))","v":"'[◆52関東　出場申込書.xlsm]Ⅱ.入力用'!$AE$98"},"Ⅱ.入力用","AE98"]
[null,null,null,null,null,null,null,null,null,null,null,null,null,null,null,null,null,null,null,null,null,null,null,null,null,null,null,null,null,null,null,{"$f":"OFFSET(Ⅱ.入力用!$AB$79,$AJ$1038*(AJ1075-1),0)","v":"社名"},{"$f":"CELL(\"address\",OFFSET(Ⅱ.入力用!$AE$79,$AJ$1038*(AJ1075-1),0))","v":"'[◆52関東　出場申込書.xlsm]Ⅱ.入力用'!$AE$99"},"Ⅱ.入力用","AE99"]
[null,null,null,null,null,null,null,null,null,null,null,null,null,null,null,null,null,null,null,null,null,null,null,null,null,null,null,null,null,null,null,{"$f":"OFFSET(Ⅱ.入力用!$AB$80,$AJ$1038*(AJ1075-1),0)","v":"担当者名"},{"$f":"CELL(\"address\",OFFSET(Ⅱ.入力用!$AE$80,$AJ$1038*(AJ1075-1),0))","v":"'[◆52関東　出場申込書.xlsm]Ⅱ.入力用'!$AE$100"},"Ⅱ.入力用","AE100"]
[null,null,null,null,null,null,null,null,null,null,null,null,null,null,null,null,null,null,null,null,null,null,null,null,null,null,null,null,null,null,null,{"$f":"OFFSET(Ⅱ.入力用!$AB$81,$AJ$1038*(AJ1075-1),0)","v":"電話番号"},{"$f":"CELL(\"address\",OFFSET(Ⅱ.入力用!$AE$81,$AJ$1038*(AJ1075-1),0))","v":"'[◆52関東　出場申込書.xlsm]Ⅱ.入力用'!$AE$101"},"Ⅱ.入力用","AE101"]
[null,null,null,null,null,null,null,null,null,null,null,null,null,null,null,null,null,null,null,null,null,null,null,null,null,null,null,null,null,null,null,{"$f":"OFFSET(Ⅱ.入力用!$Z$82,$AJ$1038*(AJ1075-1),0)","v":" 出演団体担当者名"},{"$f":"CELL(\"address\",OFFSET(Ⅱ.入力用!$AE$82,$AJ$1038*(AJ1075-1),0))","v":"'[◆52関東　出場申込書.xlsm]Ⅱ.入力用'!$AE$102"},"Ⅱ.入力用","AE102"]
[null,null,null,null,null,"※リストから選択して下さい",null,null,null,null,null,null,null,null,null,null,null,null,null,null,null,null,null,null,null,null,null,null,null,null,null,{"$f":"OFFSET(Ⅱ.入力用!$Z$83,$AJ$1038*(AJ1075-1),0)","v":"使用料"},{"$f":"CELL(\"address\",OFFSET(Ⅱ.入力用!$AE$83,$AJ$1038*(AJ1075-1),0))","v":"'[◆52関東　出場申込書.xlsm]Ⅱ.入力用'!$AE$103"},"Ⅱ.入力用","AE103"]
[null,null,null,null,null,null,null,null,null,null,null,null,null,null,null,null,null,null,null,null,null,null,null,null,null,null,null,null,null,null,null,{"$f":"OFFSET(Ⅱ.入力用!$F$74,$AJ$1038*(AJ1093-1),0)","v":"4曲目"},{"$f":"CELL(\"address\",OFFSET(Ⅱ.入力用!$I$75,$AJ$1038*(AJ1093-1),0))","v":"'[◆52関東　出場申込書.xlsm]Ⅱ.入力用'!$I$105"},"Ⅱ.入力用","I105",{"$f":"AJ1075+1","v":4},"曲目"]
[null,null,null,null,null,null,null,null,null,null,null,null,null,null,null,null,null,null,null,null,null,null,null,null,null,null,null,null,null,null,null,{"$f":"OFFSET(Ⅱ.入力用!$Y$74,$AJ$1038*(AJ1093-1),0)","v":"作曲者"},{"$f":"CELL(\"address\",OFFSET(Ⅱ.入力用!$Y$75,$AJ$1038*(AJ1093-1),0))","v":"'[◆52関東　出場申込書.xlsm]Ⅱ.入力用'!$Y$105"},"Ⅱ.入力用",{"$f":"SUBSTITUTE(RIGHT(AG1094,LEN(AG1094)-FIND(\"!\",AG1094)),\"$\",\"\")","v":"Y105"}]
[null,null,null,null,null,null,null,null,null,null,null,null,null,null,null,null,null,null,null,null,null,null,null,null,null,null,null,null,null,null,null,{"$f":"OFFSET(Ⅱ.入力用!$AF$74,$AJ$1038*(AJ1093-1),0)","v":"出版社"},{"$f":"CELL(\"address\",OFFSET(Ⅱ.入力用!$AF$75,$AJ$1038*(AJ1093-1),0))","v":"'[◆52関東　出場申込書.xlsm]Ⅱ.入力用'!$AF$105"},"Ⅱ.入力用","AF105"]
[null,null,null,null,null,"※リストから選択して下さい",null,null,null,null,null,null,null,null,null,null,null,null,null,null,null,null,null,null,null,null,null,null,null,null,null,{"$f":"OFFSET(Ⅱ.入力用!$I$76,$AJ$1038*(AJ1093-1),0)","v":"１．音楽著作権使用許諾申請の必要有無について"},{"$f":"CELL(\"address\",OFFSET(Ⅱ.入力用!$T$76,$AJ$1038*(AJ1093-1),0))","v":"'[◆52関東　出場申込書.xlsm]Ⅱ.入力用'!$T$106"},"Ⅱ.入力用","T106"]
[null,null,null,null,null,"※リストから選択して下さい",null,null,null,null,null,null,null,null,null,null,null,null,null,null,null,null,null,null,null,null,null,null,null,null,null,{"$f":"OFFSET(Ⅱ.入力用!$I$77,$AJ$1038*(AJ1093-1),0)","v":"２．使用許諾の必要が無い場合"},{"$f":"CELL(\"address\",OFFSET(Ⅱ.入力用!$P$77,$AJ$1038*(AJ1093-1),0))","v":"'[◆52関東　出場申込書.xlsm]Ⅱ.入力用'!$P$107"},"Ⅱ.入力用","P107"]
[null,null,null,null,null,null,null,null,null,null,null,null,null,null,null,null,null,null,null,null,null,null,null,null,null,null,null,null,null,null,null,{"$f":"OFFSET(Ⅱ.入力用!$I$77,$AJ$1038*(AJ1093-1),0)","v":"２．使用許諾の必要が無い場合"},{"$f":"CELL(\"address\",OFFSET(Ⅱ.入力用!$Z$77,$AJ$1038*(AJ1093-1),0))","v":"'[◆52関東　出場申込書.xlsm]Ⅱ.入力用'!$Z$107"},"Ⅱ.入力用","Z107"]
[null,null,null,null,null,"※リストから選択して下さい",null,null,null,null,null,null,null,null,null,null,null,null,null,null,null,null,null,null,null,null,null,null,null,null,null,{"$f":"OFFSET(Ⅱ.入力用!$I$78,$AJ$1038*(AJ1093-1),0)","v":"３．編曲使用許諾の必要な場合"},{"$f":"CELL(\"address\",OFFSET(Ⅱ.入力用!$P$78,$AJ$1038*(AJ1093-1),0))","v":"'[◆52関東　出場申込書.xlsm]Ⅱ.入力用'!$P$108"},"Ⅱ.入力用","P108"]
[null,null,null,null,null,null,null,null,null,null,null,null,null,null,null,null,null,null,null,null,null,null,null,null,null,null,null,null,null,null,null,null,{"$f":"CELL(\"address\",OFFSET(Ⅱ.入力用!$P$78,$AJ$1038*(AJ1093-1),0))","v":"'[◆52関東　出場申込書.xlsm]Ⅱ.入力用'!$P$108"},"Ⅱ.入力用","P108"]
[null,null,null,null,null,null,null,null,null,null,null,null,null,null,null,null,null,null,null,null,null,null,null,null,null,null,null,null,null,null,null,null,{"$f":"CELL(\"address\",OFFSET(Ⅱ.入力用!$P$78,$AJ$1038*(AJ1093-1),0))","v":"'[◆52関東　出場申込書.xlsm]Ⅱ.入力用'!$P$108"},"Ⅱ.入力用","P108"]
[null,null,null,null,null,null,null,null,null,null,null,null,null,null,null,null,null,null,null,null,null,null,null,null,null,null,null,null,null,null,null,null,{"$f":"CELL(\"address\",OFFSET(Ⅱ.入力用!$P$78,$AJ$1038*(AJ1093-1),0))","v":"'[◆52関東　出場申込書.xlsm]Ⅱ.入力用'!$P$108"},"Ⅱ.入力用","P108"]
[null,null,null,null,null,null,null,null,null,null,null,null,null,null,null,null,null,null,null,null,null,null,null,null,null,null,null,null,null,null,null,null,{"$f":"CELL(\"address\",OFFSET(Ⅱ.入力用!$P$78,$AJ$1038*(AJ1093-1),0))","v":"'[◆52関東　出場申込書.xlsm]Ⅱ.入力用'!$P$108"},"Ⅱ.入力用","P108"]
[null,null,null,null,null,null,null,null,null,null,null,null,null,null,null,null,null,null,null,null,null,null,null,null,null,null,null,null,null,null,null,null,{"$f":"CELL(\"address\",OFFSET(Ⅱ.入力用!$P$78,$AJ$1038*(AJ1093-1),0))","v":"'[◆52関東　出場申込書.xlsm]Ⅱ.入力用'!$P$108"},"Ⅱ.入力用","P108"]
[null,null,null,null,null,null,null,null,null,null,null,null,null,null,null,null,null,null,null,null,null,null,null,null,null,null,null,null,null,null,null,{"$f":"OFFSET(Ⅱ.入力用!$Z$78,$AJ$1038*(AJ1093-1),0)","v":"確認日"},{"$f":"CELL(\"address\",OFFSET(Ⅱ.入力用!$AE$78,$AJ$1038*(AJ1093-1),0))","v":"'[◆52関東　出場申込書.xlsm]Ⅱ.入力用'!$AE$108"},"Ⅱ.入力用","AE108"]
[null,null,null,null,null,null,null,null,null,null,null,null,null,null,null,null,null,null,null,null,null,null,null,null,null,null,null,null,null,null,null,{"$f":"OFFSET(Ⅱ.入力用!$AB$79,$AJ$1038*(AJ1093-1),0)","v":"社名"},{"$f":"CELL(\"address\",OFFSET(Ⅱ.入力用!$AE$79,$AJ$1038*(AJ1093-1),0))","v":"'[◆52関東　出場申込書.xlsm]Ⅱ.入力用'!$AE$109"},"Ⅱ.入力用","AE109"]
[null,null,null,null,null,null,null,null,null,null,null,null,null,null,null,null,null,null,null,null,null,null,null,null,null,null,null,null,null,null,null,{"$f":"OFFSET(Ⅱ.入力用!$AB$80,$AJ$1038*(AJ1093-1),0)","v":"担当者名"},{"$f":"CELL(\"address\",OFFSET(Ⅱ.入力用!$AE$80,$AJ$1038*(AJ1093-1),0))","v":"'[◆52関東　出場申込書.xlsm]Ⅱ.入力用'!$AE$110"},"Ⅱ.入力用","AE110"]
[null,null,null,null,null,null,null,null,null,null,null,null,null,null,null,null,null,null,null,null,null,null,null,null,null,null,null,null,null,null,null,{"$f":"OFFSET(Ⅱ.入力用!$AB$81,$AJ$1038*(AJ1093-1),0)","v":"電話番号"},{"$f":"CELL(\"address\",OFFSET(Ⅱ.入力用!$AE$81,$AJ$1038*(AJ1093-1),0))","v":"'[◆52関東　出場申込書.xlsm]Ⅱ.入力用'!$AE$111"},"Ⅱ.入力用","AE111"]
[null,null,null,null,null,null,null,null,null,null,null,null,null,null,null,null,null,null,null,null,null,null,null,null,null,null,null,null,null,null,null,{"$f":"OFFSET(Ⅱ.入力用!$Z$82,$AJ$1038*(AJ1093-1),0)","v":" 出演団体担当者名"},{"$f":"CELL(\"address\",OFFSET(Ⅱ.入力用!$AE$82,$AJ$1038*(AJ1093-1),0))","v":"'[◆52関東　出場申込書.xlsm]Ⅱ.入力用'!$AE$112"},"Ⅱ.入力用","AE112"]
[null,null,null,null,null,"※リストから選択して下さい",null,null,null,null,null,null,null,null,null,null,null,null,null,null,null,null,null,null,null,null,null,null,null,null,null,{"$f":"OFFSET(Ⅱ.入力用!$Z$83,$AJ$1038*(AJ1093-1),0)","v":"使用料"},{"$f":"CELL(\"address\",OFFSET(Ⅱ.入力用!$AE$83,$AJ$1038*(AJ1093-1),0))","v":"'[◆52関東　出場申込書.xlsm]Ⅱ.入力用'!$AE$113"},"Ⅱ.入力用","AE113"]
[null,null,null,null,null,null,null,null,null,null,null,null,null,null,null,null,null,null,null,null,null,null,null,null,null,null,null,null,null,null,null,{"$f":"OFFSET(Ⅱ.入力用!$F$74,$AJ$1038*(AJ1111-1),0)","v":"5曲目"},{"$f":"CELL(\"address\",OFFSET(Ⅱ.入力用!$I$75,$AJ$1038*(AJ1111-1),0))","v":"'[◆52関東　出場申込書.xlsm]Ⅱ.入力用'!$I$115"},"Ⅱ.入力用","I115",{"$f":"AJ1093+1","v":5},"曲目"]
[null,null,null,null,null,null,null,null,null,null,null,null,null,null,null,null,null,null,null,null,null,null,null,null,null,null,null,null,null,null,null,{"$f":"OFFSET(Ⅱ.入力用!$Y$74,$AJ$1038*(AJ1111-1),0)","v":"作曲者"},{"$f":"CELL(\"address\",OFFSET(Ⅱ.入力用!$Y$75,$AJ$1038*(AJ1111-1),0))","v":"'[◆52関東　出場申込書.xlsm]Ⅱ.入力用'!$Y$115"},"Ⅱ.入力用","Y115"]
[null,null,null,null,null,null,null,null,null,null,null,null,null,null,null,null,null,null,null,null,null,null,null,null,null,null,null,null,null,null,null,{"$f":"OFFSET(Ⅱ.入力用!$AF$74,$AJ$1038*(AJ1111-1),0)","v":"出版社"},{"$f":"CELL(\"address\",OFFSET(Ⅱ.入力用!$AF$75,$AJ$1038*(AJ1111-1),0))","v":"'[◆52関東　出場申込書.xlsm]Ⅱ.入力用'!$AF$115"},"Ⅱ.入力用","AF115"]
[null,null,null,null,null,"※リストから選択して下さい",null,null,null,null,null,null,null,null,null,null,null,null,null,null,null,null,null,null,null,null,null,null,null,null,null,{"$f":"OFFSET(Ⅱ.入力用!$I$76,$AJ$1038*(AJ1111-1),0)","v":"１．音楽著作権使用許諾申請の必要有無について"},{"$f":"CELL(\"address\",OFFSET(Ⅱ.入力用!$T$76,$AJ$1038*(AJ1111-1),0))","v":"'[◆52関東　出場申込書.xlsm]Ⅱ.入力用'!$T$116"},"Ⅱ.入力用","T116"]
[null,null,null,null,null,"※リストから選択して下さい",null,null,null,null,null,null,null,null,null,null,null,null,null,null,null,null,null,null,null,null,null,null,null,null,null,{"$f":"OFFSET(Ⅱ.入力用!$I$77,$AJ$1038*(AJ1111-1),0)","v":"２．使用許諾の必要が無い場合"},{"$f":"CELL(\"address\",OFFSET(Ⅱ.入力用!$P$77,$AJ$1038*(AJ1111-1),0))","v":"'[◆52関東　出場申込書.xlsm]Ⅱ.入力用'!$P$117"},{"$f":"SUBSTITUTE(LEFT(RIGHT(AG1115,LEN(AG1115)-FIND(\"]\",AG1115)),FIND(\"!\",RIGHT(AG1115,LEN(AG1115)-FIND(\"]\",AG1115)))-1),\"'\",\"\")","v":"Ⅱ.入力用"},"P117"]
[null,null,null,null,null,null,null,null,null,null,null,null,null,null,null,null,null,null,null,null,null,null,null,null,null,null,null,null,null,null,null,{"$f":"OFFSET(Ⅱ.入力用!$I$77,$AJ$1038*(AJ1111-1),0)","v":"２．使用許諾の必要が無い場合"},{"$f":"CELL(\"address\",OFFSET(Ⅱ.入力用!$Z$77,$AJ$1038*(AJ1111-1),0))","v":"'[◆52関東　出場申込書.xlsm]Ⅱ.入力用'!$Z$117"},"Ⅱ.入力用","Z117"]
[null,null,null,null,null,"※リストから選択して下さい",null,null,null,null,null,null,null,null,null,null,null,null,null,null,null,null,null,null,null,null,null,null,null,null,null,{"$f":"OFFSET(Ⅱ.入力用!$I$78,$AJ$1038*(AJ1111-1),0)","v":"３．編曲使用許諾の必要な場合"},{"$f":"CELL(\"address\",OFFSET(Ⅱ.入力用!$P$78,$AJ$1038*(AJ1111-1),0))","v":"'[◆52関東　出場申込書.xlsm]Ⅱ.入力用'!$P$118"},"Ⅱ.入力用","P118"]
[null,null,null,null,null,null,null,null,null,null,null,null,null,null,null,null,null,null,null,null,null,null,null,null,null,null,null,null,null,null,null,null,{"$f":"CELL(\"address\",OFFSET(Ⅱ.入力用!$P$78,$AJ$1038*(AJ1111-1),0))","v":"'[◆52関東　出場申込書.xlsm]Ⅱ.入力用'!$P$118"},"Ⅱ.入力用","P118"]
[null,null,null,null,null,null,null,null,null,null,null,null,null,null,null,null,null,null,null,null,null,null,null,null,null,null,null,null,null,null,null,null,{"$f":"CELL(\"address\",OFFSET(Ⅱ.入力用!$P$78,$AJ$1038*(AJ1111-1),0))","v":"'[◆52関東　出場申込書.xlsm]Ⅱ.入力用'!$P$118"},"Ⅱ.入力用","P118"]
[null,null,null,null,null,null,null,null,null,null,null,null,null,null,null,null,null,null,null,null,null,null,null,null,null,null,null,null,null,null,null,null,{"$f":"CELL(\"address\",OFFSET(Ⅱ.入力用!$P$78,$AJ$1038*(AJ1111-1),0))","v":"'[◆52関東　出場申込書.xlsm]Ⅱ.入力用'!$P$118"},"Ⅱ.入力用","P118"]
[null,null,null,null,null,null,null,null,null,null,null,null,null,null,null,null,null,null,null,null,null,null,null,null,null,null,null,null,null,null,null,null,{"$f":"CELL(\"address\",OFFSET(Ⅱ.入力用!$P$78,$AJ$1038*(AJ1111-1),0))","v":"'[◆52関東　出場申込書.xlsm]Ⅱ.入力用'!$P$118"},"Ⅱ.入力用","P118"]
[null,null,null,null,null,null,null,null,null,null,null,null,null,null,null,null,null,null,null,null,null,null,null,null,null,null,null,null,null,null,null,null,{"$f":"CELL(\"address\",OFFSET(Ⅱ.入力用!$P$78,$AJ$1038*(AJ1111-1),0))","v":"'[◆52関東　出場申込書.xlsm]Ⅱ.入力用'!$P$118"},"Ⅱ.入力用","P118"]
[null,null,null,null,null,null,null,null,null,null,null,null,null,null,null,null,null,null,null,null,null,null,null,null,null,null,null,null,null,null,null,{"$f":"OFFSET(Ⅱ.入力用!$Z$78,$AJ$1038*(AJ1111-1),0)","v":"確認日"},{"$f":"CELL(\"address\",OFFSET(Ⅱ.入力用!$AE$78,$AJ$1038*(AJ1111-1),0))","v":"'[◆52関東　出場申込書.xlsm]Ⅱ.入力用'!$AE$118"},"Ⅱ.入力用","AE118"]
[null,null,null,null,null,null,null,null,null,null,null,null,null,null,null,null,null,null,null,null,null,null,null,null,null,null,null,null,null,null,null,{"$f":"OFFSET(Ⅱ.入力用!$AB$79,$AJ$1038*(AJ1111-1),0)","v":"社名"},{"$f":"CELL(\"address\",OFFSET(Ⅱ.入力用!$AE$79,$AJ$1038*(AJ1111-1),0))","v":"'[◆52関東　出場申込書.xlsm]Ⅱ.入力用'!$AE$119"},"Ⅱ.入力用","AE119"]
[null,null,null,null,null,null,null,null,null,null,null,null,null,null,null,null,null,null,null,null,null,null,null,null,null,null,null,null,null,null,null,{"$f":"OFFSET(Ⅱ.入力用!$AB$80,$AJ$1038*(AJ1111-1),0)","v":"担当者名"},{"$f":"CELL(\"address\",OFFSET(Ⅱ.入力用!$AE$80,$AJ$1038*(AJ1111-1),0))","v":"'[◆52関東　出場申込書.xlsm]Ⅱ.入力用'!$AE$120"},"Ⅱ.入力用","AE120"]
[null,null,null,null,null,null,null,null,null,null,null,null,null,null,null,null,null,null,null,null,null,null,null,null,null,null,null,null,null,null,null,{"$f":"OFFSET(Ⅱ.入力用!$AB$81,$AJ$1038*(AJ1111-1),0)","v":"電話番号"},{"$f":"CELL(\"address\",OFFSET(Ⅱ.入力用!$AE$81,$AJ$1038*(AJ1111-1),0))","v":"'[◆52関東　出場申込書.xlsm]Ⅱ.入力用'!$AE$121"},"Ⅱ.入力用","AE121"]
[null,null,null,null,null,null,null,null,null,null,null,null,null,null,null,null,null,null,null,null,null,null,null,null,null,null,null,null,null,null,null,{"$f":"OFFSET(Ⅱ.入力用!$Z$82,$AJ$1038*(AJ1111-1),0)","v":" 出演団体担当者名"},{"$f":"CELL(\"address\",OFFSET(Ⅱ.入力用!$AE$82,$AJ$1038*(AJ1111-1),0))","v":"'[◆52関東　出場申込書.xlsm]Ⅱ.入力用'!$AE$122"},"Ⅱ.入力用","AE122"]
[null,null,null,null,null,"※リストから選択して下さい",null,null,null,null,null,null,null,null,null,null,null,null,null,null,null,null,null,null,null,null,null,null,null,null,null,{"$f":"OFFSET(Ⅱ.入力用!$Z$83,$AJ$1038*(AJ1111-1),0)","v":"使用料"},{"$f":"CELL(\"address\",OFFSET(Ⅱ.入力用!$AE$83,$AJ$1038*(AJ1111-1),0))","v":"'[◆52関東　出場申込書.xlsm]Ⅱ.入力用'!$AE$123"},"Ⅱ.入力用","AE123"]
[null,null,null,null,null,null,null,null,null,null,null,null,null,null,null,null,null,null,null,null,null,null,null,null,null,null,null,null,null,null,null,{"$f":"OFFSET(Ⅱ.入力用!$F$74,$AJ$1038*(AJ1129-1),0)","v":"6曲目"},{"$f":"CELL(\"address\",OFFSET(Ⅱ.入力用!$I$75,$AJ$1038*(AJ1129-1),0))","v":"'[◆52関東　出場申込書.xlsm]Ⅱ.入力用'!$I$125"},"Ⅱ.入力用","I125",{"$f":"AJ1111+1","v":6},"曲目"]
[null,null,null,null,null,null,null,null,null,null,null,null,null,null,null,null,null,null,null,null,null,null,null,null,null,null,null,null,null,null,null,{"$f":"OFFSET(Ⅱ.入力用!$Y$74,$AJ$1038*(AJ1129-1),0)","v":"作曲者"},{"$f":"CELL(\"address\",OFFSET(Ⅱ.入力用!$Y$75,$AJ$1038*(AJ1129-1),0))","v":"'[◆52関東　出場申込書.xlsm]Ⅱ.入力用'!$Y$125"},"Ⅱ.入力用","Y125"]
[null,null,null,null,null,null,null,null,null,null,null,null,null,null,null,null,null,null,null,null,null,null,null,null,null,null,null,null,null,null,null,{"$f":"OFFSET(Ⅱ.入力用!$AF$74,$AJ$1038*(AJ1129-1),0)","v":"出版社"},{"$f":"CELL(\"address\",OFFSET(Ⅱ.入力用!$AF$75,$AJ$1038*(AJ1129-1),0))","v":"'[◆52関東　出場申込書.xlsm]Ⅱ.入力用'!$AF$125"},"Ⅱ.入力用","AF125"]
[null,null,null,null,null,"※リストから選択して下さい",null,null,null,null,null,null,null,null,null,null,null,null,null,null,null,null,null,null,null,null,null,null,null,null,null,{"$f":"OFFSET(Ⅱ.入力用!$I$76,$AJ$1038*(AJ1129-1),0)","v":"１．音楽著作権使用許諾申請の必要有無について"},{"$f":"CELL(\"address\",OFFSET(Ⅱ.入力用!$T$76,$AJ$1038*(AJ1129-1),0))","v":"'[◆52関東　出場申込書.xlsm]Ⅱ.入力用'!$T$126"},"Ⅱ.入力用","T126"]
[null,null,null,null,null,"※リストから選択して下さい",null,null,null,null,null,null,null,null,null,null,null,null,null,null,null,null,null,null,null,null,null,null,null,null,null,{"$f":"OFFSET(Ⅱ.入力用!$I$77,$AJ$1038*(AJ1129-1),0)","v":"２．使用許諾の必要が無い場合"},{"$f":"CELL(\"address\",OFFSET(Ⅱ.入力用!$P$77,$AJ$1038*(AJ1129-1),0))","v":"'[◆52関東　出場申込書.xlsm]Ⅱ.入力用'!$P$127"},"Ⅱ.入力用","P127"]
[null,null,null,null,null,null,null,null,null,null,null,null,null,null,null,null,null,null,null,null,null,null,null,null,null,null,null,null,null,null,null,{"$f":"OFFSET(Ⅱ.入力用!$I$77,$AJ$1038*(AJ1129-1),0)","v":"２．使用許諾の必要が無い場合"},{"$f":"CELL(\"address\",OFFSET(Ⅱ.入力用!$Z$77,$AJ$1038*(AJ1129-1),0))","v":"'[◆52関東　出場申込書.xlsm]Ⅱ.入力用'!$Z$127"},"Ⅱ.入力用","Z127"]
[null,null,null,null,null,"※リストから選択して下さい",null,null,null,null,null,null,null,null,null,null,null,null,null,null,null,null,null,null,null,null,null,null,null,null,null,{"$f":"OFFSET(Ⅱ.入力用!$I$78,$AJ$1038*(AJ1129-1),0)","v":"３．編曲使用許諾の必要な場合"},{"$f":"CELL(\"address\",OFFSET(Ⅱ.入力用!$P$78,$AJ$1038*(AJ1129-1),0))","v":"'[◆52関東　出場申込書.xlsm]Ⅱ.入力用'!$P$128"},"Ⅱ.入力用","P128"]
[null,null,null,null,null,null,null,null,null,null,null,null,null,null,null,null,null,null,null,null,null,null,null,null,null,null,null,null,null,null,null,null,{"$f":"CELL(\"address\",OFFSET(Ⅱ.入力用!$P$78,$AJ$1038*(AJ1129-1),0))","v":"'[◆52関東　出場申込書.xlsm]Ⅱ.入力用'!$P$128"},"Ⅱ.入力用","P128"]
[null,null,null,null,null,null,null,null,null,null,null,null,null,null,null,null,null,null,null,null,null,null,null,null,null,null,null,null,null,null,null,null,{"$f":"CELL(\"address\",OFFSET(Ⅱ.入力用!$P$78,$AJ$1038*(AJ1129-1),0))","v":"'[◆52関東　出場申込書.xlsm]Ⅱ.入力用'!$P$128"},"Ⅱ.入力用","P128"]
[null,null,null,null,null,null,null,null,null,null,null,null,null,null,null,null,null,null,null,null,null,null,null,null,null,null,null,null,null,null,null,null,{"$f":"CELL(\"address\",OFFSET(Ⅱ.入力用!$P$78,$AJ$1038*(AJ1129-1),0))","v":"'[◆52関東　出場申込書.xlsm]Ⅱ.入力用'!$P$128"},"Ⅱ.入力用","P128"]
[null,null,null,null,null,null,null,null,null,null,null,null,null,null,null,null,null,null,null,null,null,null,null,null,null,null,null,null,null,null,null,null,{"$f":"CELL(\"address\",OFFSET(Ⅱ.入力用!$P$78,$AJ$1038*(AJ1129-1),0))","v":"'[◆52関東　出場申込書.xlsm]Ⅱ.入力用'!$P$128"},"Ⅱ.入力用","P128"]
[null,null,null,null,null,null,null,null,null,null,null,null,null,null,null,null,null,null,null,null,null,null,null,null,null,null,null,null,null,null,null,null,{"$f":"CELL(\"address\",OFFSET(Ⅱ.入力用!$P$78,$AJ$1038*(AJ1129-1),0))","v":"'[◆52関東　出場申込書.xlsm]Ⅱ.入力用'!$P$128"},"Ⅱ.入力用","P128"]
[null,null,null,null,null,null,null,null,null,null,null,null,null,null,null,null,null,null,null,null,null,null,null,null,null,null,null,null,null,null,null,{"$f":"OFFSET(Ⅱ.入力用!$Z$78,$AJ$1038*(AJ1129-1),0)","v":"確認日"},{"$f":"CELL(\"address\",OFFSET(Ⅱ.入力用!$AE$78,$AJ$1038*(AJ1129-1),0))","v":"'[◆52関東　出場申込書.xlsm]Ⅱ.入力用'!$AE$128"},"Ⅱ.入力用","AE128"]
[null,null,null,null,null,null,null,null,null,null,null,null,null,null,null,null,null,null,null,null,null,null,null,null,null,null,null,null,null,null,null,{"$f":"OFFSET(Ⅱ.入力用!$AB$79,$AJ$1038*(AJ1129-1),0)","v":"社名"},{"$f":"CELL(\"address\",OFFSET(Ⅱ.入力用!$AE$79,$AJ$1038*(AJ1129-1),0))","v":"'[◆52関東　出場申込書.xlsm]Ⅱ.入力用'!$AE$129"},"Ⅱ.入力用","AE129"]
[null,null,null,null,null,null,null,null,null,null,null,null,null,null,null,null,null,null,null,null,null,null,null,null,null,null,null,null,null,null,null,{"$f":"OFFSET(Ⅱ.入力用!$AB$80,$AJ$1038*(AJ1129-1),0)","v":"担当者名"},{"$f":"CELL(\"address\",OFFSET(Ⅱ.入力用!$AE$80,$AJ$1038*(AJ1129-1),0))","v":"'[◆52関東　出場申込書.xlsm]Ⅱ.入力用'!$AE$130"},"Ⅱ.入力用","AE130"]
[null,null,null,null,null,null,null,null,null,null,null,null,null,null,null,null,null,null,null,null,null,null,null,null,null,null,null,null,null,null,null,{"$f":"OFFSET(Ⅱ.入力用!$AB$81,$AJ$1038*(AJ1129-1),0)","v":"電話番号"},{"$f":"CELL(\"address\",OFFSET(Ⅱ.入力用!$AE$81,$AJ$1038*(AJ1129-1),0))","v":"'[◆52関東　出場申込書.xlsm]Ⅱ.入力用'!$AE$131"},"Ⅱ.入力用","AE131"]
[null,null,null,null,null,null,null,null,null,null,null,null,null,null,null,null,null,null,null,null,null,null,null,null,null,null,null,null,null,null,null,{"$f":"OFFSET(Ⅱ.入力用!$Z$82,$AJ$1038*(AJ1129-1),0)","v":" 出演団体担当者名"},{"$f":"CELL(\"address\",OFFSET(Ⅱ.入力用!$AE$82,$AJ$1038*(AJ1129-1),0))","v":"'[◆52関東　出場申込書.xlsm]Ⅱ.入力用'!$AE$132"},"Ⅱ.入力用","AE132"]
[null,null,null,null,null,"※リストから選択して下さい",null,null,null,null,null,null,null,null,null,null,null,null,null,null,null,null,null,null,null,null,null,null,null,null,null,{"$f":"OFFSET(Ⅱ.入力用!$Z$83,$AJ$1038*(AJ1129-1),0)","v":"使用料"},{"$f":"CELL(\"address\",OFFSET(Ⅱ.入力用!$AE$83,$AJ$1038*(AJ1129-1),0))","v":"'[◆52関東　出場申込書.xlsm]Ⅱ.入力用'!$AE$133"},"Ⅱ.入力用","AE133"]
[null,null,null,null,null,null,null,null,null,null,null,null,null,null,null,null,null,null,null,null,null,null,null,null,null,null,null,null,null,null,null,{"$f":"OFFSET(Ⅱ.入力用!$F$74,$AJ$1038*(AJ1147-1),0)","v":"7曲目"},{"$f":"CELL(\"address\",OFFSET(Ⅱ.入力用!$I$75,$AJ$1038*(AJ1147-1),0))","v":"'[◆52関東　出場申込書.xlsm]Ⅱ.入力用'!$I$135"},"Ⅱ.入力用","I135",{"$f":"AJ1129+1","v":7},"曲目"]
[null,null,null,null,null,null,null,null,null,null,null,null,null,null,null,null,null,null,null,null,null,null,null,null,null,null,null,null,null,null,null,{"$f":"OFFSET(Ⅱ.入力用!$Y$74,$AJ$1038*(AJ1147-1),0)","v":"作曲者"},{"$f":"CELL(\"address\",OFFSET(Ⅱ.入力用!$Y$75,$AJ$1038*(AJ1147-1),0))","v":"'[◆52関東　出場申込書.xlsm]Ⅱ.入力用'!$Y$135"},"Ⅱ.入力用","Y135"]
[null,null,null,null,null,null,null,null,null,null,null,null,null,null,null,null,null,null,null,null,null,null,null,null,null,null,null,null,null,null,null,{"$f":"OFFSET(Ⅱ.入力用!$AF$74,$AJ$1038*(AJ1147-1),0)","v":"出版社"},{"$f":"CELL(\"address\",OFFSET(Ⅱ.入力用!$AF$75,$AJ$1038*(AJ1147-1),0))","v":"'[◆52関東　出場申込書.xlsm]Ⅱ.入力用'!$AF$135"},"Ⅱ.入力用","AF135"]
[null,null,null,null,null,"※リストから選択して下さい",null,null,null,null,null,null,null,null,null,null,null,null,null,null,null,null,null,null,null,null,null,null,null,null,null,{"$f":"OFFSET(Ⅱ.入力用!$I$76,$AJ$1038*(AJ1147-1),0)","v":"１．音楽著作権使用許諾申請の必要有無について"},{"$f":"CELL(\"address\",OFFSET(Ⅱ.入力用!$T$76,$AJ$1038*(AJ1147-1),0))","v":"'[◆52関東　出場申込書.xlsm]Ⅱ.入力用'!$T$136"},"Ⅱ.入力用","T136"]
[null,null,null,null,null,"※リストから選択して下さい",null,null,null,null,null,null,null,null,null,null,null,null,null,null,null,null,null,null,null,null,null,null,null,null,null,{"$f":"OFFSET(Ⅱ.入力用!$I$77,$AJ$1038*(AJ1147-1),0)","v":"２．使用許諾の必要が無い場合"},{"$f":"CELL(\"address\",OFFSET(Ⅱ.入力用!$P$77,$AJ$1038*(AJ1147-1),0))","v":"'[◆52関東　出場申込書.xlsm]Ⅱ.入力用'!$P$137"},"Ⅱ.入力用","P137"]
[null,null,null,null,null,null,null,null,null,null,null,null,null,null,null,null,null,null,null,null,null,null,null,null,null,null,null,null,null,null,null,{"$f":"OFFSET(Ⅱ.入力用!$I$77,$AJ$1038*(AJ1147-1),0)","v":"２．使用許諾の必要が無い場合"},{"$f":"CELL(\"address\",OFFSET(Ⅱ.入力用!$Z$77,$AJ$1038*(AJ1147-1),0))","v":"'[◆52関東　出場申込書.xlsm]Ⅱ.入力用'!$Z$137"},"Ⅱ.入力用","Z137"]
[null,null,null,null,null,"※リストから選択して下さい",null,null,null,null,null,null,null,null,null,null,null,null,null,null,null,null,null,null,null,null,null,null,null,null,null,{"$f":"OFFSET(Ⅱ.入力用!$I$78,$AJ$1038*(AJ1147-1),0)","v":"３．編曲使用許諾の必要な場合"},{"$f":"CELL(\"address\",OFFSET(Ⅱ.入力用!$P$78,$AJ$1038*(AJ1147-1),0))","v":"'[◆52関東　出場申込書.xlsm]Ⅱ.入力用'!$P$138"},"Ⅱ.入力用","P138"]
[null,null,null,null,null,null,null,null,null,null,null,null,null,null,null,null,null,null,null,null,null,null,null,null,null,null,null,null,null,null,null,null,{"$f":"CELL(\"address\",OFFSET(Ⅱ.入力用!$P$78,$AJ$1038*(AJ1147-1),0))","v":"'[◆52関東　出場申込書.xlsm]Ⅱ.入力用'!$P$138"},"Ⅱ.入力用","P138"]
[null,null,null,null,null,null,null,null,null,null,null,null,null,null,null,null,null,null,null,null,null,null,null,null,null,null,null,null,null,null,null,null,{"$f":"CELL(\"address\",OFFSET(Ⅱ.入力用!$P$78,$AJ$1038*(AJ1147-1),0))","v":"'[◆52関東　出場申込書.xlsm]Ⅱ.入力用'!$P$138"},"Ⅱ.入力用","P138"]
[null,null,null,null,null,null,null,null,null,null,null,null,null,null,null,null,null,null,null,null,null,null,null,null,null,null,null,null,null,null,null,null,{"$f":"CELL(\"address\",OFFSET(Ⅱ.入力用!$P$78,$AJ$1038*(AJ1147-1),0))","v":"'[◆52関東　出場申込書.xlsm]Ⅱ.入力用'!$P$138"},"Ⅱ.入力用","P138"]
[null,null,null,null,null,null,null,null,null,null,null,null,null,null,null,null,null,null,null,null,null,null,null,null,null,null,null,null,null,null,null,null,{"$f":"CELL(\"address\",OFFSET(Ⅱ.入力用!$P$78,$AJ$1038*(AJ1147-1),0))","v":"'[◆52関東　出場申込書.xlsm]Ⅱ.入力用'!$P$138"},"Ⅱ.入力用","P138"]
[null,null,null,null,null,null,null,null,null,null,null,null,null,null,null,null,null,null,null,null,null,null,null,null,null,null,null,null,null,null,null,null,{"$f":"CELL(\"address\",OFFSET(Ⅱ.入力用!$P$78,$AJ$1038*(AJ1147-1),0))","v":"'[◆52関東　出場申込書.xlsm]Ⅱ.入力用'!$P$138"},"Ⅱ.入力用","P138"]
[null,null,null,null,null,null,null,null,null,null,null,null,null,null,null,null,null,null,null,null,null,null,null,null,null,null,null,null,null,null,null,{"$f":"OFFSET(Ⅱ.入力用!$Z$78,$AJ$1038*(AJ1147-1),0)","v":"確認日"},{"$f":"CELL(\"address\",OFFSET(Ⅱ.入力用!$AE$78,$AJ$1038*(AJ1147-1),0))","v":"'[◆52関東　出場申込書.xlsm]Ⅱ.入力用'!$AE$138"},"Ⅱ.入力用","AE138"]
[null,null,null,null,null,null,null,null,null,null,null,null,null,null,null,null,null,null,null,null,null,null,null,null,null,null,null,null,null,null,null,{"$f":"OFFSET(Ⅱ.入力用!$AB$79,$AJ$1038*(AJ1147-1),0)","v":"社名"},{"$f":"CELL(\"address\",OFFSET(Ⅱ.入力用!$AE$79,$AJ$1038*(AJ1147-1),0))","v":"'[◆52関東　出場申込書.xlsm]Ⅱ.入力用'!$AE$139"},"Ⅱ.入力用","AE139"]
[null,null,null,null,null,null,null,null,null,null,null,null,null,null,null,null,null,null,null,null,null,null,null,null,null,null,null,null,null,null,null,{"$f":"OFFSET(Ⅱ.入力用!$AB$80,$AJ$1038*(AJ1147-1),0)","v":"担当者名"},{"$f":"CELL(\"address\",OFFSET(Ⅱ.入力用!$AE$80,$AJ$1038*(AJ1147-1),0))","v":"'[◆52関東　出場申込書.xlsm]Ⅱ.入力用'!$AE$140"},"Ⅱ.入力用","AE140"]
[null,null,null,null,null,null,null,null,null,null,null,null,null,null,null,null,null,null,null,null,null,null,null,null,null,null,null,null,null,null,null,{"$f":"OFFSET(Ⅱ.入力用!$AB$81,$AJ$1038*(AJ1147-1),0)","v":"電話番号"},{"$f":"CELL(\"address\",OFFSET(Ⅱ.入力用!$AE$81,$AJ$1038*(AJ1147-1),0))","v":"'[◆52関東　出場申込書.xlsm]Ⅱ.入力用'!$AE$141"},"Ⅱ.入力用","AE141"]
[null,null,null,null,null,null,null,null,null,null,null,null,null,null,null,null,null,null,null,null,null,null,null,null,null,null,null,null,null,null,null,{"$f":"OFFSET(Ⅱ.入力用!$Z$82,$AJ$1038*(AJ1147-1),0)","v":" 出演団体担当者名"},{"$f":"CELL(\"address\",OFFSET(Ⅱ.入力用!$AE$82,$AJ$1038*(AJ1147-1),0))","v":"'[◆52関東　出場申込書.xlsm]Ⅱ.入力用'!$AE$142"},"Ⅱ.入力用","AE142"]
[null,null,null,null,null,"※リストから選択して下さい",null,null,null,null,null,null,null,null,null,null,null,null,null,null,null,null,null,null,null,null,null,null,null,null,null,{"$f":"OFFSET(Ⅱ.入力用!$Z$83,$AJ$1038*(AJ1147-1),0)","v":"使用料"},{"$f":"CELL(\"address\",OFFSET(Ⅱ.入力用!$AE$83,$AJ$1038*(AJ1147-1),0))","v":"'[◆52関東　出場申込書.xlsm]Ⅱ.入力用'!$AE$143"},"Ⅱ.入力用","AE143"]
[null,null,null,null,null,null,null,null,null,null,null,null,null,null,null,null,null,null,null,null,null,null,null,null,null,null,null,null,null,null,null,{"$f":"OFFSET(Ⅱ.入力用!$F$74,$AJ$1038*(AJ1165-1),0)","v":"8曲目"},{"$f":"CELL(\"address\",OFFSET(Ⅱ.入力用!$I$75,$AJ$1038*(AJ1165-1),0))","v":"'[◆52関東　出場申込書.xlsm]Ⅱ.入力用'!$I$145"},"Ⅱ.入力用","I145",{"$f":"AJ1147+1","v":8},"曲目"]
[null,null,null,null,null,null,null,null,null,null,null,null,null,null,null,null,null,null,null,null,null,null,null,null,null,null,null,null,null,null,null,{"$f":"OFFSET(Ⅱ.入力用!$Y$74,$AJ$1038*(AJ1165-1),0)","v":"作曲者"},{"$f":"CELL(\"address\",OFFSET(Ⅱ.入力用!$Y$75,$AJ$1038*(AJ1165-1),0))","v":"'[◆52関東　出場申込書.xlsm]Ⅱ.入力用'!$Y$145"},"Ⅱ.入力用","Y145"]
[null,null,null,null,null,null,null,null,null,null,null,null,null,null,null,null,null,null,null,null,null,null,null,null,null,null,null,null,null,null,null,{"$f":"OFFSET(Ⅱ.入力用!$AF$74,$AJ$1038*(AJ1165-1),0)","v":"出版社"},{"$f":"CELL(\"address\",OFFSET(Ⅱ.入力用!$AF$75,$AJ$1038*(AJ1165-1),0))","v":"'[◆52関東　出場申込書.xlsm]Ⅱ.入力用'!$AF$145"},"Ⅱ.入力用","AF145"]
[null,null,null,null,null,"※リストから選択して下さい",null,null,null,null,null,null,null,null,null,null,null,null,null,null,null,null,null,null,null,null,null,null,null,null,null,{"$f":"OFFSET(Ⅱ.入力用!$I$76,$AJ$1038*(AJ1165-1),0)","v":"１．音楽著作権使用許諾申請の必要有無について"},{"$f":"CELL(\"address\",OFFSET(Ⅱ.入力用!$T$76,$AJ$1038*(AJ1165-1),0))","v":"'[◆52関東　出場申込書.xlsm]Ⅱ.入力用'!$T$146"},"Ⅱ.入力用","T146"]
[null,null,null,null,null,"※リストから選択して下さい",null,null,null,null,null,null,null,null,null,null,null,null,null,null,null,null,null,null,null,null,null,null,null,null,null,{"$f":"OFFSET(Ⅱ.入力用!$I$77,$AJ$1038*(AJ1165-1),0)","v":"２．使用許諾の必要が無い場合"},{"$f":"CELL(\"address\",OFFSET(Ⅱ.入力用!$P$77,$AJ$1038*(AJ1165-1),0))","v":"'[◆52関東　出場申込書.xlsm]Ⅱ.入力用'!$P$147"},"Ⅱ.入力用","P147"]
[null,null,null,null,null,null,null,null,null,null,null,null,null,null,null,null,null,null,null,null,null,null,null,null,null,null,null,null,null,null,null,{"$f":"OFFSET(Ⅱ.入力用!$I$77,$AJ$1038*(AJ1165-1),0)","v":"２．使用許諾の必要が無い場合"},{"$f":"CELL(\"address\",OFFSET(Ⅱ.入力用!$Z$77,$AJ$1038*(AJ1165-1),0))","v":"'[◆52関東　出場申込書.xlsm]Ⅱ.入力用'!$Z$147"},"Ⅱ.入力用","Z147"]
[null,null,null,null,null,"※リストから選択して下さい",null,null,null,null,null,null,null,null,null,null,null,null,null,null,null,null,null,null,null,null,null,null,null,null,null,{"$f":"OFFSET(Ⅱ.入力用!$I$78,$AJ$1038*(AJ1165-1),0)","v":"３．編曲使用許諾の必要な場合"},{"$f":"CELL(\"address\",OFFSET(Ⅱ.入力用!$P$78,$AJ$1038*(AJ1165-1),0))","v":"'[◆52関東　出場申込書.xlsm]Ⅱ.入力用'!$P$148"},"Ⅱ.入力用","P148"]
[null,null,null,null,null,null,null,null,null,null,null,null,null,null,null,null,null,null,null,null,null,null,null,null,null,null,null,null,null,null,null,null,{"$f":"CELL(\"address\",OFFSET(Ⅱ.入力用!$P$78,$AJ$1038*(AJ1165-1),0))","v":"'[◆52関東　出場申込書.xlsm]Ⅱ.入力用'!$P$148"},"Ⅱ.入力用","P148"]
[null,null,null,null,null,null,null,null,null,null,null,null,null,null,null,null,null,null,null,null,null,null,null,null,null,null,null,null,null,null,null,null,{"$f":"CELL(\"address\",OFFSET(Ⅱ.入力用!$P$78,$AJ$1038*(AJ1165-1),0))","v":"'[◆52関東　出場申込書.xlsm]Ⅱ.入力用'!$P$148"},"Ⅱ.入力用","P148"]
[null,null,null,null,null,null,null,null,null,null,null,null,null,null,null,null,null,null,null,null,null,null,null,null,null,null,null,null,null,null,null,null,{"$f":"CELL(\"address\",OFFSET(Ⅱ.入力用!$P$78,$AJ$1038*(AJ1165-1),0))","v":"'[◆52関東　出場申込書.xlsm]Ⅱ.入力用'!$P$148"},"Ⅱ.入力用","P148"]
[null,null,null,null,null,null,null,null,null,null,null,null,null,null,null,null,null,null,null,null,null,null,null,null,null,null,null,null,null,null,null,null,{"$f":"CELL(\"address\",OFFSET(Ⅱ.入力用!$P$78,$AJ$1038*(AJ1165-1),0))","v":"'[◆52関東　出場申込書.xlsm]Ⅱ.入力用'!$P$148"},"Ⅱ.入力用","P148"]
[null,null,null,null,null,null,null,null,null,null,null,null,null,null,null,null,null,null,null,null,null,null,null,null,null,null,null,null,null,null,null,null,{"$f":"CELL(\"address\",OFFSET(Ⅱ.入力用!$P$78,$AJ$1038*(AJ1165-1),0))","v":"'[◆52関東　出場申込書.xlsm]Ⅱ.入力用'!$P$148"},"Ⅱ.入力用","P148"]
[null,null,null,null,null,null,null,null,null,null,null,null,null,null,null,null,null,null,null,null,null,null,null,null,null,null,null,null,null,null,null,{"$f":"OFFSET(Ⅱ.入力用!$Z$78,$AJ$1038*(AJ1165-1),0)","v":"確認日"},{"$f":"CELL(\"address\",OFFSET(Ⅱ.入力用!$AE$78,$AJ$1038*(AJ1165-1),0))","v":"'[◆52関東　出場申込書.xlsm]Ⅱ.入力用'!$AE$148"},"Ⅱ.入力用","AE148"]
[null,null,null,null,null,null,null,null,null,null,null,null,null,null,null,null,null,null,null,null,null,null,null,null,null,null,null,null,null,null,null,{"$f":"OFFSET(Ⅱ.入力用!$AB$79,$AJ$1038*(AJ1165-1),0)","v":"社名"},{"$f":"CELL(\"address\",OFFSET(Ⅱ.入力用!$AE$79,$AJ$1038*(AJ1165-1),0))","v":"'[◆52関東　出場申込書.xlsm]Ⅱ.入力用'!$AE$149"},"Ⅱ.入力用","AE149"]
[null,null,null,null,null,null,null,null,null,null,null,null,null,null,null,null,null,null,null,null,null,null,null,null,null,null,null,null,null,null,null,{"$f":"OFFSET(Ⅱ.入力用!$AB$80,$AJ$1038*(AJ1165-1),0)","v":"担当者名"},{"$f":"CELL(\"address\",OFFSET(Ⅱ.入力用!$AE$80,$AJ$1038*(AJ1165-1),0))","v":"'[◆52関東　出場申込書.xlsm]Ⅱ.入力用'!$AE$150"},{"$f":"SUBSTITUTE(LEFT(RIGHT(AG1179,LEN(AG1179)-FIND(\"]\",AG1179)),FIND(\"!\",RIGHT(AG1179,LEN(AG1179)-FIND(\"]\",AG1179)))-1),\"'\",\"\")","v":"Ⅱ.入力用"},"AE150"]
[null,null,null,null,null,null,null,null,null,null,null,null,null,null,null,null,null,null,null,null,null,null,null,null,null,null,null,null,null,null,null,{"$f":"OFFSET(Ⅱ.入力用!$AB$81,$AJ$1038*(AJ1165-1),0)","v":"電話番号"},{"$f":"CELL(\"address\",OFFSET(Ⅱ.入力用!$AE$81,$AJ$1038*(AJ1165-1),0))","v":"'[◆52関東　出場申込書.xlsm]Ⅱ.入力用'!$AE$151"},"Ⅱ.入力用","AE151"]
[null,null,null,null,null,null,null,null,null,null,null,null,null,null,null,null,null,null,null,null,null,null,null,null,null,null,null,null,null,null,null,{"$f":"OFFSET(Ⅱ.入力用!$Z$82,$AJ$1038*(AJ1165-1),0)","v":" 出演団体担当者名"},{"$f":"CELL(\"address\",OFFSET(Ⅱ.入力用!$AE$82,$AJ$1038*(AJ1165-1),0))","v":"'[◆52関東　出場申込書.xlsm]Ⅱ.入力用'!$AE$152"},"Ⅱ.入力用","AE152"]
[null,null,null,null,null,"※リストから選択して下さい",null,null,null,null,null,null,null,null,null,null,null,null,null,null,null,null,null,null,null,null,null,null,null,null,null,{"$f":"OFFSET(Ⅱ.入力用!$Z$83,$AJ$1038*(AJ1165-1),0)","v":"使用料"},{"$f":"CELL(\"address\",OFFSET(Ⅱ.入力用!$AE$83,$AJ$1038*(AJ1165-1),0))","v":"'[◆52関東　出場申込書.xlsm]Ⅱ.入力用'!$AE$153"},"Ⅱ.入力用","AE153"]
[null,null,null,null,null,null,null,null,null,null,null,null,null,null,null,null,null,null,null,null,null,null,null,null,null,null,null,null,null,null,null,{"$f":"OFFSET(Ⅱ.入力用!$F$74,$AJ$1038*(AJ1183-1),0)","v":"9曲目"},{"$f":"CELL(\"address\",OFFSET(Ⅱ.入力用!$I$75,$AJ$1038*(AJ1183-1),0))","v":"'[◆52関東　出場申込書.xlsm]Ⅱ.入力用'!$I$155"},"Ⅱ.入力用",{"$f":"SUBSTITUTE(RIGHT(AG1183,LEN(AG1183)-FIND(\"!\",AG1183)),\"$\",\"\")","v":"I155"},{"$f":"AJ1165+1","v":9},"曲目"]
[null,null,null,null,null,null,null,null,null,null,null,null,null,null,null,null,null,null,null,null,null,null,null,null,null,null,null,null,null,null,null,{"$f":"OFFSET(Ⅱ.入力用!$Y$74,$AJ$1038*(AJ1183-1),0)","v":"作曲者"},{"$f":"CELL(\"address\",OFFSET(Ⅱ.入力用!$Y$75,$AJ$1038*(AJ1183-1),0))","v":"'[◆52関東　出場申込書.xlsm]Ⅱ.入力用'!$Y$155"},"Ⅱ.入力用","Y155"]
[null,null,null,null,null,null,null,null,null,null,null,null,null,null,null,null,null,null,null,null,null,null,null,null,null,null,null,null,null,null,null,{"$f":"OFFSET(Ⅱ.入力用!$AF$74,$AJ$1038*(AJ1183-1),0)","v":"出版社"},{"$f":"CELL(\"address\",OFFSET(Ⅱ.入力用!$AF$75,$AJ$1038*(AJ1183-1),0))","v":"'[◆52関東　出場申込書.xlsm]Ⅱ.入力用'!$AF$155"},"Ⅱ.入力用","AF155"]
[null,null,null,null,null,"※リストから選択して下さい",null,null,null,null,null,null,null,null,null,null,null,null,null,null,null,null,null,null,null,null,null,null,null,null,null,{"$f":"OFFSET(Ⅱ.入力用!$I$76,$AJ$1038*(AJ1183-1),0)","v":"１．音楽著作権使用許諾申請の必要有無について"},{"$f":"CELL(\"address\",OFFSET(Ⅱ.入力用!$T$76,$AJ$1038*(AJ1183-1),0))","v":"'[◆52関東　出場申込書.xlsm]Ⅱ.入力用'!$T$156"},"Ⅱ.入力用","T156"]
[null,null,null,null,null,"※リストから選択して下さい",null,null,null,null,null,null,null,null,null,null,null,null,null,null,null,null,null,null,null,null,null,null,null,null,null,{"$f":"OFFSET(Ⅱ.入力用!$I$77,$AJ$1038*(AJ1183-1),0)","v":"２．使用許諾の必要が無い場合"},{"$f":"CELL(\"address\",OFFSET(Ⅱ.入力用!$P$77,$AJ$1038*(AJ1183-1),0))","v":"'[◆52関東　出場申込書.xlsm]Ⅱ.入力用'!$P$157"},"Ⅱ.入力用","P157"]
[null,null,null,null,null,null,null,null,null,null,null,null,null,null,null,null,null,null,null,null,null,null,null,null,null,null,null,null,null,null,null,{"$f":"OFFSET(Ⅱ.入力用!$I$77,$AJ$1038*(AJ1183-1),0)","v":"２．使用許諾の必要が無い場合"},{"$f":"CELL(\"address\",OFFSET(Ⅱ.入力用!$Z$77,$AJ$1038*(AJ1183-1),0))","v":"'[◆52関東　出場申込書.xlsm]Ⅱ.入力用'!$Z$157"},"Ⅱ.入力用","Z157"]
[null,null,null,null,null,"※リストから選択して下さい",null,null,null,null,null,null,null,null,null,null,null,null,null,null,null,null,null,null,null,null,null,null,null,null,null,{"$f":"OFFSET(Ⅱ.入力用!$I$78,$AJ$1038*(AJ1183-1),0)","v":"３．編曲使用許諾の必要な場合"},{"$f":"CELL(\"address\",OFFSET(Ⅱ.入力用!$P$78,$AJ$1038*(AJ1183-1),0))","v":"'[◆52関東　出場申込書.xlsm]Ⅱ.入力用'!$P$158"},"Ⅱ.入力用","P158"]
[null,null,null,null,null,null,null,null,null,null,null,null,null,null,null,null,null,null,null,null,null,null,null,null,null,null,null,null,null,null,null,null,{"$f":"CELL(\"address\",OFFSET(Ⅱ.入力用!$P$78,$AJ$1038*(AJ1183-1),0))","v":"'[◆52関東　出場申込書.xlsm]Ⅱ.入力用'!$P$158"},"Ⅱ.入力用","P158"]
[null,null,null,null,null,null,null,null,null,null,null,null,null,null,null,null,null,null,null,null,null,null,null,null,null,null,null,null,null,null,null,null,{"$f":"CELL(\"address\",OFFSET(Ⅱ.入力用!$P$78,$AJ$1038*(AJ1183-1),0))","v":"'[◆52関東　出場申込書.xlsm]Ⅱ.入力用'!$P$158"},"Ⅱ.入力用","P158"]
[null,null,null,null,null,null,null,null,null,null,null,null,null,null,null,null,null,null,null,null,null,null,null,null,null,null,null,null,null,null,null,null,{"$f":"CELL(\"address\",OFFSET(Ⅱ.入力用!$P$78,$AJ$1038*(AJ1183-1),0))","v":"'[◆52関東　出場申込書.xlsm]Ⅱ.入力用'!$P$158"},"Ⅱ.入力用","P158"]
[null,null,null,null,null,null,null,null,null,null,null,null,null,null,null,null,null,null,null,null,null,null,null,null,null,null,null,null,null,null,null,null,{"$f":"CELL(\"address\",OFFSET(Ⅱ.入力用!$P$78,$AJ$1038*(AJ1183-1),0))","v":"'[◆52関東　出場申込書.xlsm]Ⅱ.入力用'!$P$158"},"Ⅱ.入力用","P158"]
[null,null,null,null,null,null,null,null,null,null,null,null,null,null,null,null,null,null,null,null,null,null,null,null,null,null,null,null,null,null,null,null,{"$f":"CELL(\"address\",OFFSET(Ⅱ.入力用!$P$78,$AJ$1038*(AJ1183-1),0))","v":"'[◆52関東　出場申込書.xlsm]Ⅱ.入力用'!$P$158"},"Ⅱ.入力用","P158"]
[null,null,null,null,null,null,null,null,null,null,null,null,null,null,null,null,null,null,null,null,null,null,null,null,null,null,null,null,null,null,null,{"$f":"OFFSET(Ⅱ.入力用!$Z$78,$AJ$1038*(AJ1183-1),0)","v":"確認日"},{"$f":"CELL(\"address\",OFFSET(Ⅱ.入力用!$AE$78,$AJ$1038*(AJ1183-1),0))","v":"'[◆52関東　出場申込書.xlsm]Ⅱ.入力用'!$AE$158"},"Ⅱ.入力用","AE158"]
[null,null,null,null,null,null,null,null,null,null,null,null,null,null,null,null,null,null,null,null,null,null,null,null,null,null,null,null,null,null,null,{"$f":"OFFSET(Ⅱ.入力用!$AB$79,$AJ$1038*(AJ1183-1),0)","v":"社名"},{"$f":"CELL(\"address\",OFFSET(Ⅱ.入力用!$AE$79,$AJ$1038*(AJ1183-1),0))","v":"'[◆52関東　出場申込書.xlsm]Ⅱ.入力用'!$AE$159"},"Ⅱ.入力用","AE159"]
[null,null,null,null,null,null,null,null,null,null,null,null,null,null,null,null,null,null,null,null,null,null,null,null,null,null,null,null,null,null,null,{"$f":"OFFSET(Ⅱ.入力用!$AB$80,$AJ$1038*(AJ1183-1),0)","v":"担当者名"},{"$f":"CELL(\"address\",OFFSET(Ⅱ.入力用!$AE$80,$AJ$1038*(AJ1183-1),0))","v":"'[◆52関東　出場申込書.xlsm]Ⅱ.入力用'!$AE$160"},"Ⅱ.入力用","AE160"]
[null,null,null,null,null,null,null,null,null,null,null,null,null,null,null,null,null,null,null,null,null,null,null,null,null,null,null,null,null,null,null,{"$f":"OFFSET(Ⅱ.入力用!$AB$81,$AJ$1038*(AJ1183-1),0)","v":"電話番号"},{"$f":"CELL(\"address\",OFFSET(Ⅱ.入力用!$AE$81,$AJ$1038*(AJ1183-1),0))","v":"'[◆52関東　出場申込書.xlsm]Ⅱ.入力用'!$AE$161"},"Ⅱ.入力用","AE161"]
[null,null,null,null,null,null,null,null,null,null,null,null,null,null,null,null,null,null,null,null,null,null,null,null,null,null,null,null,null,null,null,{"$f":"OFFSET(Ⅱ.入力用!$Z$82,$AJ$1038*(AJ1183-1),0)","v":" 出演団体担当者名"},{"$f":"CELL(\"address\",OFFSET(Ⅱ.入力用!$AE$82,$AJ$1038*(AJ1183-1),0))","v":"'[◆52関東　出場申込書.xlsm]Ⅱ.入力用'!$AE$162"},"Ⅱ.入力用","AE162"]
[null,null,null,null,null,"※リストから選択して下さい",null,null,null,null,null,null,null,null,null,null,null,null,null,null,null,null,null,null,null,null,null,null,null,null,null,{"$f":"OFFSET(Ⅱ.入力用!$Z$83,$AJ$1038*(AJ1183-1),0)","v":"使用料"},{"$f":"CELL(\"address\",OFFSET(Ⅱ.入力用!$AE$83,$AJ$1038*(AJ1183-1),0))","v":"'[◆52関東　出場申込書.xlsm]Ⅱ.入力用'!$AE$163"},"Ⅱ.入力用","AE163"]
[null,null,null,null,null,null,null,null,null,null,null,null,null,null,null,null,null,null,null,null,null,null,null,null,null,null,null,null,null,null,null,{"$f":"OFFSET(Ⅱ.入力用!$F$74,$AJ$1038*(AJ1201-1),0)","v":"10曲目"},{"$f":"CELL(\"address\",OFFSET(Ⅱ.入力用!$I$75,$AJ$1038*(AJ1201-1),0))","v":"'[◆52関東　出場申込書.xlsm]Ⅱ.入力用'!$I$165"},"Ⅱ.入力用","I165",{"$f":"AJ1183+1","v":10},"曲目"]
[null,null,null,null,null,null,null,null,null,null,null,null,null,null,null,null,null,null,null,null,null,null,null,null,null,null,null,null,null,null,null,{"$f":"OFFSET(Ⅱ.入力用!$Y$74,$AJ$1038*(AJ1201-1),0)","v":"作曲者"},{"$f":"CELL(\"address\",OFFSET(Ⅱ.入力用!$Y$75,$AJ$1038*(AJ1201-1),0))","v":"'[◆52関東　出場申込書.xlsm]Ⅱ.入力用'!$Y$165"},"Ⅱ.入力用","Y165"]
[null,null,null,null,null,null,null,null,null,null,null,null,null,null,null,null,null,null,null,null,null,null,null,null,null,null,null,null,null,null,null,{"$f":"OFFSET(Ⅱ.入力用!$AF$74,$AJ$1038*(AJ1201-1),0)","v":"出版社"},{"$f":"CELL(\"address\",OFFSET(Ⅱ.入力用!$AF$75,$AJ$1038*(AJ1201-1),0))","v":"'[◆52関東　出場申込書.xlsm]Ⅱ.入力用'!$AF$165"},"Ⅱ.入力用","AF165"]
[null,null,null,null,null,"※リストから選択して下さい",null,null,null,null,null,null,null,null,null,null,null,null,null,null,null,null,null,null,null,null,null,null,null,null,null,{"$f":"OFFSET(Ⅱ.入力用!$I$76,$AJ$1038*(AJ1201-1),0)","v":"１．音楽著作権使用許諾申請の必要有無について"},{"$f":"CELL(\"address\",OFFSET(Ⅱ.入力用!$T$76,$AJ$1038*(AJ1201-1),0))","v":"'[◆52関東　出場申込書.xlsm]Ⅱ.入力用'!$T$166"},"Ⅱ.入力用","T166"]
[null,null,null,null,null,"※リストから選択して下さい",null,null,null,null,null,null,null,null,null,null,null,null,null,null,null,null,null,null,null,null,null,null,null,null,null,{"$f":"OFFSET(Ⅱ.入力用!$I$77,$AJ$1038*(AJ1201-1),0)","v":"２．使用許諾の必要が無い場合"},{"$f":"CELL(\"address\",OFFSET(Ⅱ.入力用!$P$77,$AJ$1038*(AJ1201-1),0))","v":"'[◆52関東　出場申込書.xlsm]Ⅱ.入力用'!$P$167"},"Ⅱ.入力用","P167"]
[null,null,null,null,null,null,null,null,null,null,null,null,null,null,null,null,null,null,null,null,null,null,null,null,null,null,null,null,null,null,null,{"$f":"OFFSET(Ⅱ.入力用!$I$77,$AJ$1038*(AJ1201-1),0)","v":"２．使用許諾の必要が無い場合"},{"$f":"CELL(\"address\",OFFSET(Ⅱ.入力用!$Z$77,$AJ$1038*(AJ1201-1),0))","v":"'[◆52関東　出場申込書.xlsm]Ⅱ.入力用'!$Z$167"},"Ⅱ.入力用","Z167"]
[null,null,null,null,null,"※リストから選択して下さい",null,null,null,null,null,null,null,null,null,null,null,null,null,null,null,null,null,null,null,null,null,null,null,null,null,{"$f":"OFFSET(Ⅱ.入力用!$I$78,$AJ$1038*(AJ1201-1),0)","v":"３．編曲使用許諾の必要な場合"},{"$f":"CELL(\"address\",OFFSET(Ⅱ.入力用!$P$78,$AJ$1038*(AJ1201-1),0))","v":"'[◆52関東　出場申込書.xlsm]Ⅱ.入力用'!$P$168"},"Ⅱ.入力用","P168"]
[null,null,null,null,null,null,null,null,null,null,null,null,null,null,null,null,null,null,null,null,null,null,null,null,null,null,null,null,null,null,null,null,{"$f":"CELL(\"address\",OFFSET(Ⅱ.入力用!$P$78,$AJ$1038*(AJ1201-1),0))","v":"'[◆52関東　出場申込書.xlsm]Ⅱ.入力用'!$P$168"},"Ⅱ.入力用","P168"]
[null,null,null,null,null,null,null,null,null,null,null,null,null,null,null,null,null,null,null,null,null,null,null,null,null,null,null,null,null,null,null,null,{"$f":"CELL(\"address\",OFFSET(Ⅱ.入力用!$P$78,$AJ$1038*(AJ1201-1),0))","v":"'[◆52関東　出場申込書.xlsm]Ⅱ.入力用'!$P$168"},"Ⅱ.入力用","P168"]
[null,null,null,null,null,null,null,null,null,null,null,null,null,null,null,null,null,null,null,null,null,null,null,null,null,null,null,null,null,null,null,null,{"$f":"CELL(\"address\",OFFSET(Ⅱ.入力用!$P$78,$AJ$1038*(AJ1201-1),0))","v":"'[◆52関東　出場申込書.xlsm]Ⅱ.入力用'!$P$168"},"Ⅱ.入力用","P168"]
[null,null,null,null,null,null,null,null,null,null,null,null,null,null,null,null,null,null,null,null,null,null,null,null,null,null,null,null,null,null,null,null,{"$f":"CELL(\"address\",OFFSET(Ⅱ.入力用!$P$78,$AJ$1038*(AJ1201-1),0))","v":"'[◆52関東　出場申込書.xlsm]Ⅱ.入力用'!$P$168"},"Ⅱ.入力用","P168"]
[null,null,null,null,null,null,null,null,null,null,null,null,null,null,null,null,null,null,null,null,null,null,null,null,null,null,null,null,null,null,null,null,{"$f":"CELL(\"address\",OFFSET(Ⅱ.入力用!$P$78,$AJ$1038*(AJ1201-1),0))","v":"'[◆52関東　出場申込書.xlsm]Ⅱ.入力用'!$P$168"},"Ⅱ.入力用","P168"]
[null,null,null,null,null,null,null,null,null,null,null,null,null,null,null,null,null,null,null,null,null,null,null,null,null,null,null,null,null,null,null,{"$f":"OFFSET(Ⅱ.入力用!$Z$78,$AJ$1038*(AJ1201-1),0)","v":"確認日"},{"$f":"CELL(\"address\",OFFSET(Ⅱ.入力用!$AE$78,$AJ$1038*(AJ1201-1),0))","v":"'[◆52関東　出場申込書.xlsm]Ⅱ.入力用'!$AE$168"},"Ⅱ.入力用","AE168"]
[null,null,null,null,null,null,null,null,null,null,null,null,null,null,null,null,null,null,null,null,null,null,null,null,null,null,null,null,null,null,null,{"$f":"OFFSET(Ⅱ.入力用!$AB$79,$AJ$1038*(AJ1201-1),0)","v":"社名"},{"$f":"CELL(\"address\",OFFSET(Ⅱ.入力用!$AE$79,$AJ$1038*(AJ1201-1),0))","v":"'[◆52関東　出場申込書.xlsm]Ⅱ.入力用'!$AE$169"},"Ⅱ.入力用","AE169"]
[null,null,null,null,null,null,null,null,null,null,null,null,null,null,null,null,null,null,null,null,null,null,null,null,null,null,null,null,null,null,null,{"$f":"OFFSET(Ⅱ.入力用!$AB$80,$AJ$1038*(AJ1201-1),0)","v":"担当者名"},{"$f":"CELL(\"address\",OFFSET(Ⅱ.入力用!$AE$80,$AJ$1038*(AJ1201-1),0))","v":"'[◆52関東　出場申込書.xlsm]Ⅱ.入力用'!$AE$170"},"Ⅱ.入力用","AE170"]
[null,null,null,null,null,null,null,null,null,null,null,null,null,null,null,null,null,null,null,null,null,null,null,null,null,null,null,null,null,null,null,{"$f":"OFFSET(Ⅱ.入力用!$AB$81,$AJ$1038*(AJ1201-1),0)","v":"電話番号"},{"$f":"CELL(\"address\",OFFSET(Ⅱ.入力用!$AE$81,$AJ$1038*(AJ1201-1),0))","v":"'[◆52関東　出場申込書.xlsm]Ⅱ.入力用'!$AE$171"},"Ⅱ.入力用","AE171"]
[null,null,null,null,null,null,null,null,null,null,null,null,null,null,null,null,null,null,null,null,null,null,null,null,null,null,null,null,null,null,null,{"$f":"OFFSET(Ⅱ.入力用!$Z$82,$AJ$1038*(AJ1201-1),0)","v":" 出演団体担当者名"},{"$f":"CELL(\"address\",OFFSET(Ⅱ.入力用!$AE$82,$AJ$1038*(AJ1201-1),0))","v":"'[◆52関東　出場申込書.xlsm]Ⅱ.入力用'!$AE$172"},"Ⅱ.入力用","AE172"]
[null,null,null,null,null,"※リストから選択して下さい",null,null,null,null,null,null,null,null,null,null,null,null,null,null,null,null,null,null,null,null,null,null,null,null,null,{"$f":"OFFSET(Ⅱ.入力用!$Z$83,$AJ$1038*(AJ1201-1),0)","v":"使用料"},{"$f":"CELL(\"address\",OFFSET(Ⅱ.入力用!$AE$83,$AJ$1038*(AJ1201-1),0))","v":"'[◆52関東　出場申込書.xlsm]Ⅱ.入力用'!$AE$173"},"Ⅱ.入力用","AE173"]
[null,null,null,null,null,"※リストから選択して下さい",null,null,null,null,null,null,null,null,null,null,null,null,null,null,null,null,null,null,null,null,null,null,null,null,null,{"$f":"Ⅱ.入力用!B184","v":"■特殊効果使用について"},{"$f":"CELL(\"address\",Ⅱ.入力用!L184)","v":"'[◆52関東　出場申込書.xlsm]Ⅱ.入力用'!$L$184"},"Ⅱ.入力用","L184"]
[null,null,null,null,null,null,null,null,null,null,null,null,null,null,null,null,null,null,null,null,null,null,null,null,null,null,null,null,null,null,null,{"$f":"Ⅱ.入力用!$F$186","v":"使用項目"},{"$f":"CELL(\"address\",Ⅱ.入力用!F187)","v":"'[◆52関東　出場申込書.xlsm]Ⅱ.入力用'!$F$187"},"Ⅱ.入力用","F187"]
[null,null,null,null,null,null,null,null,null,null,null,null,null,null,null,null,null,null,null,null,null,null,null,null,null,null,null,null,null,null,null,{"$f":"Ⅱ.入力用!$Q$186","v":"使用方法"},{"$f":"CELL(\"address\",Ⅱ.入力用!Q187)","v":"'[◆52関東　出場申込書.xlsm]Ⅱ.入力用'!$Q$187"},"Ⅱ.入力用","Q187"]
[null,null,null,null,null,null,null,null,null,null,null,null,null,null,null,null,null,null,null,null,null,null,null,null,null,null,null,null,null,null,null,{"$f":"Ⅱ.入力用!$F$186","v":"使用項目"},{"$f":"CELL(\"address\",Ⅱ.入力用!F188)","v":"'[◆52関東　出場申込書.xlsm]Ⅱ.入力用'!$F$188"},"Ⅱ.入力用","F188"]
[null,null,null,null,null,null,null,null,null,null,null,null,null,null,null,null,null,null,null,null,null,null,null,null,null,null,null,null,null,null,null,{"$f":"Ⅱ.入力用!$Q$186","v":"使用方法"},{"$f":"CELL(\"address\",Ⅱ.入力用!Q188)","v":"'[◆52関東　出場申込書.xlsm]Ⅱ.入力用'!$Q$188"},"Ⅱ.入力用","Q188"]
[null,null,null,null,null,null,null,null,null,null,null,null,null,null,null,null,null,null,null,null,null,null,null,null,null,null,null,null,null,null,null,{"$f":"Ⅱ.入力用!$F$186","v":"使用項目"},{"$f":"CELL(\"address\",Ⅱ.入力用!F189)","v":"'[◆52関東　出場申込書.xlsm]Ⅱ.入力用'!$F$189"},"Ⅱ.入力用","F189"]
[null,null,null,null,null,null,null,null,null,null,null,null,null,null,null,null,null,null,null,null,null,null,null,null,null,null,null,null,null,null,null,{"$f":"Ⅱ.入力用!$Q$186","v":"使用方法"},{"$f":"CELL(\"address\",Ⅱ.入力用!Q189)","v":"'[◆52関東　出場申込書.xlsm]Ⅱ.入力用'!$Q$189"},"Ⅱ.入力用","Q189"]
[null,null,null,null,null,null,null,null,null,null,null,null,null,null,null,null,null,null,null,null,null,null,null,null,null,null,null,null,null,null,null,{"$f":"Ⅱ.入力用!$F$186","v":"使用項目"},{"$f":"CELL(\"address\",Ⅱ.入力用!F190)","v":"'[◆52関東　出場申込書.xlsm]Ⅱ.入力用'!$F$190"},"Ⅱ.入力用","F190"]
[null,null,null,null,null,null,null,null,null,null,null,null,null,null,null,null,null,null,null,null,null,null,null,null,null,null,null,null,null,null,null,{"$f":"Ⅱ.入力用!$Q$186","v":"使用方法"},{"$f":"CELL(\"address\",Ⅱ.入力用!Q190)","v":"'[◆52関東　出場申込書.xlsm]Ⅱ.入力用'!$Q$190"},"Ⅱ.入力用","Q190"]
[null,null,null,null,null,null,null,null,null,null,null,null,null,null,null,null,null,null,null,null,null,null,null,null,null,null,null,null,null,null,null,{"$f":"Ⅱ.入力用!$F$186","v":"使用項目"},{"$f":"CELL(\"address\",Ⅱ.入力用!F191)","v":"'[◆52関東　出場申込書.xlsm]Ⅱ.入力用'!$F$191"},"Ⅱ.入力用","F191"]
[null,null,null,null,null,null,null,null,null,null,null,null,null,null,null,null,null,null,null,null,null,null,null,null,null,null,null,null,null,null,null,{"$f":"Ⅱ.入力用!$Q$186","v":"使用方法"},{"$f":"CELL(\"address\",Ⅱ.入力用!Q191)","v":"'[◆52関東　出場申込書.xlsm]Ⅱ.入力用'!$Q$191"},"Ⅱ.入力用","Q191"]
[null,null,null,null,null,null,null,null,null,null,null,null,null,null,null,null,null,null,null,null,null,null,null,null,null,null,null,null,null,null,null,{"$f":"Ⅱ.入力用!$F$186","v":"使用項目"},{"$f":"CELL(\"address\",Ⅱ.入力用!F192)","v":"'[◆52関東　出場申込書.xlsm]Ⅱ.入力用'!$F$192"},"Ⅱ.入力用","F192"]
[null,null,null,null,null,null,null,null,null,null,null,null,null,null,null,null,null,null,null,null,null,null,null,null,null,null,null,null,null,null,null,{"$f":"Ⅱ.入力用!$Q$186","v":"使用方法"},{"$f":"CELL(\"address\",Ⅱ.入力用!Q192)","v":"'[◆52関東　出場申込書.xlsm]Ⅱ.入力用'!$Q$192"},"Ⅱ.入力用","Q192"]
[null,null,null,null,null,null,null,null,null,null,null,null,null,null,null,null,null,null,null,null,null,null,null,null,null,null,null,null,null,null,null,{"$f":"Ⅱ.入力用!$F$186","v":"使用項目"},{"$f":"CELL(\"address\",Ⅱ.入力用!F193)","v":"'[◆52関東　出場申込書.xlsm]Ⅱ.入力用'!$F$193"},"Ⅱ.入力用","F193"]
[null,null,null,null,null,null,null,null,null,null,null,null,null,null,null,null,null,null,null,null,null,null,null,null,null,null,null,null,null,null,null,{"$f":"Ⅱ.入力用!$Q$186","v":"使用方法"},{"$f":"CELL(\"address\",Ⅱ.入力用!Q193)","v":"'[◆52関東　出場申込書.xlsm]Ⅱ.入力用'!$Q$193"},"Ⅱ.入力用","Q193"]
[null,null,null,null,null,null,null,null,null,null,null,null,null,null,null,null,null,null,null,null,null,null,null,null,null,null,null,null,null,null,null,{"$f":"Ⅱ.入力用!$F$186","v":"使用項目"},{"$f":"CELL(\"address\",Ⅱ.入力用!F194)","v":"'[◆52関東　出場申込書.xlsm]Ⅱ.入力用'!$F$194"},"Ⅱ.入力用","F194"]
[null,null,null,null,null,null,null,null,null,null,null,null,null,null,null,null,null,null,null,null,null,null,null,null,null,null,null,null,null,null,null,{"$f":"Ⅱ.入力用!$Q$186","v":"使用方法"},{"$f":"CELL(\"address\",Ⅱ.入力用!Q194)","v":"'[◆52関東　出場申込書.xlsm]Ⅱ.入力用'!$Q$194"},"Ⅱ.入力用","Q194"]
[null,null,null,null,null,null,null,null,null,null,null,null,null,null,null,null,null,null,null,null,null,null,null,null,null,null,null,null,null,null,null,{"$f":"Ⅱ.入力用!$F$186","v":"使用項目"},{"$f":"CELL(\"address\",Ⅱ.入力用!F195)","v":"'[◆52関東　出場申込書.xlsm]Ⅱ.入力用'!$F$195"},"Ⅱ.入力用","F195"]
[null,null,null,null,null,null,null,null,null,null,null,null,null,null,null,null,null,null,null,null,null,null,null,null,null,null,null,null,null,null,null,{"$f":"Ⅱ.入力用!$Q$186","v":"使用方法"},{"$f":"CELL(\"address\",Ⅱ.入力用!Q195)","v":"'[◆52関東　出場申込書.xlsm]Ⅱ.入力用'!$Q$195"},"Ⅱ.入力用","Q195"]
[null,null,null,null,null,null,null,null,null,null,null,null,null,null,null,null,null,null,null,null,null,null,null,null,null,null,null,null,null,null,null,{"$f":"Ⅱ.入力用!$F$186","v":"使用項目"},{"$f":"CELL(\"address\",Ⅱ.入力用!F196)","v":"'[◆52関東　出場申込書.xlsm]Ⅱ.入力用'!$F$196"},"Ⅱ.入力用","F196"]
[null,null,null,null,null,null,null,null,null,null,null,null,null,null,null,null,null,null,null,null,null,null,null,null,null,null,null,null,null,null,null,{"$f":"Ⅱ.入力用!$Q$186","v":"使用方法"},{"$f":"CELL(\"address\",Ⅱ.入力用!Q196)","v":"'[◆52関東　出場申込書.xlsm]Ⅱ.入力用'!$Q$196"},"Ⅱ.入力用","Q196"]
[null,null,null,null,null,"※リストから選択して下さい",null,null,null,null,null,null,null,null,null,null,null,null,null,null,null,null,null,null,null,null,null,null,null,null,null,{"$f":"Ⅱ.入力用!B201","v":"■補助スタッフの申請"},{"$f":"CELL(\"address\",Ⅱ.入力用!J202)","v":"'[◆52関東　出場申込書.xlsm]Ⅱ.入力用'!$J$202"},"Ⅱ.入力用","J202"]
[null,null,null,null,null,"※リストから選択して下さい",null,null,null,null,null,null,null,null,null,null,null,null,null,null,null,null,null,null,null,null,null,null,null,null,null,{"$f":"Ⅱ.入力用!C206","v":"※合図はどなたが行いますか？"},{"$f":"CELL(\"address\",Ⅱ.入力用!Q206)","v":"'[◆52関東　出場申込書.xlsm]Ⅱ.入力用'!$Q$206"},"Ⅱ.入力用","Q206"]
[null,null,null,null,null,"※リストから選択して下さい",null,null,null,null,null,null,null,null,null,null,null,null,null,null,null,null,null,null,null,null,null,null,null,null,null,{"$f":"Ⅱ.入力用!C207","v":"※合図場所を選択してください。"},{"$f":"CELL(\"address\",Ⅱ.入力用!Q207)","v":"'[◆52関東　出場申込書.xlsm]Ⅱ.入力用'!$Q$207"},"Ⅱ.入力用","Q207"]
[null,null,null,null,null,"※リストから選択して下さい",null,null,null,null,null,null,null,null,null,null,null,null,null,null,null,null,null,null,null,null,null,null,null,null,null,{"$f":"Ⅱ.入力用!B209","v":"■プロップの使用"},{"$f":"CELL(\"address\",Ⅱ.入力用!Q209)","v":"'[◆52関東　出場申込書.xlsm]Ⅱ.入力用'!$Q$209"},{"$f":"SUBSTITUTE(LEFT(RIGHT(AG1243,LEN(AG1243)-FIND(\"]\",AG1243)),FIND(\"!\",RIGHT(AG1243,LEN(AG1243)-FIND(\"]\",AG1243)))-1),\"'\",\"\")","v":"Ⅱ.入力用"},"Q209"]
[null,null,null,null,null,"※リストから選択して下さい",null,null,null,null,null,null,null,null,null,null,null,null,null,null,null,null,null,null,null,null,null,null,null,null,null,{"$f":"Ⅱ.入力用!B211","v":"■チューニングルームの使用"},{"$f":"CELL(\"address\",Ⅱ.入力用!Q211)","v":"'[◆52関東　出場申込書.xlsm]Ⅱ.入力用'!$Q$211"},"Ⅱ.入力用","Q211"]
[null,null,null,null,null,"※リストから選択して下さい",null,null,null,null,null,null,null,null,null,null,null,null,null,null,null,null,null,null,null,null,null,null,null,null,null,{"$f":"Ⅱ.入力用!B215","v":"■ピット楽器の使用"},{"$f":"CELL(\"address\",Ⅱ.入力用!Q215)","v":"'[◆52関東　出場申込書.xlsm]Ⅱ.入力用'!$Q$215"},"Ⅱ.入力用","Q215"]
[null,null,null,null,null,null,null,null,null,null,null,null,null,null,null,null,null,null,null,null,null,null,null,null,null,null,null,null,null,null,null,{"$f":"Ⅱ.入力用!B217","v":"■記録撮影者席"},{"$f":"CELL(\"address\",Ⅱ.入力用!G219)","v":"'[◆52関東　出場申込書.xlsm]Ⅱ.入力用'!$G$219"},"Ⅱ.入力用","G219"]
[null,null,null,null,null,null,null,null,null,null,null,null,null,null,null,null,null,null,null,null,null,null,null,null,null,null,null,null,null,null,null,null,{"$f":"CELL(\"address\",Ⅱ.入力用!G219)","v":"'[◆52関東　出場申込書.xlsm]Ⅱ.入力用'!$G$219"},"Ⅱ.入力用",{"$f":"SUBSTITUTE(RIGHT(AG1247,LEN(AG1247)-FIND(\"!\",AG1247)),\"$\",\"\")","v":"G219"}]
[null,null,null,null,null,null,null,null,null,null,null,null,null,null,null,null,null,null,null,null,null,null,null,null,null,null,null,null,null,null,null,{"$f":"Ⅱ.入力用!B217","v":"■記録撮影者席"},{"$f":"CELL(\"address\",Ⅱ.入力用!M219)","v":"'[◆52関東　出場申込書.xlsm]Ⅱ.入力用'!$M$219"},"Ⅱ.入力用","M219"]
[null,null,null,null,null,null,null,null,null,null,null,null,null,null,null,null,null,null,null,null,null,null,null,null,null,null,null,null,null,null,null,null,{"$f":"CELL(\"address\",Ⅱ.入力用!M219)","v":"'[◆52関東　出場申込書.xlsm]Ⅱ.入力用'!$M$219"},"Ⅱ.入力用","M219"]
[null,null,null,null,null,"※リストから選択して下さい",null,null,null,null,null,null,null,null,null,null,null,null,null,null,null,null,null,null,null,null,null,null,null,null,null,{"$f":"Ⅱ.入力用!D229","v":"日本マーチングバンド協会関東支部指定の各社により、写真撮影、録画されることを"},{"$f":"CELL(\"address\",Ⅱ.入力用!AB229)","v":"'[◆52関東　出場申込書.xlsm]Ⅱ.入力用'!$AB$229"},"Ⅱ.入力用","AB229"]
[null,null,null,null,null,"※リストから選択して下さい",null,null,null,null,null,null,null,null,null,null,null,null,null,null,null,null,null,null,null,null,null,null,null,null,null,{"$f":"Ⅱ.入力用!D230","v":"主催者指定の各社により撮影された写真、ＶＴＲを二次使用（放送等）されることを"},{"$f":"CELL(\"address\",Ⅱ.入力用!AB230)","v":"'[◆52関東　出場申込書.xlsm]Ⅱ.入力用'!$AB$230"},"Ⅱ.入力用",{"$f":"SUBSTITUTE(RIGHT(AG1251,LEN(AG1251)-FIND(\"!\",AG1251)),\"$\",\"\")","v":"AB230"}]
[null,null,null,null,null,null,null,null,null,null,null,null,null,null,null,null,null,null,null,null,null,null,null,null,null,null,null,null,null,null,null,{"$f":"Ⅱ.入力用!J253","v":"2tトラック"},{"$f":"CELL(\"address\",Ⅱ.入力用!U253)","v":"'[◆52関東　出場申込書.xlsm]Ⅱ.入力用'!$U$253"},"Ⅱ.入力用","U253"]
[null,null,null,null,null,null,null,null,null,null,null,null,null,null,null,null,null,null,null,null,null,null,null,null,null,null,null,null,null,null,null,{"$f":"Ⅱ.入力用!J254","v":"2tロングトラック"},{"$f":"CELL(\"address\",Ⅱ.入力用!U254)","v":"'[◆52関東　出場申込書.xlsm]Ⅱ.入力用'!$U$254"},"Ⅱ.入力用",{"$f":"SUBSTITUTE(RIGHT(AG1253,LEN(AG1253)-FIND(\"!\",AG1253)),\"$\",\"\")","v":"U254"}]
[null,null,null,null,null,null,null,null,null,null,null,null,null,null,null,null,null,null,null,null,null,null,null,null,null,null,null,null,null,null,null,{"$f":"Ⅱ.入力用!J255","v":"4tトラック"},{"$f":"CELL(\"address\",Ⅱ.入力用!U255)","v":"'[◆52関東　出場申込書.xlsm]Ⅱ.入力用'!$U$255"},"Ⅱ.入力用","U255"]
[null,null,null,null,null,null,null,null,null,null,null,null,null,null,null,null,null,null,null,null,null,null,null,null,null,null,null,null,null,null,null,{"$f":"Ⅱ.入力用!J256","v":"4tロングトラック"},{"$f":"CELL(\"address\",Ⅱ.入力用!U256)","v":"'[◆52関東　出場申込書.xlsm]Ⅱ.入力用'!$U$256"},"Ⅱ.入力用","U256"]
[null,null,null,null,null,null,null,null,null,null,null,null,null,null,null,null,null,null,null,null,null,null,null,null,null,null,null,null,null,null,null,{"$f":"Ⅱ.入力用!J257","v":"その他（車種："},{"$f":"CELL(\"address\",Ⅱ.入力用!U257)","v":"'[◆52関東　出場申込書.xlsm]Ⅱ.入力用'!$U$257"},"Ⅱ.入力用","U257"]
[null,null,null,null,null,null,null,null,null,null,null,null,null,null,null,null,null,null,null,null,null,null,null,null,null,null,null,null,null,null,null,{"$f":"Ⅱ.入力用!J257","v":"その他（車種："},{"$f":"CELL(\"address\",Ⅱ.入力用!M257)","v":"'[◆52関東　出場申込書.xlsm]Ⅱ.入力用'!$M$257"},"Ⅱ.入力用",{"$f":"SUBSTITUTE(RIGHT(AG1257,LEN(AG1257)-FIND(\"!\",AG1257)),\"$\",\"\")","v":"M257"}]
[null,null,null,null,null,null,null,null,null,null,null,null,null,null,null,null,null,null,null,null,null,null,null,null,null,null,null,null,null,null,null,{"$f":"Ⅱ.入力用!J258","v":"マイクロ（小型）バス（長さ7m以下）"},{"$f":"CELL(\"address\",Ⅱ.入力用!U258)","v":"'[◆52関東　出場申込書.xlsm]Ⅱ.入力用'!$U$258"},"Ⅱ.入力用",{"$f":"SUBSTITUTE(RIGHT(AG1258,LEN(AG1258)-FIND(\"!\",AG1258)),\"$\",\"\")","v":"U258"}]
[null,null,null,null,null,null,null,null,null,null,null,null,null,null,null,null,null,null,null,null,null,null,null,null,null,null,null,null,null,null,null,{"$f":"Ⅱ.入力用!J259","v":"中型バス（長さ7～9m）"},{"$f":"CELL(\"address\",Ⅱ.入力用!U259)","v":"'[◆52関東　出場申込書.xlsm]Ⅱ.入力用'!$U$259"},"Ⅱ.入力用",{"$f":"SUBSTITUTE(RIGHT(AG1259,LEN(AG1259)-FIND(\"!\",AG1259)),\"$\",\"\")","v":"U259"}]
[null,null,null,null,null,null,null,null,null,null,null,null,null,null,null,null,null,null,null,null,null,null,null,null,null,null,null,null,null,null,null,{"$f":"Ⅱ.入力用!J260","v":"大型バス（長さ9m以上）"},{"$f":"CELL(\"address\",Ⅱ.入力用!U260)","v":"'[◆52関東　出場申込書.xlsm]Ⅱ.入力用'!$U$260"},"Ⅱ.入力用",{"$f":"SUBSTITUTE(RIGHT(AG1260,LEN(AG1260)-FIND(\"!\",AG1260)),\"$\",\"\")","v":"U260"}]
[null,null,null,null,null,"※リストから選択して下さい",null,null,null,null,null,null,null,null,null,null,null,null,null,null,null,null,null,null,null,null,null,null,null,null,null,{"$f":"Ⅱ.入力用!B279","v":"■プログラム校正責任者"},{"$f":"CELL(\"address\",Ⅱ.入力用!K280)","v":"'[◆52関東　出場申込書.xlsm]Ⅱ.入力用'!$K$280"},"Ⅱ.入力用",{"$f":"SUBSTITUTE(RIGHT(AG1261,LEN(AG1261)-FIND(\"!\",AG1261)),\"$\",\"\")","v":"K280"}]
[null,null,null,null,null,null,null,null,null,null,null,null,null,null,null,null,null,null,null,null,null,null,null,null,null,null,null,null,null,null,null,{"$f":"Ⅱ.入力用!D282","v":"氏名"},{"$f":"CELL(\"address\",Ⅱ.入力用!K282)","v":"'[◆52関東　出場申込書.xlsm]Ⅱ.入力用'!$K$282"},"Ⅱ.入力用",{"$f":"SUBSTITUTE(RIGHT(AG1262,LEN(AG1262)-FIND(\"!\",AG1262)),\"$\",\"\")","v":"K282"}]
[null,null,null,null,null,null,null,null,null,null,null,null,null,null,null,null,null,null,null,null,null,null,null,null,null,null,null,null,null,null,null,{"$f":"Ⅱ.入力用!D283","v":"氏名ふりがな"},{"$f":"CELL(\"address\",Ⅱ.入力用!K283)","v":"'[◆52関東　出場申込書.xlsm]Ⅱ.入力用'!$K$283"},"Ⅱ.入力用",{"$f":"SUBSTITUTE(RIGHT(AG1263,LEN(AG1263)-FIND(\"!\",AG1263)),\"$\",\"\")","v":"K283"}]
[null,null,null,null,null,null,null,null,null,null,null,null,null,null,null,null,null,null,null,null,null,null,null,null,null,null,null,null,null,null,null,{"$f":"Ⅱ.入力用!D284","v":"電話番号"},{"$f":"CELL(\"address\",Ⅱ.入力用!K284)","v":"'[◆52関東　出場申込書.xlsm]Ⅱ.入力用'!$K$284"},"Ⅱ.入力用","K284"]
[null,null,null,null,null,null,null,null,null,null,null,null,null,null,null,null,null,null,null,null,null,null,null,null,null,null,null,null,null,null,null,{"$f":"Ⅱ.入力用!D285","v":"FAX"},{"$f":"CELL(\"address\",Ⅱ.入力用!K285)","v":"'[◆52関東　出場申込書.xlsm]Ⅱ.入力用'!$K$285"},"Ⅱ.入力用","K285"]
[null,null,null,null,null,null,null,null,null,null,null,null,null,null,null,null,null,null,null,null,null,null,null,null,null,null,null,null,null,null,null,{"$f":"Ⅱ.入力用!D286","v":"携帯電話"},{"$f":"CELL(\"address\",Ⅱ.入力用!K286)","v":"'[◆52関東　出場申込書.xlsm]Ⅱ.入力用'!$K$286"},"Ⅱ.入力用","K286"]
[null,null,null,null,null,null,null,null,null,null,null,null,null,null,null,null,null,null,null,null,null,null,null,null,null,null,null,null,null,null,null,{"$f":"Ⅱ.入力用!D287","v":"E-mail(PC)"},{"$f":"CELL(\"address\",Ⅱ.入力用!K287)","v":"'[◆52関東　出場申込書.xlsm]Ⅱ.入力用'!$K$287"},"Ⅱ.入力用","K287"]
[null,null,null,null,null,null,null,null,null,null,null,null,null,null,null,null,null,null,null,null,null,null,null,null,null,null,null,null,null,null,null,{"$f":"Ⅱ.入力用!B290","v":"団体名ふりがな"},{"$f":"CELL(\"address\",Ⅱ.入力用!K290)","v":"'[◆52関東　出場申込書.xlsm]Ⅱ.入力用'!$K$290"},"Ⅱ.入力用","K290"]
[null,null,null,null,null,null,null,null,null,null,null,null,null,null,null,null,null,null,null,null,null,null,null,null,null,null,null,null,null,null,null,{"$f":"Ⅱ.入力用!B297","v":"演目〈テーマ〉ふりがな"},{"$f":"CELL(\"address\",Ⅱ.入力用!K297)","v":"'[◆52関東　出場申込書.xlsm]Ⅱ.入力用'!$K$297"},"Ⅱ.入力用","K297"]
[null,null,null,null,null,null,null,null,null,null,null,null,null,null,null,null,null,null,null,null,null,null,null,null,null,null,null,null,null,null,null,{"$f":"Ⅱ.入力用!B298","v":"演目〈テーマ〉"},{"$f":"CELL(\"address\",Ⅱ.入力用!K298)","v":"'[◆52関東　出場申込書.xlsm]Ⅱ.入力用'!$K$298"},"Ⅱ.入力用","K298"]
[null,null,null,null,null,null,null,null,null,null,null,null,null,null,null,null,null,null,null,null,null,null,null,null,null,null,null,null,null,null,null,{"$f":"Ⅱ.入力用!$K$300","v":"役職"},{"$f":"CELL(\"address\",Ⅱ.入力用!K301)","v":"'[◆52関東　出場申込書.xlsm]Ⅱ.入力用'!$K$301"},"Ⅱ.入力用","K301"]
[null,null,null,null,null,null,null,null,null,null,null,null,null,null,null,null,null,null,null,null,null,null,null,null,null,null,null,null,null,null,null,{"$f":"Ⅱ.入力用!$R$300","v":"氏名"},{"$f":"CELL(\"address\",Ⅱ.入力用!R301)","v":"'[◆52関東　出場申込書.xlsm]Ⅱ.入力用'!$R$301"},"Ⅱ.入力用","R301"]
[null,null,null,null,null,null,null,null,null,null,null,null,null,null,null,null,null,null,null,null,null,null,null,null,null,null,null,null,null,null,null,{"$f":"Ⅱ.入力用!$K$300","v":"役職"},{"$f":"CELL(\"address\",Ⅱ.入力用!K302)","v":"'[◆52関東　出場申込書.xlsm]Ⅱ.入力用'!$K$302"},"Ⅱ.入力用","K302"]
[null,null,null,null,null,null,null,null,null,null,null,null,null,null,null,null,null,null,null,null,null,null,null,null,null,null,null,null,null,null,null,{"$f":"Ⅱ.入力用!$R$300","v":"氏名"},{"$f":"CELL(\"address\",Ⅱ.入力用!R302)","v":"'[◆52関東　出場申込書.xlsm]Ⅱ.入力用'!$R$302"},"Ⅱ.入力用","R302"]
[null,null,null,null,null,null,null,null,null,null,null,null,null,null,null,null,null,null,null,null,null,null,null,null,null,null,null,null,null,null,null,{"$f":"Ⅱ.入力用!$K$300","v":"役職"},{"$f":"CELL(\"address\",Ⅱ.入力用!K303)","v":"'[◆52関東　出場申込書.xlsm]Ⅱ.入力用'!$K$303"},"Ⅱ.入力用","K303"]
[null,null,null,null,null,null,null,null,null,null,null,null,null,null,null,null,null,null,null,null,null,null,null,null,null,null,null,null,null,null,null,{"$f":"Ⅱ.入力用!$R$300","v":"氏名"},{"$f":"CELL(\"address\",Ⅱ.入力用!R303)","v":"'[◆52関東　出場申込書.xlsm]Ⅱ.入力用'!$R$303"},"Ⅱ.入力用","R303"]
[null,null,null,null,null,null,null,null,null,null,null,null,null,null,null,null,null,null,null,null,null,null,null,null,null,null,null,null,null,null,null,{"$f":"Ⅱ.入力用!$K$300","v":"役職"},{"$f":"CELL(\"address\",Ⅱ.入力用!K304)","v":"'[◆52関東　出場申込書.xlsm]Ⅱ.入力用'!$K$304"},"Ⅱ.入力用","K304"]
[null,null,null,null,null,null,null,null,null,null,null,null,null,null,null,null,null,null,null,null,null,null,null,null,null,null,null,null,null,null,null,{"$f":"Ⅱ.入力用!$R$300","v":"氏名"},{"$f":"CELL(\"address\",Ⅱ.入力用!R304)","v":"'[◆52関東　出場申込書.xlsm]Ⅱ.入力用'!$R$304"},"Ⅱ.入力用","R304"]
[null,null,null,null,null,null,null,null,null,null,null,null,null,null,null,null,null,null,null,null,null,null,null,null,null,null,null,null,null,null,null,{"$f":"Ⅱ.入力用!$K$300","v":"役職"},{"$f":"CELL(\"address\",Ⅱ.入力用!K305)","v":"'[◆52関東　出場申込書.xlsm]Ⅱ.入力用'!$K$305"},"Ⅱ.入力用","K305"]
[null,null,null,null,null,null,null,null,null,null,null,null,null,null,null,null,null,null,null,null,null,null,null,null,null,null,null,null,null,null,null,{"$f":"Ⅱ.入力用!$R$300","v":"氏名"},{"$f":"CELL(\"address\",Ⅱ.入力用!R305)","v":"'[◆52関東　出場申込書.xlsm]Ⅱ.入力用'!$R$305"},"Ⅱ.入力用","R305"]
[null,null,null,null,null,null,null,null,null,null,null,null,null,null,null,null,null,null,null,null,null,null,null,null,null,null,null,null,null,null,null,{"$f":"Ⅱ.入力用!$K$300","v":"役職"},{"$f":"CELL(\"address\",Ⅱ.入力用!K306)","v":"'[◆52関東　出場申込書.xlsm]Ⅱ.入力用'!$K$306"},"Ⅱ.入力用","K306"]
[null,null,null,null,null,null,null,null,null,null,null,null,null,null,null,null,null,null,null,null,null,null,null,null,null,null,null,null,null,null,null,{"$f":"Ⅱ.入力用!$R$300","v":"氏名"},{"$f":"CELL(\"address\",Ⅱ.入力用!R306)","v":"'[◆52関東　出場申込書.xlsm]Ⅱ.入力用'!$R$306"},"Ⅱ.入力用","R306"]
[null,null,null,null,null,null,null,null,null,null,null,null,null,null,null,null,null,null,null,null,null,null,null,null,null,null,null,null,null,null,null,{"$f":"Ⅱ.入力用!$K$300","v":"役職"},{"$f":"CELL(\"address\",Ⅱ.入力用!K307)","v":"'[◆52関東　出場申込書.xlsm]Ⅱ.入力用'!$K$307"},"Ⅱ.入力用","K307"]
[null,null,null,null,null,null,null,null,null,null,null,null,null,null,null,null,null,null,null,null,null,null,null,null,null,null,null,null,null,null,null,{"$f":"Ⅱ.入力用!$R$300","v":"氏名"},{"$f":"CELL(\"address\",Ⅱ.入力用!R307)","v":"'[◆52関東　出場申込書.xlsm]Ⅱ.入力用'!$R$307"},"Ⅱ.入力用","R307"]
[null,null,null,null,null,null,null,null,null,null,null,null,null,null,null,null,null,null,null,null,null,null,null,null,null,null,null,null,null,null,null,{"$f":"Ⅱ.入力用!$K$300","v":"役職"},{"$f":"CELL(\"address\",Ⅱ.入力用!K308)","v":"'[◆52関東　出場申込書.xlsm]Ⅱ.入力用'!$K$308"},"Ⅱ.入力用","K308"]
[null,null,null,null,null,null,null,null,null,null,null,null,null,null,null,null,null,null,null,null,null,null,null,null,null,null,null,null,null,null,null,{"$f":"Ⅱ.入力用!$R$300","v":"氏名"},{"$f":"CELL(\"address\",Ⅱ.入力用!R308)","v":"'[◆52関東　出場申込書.xlsm]Ⅱ.入力用'!$R$308"},"Ⅱ.入力用","R308"]
[null,null,null,null,null,null,null,null,null,null,null,null,null,null,null,null,null,null,null,null,null,null,null,null,null,null,null,null,null,null,null,{"$f":"Ⅱ.入力用!$K$300","v":"役職"},{"$f":"CELL(\"address\",Ⅱ.入力用!K309)","v":"'[◆52関東　出場申込書.xlsm]Ⅱ.入力用'!$K$309"},"Ⅱ.入力用","K309"]
[null,null,null,null,null,null,null,null,null,null,null,null,null,null,null,null,null,null,null,null,null,null,null,null,null,null,null,null,null,null,null,{"$f":"Ⅱ.入力用!$R$300","v":"氏名"},{"$f":"CELL(\"address\",Ⅱ.入力用!R309)","v":"'[◆52関東　出場申込書.xlsm]Ⅱ.入力用'!$R$309"},"Ⅱ.入力用","R309"]
[null,null,null,null,null,null,null,null,null,null,null,null,null,null,null,null,null,null,null,null,null,null,null,null,null,null,null,null,null,null,null,{"$f":"Ⅱ.入力用!$K$300","v":"役職"},{"$f":"CELL(\"address\",Ⅱ.入力用!K310)","v":"'[◆52関東　出場申込書.xlsm]Ⅱ.入力用'!$K$310"},"Ⅱ.入力用","K310"]
[null,null,null,null,null,null,null,null,null,null,null,null,null,null,null,null,null,null,null,null,null,null,null,null,null,null,null,null,null,null,null,{"$f":"Ⅱ.入力用!$R$300","v":"氏名"},{"$f":"CELL(\"address\",Ⅱ.入力用!R310)","v":"'[◆52関東　出場申込書.xlsm]Ⅱ.入力用'!$R$310"},"Ⅱ.入力用","R310"]
[null,null,null,null,null,null,null,null,null,null,null,null,null,null,null,null,null,null,null,null,null,null,null,null,null,null,null,null,null,null,null,{"$f":"Ⅱ.入力用!$K$300","v":"役職"},{"$f":"CELL(\"address\",Ⅱ.入力用!K311)","v":"'[◆52関東　出場申込書.xlsm]Ⅱ.入力用'!$K$311"},"Ⅱ.入力用","K311"]
[null,null,null,null,null,null,null,null,null,null,null,null,null,null,null,null,null,null,null,null,null,null,null,null,null,null,null,null,null,null,null,{"$f":"Ⅱ.入力用!$R$300","v":"氏名"},{"$f":"CELL(\"address\",Ⅱ.入力用!R311)","v":"'[◆52関東　出場申込書.xlsm]Ⅱ.入力用'!$R$311"},"Ⅱ.入力用","R311"]
[null,null,null,null,null,null,null,null,null,null,null,null,null,null,null,null,null,null,null,null,null,null,null,null,null,null,null,null,null,null,null,{"$f":"Ⅱ.入力用!$K$300","v":"役職"},{"$f":"CELL(\"address\",Ⅱ.入力用!K312)","v":"'[◆52関東　出場申込書.xlsm]Ⅱ.入力用'!$K$312"},"Ⅱ.入力用","K312"]
[null,null,null,null,null,null,null,null,null,null,null,null,null,null,null,null,null,null,null,null,null,null,null,null,null,null,null,null,null,null,null,{"$f":"Ⅱ.入力用!$R$300","v":"氏名"},{"$f":"CELL(\"address\",Ⅱ.入力用!R312)","v":"'[◆52関東　出場申込書.xlsm]Ⅱ.入力用'!$R$312"},"Ⅱ.入力用","R312"]
[null,null,null,null,null,"※リストから選択して下さい",null,null,null,null,null,null,null,null,null,null,null,null,null,null,null,null,null,null,null,null,null,null,null,null,null,{"$f":"Ⅱ.入力用!C315","v":"※写真"},{"$f":"CELL(\"address\",Ⅱ.入力用!K315)","v":"'[◆52関東　出場申込書.xlsm]Ⅱ.入力用'!$K$315"},"Ⅱ.入力用","K315"]